{"text_format":"1","workbook":"xlsx","n_sheets":61,"sheets":["SheetNames","USA","Vietnam","Thailand","Taiwan","SriLanka","SouthKorea","Singapore","Phillipines","Pakistan","Myanmar","Malaysia","Laos","Japan","Indonesia","India","HongKong","China","Cambodia","Brunei","Bangladesh","iDataCollect","iDateCollect","Home","1. Map","iMap_Rank","iMap_Graph","uxb_mapdata","uxb_regions","tblIndicators","uxb_works","tblIndiSets","tblCategories","tblTerritories","iData","iSummary","Summary","iIndiRank","Indicator_Ranking","iScatter","Scatter","iCntPMaps","CountryProfile","iCountryP","Country_Compare","Scores","iCC_Overview","iCountryCompSpider","iCityCompare","Data","rScores","iWeights","iWeights2","Weights","iScoresWS2","rScoresWS2","iWeightsComp","Weight_Compare","Methodology","Weights2","iWeightsSet"],"not_rendered":{"charts":5,"images":13,"macros":1,"external_links":0,"defined_names":30,"comments":7,"pivot_tables":0},"unopened":[],"bounds":{"document_bytes":16777216,"sheet_cells":100000,"rows_first":2000,"rows_last":500,"rows_between":2000,"halvings":0,"cell_chars":16384,"cell_head_chars":4096},"cells_cut":0,"cells_raw":0,"read":"whole","date_system":"1900"}

{"sheet":"SheetNames","index":0,"n_rows":63,"n_cols":3,"rows_kept":63,"cut":false,"hidden":true,"merged":[]}
["SheetNames",null,"Background Sheets"]
["USA"]
["Vietnam"]
["Thailand",null,"SheetNames"]
["Taiwan",null,"USA"]
["SriLanka",null,"Vietnam"]
["SouthKorea",null,"Thailand"]
["Singapore",null,"Taiwan"]
["Phillipines",null,"SriLanka"]
["Pakistan",null,"SouthKorea"]
["Myanmar",null,"Singapore"]
["Malaysia",null,"Phillipines"]
["Laos",null,"Pakistan"]
["Japan",null,"Myanmar"]
["Indonesia",null,"Malaysia"]
["India",null,"Laos"]
["HongKong",null,"Japan"]
["China",null,"Indonesia"]
["Cambodia",null,"India"]
["Brunei",null,"HongKong"]
["Bangladesh",null,"China"]
["iDataCollect",null,"Cambodia"]
["iDateCollect",null,"Brunei"]
["Home",null,"Bangladesh"]
["1. Map",null,"iDataCollect"]
["iMap_Rank",null,"iDateCollect"]
["iMap_Graph",null,"1. Map"]
["uxb_mapdata",null,"iMap_Rank"]
["uxb_regions",null,"iMap_Graph"]
["tblIndicators",null,"uxb_mapdata"]
["uxb_works",null,"uxb_regions"]
["tblIndiSets",null,"tblIndicators"]
["tblCategories",null,"uxb_works"]
["tblTerritories",null,"tblIndiSets"]
["iData",null,"tblCategories"]
["iSummary",null,"tblTerritories"]
["Summary",null,"iData"]
["iIndiRank",null,"iSummary"]
["Indicator_Ranking",null,"Summary"]
["iScatter",null,"iIndiRank"]
["Scatter",null,"Indicator_Ranking"]
["iCntPMaps",null,"iScatter"]
["CountryProfile",null,"Scatter"]
["iCountryP",null,"iCntPMaps"]
["Country_Compare",null,"CountryProfile"]
["Scores",null,"iCountryP"]
["iCC_Overview",null,"Country_Compare"]
["iCountryCompSpider",null,"Scores"]
["iCityCompare",null,"iCC_Overview"]
["Data",null,"iCountryCompSpider"]
["rScores",null,"iCityCompare"]
["iWeights",null,"Data"]
["iWeights2",null,"rScores"]
["Weights",null,"iWeights"]
["iScoresWS2",null,"iWeights2"]
["rScoresWS2",null,"Weights"]
["iWeightsComp",null,"iScoresWS2"]
["Weight_Compare",null,"rScoresWS2"]
["Methodology",null,"iWeightsComp"]
["Weights2",null,"Weight_Compare"]
["iWeightsSet",null,"Methodology"]
[null,null,"Weights2"]
[null,null,"iWeightsSet"]

{"sheet":"USA","index":1,"n_rows":35,"n_cols":19,"rows_kept":35,"cut":false,"hidden":true,"merged":[]}
[]
[]
[]
[null,"Indicator","Source","Scale",2005,2006,2007,2008,2009,2010,2011,2012,2013,2014,2015,2016,2017,2018,2019]
[null,"Economic pillar"]
[null,"Growth in per capita GDP","EIU",null,1.53,3.98,2.13,1.54,-0.41,1.03,2.5,2.99,-0.38,2.42,2.6,1.7,1.7,1.8,1.4]
[null,"Current account liberalisation","EIU BER",null,5,5,5,5,5,5,5,5,5,5,5,5,5,5,5]
[null,"Tariff & non-tariff barriers","EIU BER",null,5,5,4.8,4,4,4,4,4,4,4,4,4,4,4,4]
[null,"Exchange rate volatility",null,null,0.02,0.02,0.02,0.04,0.03,0.02,0.03,0.02,0.02,0.02]
[null,"Financial sector depth","EIU",null,188,198,206,188,197,191,182,186,192,196]
[null,"Foreign trade and payments risk","EIU",null,14.5,15,14,14,14,14,16,18,18,21]
[null,"Export market concentration","EIU",null,11.89,11.68,11.17,10.69,10.76,11.03,10.93,11.14,11.3,11.47]
[null,"Export product concentration","EIU",null,22.3,22.3,22.1,21.9,21.8,21.8,22,21.9,21.9,21.8]
[null,"Foreign Direct Investment","EIU",null,1.1000000000000001,2.1,2.2999999999999998,2.2999999999999998,1.1000000000000001,1.7,1.7,1.4,1.7,0.8,1.2,1.5,1.7,1.7,2]
[null,"Gross fixed capital formation","EIU",null,18.850000000000001,18.86,18.02,16.690000000000001,14.05,13.63,14.17,15.17,15.56,16.04,16.2,16.8,17.399999999999999,17.8,18.100000000000001]
[null,"Trade costs"]
[null,"   Infrastructure","EIU BER",null,9.3000000000000007,9.3000000000000007,9.3000000000000007,9.3000000000000007,9.1999999999999993,8.9,8.9,8.9,8.9,9,9,9.1,9.1999999999999993,9.1999999999999993,9.1999999999999993]
[null,"Logistics performance","WB LPI",null,null,null,null,null,null,null,null,null,null,3.92]
[null,"   Corruption","EIU BER",null,4,4,4,4,4,4,4,4,4,4,4,4,4,4,4]
[null,"   Legal system","EIU BER",null,4,4,4,4,4,4,4,4,4,4,4,4,4,4,4]
[null,"Technological innovation","UNESCO/World Bank",null,null,null,null,null,null,null,null,2.79]
[null,"Technological infrastructure","EIU",null,null,null,null,null,null,null,null,null,null,0]
[null,"Growth in labour force","EIU",null,null,null,null,null,null,null,null,null,null,0.06]
[null,"Social pillar"]
[null,"Inequality (Gini coefficient)","World Bank","Inverse",null,null,null,null,null,null,null,39]
[null,"Educational attainment","UNESCO/World Bank","Normal ",81.316969999999998,81.277600000000007,82.256039999999999,84.212370000000007,87.732280000000003,93.293390000000002,95.331959999999995,94.276700000000005,89.082390000000004]
[null,"Labour standards","ILO","Normal ",null,null,null,null,null,null,null,null,null,1]
[null,"Political stability","EIU","Normal ",null,null,null,null,null,null,null,null,null,0]
[null,"Environmental pillar"]
[null,"Air pollution","Yale EPI",null,null,null,null,null,8.9,8.1999999999999993,7.94,7.47]
[null,"Deforestation","Yale EPI",null,null,null,null,null,null,null,null,-4.0999999999999996,null," "]
[null,"Water pollution","Yale EPI",null,null,null,null,null,null,null,null,63.67]
[null,"Environmental standards in trade","WTO / Academic research",null,null,null,null,null,null,null,null,null,null,6]
[null,"Carbon emissions in trade","OECD / WTO / Academic research",null,null,null,null,null,null,null,null,null,null,6.8022000000000004E-4]
[null,"Share of natural resources in trade","UNCTAD / WTO",null,null,null,null,null,null,null,null,null,null,0.17641263300000001]

{"sheet":"Vietnam","index":2,"n_rows":35,"n_cols":19,"rows_kept":35,"cut":false,"hidden":true,"merged":[]}
[]
[]
[]
[null,"Indicator","Source","Scale",2005,2006,2007,2008,2009,2010,2011,2012,2013,2014,2015,2016,2017,2018,2019]
[null,"Economic pillar"]
[null,"Growth in per capita GDP","EIU",null,5.84,7.5,9.8000000000000007,7.7,2.2999999999999998,8.1999999999999993,4.0999999999999996,4.9000000000000004,5.2,6.4,6.1,7.7,7.6,6.9,8.1999999999999993]
[null,"Current account liberalisation","EIU",null,3,5,5,5,5,5,5,5,5,5,5,5,5,5,5]
[null,"Tariff & non-tariff barriers","EIU",null,2,2,2.2000000000000002,2,2,2,2,2,2.2000000000000002,2.4,2.6,2.8,3,3,3]
[null,"Exchange rate volatility",null,null,0.01,0.01,0.01,0.03,0.03,0.02,0.03,0.01,0.01,0.01]
[null,"Financial sector depth","EIU",null,60,65,86,83,103,115,102,95,97,100]
[null,"Foreign trade and payments risk","EIU",null,54,48,46,50,50,50,50,50,50,49]
[null,"Export market concentration","EIU",null,10.91,10.78,10.85,10.77,10.76,11.59,11.72,11.44,11.33,11.54]
[null,"Export product concentration","EIU",null,14,13.1,12.4,11.4,10.3,9.1999999999999993,8.9,8,7.7,7.8]
[null,"Foreign Direct Investment","EIU",null,3.4,3.6,8.6,9.6999999999999993,7.5,7.1,5.5,5.4,5.2,5,4.8,4.5999999999999996,4.3,4,3.7]
[null,"Gross fixed capital formation","EIU",null,31.27,31.36,35.11,31.81,33.86,32.64,26.82,24.2,23.56,23.8,24,24.2,24.4,24.6,24.7]
[null,"Trade costs"]
[null,"   Infrastructure","EIU",null,3,3.5,3.8,3.7,4,4.7,4.7,4.7,4.8,5,5.0999999999999996,5.3,5.5,5.5,5.5]
[null,"Logistics performance","WB LPI",null,null,null,null,null,null,null,null,null,null,3.15]
[null,"   Corruption","EIU",null,1,1,1,1,1,1,1,1,1,1,1,1,1,1,1]
[null,"   Legal system","EIU",null,2,2,2,2,2,2,2,2,2,2,2,2,2,2,2]
[null,"Technological innovation","UNESCO/World Bank",null,null,null,null,null,null,0.19]
[null,"Technological infrastructure","EIU",null,null,null,null,null,null,null,null,null,null,1]
[null,"Growth in labour force","EIU",null,null,null,null,null,null,null,null,null,null,0.10100000000000001]
[null,"Social pillar"]
[null,"Inequality (Gini coefficient)","World Bank",null,null,null,null,null,null,null,null,38.700000000000003]
[null,"Educational attainment","UNESCO/World Bank",null,15.87791,16.485209999999999,18.171330000000001,18.740379999999998,19.86936,22.385000000000002,24.429300000000001,24.599609999999998,24.58324]
[null,"Labour standards","ILO",null,null,null,null,null,null,null,null,null,null,3]
[null,"Political stability","EIU",null,null,null,null,null,null,null,null,null,null,1]
[null,"Environmental pillar"]
[null,"Air pollution","Yale EPI",null,null,null,null,null,18.27,18.28,18.22,17.87]
[null,"Deforestation","Yale EPI",null,null,null,null,null,null,null,null,-3.6,null," "]
[null,"Water pollution","Yale EPI",null,null,null,null,null,null,null,null,0.14000000000000001]
[null,"Environmental standards in trade","WTO / Academic research",null,null,null,null,null,null,null,null,null,null,5]
[null,"Carbon emissions in trade","OECD / WTO / Academic research",null,null,null,null,null,null,null,null,null,null,4.4651899999999998E-4]
[null,"Share of natural resources in trade","UNCTAD / WTO",null,null,null,null,null,null,null,null,null,null,0.36684358099999997]

{"sheet":"Thailand","index":3,"n_rows":35,"n_cols":19,"rows_kept":35,"cut":false,"hidden":true,"merged":[]}
[]
[]
[]
[null,"Indicator","Source","Scale",2005,2006,2007,2008,2009,2010,2011,2012,2013,2014,2015,2016,2017,2018,2019]
[null,"Economic pillar"]
[null,"Growth in per capita GDP","EIU",null,4.16,2.7,0.9,2.8,-1.1000000000000001,4.8,1.9,6.6,0.8,0.6,2.4,2.6,2.9,3.2,3.3]
[null,"Current account liberalisation","EIU",null,5,5,5,5,5,5,5,5,5,5,5,5,5,5,5]
[null,"Tariff & non-tariff barriers","EIU",null,3,3,3,3,3,3,3,3,3.2,3.4,3.6,3.8,4,4,4]
[null,"Exchange rate volatility",null,null,0.02,0.02,0.01,0.03,0.02,0.02,0.02,0.05,0.02,0.01]
[null,"Financial sector depth","EIU",null,101,95,113,113,116,124,140,148,154,159]
[null,"Foreign trade and payments risk","EIU",null,39,39,43,43,45.25,46,46,46,43.75,43]
[null,"Export market concentration","EIU",null,10.62,10.45,9.7899999999999991,9.35,9.2200000000000006,9.39,9.4700000000000006,9.33,9.35,9.19]
[null,"Export product concentration","EIU",null,25,25,25,25,25,25,25,25,25,25]
[null,"Foreign Direct Investment","EIU",null,4.3,4.3,4.3,2.9,1.7,2.7,0.7,3.2,3.4,3.1,2.9,3.1,3,3,3]
[null,"Gross fixed capital formation","EIU",null,27.71,26.85,25.46,26.45,23.12,24.01,25.85,26.88,25.34,24.64,25.7,26.5,27.5,28.3,29]
[null,"Trade costs"]
[null,"   Infrastructure","EIU",null,4.9000000000000004,5.4,5.5,5.4,5.5,5.6,5.6,5.6,5.8,5.9,6.1,6.2,6.3,6.3,6.3]
[null,"Logistics performance","WB LPI",null,null,null,null,null,null,null,null,null,null,3.43]
[null,"   Corruption","EIU",null,2,2,2,2,2,2,2,2,2,2,2,2,2,2,2]
[null,"   Legal system","EIU",null,2,2,2,2,2,2,2,2,2,2,2,2,2,2,2]
[null,"Technological innovation","UNESCO/World Bank",null,null,null,null,null,0.25]
[null,"Technological infrastructure","EIU",null,null,null,null,null,null,null,null,null,null,2]
[null,"Growth in labour force","EIU",null,null,null,null,null,null,null,null,null,null,-3.4000000000000002E-2]
[null,"Social pillar"]
[null,"Inequality (Gini coefficient)","World Bank",null,null,null,null,null,null,39.299999999999997,null,39.299999999999997]
[null,"Educational attainment","UNESCO/World Bank",null,44.177390000000003,44.15963,48.11159,47.732259999999997,48.647480000000002,50.025530000000003,52.581119999999999,51.40475,51.233539999999998]
[null,"Labour standards","ILO",null,null,null,null,null,null,null,null,null,null,3]
[null,"Political stability","EIU",null,null,null,null,null,null,null,null,null,null,3]
[null,"Environmental pillar"]
[null,"Air pollution","Yale EPI",null,null,null,null,null,13.95,13.75,14.05,14.6,null," "]
[null,"Deforestation","Yale EPI",null,null,null,null,null,null,null,null,-2.5]
[null,"Water pollution","Yale EPI",null,null,null,null,null,null,null,null,16]
[null,"Environmental standards in trade","WTO / Academic research",null,null,null,null,null,null,null,null,null,null,5]
[null,"Carbon emissions in trade","OECD / WTO / Academic research",null,null,null,null,null,null,null,null,null,null,3.1734800000000001E-4]
[null,"Share of natural resources in trade","UNCTAD / WTO",null,null,null,null,null,null,null,null,null,null,0.247661981]

{"sheet":"Taiwan","index":4,"n_rows":36,"n_cols":19,"rows_kept":36,"cut":false,"hidden":true,"merged":[]}
[]
[]
[]
[null,"Indicator","Source","Scale",2005,2006,2007,2008,2009,2010,2011,2012,2013,2014,2015,2016,2017,2018,2019]
[null,"Economic pillar"]
[null,"Growth in per capita GDP","EIU",null,1.97,5.0199999999999996,2.88,-4.42,1.18,4.32,1.06,2.02,2.6,3.2,4.2,2.2000000000000002,2,2.1,2.1]
[null,"Current account liberalisation","EIU",null,5,5,5,5,5,5,5,5,5,5,5,5,5,5,5]
[null,"Tariff & non-tariff barriers","EIU",null,4,4,4,4,4,4,4,4,4,4,4,4,4,4,4]
[null,"Exchange rate volatility",null,null,0.01,0.01,0.01,0.03,0.02,0.02,0.02,0.01,0.01,0.01]
[null,"Financial sector depth","EIU",null,144.88999999999999,143.24,143.31,141.85,146.87,156.38999999999999,155.38999999999999,165.22,162.1,159.6]
[null,"Foreign trade and payments risk","EIU",null,18,23.25,25,22,21,21,21,21,20.25,18]
[null,"Export market concentration","EIU",null,16.09,16.170000000000002,15.78,15.17,15.71,15.7,15.3,15.01,15.02,15.15]
[null,"Export product concentration","EIU",null,19,19.100000000000001,19.100000000000001,18.399999999999999,18.7,19,19,18.600000000000001,18.899999999999999,19.399999999999999]
[null,"Foreign Direct Investment","EIU",null,0.4,1.9,1.9,1.3,0.7,0.6,-0.4,0.6,0.7,0.5,0.7,0.6,0.5,0.5,0.5]
[null,"Gross fixed capital formation","EIU",null,24.18,24.23,23.91,23.16,21.31,23.63,23.39,22.35,22.15,21.58,20.6,20.2,19.899999999999999,19.600000000000001,19.3]
[null,"Trade costs"]
[null,"   Infrastructure","EIU",null,8.3000000000000007,8.5,8.5,8.3000000000000007,7.9,8.3000000000000007,8.3000000000000007,8.3000000000000007,8.4,8.4,8.5,8.5,8.6,8.6,8.6]
[null,"Logistics performance","WB LPI",null,null,null,null,null,null,null,null,null,null,3.72]
[null,"   Corruption","EIU",null,3,3,3,3,3,3,3,3,3,3,3,3,3,3,3]
[null,"   Legal system","EIU",null,3,3,3.2,3,3,3,3,3,3.2,3.4,3.6,3.8,4,4,4]
[null,"Technological innovation","UNESCO/World Bank",null,null,null,null,null,null,null,2.2999999999999998]
[null,"Technological infrastructure","EIU",null,null,null,null,null,null,null,null,null,null,0]
[null,"Growth in labour force","EIU",null,null,null,null,null,null,null,null,null,null,-4.3999999999999997E-2]
[null,"Social pillar"]
[null,"Inequality (Gini coefficient)","World Bank",null,null,null,null,null,null,null,34.200000000000003]
[null,"Educational attainment","Taiwan Ministry of Education ",null,82.017315538684315,83.582754932348564,85.307817712921363,83.180837148969999,82.174181507970005,83.773222453740004,83.371722976620006,84.430921593709996,84.430921593709996,83.877231827680006]
[null,"Labour standards","ILO",null,null,null,null,null,null,null,null,null,null,1]
[null,"Political stability","EIU",null,null,null,null,null,null,null,null,null,null,2]
[null,"Environmental pillar"]
[null,"Air pollution","Yale EPI",null,null,null,null,null,14.95,13.98,14.07,14.57,null," "]
[null,"Deforestation","Yale EPI",null,null,null,null,null,null,null,null,-0.8]
[null,"Water pollution","Yale EPI",null,null,null,null,null,null,null,null,4.59]
[null,"Environmental standards in trade*","WTO / Academic research",null,null,null,null,null,null,null,null,null,null,1]
[null,"Carbon emissions in trade","OECD / WTO / Academic research",null,null,null,null,null,null,null,null,null,null,2.2694999999999999E-4]
[null,"Share of natural resources in trade","UNCTAD / WTO",null,null,null,null,null,null,null,null,null,null,9.7734884999999994E-2]
[null,"* Taiwan not eligible to sign UN Conventions as it is not recognized by the UN "]

{"sheet":"SriLanka","index":5,"n_rows":35,"n_cols":19,"rows_kept":35,"cut":false,"hidden":true,"merged":[]}
[]
[]
[]
[null,"Indicator","Source","Scale",2005,2006,2007,2008,2009,2010,2011,2012,2013,2014,2015,2016,2017,2018,2019]
[null,"Economic pillar"]
[null,"Growth in per capita GDP","EIU",null,4.91,3.24,4.45,3.26,6.22,11.61,9.6199999999999992,11.96,3.54,0.42,8.82,7.36,5.8,6.89,6.75]
[null,"Current account liberalisation","EIU",null,5,5,5,5,5,5,5,5,5,5,5,5,5,5,5]
[null,"Tariff & non-tariff barriers","EIU",null,3,3,3,3,3,3,3,3,3,3,3,3,3,3,3]
[null,"Exchange rate volatility",null,null,0.02,0.02,0.02,0.03,0.03,0.02,0.02,0.03,0.02,0.01]
[null,"Financial sector depth","EIU",null,33,34,33,29,25,27,31,31,29,28]
[null,"Foreign trade and payments risk","EIU",null,29,29,29,30.5,36,32,32,32,35,36]
[null,"Export market concentration","EIU",null,13.83,13.2,11.75,10.66,10.54,9.64,9.6199999999999992,10.37,10.26,11.17]
[null,"Export product concentration","EIU",null,15.6,15.5,15.2,16.7,17.3,15.9,15.8,16.100000000000001,16.3,15.9]
[null,"Foreign Direct Investment","EIU",null,1.1000000000000001,1.7,1.9,1.8,1,1,1.6,1.6,1.4,1.3,1.6,2.1,2.4,2.4,2.2999999999999998]
[null,"Gross fixed capital formation","EIU",null,23.37,24.87,24.72,25.29,23.73,25.91,27.09,28.9,29.25,28.14,27.8,27.7,27.7,27.7,27.7]
[null,"Trade costs"]
[null,"   Infrastructure","EIU",null,3.7,4.2,4.4000000000000004,4.7,4.7,5.2,5.0999999999999996,5.0999999999999996,5.3,5.5,5.6,5.9,6.1,6.1,6.1]
[null,"Logistics performance","WB LPI",null,null,null,null,null,null,null,null,null,null,2.7]
[null,"   Corruption","EIU",null,2,2,2,2,2,2,2,2,2,2,2,2,2,2,2]
[null,"   Legal system","EIU",null,3,3,3,3,3,3,3,3,3,3,3,3,3,3,3]
[null,"Technological innovation","UNESCO/World Bank",null,null,null,null,null,null,0.16]
[null,"Technological infrastructure","EIU",null,null,null,null,null,null,null,null,null,null,2]
[null,"Growth in labour force","EIU",null,null,null,null,null,null,null,null,null,null,6.4000000000000001E-2]
[null,"Social pillar"]
[null,"Inequality (Gini coefficient)","World Bank",null,null,null,null,null,null,null,null,38.6]
[null,"Educational attainment","UNESCO/World Bank",null,"..","..","..","..","..",16.042459999999998,15.0175,16.967459999999999,18.762899999999998]
[null,"Labour standards","ILO",null,null,null,null,null,null,null,null,null,null,2]
[null,"Political stability","EIU",null,null,null,null,null,null,null,null,null,null,3]
[null,"Environmental pillar"]
[null,"Air pollution","Yale EPI",null,null,null,null,null,8.82,9.1199999999999992,8.9600000000000009,9.17]
[null,"Deforestation","Yale EPI",null,null,null,null,null,null,null,null,-1.7]
[null,"Water pollution","Yale EPI",null,null,null,null,null,null,null,null,0]
[null,"Environmental standards in trade","WTO / Academic research",null,null,null,null,null,null,null,null,null,null,4]
[null,"Carbon emissions in trade","OECD / WTO / Academic research",null,null,null,null,null,null,null,null,null,null,3.0448500000000001E-4]
[null,"Share of natural resources in trade","UNCTAD / WTO",null,null,null,null,null,null,null,null,null,null,0.28577964300000003]

{"sheet":"SouthKorea","index":6,"n_rows":35,"n_cols":19,"rows_kept":35,"cut":false,"hidden":true,"merged":[]}
[]
[]
[]
[null,"Indicator","Source","Scale",2005,2006,2007,2008,2009,2010,2011,2012,2013,2014,2015,2016,2017,2018,2019]
[null,"Economic pillar"]
[null,"Growth in per capita GDP","EIU",null,2.77,3.21,3.01,1.59,1.3,4.1900000000000004,2.04,1.96,3.72,3.3,0.1,3.2,3.7,3.8,2.5]
[null,"Current account liberalisation","EIU",null,4,4,4.2,4,4,4,4,4,4.2,4.4000000000000004,4.5999999999999996,4.8,5,5,5]
[null,"Tariff & non-tariff barriers","EIU",null,4,4,4,4,4,4,4,4,4,4,4,4,4,4,4]
[null,"Exchange rate volatility",null,null,0.01,0.02,0.02,7.0000000000000007E-2,0.06,0.03,0.03,0.02,0.02,0.02]
[null,"Financial sector depth","EIU",null,115,127,135,148,145,136,138,137,135,138]
[null,"Foreign trade and payments risk","EIU",null,21,21,21,24,32,31.25,29,29,29,26]
[null,"Export market concentration","EIU",null,12.57,12.16,11.64,11.01,11.41,11.81,11.76,12.07,12.09,12.02]
[null,"Export product concentration","EIU",null,22.7,22.4,22.3,22.2,21.7,21.8,22.1,22,22.2,22.3]
[null,"Foreign Direct Investment","EIU",null,1.5,0.9,0.8,1.1000000000000001,1,0.9,0.8,0.8,1,0.7,0.7,0.8,0.9,0.8,0.8]
[null,"Gross fixed capital formation","EIU",null,30.86,30.74,30.51,31.38,31.32,30.5,30.24,29.57,29.26,29.11,31.9,32.1,32.200000000000003,32.1,31.8]
[null,"Trade costs"]
[null,"   Infrastructure","EIU",null,7.8,7.6,7.6,7.9,7.6,8,8,8,8,8,7.9,7.9,7.9,7.9,7.9]
[null,"Logistics performance","WB LPI",null,null,null,null,null,null,null,null,null,null,3.67]
[null,"   Corruption","EIU",null,4,4,4,4,4,4,4,4,4,4,4,4,4,4,4]
[null,"   Legal system","EIU",null,3,3,3,3,3,3,3,3,3,3,3,3,3,3,3]
[null,"Technological innovation","UNESCO/World Bank",null,null,null,null,null,null,null,null,4.3600000000000003]
[null,"Technological infrastructure","EIU",null,null,null,null,null,null,null,null,null,null,0,0]
[null,"Growth in labour force","EIU",null,null,null,null,null,null,null,null,null,null,-0.01]
[null,"Social pillar"]
[null,"Inequality (Gini coefficient)","World Bank",null,null,null,null,null,null,null,30.7]
[null,"Educational attainment","UNESCO/World Bank",null,93.478049999999996,97.505870000000002,100.81131000000001,101.75924000000001,101.56675,100.95611,100.8,"..",98.379189999999994,96.584969999999998]
[null,"Labour standards","ILO",null,null,null,null,null,null,null,null,null,null,1]
[null,"Political stability","EIU",null,null,null,null,null,null,null,null,null,null,2]
[null,"Environmental pillar"]
[null,"Air pollution","Yale EPI",null,null,null,null,null,21.81,20.3,20.149999999999999,19.899999999999999]
[null,"Deforestation","Yale EPI",null,null,null,null,null,null,null,null,-1.7]
[null,"Water pollution","Yale EPI",null,null,null,null,null,null,null,null,83.68]
[null,"Environmental standards in trade","WTO / Academic research",null,null,null,null,null,null,null,null,null,null,6]
[null,"Carbon emissions in trade","OECD / WTO / Academic research",null,null,null,null,null,null,null,null,null,null,2.3707700000000001E-4]
[null,"Share of natural resources in trade","UNCTAD / WTO",null,null,null,null,null,null,null,null,null,null,0.105734249]

{"sheet":"Singapore","index":7,"n_rows":35,"n_cols":19,"rows_kept":35,"cut":false,"hidden":true,"merged":[]}
[]
[]
[]
[null,"Indicator","Source","Scale",2005,2006,2007,2008,2009,2010,2011,2012,2013,2014,2015,2016,2017,2018,2019]
[null,"Economic pillar"]
[null,"Growth in per capita GDP","EIU",null,7.4,9.1,6.3,6,-1.7,7.7,4.2,3.5,5,-1.3,1.7,3.1,3.6,3.9,4.0999999999999996]
[null,"Current account liberalisation","EIU",null,5,5,5,5,5,5,5,5,5,5,5,5,5,5,5]
[null,"Tariff & non-tariff barriers","EIU",null,5,5,5,5,5,5,5,5,5,5,5,5,5,5,5]
[null,"Exchange rate volatility",null,null,0.01,0.01,0.01,0.03,0.02,0.02,0.02,0.02,0.02,0.01]
[null,"Financial sector depth","EIU",null,89,85,86,99,98,96,106,115,126,131]
[null,"Foreign trade and payments risk","EIU",null,4,4,4,4,4,4,4,4,4,4]
[null,"Export market concentration","EIU",null,10.36,10.69,10.44,9.65,9.7899999999999991,10.09,9.75,9.83,10.220000000000001,10.27]
[null,"Export product concentration","EIU",null,14,15,15.2,15.6,15.6,16.3,16.7,17.5,17.399999999999999,17.600000000000001]
[null,"Foreign Direct Investment","EIU",null,14.2,25,26.5,6.3,12.4,23.3,17.399999999999999,19.5,21.4,21.9,23,20.8,20.5,20.5,20.100000000000001]
[null,"Gross fixed capital formation","EIU",null,23.08,23.06,24.48,28.34,29.27,26.13,25.5,26.73,26.44,25.37,25.3,24,24.3,24.3,24.3]
[null,"Trade costs"]
[null,"   Infrastructure","EIU",null,9.1999999999999993,9.1999999999999993,9.1999999999999993,9.6999999999999993,9.1999999999999993,9,9,9,9,9.1,9.1,9.1,9.1999999999999993,9.1999999999999993,9.1999999999999993]
[null,"Logistics performance","WB LPI",null,null,null,null,null,null,null,null,null,null,4]
[null,"   Corruption","EIU",null,5,5,5,5,5,5,5,5,5,5,5,5,5,5,5]
[null,"   Legal system","EIU",null,4,4,4,4,4,4,4,4,4,4,4,4,4,4,4]
[null,"Technological innovation","UNESCO/World Bank",null,null,null,null,null,null,null,2.23,0,0,0,0]
[null,"Technological infrastructure","EIU",null,null,null,null,null,null,null,null,null,null,0,0]
[null,"Growth in labour force","EIU",null,null,null,null,null,null,null,null,null,null,9.1999999999999998E-2,0]
[null,"Social pillar"]
[null,"Inequality (Gini coefficient)","World Bank",null,null,null,null,null,null,null,47.8]
[null,"Educational attainment","UNESCO/World Bank (http://www.moe.gov.sg/education/education-statistics-digest/files/esd-2013.pdf)",null,null,null,null,null,null,null,null,null,null,90]
[null,"Labour standards","ILO",null,null,null,null,null,null,null,null,null,null,1]
[null,"Political stability","EIU",null,null,null,null,null,null,null,null,null,null,1]
[null,"Environmental pillar"]
[null,"Air pollution","Yale EPI",null,null,null,null,null,4.26,4.51,4.55,5.16]
[null,"Deforestation","Yale EPI",null,null,null,null,null,null,null,null,0,null," "]
[null,"Water pollution","Yale EPI",null,null,null,null,null,null,null,null,99.65]
[null,"Environmental standards in trade","WTO / Academic research",null,null,null,null,null,null,null,null,null,null,5]
[null,"Carbon emissions in trade","OECD / WTO / Academic research",null,null,null,null,null,null,null,null,null,null,1.10187E-5]
[null,"Share of natural resources in trade","UNCTAD / WTO",null,null,null,null,null,null,null,null,null,null,0.161219523]

{"sheet":"Phillipines","index":8,"n_rows":35,"n_cols":19,"rows_kept":35,"cut":false,"hidden":true,"merged":[]}
[]
[]
[]
[null,"Indicator","Source","Scale",2005,2006,2007,2008,2009,2010,2011,2012,2013,2014,2015,2016,2017,2018,2019]
[null,"Economic pillar"]
[null,"Growth in per capita GDP","EIU",null,4.2300000000000004,3.9,4.4000000000000004,3.4,2.8,4.4000000000000004,6,6.4,5.6,5.5,6.2,5.3,5.2,5.5,5.4]
[null,"Current account liberalisation","EIU",null,4,4,4.2,4,4,4,4,4,4.2,4.4000000000000004,4.5999999999999996,4.8,5,5,5]
[null,"Tariff & non-tariff barriers","EIU",null,4,4,4,4,4,4,4,4,4,4,4,4,4,4,4]
[null,"Exchange rate volatility",null,null,0.02,0.02,0.02,0.03,0.03,0.02,0.02,0.02,0.02,0.02]
[null,"Financial sector depth","EIU",null,29,29,29,29,29,30,32,33,36,39]
[null,"Foreign trade and payments risk","EIU",null,32,29,29,29,29,29,29,29,29,29]
[null,"Export market concentration","EIU",null,13.46,13.07,13.66,13.4,12.76,12.35,13.34,13.54,13.34,14.67]
[null,"Export product concentration","EIU",null,19.600000000000001,18.7,18.8,18.2,18.100000000000001,18.7,17.3,16.3,15.4,16.3]
[null,"Foreign Direct Investment","EIU",null,1.6,2.2000000000000002,2,0.8,1.2,0.5,0.9,1.3,1.4,2.2000000000000002,1.2,0.8,1,1.1000000000000001,1.1000000000000001]
[null,"Gross fixed capital formation","EIU",null,19.899999999999999,20.12,19.899999999999999,19.66,19.010000000000002,20.52,18.739999999999998,19.59,20.53,20.78,21.3,21.4,21.5,21.7,22.1]
[null,"Trade costs"]
[null,"   Infrastructure","EIU",null,3.5,4.2,4.3,4.2,4.2,4.8,5.0999999999999996,5.0999999999999996,5.0999999999999996,5.2,5.2,5.3,5.4,5.4,5.4]
[null,"Logistics performance","WB LPI",null,null,null,null,null,null,null,null,null,null,3]
[null,"   Corruption","EIU",null,1,1,1,1,1,1,1,1,1,1,1,1,1,1,1]
[null,"   Legal system","EIU",null,3,2,2,2,2,2,2,2,2,2,2,2,2,2,2]
[null,"Technological innovation","UNESCO/World Bank",null,null,null,0.11,0,0,0,0,0,0,0,0]
[null,"Technological infrastructure","EIU",null,null,null,null,null,null,null,null,null,null,1,0]
[null,"Growth in labour force","EIU",null,null,null,null,null,null,null,null,null,null,0.34599999999999997,0]
[null,"Social pillar"]
[null,"Inequality (Gini coefficient)","World Bank",null,null,null,null,null,null,null,null,43]
[null,"Educational attainment","UNESCO/World Bank",null,27.522970000000001,27.849350000000001,"..",28.843959999999999,28.199639999999999,29.449349999999999,30.945889999999999,31.476299999999998,33.842030000000001]
[null,"Labour standards","ILO",null,null,null,null,null,null,null,null,null,null,4]
[null,"Political stability","EIU",null,null,null,null,null,null,null,null,null,null,3]
[null,"Environmental pillar"]
[null,"Air pollution","Yale EPI",null,null,null,null,null,6.51,6.46,6.81,6.68]
[null,"Deforestation","Yale EPI",null,null,null,null,null,null,null,null,-1.9]
[null,"Water pollution","Yale EPI",null,null,null,null,null,null,null,null,0.53]
[null,"Environmental standards in trade","WTO / Academic research",null,null,null,null,null,null,null,null,null,null,6]
[null,"Carbon emissions in trade","OECD / WTO / Academic research",null,null,null,null,null,null,null,null,null,null,3.9130700000000003E-4]
[null,"Share of natural resources in trade","UNCTAD / WTO",null,null,null,null,null,null,null,null,null,null,0.16234657399999999]

{"sheet":"Pakistan","index":9,"n_rows":35,"n_cols":19,"rows_kept":35,"cut":false,"hidden":true,"merged":[]}
[]
[]
[]
[null,"Indicator","Source","Scale",2005,2006,2007,2008,2009,2010,2011,2012,2013,2014,2015,2016,2017,2018,2019]
[null,"Economic pillar"]
[null,"Growth in per capita GDP","EIU",null,10.199999999999999,-1.9,1.4,3.6,-0.5,2.2000000000000002,5.8,5,2.2000000000000002,5.5,3.8,4.7,4.9000000000000004,4.5,4.4000000000000004]
[null,"Current account liberalisation","EIU",null,3,3,3,3,3,3,3,3,3,3,3,3,3,3,3]
[null,"Tariff & non-tariff barriers","EIU",null,2,2,2,2,2,2,2,2,2,2,2,2,2,2,2]
[null,"Exchange rate volatility",null,null,0.01,0.01,0.01,0.03,0.02,0.01,0.01,0.01,0.02,0.02]
[null,"Financial sector depth","EIU",null,29,27,28,29,23,21,18,17,16,15]
[null,"Foreign trade and payments risk","EIU",null,61,61,59,61,61,61,61,61,71.5,75]
[null,"Export market concentration","EIU",null,10.75,10.88,11.8,11.06,10.08,9.9600000000000009,9.4,10.77,10.98,10.56]
[null,"Export product concentration","EIU",null,10.1,10.3,9.6999999999999993,9.6,9.4,9.5,9.1,8.9,9.3000000000000007,8.8000000000000007]
[null,"Foreign Direct Investment","EIU",null,1.9,3.1,3.7,3.2,1.4,1.1000000000000001,0.6,0.4,0.6,0.7,0.7,0.7,0.8,0.9,0.8]
[null,"Gross fixed capital formation","EIU",null,15.07,17.73,17.190000000000001,17.61,15.95,14.21,12.52,13.48,13.36,13.38,13.52,13.2,13,12.7,12.7]
[null,"Trade costs"]
[null,"   Infrastructure","EIU",null,4.0999999999999996,3.3,3.5,3.4,3.4,3.8,3.8,3.8,3.9,4.0999999999999996,4.2,4.4000000000000004,4.5,4.5,4.5]
[null,"Logistics performance","WB LPI",null,null,null,null,null,null,null,null,null,null,2.83]
[null,"   Corruption","EIU",null,1,1,1.1000000000000001,1,1,1,1,1,1.1000000000000001,1.3,1.5,1.7,2,2,2]
[null,"   Legal system","EIU",null,2,2,2,2,2,2,2,2,2,2,2,2,2,2,2]
[null,"Technological innovation","UNESCO/World Bank",null,null,null,null,null,null,null,0.33]
[null,"Technological infrastructure","EIU",null,null,null,null,null,null,null,null,null,null,3]
[null,"Growth in labour force","EIU",null,null,null,null,null,null,null,null,null,null,0.45700000000000002]
[null,"Social pillar"]
[null,"Inequality (Gini coefficient)","World Bank",null,null,null,null,null,null,29.6]
[null,"Educational attainment","UNESCO/World Bank",null,4.7297599999999997,4.7828799999999996,5.39025,5.3680300000000001,6.6395299999999997,"..",8.3115500000000004,9.5280199999999997,9.8182700000000001]
[null,"Labour standards","ILO",null,null,null,null,null,null,null,null,null,null,4]
[null,"Political stability","EIU",null,null,null,null,null,null,null,null,null,null,3]
[null,"Environmental pillar"]
[null,"Air pollution","Yale EPI",null,null,null,null,null,29.17,29.46,29.21,29.35]
[null,"Deforestation","Yale EPI",null,null,null,null,null,null,null,null,-1.1000000000000001]
[null,"Water pollution","Yale EPI",null,null,null,null,null,null,null,null,3.52]
[null,"Environmental standards in trade","WTO / Academic research",null,null,null,null,null,null,null,null,null,null,5]
[null,"Carbon emissions in trade","OECD / WTO / Academic research",null,null,null,null,null,null,null,null,null,null,1.4227549999999999E-3]
[null,"Share of natural resources in trade","UNCTAD / WTO",null,null,null,null,null,null,null,null,null,null,0.20483538400000001]

{"sheet":"Myanmar","index":10,"n_rows":36,"n_cols":19,"rows_kept":36,"cut":false,"hidden":true,"merged":[]}
[]
[]
[]
[null,"Indicator","Source","Scale",2005,2006,2007,2008,2009,2010,2011,2012,2013,2014,2015,2016,2017,2018,2019]
[null,"Economic pillar"]
[null,"Growth in per capita GDP","EIU",null,0,0,0,0,0,0,0,0,0,0,0,0,0,0,0]
[null,"Current account liberalisation","EIU",null,0,0,0,0,0,0,0,0,0,4]
[null,"Tariff & non-tariff barriers","EIU",null,0,0,0,0,0,0,0,0,0,4]
[null,"Exchange rate volatility",null,null,0.01,0.01,0.01,0.02,0.02,0.02,0.02,1.44,0.02,0.01]
[null,"Financial sector depth","EIU",null,"..","..","..","..","..","..","..",10,14,".."]
[null,"Foreign trade and payments risk","EIU",null,"#DIV/0!",96,96,96,96,96,95.25,76.5,71,64]
[null,"Export market concentration","EIU",null,16.88,17.850000000000001,17.78,18.97,19.16,18.73,19.18,19.3,19.510000000000002,21.98]
[null,"Export product concentration","EIU",null,15.7,15.1,16.399999999999999,13.8,14.8,13.3,13.8,15.8,14.5,17.2]
[null,"Foreign Direct Investment","EIU",null,2,2.2000000000000002,4,3.5,3.8,2.6,6.2,3.2,5.3,8.1,9.4,10.5,10.7,10.7,10]
[null,"Gross fixed capital formation","EIU",null,11.4,11.8,12.6,13.7,14.4,14.6,16.5,16.899999999999999,17.8,19.899999999999999,21.2,22.9,24.7,26.7,28.7]
[null,"Trade costs"]
[null,"   Infrastructure","EIU",null,null,null,null,null,null,null,null,null,null,1.933333333]
[null,"Logistics performance","WB LPI",null,null,null,null,null,null,null,null,null,null,2.25,0]
[null,"   Corruption","EIU",null,null,null,null,null,null,null,null,null,null,1]
[null,"   Legal system","EIU",null,null,null,null,null,null,null,null,null,null,1]
[null,"Technological innovation","UNESCO/World Bank",null,null,null,null,null,null,null,null,null,null,0,0]
[null,"Technological infrastructure","EIU",null,null,null,null,null,null,null,null,null,null,4,0]
[null,"Growth in labour force","EIU",null,null,null,null,null,null,null,null,null,null,3.3000000000000002E-2,0]
[null,"Social pillar"]
[null,"Inequality (Gini coefficient)","World Bank",null,null,null,null,null,38]
[null,"Educational attainment","UNESCO/World Bank",null,"..","..",10.14058,"..","..","..",13.81368,13.37805]
[null,"Labour standards","ILO",null,null,null,null,null,null,null,null,null,null,4]
[null,"Political stability","EIU",null,null,null,null,null,null,null,null,null,null,3]
[null,"Environmental pillar"]
[null,"Air pollution","Yale EPI",null,null,null,null,null,13.12,12.67,13.5,14.12]
[null,"Deforestation","Yale EPI",null,null,null,null,null,null,null,null,-2.6,null," "]
[null,"Water pollution","Yale EPI",null,null,null,null,null,null,null,null,0]
[null,"Environmental standards in trade","WTO / Academic research",null,null,null,null,null,null,null,null,null,null,3]
[null,"Carbon emissions in trade","OECD / WTO / Academic research",null,null,null,null,null,null,null,null,null,null,3.3662399999999999E-4]
[null,"Share of natural resources in trade","UNCTAD / WTO",null,null,null,null,null,null,null,null,null,null,0.83092470200000002]
[null," "]

{"sheet":"Malaysia","index":11,"n_rows":35,"n_cols":19,"rows_kept":35,"cut":false,"hidden":true,"merged":[]}
[]
[]
[]
[null,"Indicator","Source","Scale",2005,2006,2007,2008,2009,2010,2011,2012,2013,2014,2015,2016,2017,2018,2019]
[null,"Economic pillar"]
[null,"Growth in per capita GDP","EIU",null,0.17,4.4000000000000004,9,8.4,-0.5,7.5,7,9.5,7,6.5,6.4,6.7,7.3,7.1,6.4]
[null,"Current account liberalisation","EIU",null,5,5,5,5,5,5,5,5,5,5,5,5,5,5,5]
[null,"Tariff & non-tariff barriers","EIU",null,4,4,4,4,4,4,4,4,4,4,4,4,4,4,4]
[null,"Exchange rate volatility",null,null,0.01,0.01,0.02,0.03,0.02,0.02,0.02,0.02,0.02,0.02]
[null,"Financial sector depth","EIU",null,107,104,102,97,112,110,112,118,124,125]
[null,"Foreign trade and payments risk","EIU",null,32,32,32,32,32,30.25,21,21,21,21]
[null,"Export market concentration","EIU",null,12.76,12.57,12.05,11.89,11.71,11.48,11.43,11.7,11.65,11.37]
[null,"Export product concentration","EIU",null,20.100000000000001,20,19.5,19,19,18.7,18,18.5,19.2,19.3]
[null,"Foreign Direct Investment","EIU",null,2.7,4.5999999999999996,4.5,3.2,0.1,4.3,5.0999999999999996,3.1,3.6,3.3,3.5,3.3,3.1,2.8,2.6]
[null,"Gross fixed capital formation","EIU",null,22.19,21.84,22.29,20.47,21.87,22.44,22.18,25.36,26.48,25.98,27.1,27.1,26.9,26.8,26.9]
[null,"Trade costs"]
[null,"   Infrastructure","EIU",null,6.8,6.8,6.9,6.5,7.2,6.8,6.8,6.8,7,7.1,7.3,7.5,7.8,7.8,7.8]
[null,"Logistics performance","WB LPI",null,null,null,null,null,null,null,null,null,null,3.59]
[null,"   Corruption","EIU",null,3,3,3,3,3,3,3,3,3,3,3,3,3,3,3]
[null,"   Legal system","EIU",null,3,3,3,3,3,3,3,3,3,3,3,3,3,3,3]
[null,"Technological innovation","UNESCO/World Bank",null,null,null,null,null,null,null,1.07]
[null,"Technological infrastructure","EIU",null,null,null,null,null,null,null,null,null,null,1]
[null,"Growth in labour force","EIU",null,null,null,null,null,null,null,null,null,null,0.218]
[null,"Social pillar"]
[null,"Inequality (Gini coefficient)","World Bank",null,null,null,null,null,46.3]
[null,"Educational attainment","UNESCO/World Bank",null,27.915569999999999,28.58267,30.245519999999999,33.710050000000003,35.720509999999997,37.134529999999998,35.974910000000001,37.200229999999998]
[null,"Labour standards","ILO",null,null,null,null,null,null,null,null,null,null,2]
[null,"Political stability","EIU",null,null,null,null,null,null,null,null,null,null,1]
[null,"Environmental pillar"]
[null,"Air pollution","Yale EPI",null,null,null,null,null,9.16,9.69,10.11,10.65]
[null,"Deforestation","Yale EPI",null,null,null,null,null,null,null,null,-7.2,null," "]
[null,"Water pollution","Yale EPI",null,null,null,null,null,null,null,null,8.64]
[null,"Environmental standards in trade","WTO / Academic research",null,null,null,null,null,null,null,null,null,null,5]
[null,"Carbon emissions in trade","OECD / WTO / Academic research",null,null,null,null,null,null,null,null,null,null,2.3244800000000001E-4]
[null,"Share of natural resources in trade","UNCTAD / WTO",null,null,null,null,null,null,null,null,null,null,0.280923861]

{"sheet":"Laos","index":12,"n_rows":35,"n_cols":19,"rows_kept":35,"cut":false,"hidden":true,"merged":[]}
[]
[]
[]
[null,"Indicator","Source","Scale",2005,2006,2007,2008,2009,2010,2011,2012,2013,2014,2015,2016,2017,2018,2019]
[null,"Economic pillar"]
[null,"Growth in per capita GDP","EIU"]
[null,"Current account liberalisation","EIU",null,null,null,null,null,null,null,null,null,null,5]
[null,"Tariff & non-tariff barriers","EIU",null,null,null,null,null,null,null,null,null,null,4]
[null,"Exchange rate volatility",null,null,0.01,0.01,0.01,0.01,0.01,0.01,0.02,0.01,0.02,0.01]
[null,"Financial sector depth","EIU",null,7,6,7,10,17,21,"..","..","..",".."]
[null,"Foreign trade and payments risk","EIU",null,null,64,64,64,64,64,64,64,67.5,71]
[null,"Export market concentration","EIU",null,11.13,13.93,13.44,15.1,16.11,17.079999999999998,18.14,17.75,18.440000000000001,19.78]
[null,"Export product concentration","EIU",null,19.3,12.1]
[null,"Foreign Direct Investment","EIU",null,1,5.4,7.7,4.2,5.5,3.9,3.6,3.1,3.8,3.8]
[null,"Gross fixed capital formation","EIU",null,23.08,27.06,34.090000000000003,32.130000000000003,30.29,24.32,26.46,31.59,29.17,29.4]
[null,"Trade costs"]
[null,"   Infrastructure","EIU",null,0,0,0,0,0,0,0,0,0,2.4]
[null,"Logistics performance","WB LPI",null,null,null,null,null,null,null,null,null,null,2.39]
[null,"   Corruption","EIU",null,0,0,0,0,0,0,0,0,0,1]
[null,"   Legal system","EIU",null,0,0,0,0,0,0,0,0,0,1]
[null,"Technological innovation","UNESCO/World Bank",null,null,null,null,null,null,null,null,null,null,0]
[null,"Technological infrastructure","EIU",null,null,null,null,null,null,null,null,null,null,3]
[null,"Growth in labour force","EIU",null,null,null,null,null,null,null,null,null,null,6.8000000000000005E-2]
[null,"Social pillar"]
[null,"Inequality (Gini coefficient)","World Bank",null,null,null,null,null,null,null,null,37.9]
[null,"Educational attainment","UNESCO/World Bank",null,7.7889200000000001,8.96279,11.396879999999999,13.092639999999999,15.99353,16.087949999999999,17.088480000000001,16.725370000000002,17.697790000000001]
[null,"Labour standards","ILO",null,null,null,null,null,null,null,null,null,null,4]
[null,"Political stability","EIU",null,null,null,null,null,null,null,null,null,null,1]
[null,"Environmental pillar"]
[null,"Air pollution","Yale EPI",null,null,null,null,null,16.739999999999998,17.309999999999999,18.420000000000002,21.14]
[null,"Deforestation","Yale EPI",null,null,null,null,null,null,null,null,-4.3]
[null,"Water pollution","Yale EPI",null,null,null,null,null,null,null,null,0]
[null,"Environmental standards in trade","WTO / Academic research",null,null,null,null,null,null,null,null,null,null,4]
[null,"Carbon emissions in trade","OECD / WTO / Academic research",null,null,null,null,null,null,null,null,null,null,1.3646099999999999E-4]
[null,"Share of natural resources in trade","UNCTAD / WTO",null,null,null,null,null,null,null,null,null,null,0.732680149]

{"sheet":"Japan","index":13,"n_rows":35,"n_cols":19,"rows_kept":35,"cut":false,"hidden":true,"merged":[]}
[]
[]
[]
[null,"Indicator","Source","Scale",2005,2006,2007,2008,2009,2010,2011,2012,2013,2014,2015,2016,2017,2018,2019]
[null,"Economic pillar"]
[null,"Growth in per capita GDP","EIU",null,0.89,0.78,0.68,-1.37,1.21,2.37,0.96,0.88,0.71,-0.88,1.3,1.2,0.2,0.7,1]
[null,"Current account liberalisation","EIU",null,5,5,5,5,5,5,5,5,5,5,5,5,5,5,5]
[null,"Tariff & non-tariff barriers","EIU",null,4,4,4,4,4,4,4,4,4,4,4,4,4,4,4]
[null,"Exchange rate volatility",null,null,0.02,0.02,0.03,0.05,0.04,0.03,0.03,0.03,0.03,0.03]
[null,"Financial sector depth","EIU",null,194,191,181,176,185,176,175,178,188,188]
[null,"Foreign trade and payments risk","EIU",null,14,14,15,18,18,18,18,18,21,25]
[null,"Export market concentration","EIU",null,12.55,12.64,12.18,11.63,12.24,12.16,12.1,12.17,12.5,12.54]
[null,"Export product concentration","EIU",null,23.7,23.6,23.4,23.6,23.1,23.3,23.3,23.5,23.4,23.3]
[null,"Foreign Direct Investment","EIU",null,0.1,-0.1,0.5,0.5,0.2,0.1,0,0,0.2,0.2,0.6,0.6,0.7,0.6,0.7]
[null,"Gross fixed capital formation","EIU",null,22.36,22.7,22.58,22.39,20.79,19.98,20.62,21.03,21.73,22.34,22.3,22.4,22.3,22.2,22.2]
[null,"Trade costs"]
[null,"   Infrastructure","EIU",null,8.5,8.6,8.6999999999999993,8.6,8.5,8.6,8.6,8.6,8.6,8.6,8.6999999999999993,8.6999999999999993,8.6999999999999993,8.6999999999999993,8.6999999999999993]
[null,"Logistics performance","WB LPI",null,null,null,null,null,null,null,null,null,null,3.91]
[null,"   Corruption","EIU",null,3,3,3,3,3,3,3,3,3,3,3,3,3,3,3]
[null,"   Legal system","EIU",null,4,4,4,4,4,4,4,4,4,4,4,4,4,4,4]
[null,"Technological innovation","UNESCO/World Bank",null,null,null,null,null,null,null,null,3.4]
[null,"Technological infrastructure","EIU",null,null,null,null,null,null,null,null,null,null,0]
[null,"Growth in labour force","EIU",null,null,null,null,null,null,null,null,null,null,-0.106]
[null,"Social pillar"]
[null,"Inequality (Gini coefficient)","World Bank",null,null,null,null,null,33.6]
[null,"Educational attainment","UNESCO/World Bank",null,54.971350000000001,57.105899999999998,57.818269999999998,57.643999999999998,57.683700000000002,58.079079999999998,59.924059999999997,61.459319999999998]
[null,"Labour standards","ILO",null,null,null,null,null,null,null,null,null,null,1]
[null,"Political stability","EIU",null,null,null,null,null,null,null,null,null,null,0]
[null,"Environmental pillar"]
[null,"Air pollution","Yale EPI",null,null,null,null,null,12.9,12,11.96,11.69]
[null,"Deforestation","Yale EPI",null,null,null,null,null,null,null,null,-0.6]
[null,"Water pollution","Yale EPI",null,null,null,null,null,null,null,null,71.260000000000005]
[null,"Environmental standards in trade","WTO / Academic research",null,null,null,null,null,null,null,null,null,null,6]
[null,"Carbon emissions in trade","OECD / WTO / Academic research",null,null,null,null,null,null,null,null,null,null,3.4800800000000002E-4]
[null,"Share of natural resources in trade","UNCTAD / WTO",null,null,null,null,null,null,null,null,null,null,6.3178454999999994E-2]

{"sheet":"Indonesia","index":14,"n_rows":35,"n_cols":19,"rows_kept":35,"cut":false,"hidden":true,"merged":[]}
[]
[]
[]
[null,"Indicator","Source","Scale",2005,2006,2007,2008,2009,2010,2011,2012,2013,2014,2015,2016,2017,2018,2019]
[null,"Economic pillar"]
[null,"Growth in per capita GDP","EIU",null,12.27,3.2,6.9,4.8,6.5,4.0999999999999996,5.0999999999999996,6.4,5.4,5.3,4,5,4.9000000000000004,5,5.0999999999999996]
[null,"Current account liberalisation","EIU",null,4,4,4,4,4,4,4,4,4,4,4,4,4,4,4]
[null,"Tariff & non-tariff barriers","EIU",null,4,4,4,4,4,4,4,4,4,4,4,4,4,4,4]
[null,"Exchange rate volatility",null,null,0.02,0.02,0.02,0.06,0.03,0.02,0.02,0.02,0.03,0.03]
[null,"Financial sector depth","EIU",null,26,25,25,27,28,27,30,33,40,40]
[null,"Foreign trade and payments risk","EIU",null,43,43,43,44.75,47.25,43,43,43,43,43]
[null,"Export market concentration","EIU",null,12.39,12.47,12.15,11.92,11,11.01,11.27,11.03,11.25,10.58]
[null,"Export product concentration","EIU",null,15.2,15.9,16.100000000000001,16.5,15.9,16.7,17.3,19.2,19.2,19.7]
[null,"Foreign Direct Investment","EIU",null,2.7,1.2,1.5,1.7,0.8,2,2.2999999999999998,2.2999999999999998,2.6,2.6,2.7,2.7,2.6,2.2000000000000002,1.9]
[null,"Gross fixed capital formation","EIU",null,27.23,27.81,28.73,31.39,31.24,30.95,31.26,32.67,32.090000000000003,32.56,32.9,33.4,33.9,34.200000000000003,35.1]
[null,"Trade costs"]
[null,"   Infrastructure","EIU",null,4,4,4.0999999999999996,4.2,4.4000000000000004,4.9000000000000004,4.9000000000000004,4.9000000000000004,5,5.0999999999999996,5.2,5.3,5.4,5.4,5.4]
[null,"Logistics performance","WB LPI",null,null,null,null,null,null,null,null,null,null,3.08]
[null,"   Corruption","EIU",null,1,1,1,1,1,1,1,1,1,1,1,1,1,1,1]
[null,"   Legal system","EIU",null,2,2,2,2,2,2,2,2,2,2,2,2,2,2,2]
[null,"Technological innovation","UNESCO/World Bank",null,null,null,null,null,0.08]
[null,"Technological infrastructure","EIU",null,null,null,null,null,null,null,null,null,null,3]
[null,"Growth in labour force","EIU",null,null,null,null,null,null,null,null,null,null,0.23799999999999999]
[null,"Social pillar"]
[null,"Inequality (Gini coefficient)","World Bank",null,null,null,null,null,null,35.6]
[null,"Educational attainment","UNESCO/World Bank",null,17.739730000000002,17.911339999999999,18.395340000000001,21.337340000000001,23.740349999999999,24.885629999999999,27.204550000000001,31.512260000000001]
[null,"Labour standards","ILO",null,null,null,null,null,null,null,null,null,null,4]
[null,"Political stability","EIU",null,null,null,null,null,null,null,null,null,null,2]
[null,"Environmental pillar"]
[null,"Air pollution","Yale EPI",null,null,null,null,null,8.56,8.3000000000000007,8.6300000000000008,9.2100000000000009]
[null,"Deforestation","Yale EPI",null,null,null,null,null,null,null,null,-5.5]
[null,"Water pollution","Yale EPI",null,null,null,null,null,null,null,null,0.02]
[null,"Environmental standards in trade","WTO / Academic research",null,null,null,null,null,null,null,null,null,null,5]
[null,"Carbon emissions in trade","OECD / WTO / Academic research",null,null,null,null,null,null,null,null,null,null,7.2207599999999999E-4]
[null,"Share of natural resources in trade","UNCTAD / WTO",null,null,null,null,null,null,null,null,null,null,0.59944157099999995]

{"sheet":"India","index":15,"n_rows":35,"n_cols":19,"rows_kept":35,"cut":false,"hidden":true,"merged":[]}
[]
[]
[]
[null,"Indicator","Source","Scale",2005,2006,2007,2008,2009,2010,2011,2012,2013,2014,2015,2016,2017,2018,2019]
[null,"Economic pillar"]
[null,"Growth in per capita GDP","EIU",null,8.6300000000000008,8.49,9.3000000000000007,7.2,5.6,8.6,6.1,6.1,6.8,6.3,8.3000000000000007,8.5,4.4000000000000004,8.3000000000000007,8]
[null,"Current account liberalisation","EIU",null,4,4,4,4,4,4,4,4,4,4,4,4,4,4,4]
[null,"Tariff & non-tariff barriers","EIU",null,1,2,2,2,2,2,2,2,2,2,2,2,2,2,2]
[null,"Exchange rate volatility",null,null,0.01,0.02,0.02,0.03,0.03,0.03,0.03,0.04,0.05,0.02]
[null,"Financial sector depth","EIU",null,39,43,45,49,47,50,51,52,52,51]
[null,"Foreign trade and payments risk","EIU",null,54,51,50,51,54,54,54,54,52,50]
[null,"Export market concentration","EIU",null,8.61,8.35,7.84,7.95,7.93,7.98,8.49,8.3000000000000007,7.71,7.8]
[null,"Export product concentration","EIU",null,14.3,15.2,15.9,16.2,16,15.8,17.100000000000001,17.2,17.100000000000001,16.600000000000001]
[null,"Foreign Direct Investment","EIU",null,0.9,2.1,2.1,3.9,2.6,1.6,2,1.3,1.5,1.7,2.2000000000000002,2.6,3.2,3.1,2.9]
[null,"Gross fixed capital formation","EIU",null,31.32,32.29,33.99,33.44,32.799999999999997,31.97,33.659999999999997,31.36,29.66,28.71,26.5,26.5,26.4,26,25.7]
[null,"Trade costs"]
[null,"   Infrastructure","EIU",null,3.4,3.7,3.9,4.0999999999999996,3.8,4.4000000000000004,4.4000000000000004,4.4000000000000004,4.5999999999999996,4.7,4.9000000000000004,5.0999999999999996,5.4,5.4,5.4]
[null,"Logistics performance","WB LPI",null,null,null,null,null,null,null,null,null,null,3.08]
[null,"   Corruption","EIU",null,1,1,1.1000000000000001,1,1,1,1,1,1.1000000000000001,1.3,1.5,1.7,2,2,2]
[null,"   Legal system","EIU",null,3,3,3,3,3,3,3,3,3,3,3,3,3,3,3]
[null,"Technological innovation","UNESCO/World Bank",null,null,null,null,null,null,null,0.81]
[null,"Technological infrastructure","EIU",null,null,null,null,null,null,null,null,null,null,1]
[null,"Growth in labour force","EIU",null,null,null,null,null,null,null,null,null,null,0.28599999999999998]
[null,"Social pillar"]
[null,"Inequality (Gini coefficient)","World Bank",null,null,null,null,null,33.9]
[null,"Educational attainment","UNESCO/World Bank",null,11.00422,11.82165,13.48119,15.41577,16.396570000000001,18.226790000000001,23.271239999999999,24.804760000000002,24.686689999999999,null," "]
[null,"Labour standards","ILO",null,null,null,null,null,null,null,null,null,null,4]
[null,"Political stability","EIU",null,null,null,null,null,null,null,null,null,null,2]
[null,"Environmental pillar"]
[null,"Air pollution","Yale EPI",null,null,null,null,null,30.95,31.09,31.69,31.98]
[null,"Deforestation","Yale EPI",null,null,null,null,null,null,null,null,-1.6,null," "]
[null,"Water pollution","Yale EPI",null,null,null,null,null,null,null,null,10.49]
[null,"Environmental standards in trade","WTO / Academic research",null,null,null,null,null,null,null,null,null,null,5]
[null,"Carbon emissions in trade","OECD / WTO / Academic research",null,null,null,null,null,null,null,null,null,null,1.267273E-3]
[null,"Share of natural resources in trade","UNCTAD / WTO",null,null,null,null,null,null,null,null,null,null,0.30399832100000002]

{"sheet":"HongKong","index":16,"n_rows":37,"n_cols":19,"rows_kept":37,"cut":false,"hidden":true,"merged":[]}
[]
[]
[]
[null,"Indicator","Source","Scale",2005,2006,2007,2008,2009,2010,2011,2012,2013,2014,2015,2016,2017,2018,2019]
[null,"Economic pillar"]
[null,"Growth in per capita GDP","EIU",null,1.31,3.2,4.4000000000000004,0.1,-0.3,3.2,4.7,2,2.7,1.7,2.4,1.5,2.4,2.8,2.9]
[null,"Current account liberalisation","EIU",null,5,5,5,5,5,5,5,5,5,5,5,5,5,5,5]
[null,"Tariff & non-tariff barriers","EIU",null,5,5,5,5,5,5,5,5,5,5,5,5,5,5,5]
[null,"Exchange rate volatility",null,null,0.01,0.01,0.01,0.02,0.01,0.01,0.01,0.01,0.01,0.01]
[null,"Financial sector depth","EIU",null,143,137,137,140,155,186,202,199,218,234]
[null,"Foreign trade and payments risk","EIU",null,4,7,7,7,7,7,7,7,7,7]
[null,"Export market concentration","EIU",null,16.809999999999999,16.97,17.02,17.2,17.45,17.579999999999998,17.260000000000002,17.579999999999998,17.54,17.32]
[null,"Export product concentration","EIU",null,23.4,23.5,23.9,24.2,24.3,24.3,24.5,24.6,24.5,24.5]
[null,"Foreign Direct Investment","EIU",null,22.56,23.2,29.36,30.57,25.36,36.17,38.68,28.51,27.87,39.869999999999997,36.31,30.74,26.2,24.41,20.63]
[null,"Gross fixed capital formation","EIU",null,21.4,22.43,20.62,20.55,20.46,21.78,23.54,25.4,24.12,23.65,22.5,20.5,20.3,20.5,20]
[null,"Trade costs"]
[null,"   Infrastructure","EIU",null,8.6999999999999993,8.5,8.5,8.5,8.5,8.6,8.6,8.6,8.6,8.6,8.6,8.6,8.6,8.6,8.6]
[null,"Logistics performance","WB LPI",null,null,null,null,null,null,null,null,null,null,3.83]
[null,"   Corruption","EIU",null,4,4,4,4,4,4,4,4,4,4,4,4,4,4,4]
[null,"   Legal system","EIU",null,3,3,3.2,3,3,3,3,3,3.2,3.4,3.6,3.8,4,4,4]
[null,"Technological innovation","UNESCO/World Bank",null,null,null,null,null,null,0.75]
[null,"Technological infrastructure","EIU",null,null,null,null,null,null,null,null,null,null,2]
[null,"Growth in labour force","EIU",null,null,null,null,null,null,null,null,null,null,-6.0999999999999999E-2]
[null,"Social pillar"]
[null,"Inequality (Gini coefficient)","See footnote ",null,null,null,null,null,null,null,53.7]
[null,"Educational attainment","UNESCO/World Bank",null,32.115650000000002,32.984639999999999,41.154139999999998,53.863050000000001,54.836379999999998,57.835729999999998,59.89669,60.125399999999999,66.837040000000002]
[null,"Labour standards","ILO",null,null,null,null,null,null,null,null,null,null,1]
[null,"Political stability","EIU",null,null,null,null,null,null,null,null,null,null,2]
[null,"Environmental pillar"]
[null,"Air pollution ","Yale EPI",null,null,null,null,null,19.2,17.329999999999998,16.25,15.37,null," "]
[null,"Deforestation ","Yale EPI",null,null,null,null,null,null,null,null,0.2,null," "]
[null,"Water pollution ","Yale EPI",null,null,null,null,null,null,null,null,87.786879999999996]
[null,"Environmental standards in trade**","WTO / Academic research",null,null,null,null,null,null,null,null,null,null,7]
[null,"Carbon emissions in trade","OECD / WTO / Academic research",null,null,null,null,null,null,null,null,null,null,2.0763200000000001E-5]
[null,"Share of natural resources in trade","UNCTAD / WTO",null,null,null,null,null,null,null,null,null,null,8.6433671000000004E-2]
[null,"* HK is part of China for the EPI  "]
[null,"** HK is part of China for Convention signing "]

{"sheet":"China","index":17,"n_rows":35,"n_cols":19,"rows_kept":35,"cut":false,"hidden":true,"merged":[]}
[]
[]
[]
[null,"Indicator","Source","Scale",2005,2006,2007,2008,2009,2010,2011,2012,2013,2014,2015,2016,2017,2018,2019]
[null,"Economic pillar"]
[null,"Growth in per capita GDP","EIU",null,11.96,9.14,12.19,8.58,12.02,8.7100000000000009,7.69,10.38,6.55,7.4,6.8,6.2,5.6,5.5,5.2]
[null,"Current account liberalisation","EIU",null,3,4,4.2,4,4,4,4,4,4.2,4.4000000000000004,4.5999999999999996,4.8,5,5,5]
[null,"Tariff & non-tariff barriers","EIU",null,3,3,3,3,3,3,3,3,3,3,3,3,3,3,3]
[null,"Exchange rate volatility",null,null,0.01,0.01,0.01,0.03,0.02,0.02,0.02,0.02,0.02,0.02]
[null,"Financial sector depth","EIU",null,113,110,107,103,125,128,124,130,135,142]
[null,"Foreign trade and payments risk","EIU",null,34,32,32,34,36,36,36,36,36,33]
[null,"Export market concentration","EIU",null,13.36,12.79,11.82,11.08,11.22,10.95,10.84,11.17,11.26,10.78]
[null,"Export product concentration","EIU",null,11.7,11.7,11.4,10.7,11.4,11.2,10.5,10.5,10.7,10.3]
[null,"Foreign Direct Investment","EIU",null,4.54,4.51,4.41,3.76,2.25,4.55,4.46,3.49,3.65,3.62,2.99,2.4300000000000002,1.94,2,1.8]
[null,"Gross fixed capital formation","EIU",null,39.53,38.86,38.08,39.4,44.14,44.56,44.49,44.46,44.6,44.17,42.4,41.8,41.3,40.6,39.9]
[null,"Trade costs"]
[null,"   Infrastructure","EIU",null,4.7,4.9000000000000004,5.2,5.6,5.4,5.8,5.8,5.8,6,6.2,6.4,6.7,6.9,6.9,6.9]
[null,"Logistics performance","WB LPI",null,null,null,null,null,null,null,null,null,null,3.53]
[null,"   Corruption","EIU",null,1,1,1,1,1,1,1,1,1,1,1,1,1,1,1]
[null,"   Legal system","EIU",null,1,1,1.1000000000000001,1,1,1,1,1,1.1000000000000001,1.3,1.5,1.7,2,2,2]
[null,"Technological innovation","UNESCO/World Bank",null,null,null,null,null,null,null,null,1.98]
[null,"Technological infrastructure","EIU",null,null,null,null,null,null,null,null,null,null,2,0]
[null,"Growth in labour force","EIU",null,null,null,null,null,null,null,null,null,null,-5.7000000000000002E-2]
[null,"Social pillar"]
[null,"Inequality (Gini coefficient)","World Bank",null,null,null,null,null,null,42.06]
[null,"Educational attainment","UNESCO/World Bank",null,18.340869999999999,19.51878,19.966899999999999,20.187270000000002,21.823720000000002,23.321529999999999,24.328410000000002,26.7,29.696449999999999]
[null,"Labour standards","ILO",null,null,null,null,null,null,null,null,null,null,3]
[null,"Political stability","EIU",null,null,null,null,null,null,null,null,null,null,2]
[null,"Environmental pillar"]
[null,"Air pollution","Yale EPI",null,null,null,null,null,49.84,48.41,49.1,48]
[null,"Deforestation","Yale EPI",null,null,null,null,null,null,null,null,-2.5,null," "]
[null,"Water pollution","Yale EPI",null,null,null,null,null,null,null,null,18.179912237635001]
[null,"Environmental standards in trade","WTO / Academic research",null,null,null,null,null,null,null,null,null,null,7]
[null,"Carbon emissions in trade","OECD / WTO / Academic research",null,null,null,null,null,null,null,null,null,null,1.2355930000000001E-3]
[null,"Share of natural resources in trade","UNCTAD / WTO",null,null,null,null,null,null,null,null,null,null,6.2638868E-2]

{"sheet":"Cambodia","index":18,"n_rows":35,"n_cols":19,"rows_kept":35,"cut":false,"hidden":true,"merged":[]}
[]
[]
[]
[null,"Indicator","Source","Scale",2005,2006,2007,2008,2009,2010,2011,2012,2013,2014,2015,2016,2017,2018,2019]
[null,"Economic pillar"]
[null,"Growth in per capita GDP","EIU",null,null,null,null,null,null,null,null,null,null,null,null,0,0,0,0]
[null,"Current account liberalisation","EIU",null,null,null,null,null,null,null,null,null,null,5]
[null,"Tariff & non-tariff barriers","EIU",null,null,null,null,null,null,null,null,null,null,3]
[null,"Exchange rate volatility",null,null,0.02,0.01,0.01,0.02,0.02,0.02,0.02,0.01,0.01,0.01]
[null,"Financial sector depth","EIU",null,9,12,18,23,25,28,28,39,45,54]
[null,"Foreign trade and payments risk","EIU",null,null,32,32,32,32,32,32,34,37.5,42]
[null,"Export market concentration","EIU",null,17,16.84,16.64,14.66,10.220000000000001,11.31,11.95,7.87,10.53,17.22]
[null,"Export product concentration","EIU",null,19.899999999999999,18.7,23.9,23.7,21.4,22.6,22.9,24.2,23.4,30.6]
[null,"Foreign Direct Investment","EIU",null,6,6.64,10.039999999999999,7.87,4.91,6.54,6.2,10.25,8.82,6.76,7.08,7.02,7.31,7.32,7.24]
[null,"Gross fixed capital formation","EIU",null,18.89,19.350000000000001,19.77,17.27,20.14,16.010000000000002,16.899999999999999,17,18.100000000000001,18.100000000000001,18.7,19.2,20,20.8,22.4]
[null,"Trade costs"]
[null,"   Infrastructure","EIU",null,null,null,null,null,null,null,null,null,null,3.53125]
[null,"   Border procedures ","Trade Facilitation Index",null,null,null,null,null,null,null,null,null,null,2.74]
[null,"   Corruption","EIU",null,null,null,null,null,null,null,null,null,null,1]
[null,"   Legal system","EIU",null,null,null,null,null,null,null,null,null,null,1]
[null,"Technological innovation","UNESCO/World Bank",null,null,null,null,null,null,null,null,null,null,0]
[null,"Technological infrastructure","EIU",null,null,null,null,null,null,null,null,null,null,3]
[null,"Growth in labour force","EIU",null,null,null,null,null,null,null,null,null,null,2.3E-2]
[null,"Social pillar"]
[null,"Inequality (Gini coefficient)","World Bank",null,null,null,null,null,null,null,null,30.76]
[null,"Educational attainment","UNESCO/World Bank",null,3.3261599999999998,5.5914400000000004,7.2509399999999999,9.0801400000000001,11.723330000000001,14.067600000000001,15.834110000000001]
[null,"Labour standards","ILO",null,null,null,null,null,null,null,null,null,null,4]
[null,"Political stability","EIU",null,null,null,null,null,null,null,null,null,null,3]
[null,"Environmental pillar"]
[null,"Air pollution","Yale EPI",null,null,null,null,null,8.74,8.77,9.16,9.59]
[null,"Deforestation","Yale EPI",null,null,null,null,null,null,null,null,-13.7,null," "]
[null,"Water pollution","Yale EPI",null,null,null,null,null,null,null,null,0]
[null,"Environmental standards in trade","WTO / Academic research",null,null,null,null,null,null,null,null,null,null,5]
[null,"Carbon emissions in trade","OECD / WTO / Academic research",null,null,null,null,null,null,null,null,null,null,1.5789299999999999E-4]
[null,"Share of natural resources in trade","UNCTAD / WTO",null,null,null,null,null,null,null,null,null,null,0.10548642799999999]

{"sheet":"Brunei","index":19,"n_rows":35,"n_cols":19,"rows_kept":35,"cut":false,"hidden":true,"merged":[]}
[]
[]
[]
[null,"Indicator","Source","Scale",2005,2006,2007,2008,2009,2010,2011,2012,2013,2014,2015,2016,2017,2018,2019]
[null,"Economic pillar"]
[null,"Growth in per capita GDP","EIU",null,null,null,null,null,null,null,null,null,null,null,null,null,"n.a.","n.a.","n.a."]
[null,"Current account liberalisation","EIU",null,null,null,null,null,null,null,null,null,null,5]
[null,"Tariff & non-tariff barriers","EIU",null,null,null,null,null,null,null,null,null,null,3]
[null,"Exchange rate volatility",null,null,0.01,0.01,0.01,0.03,0.02,0.02,0.02,0.02,0.02,0.01]
[null,"Financial sector depth","EIU",null,40,35,38,35,45,41,31,31,35,33]
[null,"Foreign trade and payments risk","EIU",null,null,null,14,14,21,21,21,21,21,21]
[null,"Export market concentration","EIU"]
[null,"Export product concentration","EIU"]
[null,"Foreign Direct Investment","EIU",null,null,null,8.6999999999999994E-3,7.9000000000000008E-3,null,2.0199999999999999E-2,3.6600000000000001E-2]
[null,"Gross fixed capital formation","EIU",null,29.3,27,33.5,35.200000000000003,45.2,40.9,33.700000000000003,35,39.46,27.27,27.2,27.1,"n.a.","n.a.","n.a."]
[null,"Trade costs"]
[null,"   Infrastructure","EIU",null,null,null,null,null,null,null,null,null,null,3.53125]
[null,"Logistics performance","World Bank LPI"]
[null,"   Corruption","EIU",null,null,null,null,null,null,null,null,null,null,3]
[null,"   Legal system","EIU",null,null,null,null,null,null,null,null,null,null,1]
[null,"Technological innovation","UNESCO/World Bank",null,null,null,null,null,null,null,null,null,null,0]
[null,"Technological infrastructure","EIU"]
[null,"Growth in labour force","EIU",null,null,null,null,null,null,null,null,null,null,-3.3000000000000002E-2]
[null,"Social pillar"]
[null,"Inequality (Gini coefficient)","Scholarly estimate (see note) ",null,null,null,null,null,null,null,null,null,40.5]
[null,"Educational attainment","UNESCO/World Bank",null,17.694099999999999,17.765840000000001,17.945930000000001,18.318739999999998,19.194140000000001,17.603850000000001,19.72259,24.33869,25.361820000000002]
[null,"Labour standards","ILO",null,null,null,null,null,null,null,null,null,null,1]
[null,"Political stability","EIU",null,null,null,null,null,null,null,null,null,null,0]
[null,"Environmental pillar"]
[null,"Air pollution","Yale EPI",null,null,"  ",null,null,8.57,7.87,9.24,9.1999999999999993]
[null,"Deforestation","Yale EPI",null,null,null,null,null,null,null,null,-1.5]
[null,"Water pollution","Yale EPI",null,null,null,null,null,null,null,null,37.840000000000003]
[null,"Environmental standards in trade","WTO / Academic research",null,null,null,null,null,null,null,null,null,null,3]
[null,"Carbon emissions in trade","OECD / WTO / Academic research",null,null,null,null,null,null,null,null,1.9880700000000001E-4]
[null,"Share of natural resources in trade","UNCTAD / WTO",null,null,null,null,null,null,null,null,0.87965807900000004]

{"sheet":"Bangladesh","index":20,"n_rows":35,"n_cols":27,"rows_kept":35,"cut":false,"hidden":true,"merged":[]}
[]
[]
[]
[null,"Indicator","Source","Scale",2005,2006,2007,2008,2009,2010,2011,2012,2013,2014,2015,2016,2017,2018,2019]
[null,"Economic pillar"]
[null,"Growth in per capita GDP","EIU",null,null,null,null,null,null,null,null,null,null,null,null,null,"n.a.","n.a.","n.a.",null,null,null,null,null,null,null,""]
[null,"Current account liberalisation","EIU",null,null,null,null,null,null,null,null,null,null,4,null,null,null,null,null,null,null,null,null,null,null,null,4]
[null,"Tariff & non-tariff barriers","EIU",null,null,null,null,null,null,null,null,null,null,2,null,null,null,null,null,null,null,null,null,null,null,null,2]
[null,"Exchange rate volatility",null,null,0.02,0.03,0.01,0.03,0.02,0.02,0.03,0.03,0.02,0.01,null,null,null,null,null,null,null,null,null,null,null,null,""]
[null,"Financial sector depth","EIU",null,29,31,32,34,36,41,42,43,42,42]
[null,"Foreign trade and payments risk","EIU",null,null,57,57,57,57,55.5,54,54,54,57]
[null,"Export market concentration","EIU",null,12.31,12.66,12.15,11.82,11.88,11.3,10.7,10.24,9.84,9.7100000000000009]
[null,"Export product concentration","EIU",null,19.3,19,19.2,18.899999999999999,19.2,18.899999999999999,18.899999999999999,18.899999999999999,18.8,18.600000000000001]
[null,"Foreign Direct Investment","EIU",null,1.1000000000000001,1,0.8,1.1000000000000001,0.8,0.7,0.9,1.1000000000000001,1,0.9,0.8,0.8,0.7,0.7,0.6]
[null,"Gross fixed capital formation","EIU",null,25.83,26.14,26.18,26.2,26.21,26.25,27.42,28.26,28.39,28.69,28.7,29,29.3,29.8,30.3]
[null,"Trade costs"]
[null,"   Infrastructure","EIU",null,null,null,null,null,null,null,null,null,null,2.5]
[null,"Logistics performance","World Bank LPI",null,null,null,null,null,null,null,null,null,null,2.56]
[null,"   Corruption","EIU",null,null,null,null,null,null,null,null,null,null,1]
[null,"   Legal system","EIU",null,null,null,null,null,null,null,null,null,null,3]
[null,"Technological innovation","UNESCO/World Bank",null,null,null,null,null,null,null,null,3.5]
[null,"Technological infrastructure","EIU",null,null,null,null,null,null,null,null,null,null,2]
[null,"Growth in labour force","EIU",null,null,null,null,null,null,null,null,null,null,0.25900000000000001]
[null,"Social pillar"]
[null,"Inequality (Gini coefficient)","World Bank",null,null,null,null,null,null,32]
[null,"Educational attainment","UNESCO/World Bank",null,6.2199,7.1034600000000001,7.6562200000000002,8.5635499999999993,10.466329999999999,"..",13.15282,13.227930000000001]
[null,"Labour standards","ILO",null,null,null,null,null,null,null,null,null,null,4]
[null,"Political stability","EIU",null,null,null,null,null,null,null,null,null,null,3]
[null,"Environmental pillar",null,null,null,null,null,null,null,null,null,null,null,null," "]
[null,"Air pollution","Yale EPI",null,null,null,null,null,28,28.99,28.95,29.62]
[null,"Deforestation","Yale EPI",null,null,null,null,null,null,null,null,-2.8]
[null,"Water pollution","Yale EPI",null,null,null,null,null,null,null,null,0]
[null,"Environmental standards in trade","WTO / Academic research",null,null,null,null,null,null,null,null,null,null,3]
[null,"Carbon emissions in trade","OECD / WTO / Academic research",null,null,null,null,null,null,null,5.76619E-4]
[null,"Share of natural resources in trade","UNCTAD / WTO",null,null,null,null,null,null,null,7.0791048999999995E-2]

{"sheet":"iDataCollect","index":21,"n_rows":35,"n_cols":23,"rows_kept":35,"cut":false,"hidden":true,"merged":[]}
[]
[]
[null,null,null,"Bangladesh","Brunei","Cambodia","China","HongKong","India","Indonesia","Japan","Laos","Malaysia","Myanmar","Pakistan","Phillipines","Singapore","SouthKorea","SriLanka","Taiwan","Thailand","Vietnam","USA"]
[]
[null,null,"Economic pillar"]
[6,null,"Growth in per capita GDP",4.8899999999999997,-1.63,5.1100000000000003,8,3.04,5.1499999999999995,4.7300000000000004,1.59,6.04,4.04,4.3600000000000003,1.6500000000000001,4.42,4.5,3.16,5.83,4.22,3.58,4.7,1.29]
[7,null,"Current account liberalisation",4,{"$f":"IF(ISNUMBER(INDEX(INDIRECT(E$3&\"!\"&\"E\"&$A7&\":N\"&$A7),MATCH(9.99999999999999E+307,INDIRECT(E$3&\"!\"&\"E\"&$A7&\":N\"&$A7)))),INDEX(INDIRECT(E$3&\"!\"&\"E\"&$A7&\":N\"&$A7),MATCH(9.99999999999999E+307,INDIRECT(E$3&\"!\"&\"E\"&$A7&\":N\"&$A7))),\"\")","v":5},5,4.4000000000000004,5,4,4,5,5,5,4,3,4.4000000000000004,5,4.4000000000000004,5,5,5,5,5]
[8,null,"Tariff & non-tariff barriers",{"$f":"IF(ISNUMBER(INDEX(INDIRECT(D$3&\"!\"&\"E\"&$A8&\":N\"&$A8),MATCH(9.99999999999999E+307,INDIRECT(D$3&\"!\"&\"E\"&$A8&\":N\"&$A8)))),INDEX(INDIRECT(D$3&\"!\"&\"E\"&$A8&\":N\"&$A8),MATCH(9.99999999999999E+307,INDIRECT(D$3&\"!\"&\"E\"&$A8&\":N\"&$A8))),\"\")","v":2},3,3,3,5,2,4,4,4,4,4,2,4,5,4,3,4,3.4,2.4,4]
[9,"*","Exchange rate volatility",{"$f":"AVERAGE(INDIRECT(D$3&\"!\"&\"$J\"&$A9&\":\"&\"$N\"&$A9))","v":2.1999999999999999E-2},{"$f":"AVERAGE(INDIRECT(E$3&\"!\"&\"$J\"&$A9&\":\"&\"$N\"&$A9))","v":1.7999999999999999E-2},1.4000000000000002E-2,0.02,0.01,3.4000000000000002E-2,2.4E-2,0.03,1.3999999999999999E-2,0.02,0.30199999999999999,1.4000000000000002E-2,0.02,1.7999999999999999E-2,2.4E-2,0.02,1.4000000000000002E-2,2.4E-2,1.6E-2,2.2000000000000002E-2]
[10,null,"Financial sector depth",42,33,54,142,234,51,40,188,21,125,14,15,39,131,138,28,159.6,159,100,196]
[11,null,"Foreign trade and payments risk",57,21,42,33,7,50,43,25,71,21,64,75,29,4,26,36,18,43,49,21]
[12,"*","Export market concentration",{"$f":"AVERAGE(INDIRECT(D$3&\"!\"&\"$J\"&$A12&\":\"&\"$N\"&$A12))","v":10.358000000000001},70.599999999999994,{"$f":"AVERAGE(INDIRECT(F$3&\"!\"&\"$J\"&$A12&\":\"&\"$N\"&$A12))","v":11.776},11,17.456,8.0559999999999992,11.028,12.294,18.238,11.526,19.740000000000002,10.334,13.447999999999999,10.032,11.95,10.212,15.236000000000001,9.3460000000000001,11.523999999999999,11.174000000000001]
[13,"*","Export product concentration",{"$f":"AVERAGE(INDIRECT(D$3&\"!\"&\"$J\"&$A13&\":\"&\"$N\"&$A13))","v":18.82},98.1,24.74,10.64,24.48,16.760000000000002,18.420000000000002,23.36,12.1,18.740000000000002,14.920000000000002,9.1199999999999992,16.8,17.100000000000001,22.080000000000002,16.000000000000004,18.98,25,8.32,21.88]
[14,"*","Foreign Direct Investment",0.92000000000000015,2.8400000000000002E-2,7.7140000000000004,3.9539999999999997,34.22,1.6199999999999999,2.36,0.1,3.6399999999999997,3.88,5.08,0.68,1.26,20.7,0.84000000000000008,1.38,0.4,2.62,5.64,1.46]
[15,"*","Gross fixed capital formation",27.802000000000003,35.266000000000005,17.221999999999998,44.456000000000003,23.698,31.071999999999996,31.905999999999999,21.14,28.187999999999999,24.488000000000003,17.139999999999997,13.39,20.032,26.033999999999999,29.736000000000001,27.858000000000004,22.62,25.344000000000001,26.204000000000001,14.913999999999998]
[16,null,"Trade costs","","","","","","","","","","","","","","","","","","","",""]
[17,null,"   Infrastructure",2.5,3.53125,3.53125,6.2,8.6,4.7,5.0999999999999996,8.6,2.4,7.1,1.933333333,4.0999999999999996,5.2,9.1,8,5.5,8.4,5.9,5,9]
[18,null,"   Logistics performance",2.56,"",2.74,3.53,3.83,3.08,3.08,3.91,2.39,3.59,2.25,2.83,3,4,3.67,2.7,3.72,3.43,3.15,3.92]
[19,null,"   Corruption",1,3,1,1,4,1.3,1,3,1,3,1,1.3,1,5,4,2,3,2,1,4]
[20,null,"   Legal system",3,1,1,1.3,3.4,3,2,4,1,3,1,2,2,4,3,{"$f":"IF(ISNUMBER(INDEX(INDIRECT(S$3&\"!\"&\"E\"&$A20&\":N\"&$A20),MATCH(9.99999999999999E+307,INDIRECT(S$3&\"!\"&\"E\"&$A20&\":N\"&$A20)))),INDEX(INDIRECT(S$3&\"!\"&\"E\"&$A20&\":N\"&$A20),MATCH(9.99999999999999E+307,INDIRECT(S$3&\"!\"&\"E\"&$A20&\":N\"&$A20))),\"\")","v":3},3.4,2,2,4]
[21,null,"Technological innovation",{"$f":"IF(ISNUMBER(INDEX(INDIRECT(D$3&\"!\"&\"E\"&$A21&\":N\"&$A21),MATCH(9.99999999999999E+307,INDIRECT(D$3&\"!\"&\"E\"&$A21&\":N\"&$A21)))),INDEX(INDIRECT(D$3&\"!\"&\"E\"&$A21&\":N\"&$A21),MATCH(9.99999999999999E+307,INDIRECT(D$3&\"!\"&\"E\"&$A21&\":N\"&$A21))),\"\")","v":3.5},0,0,1.98,0.75,0.81,0.08,3.4,0,1.07,0,0.33,0,0,4.3600000000000003,0.16,2.2999999999999998,0.25,0.19,2.79]
[22,null,"Technological infrastructure",2,"",3,2,2,1,3,0,3,1,4,3,1,0,0,2,0,2,1,0]
[23,null,"Growth in labour force",0.25900000000000001,-3.3000000000000002E-2,2.3E-2,-5.7000000000000002E-2,-6.0999999999999999E-2,0.28599999999999998,0.23799999999999999,-0.106,6.8000000000000005E-2,0.218,3.3000000000000002E-2,0.45700000000000002,0.34599999999999997,9.1999999999999998E-2,-0.01,6.4000000000000001E-2,-4.3999999999999997E-2,-3.4000000000000002E-2,0.10100000000000001,0.06]
[24,null,"Social pillar","","","","","","","","","","","","","","","","","","","",""]
[25,null,"Inequality (Gini coefficient)",32,40.5,30.76,42.06,53.7,33.9,35.6,33.6,37.9,46.3,38,29.6,43,47.8,30.7,38.6,34.200000000000003,39.299999999999997,38.700000000000003,39]
[26,null,"Educational attainment",13.227930000000001,25.361820000000002,15.834110000000001,29.696449999999999,66.837040000000002,24.686689999999999,31.512260000000001,61.459319999999998,17.697790000000001,37.200229999999998,13.37805,9.8182700000000001,33.842030000000001,90,96.584969999999998,18.762899999999998,83.877231827680006,51.233539999999998,24.58324,89.082390000000004]
[27,null,"Labour standards",4,1,4,3,1,4,4,1,4,2,4,4,4,1,1,2,1,3,3,1]
[28,null,"Political stability",3,0,3,2,2,2,2,0,1,1,3,3,3,1,2,3,2,3,1,0]
[29,null,"Environmental pillar","","","","","","","","","","","","","","","","","","","",""]
[30,null,"Air pollution",29.62,9.1999999999999993,9.59,48,15.37,31.98,9.2100000000000009,11.69,21.14,10.65,14.12,29.35,6.68,5.16,19.899999999999999,9.17,14.57,14.6,17.87,7.47]
[31,null,"Deforestation",-2.8,-1.5,-13.7,-2.5,0.2,-1.6,-5.5,-0.6,-4.3,-7.2,-2.6,-1.1000000000000001,-1.9,0,-1.7,-1.7,-0.8,-2.5,-3.6,-4.0999999999999996]
[32,null,"Water pollution",0,{"$f":"IF(ISNUMBER(INDEX(INDIRECT(E$3&\"!\"&\"E\"&$A32&\":N\"&$A32),MATCH(9.99999999999999E+307,INDIRECT(E$3&\"!\"&\"E\"&$A32&\":N\"&$A32)))),INDEX(INDIRECT(E$3&\"!\"&\"E\"&$A32&\":N\"&$A32),MATCH(9.99999999999999E+307,INDIRECT(E$3&\"!\"&\"E\"&$A32&\":N\"&$A32))),\"\")","v":37.840000000000003},0,18.179912237635001,87.786879999999996,10.49,0.02,71.260000000000005,0,8.64,0,3.52,0.53,99.65,83.68,0,4.59,16,0.14000000000000001,63.67]
[33,null,"Environmental standards in trade",3,3,5,7,7,5,5,6,4,5,3,5,6,5,6,{"$f":"IF(ISNUMBER(INDEX(INDIRECT(S$3&\"!\"&\"E\"&$A33&\":N\"&$A33),MATCH(9.99999999999999E+307,INDIRECT(S$3&\"!\"&\"E\"&$A33&\":N\"&$A33)))),INDEX(INDIRECT(S$3&\"!\"&\"E\"&$A33&\":N\"&$A33),MATCH(9.99999999999999E+307,INDIRECT(S$3&\"!\"&\"E\"&$A33&\":N\"&$A33))),\"\")","v":4},1,5,5,6]
[34,null,"Carbon emissions in trade",{"$f":"IF(ISNUMBER(INDEX(INDIRECT(D$3&\"!\"&\"E\"&$A34&\":N\"&$A34),MATCH(9.99999999999999E+307,INDIRECT(D$3&\"!\"&\"E\"&$A34&\":N\"&$A34)))),INDEX(INDIRECT(D$3&\"!\"&\"E\"&$A34&\":N\"&$A34),MATCH(9.99999999999999E+307,INDIRECT(D$3&\"!\"&\"E\"&$A34&\":N\"&$A34))),\"\")","v":5.76619E-4},1.9880700000000001E-4,1.5789299999999999E-4,1.2355930000000001E-3,2.0763200000000001E-5,1.267273E-3,7.2207599999999999E-4,3.4800800000000002E-4,1.3646099999999999E-4,2.3244800000000001E-4,3.3662399999999999E-4,1.4227549999999999E-3,3.9130700000000003E-4,1.10187E-5,2.3707700000000001E-4,3.0448500000000001E-4,2.2694999999999999E-4,3.1734800000000001E-4,4.4651899999999998E-4,6.8022000000000004E-4]
[35,null,"Share of natural resources in trade",7.0791048999999995E-2,0.87965807900000004,0.10548642799999999,6.2638868E-2,8.6433671000000004E-2,0.30399832100000002,0.59944157099999995,6.3178454999999994E-2,0.732680149,0.280923861,0.83092470200000002,0.20483538400000001,0.16234657399999999,0.161219523,0.105734249,0.28577964300000003,9.7734884999999994E-2,0.247661981,0.36684358099999997,0.17641263300000001]

{"sheet":"iDateCollect","index":22,"n_rows":35,"n_cols":30,"rows_kept":35,"cut":false,"hidden":true,"merged":[]}
[]
[]
[null,null,null,"Bangladesh","Brunei","Cambodia","China","HongKong","India","Indonesia","Japan","Laos","Malaysia","Myanmar","Pakistan","Phillipines","Singapore","SouthKorea","SriLanka","Taiwan","Thailand","Vietnam","USA",null,"All the same or not?"]
[null,null,null,null,null,null,null,null,null,null,null,null,null,null,null,null,null,null,null,null,null,null,null,null,null,null,null,{"$f":"MIN(Y6:Y35)","v":2006},{"$f":"MAX(Z6:Z35)","v":2014},{"$f":"IF(ISBLANK(AA4),IF(AB4=AC4,4,3),AA4)","v":3}]
[null,null,"Economic pillar",null,null,null,null,null,null,null,null,null,null,null,null,null,null,null,null,null,null,null,null,null,null,null,null,{"$f":"MIN(Y6:Y15,Y21:Y23)","v":2006},{"$f":"MAX(Z7:Z36)","v":2014},{"$f":"IF(ISBLANK(AA5),IF(AB5=AC5,4,3),AA5)","v":3}]
[6,null,"Real personal disposable income",{"$f":"IF(ISNUMBER(INDEX(INDIRECT(D$3&\"!\"&\"E4:N4\"),MATCH(9.99999999999999E+307,INDIRECT(D$3&\"!\"&\"E\"&$A6&\":N\"&$A6)))),INDEX(INDIRECT(D$3&\"!\"&\"E4:N4\"),MATCH(9.99999999999999E+307,INDIRECT(D$3&\"!\"&\"E\"&$A6&\":N\"&$A6))),\"\")","v":""},"","",2014,2014,2014,2014,2014,"",2014,2014,2014,2014,2014,2014,2014,2014,2014,2014,2014,null,{"$f":"MIN(D6:W6)","v":2014},{"$f":"MAX(D6:W6)","v":2014},{"$f":"IF(Z6=Y6,1,2)","v":1},null,null,1]
[7,null,"Current account liberalisation",2014,2014,2014,2014,2014,2014,2014,2014,2014,2014,2014,2014,2014,2014,2014,2014,2014,2014,2014,2014,null,{"$f":"MIN(D7:W7)","v":2014},{"$f":"MAX(D7:W7)","v":2014},{"$f":"IF(Z7=Y7,1,2)","v":1},null,null,1]
[8,null,"Tariff & non-tariff barriers",2014,2014,2014,2014,2014,2014,2014,2014,2014,2014,2014,2014,2014,2014,2014,2014,2014,2014,2014,2014,null,2014,2014,1,null,null,1]
[9,null,"Exchange rate volatility",2014,2014,2014,2014,2014,2014,2014,2014,2014,2014,2014,2014,2014,2014,2014,2014,2014,2014,2014,2014,null,2014,2014,1,null,null,1]
[10,null,"Financial sector depth",2014,2014,2014,2014,2014,2014,2014,2014,2010,2014,2013,2014,2014,2014,2014,2014,2014,2014,2014,2014,null,2010,2014,2,null,null,2]
[11,null,"Foreign trade and payments risk",2014,2014,2014,2014,2014,2014,2014,2014,2014,2014,2014,2014,2014,2014,2014,2014,2014,2014,2014,2014,null,2014,2014,1,null,null,1]
[12,null,"Export market concentration",2014,"",2014,2014,2014,2014,2014,2014,2014,2014,2014,2014,2014,2014,2014,2014,2014,2014,2014,2014,null,2014,2014,1,null,null,1]
[13,null,"Export product concentration",2014,"",2014,2014,2014,2014,2014,2014,2006,2014,2014,2014,2014,2014,2014,2014,2014,2014,2014,2014,null,2006,2014,2,null,null,2]
[14,null,"Foreign Direct Investment",2014,2011,2014,2014,2014,2014,2014,2014,2014,2014,2014,2014,2014,2014,2014,2014,2014,2014,2014,2014,null,2011,2014,2,null,null,2]
[15,null,"Gross fixed capital formation",2014,2014,2014,2014,2014,2014,2014,2014,2014,2014,2014,2014,2014,2014,2014,2014,2014,2014,2014,2014,null,2014,2014,1,null,null,1]
[16,null,"Trade costs","","","","","","","","","","","","","","","","","","","","",null,null,null,null,{"$f":"MIN(Y17:Y20)","v":2014},{"$f":"MAX(Z17:Z20)","v":2014},4]
[17,null,"   Infrastructure",2014,2014,2014,2014,2014,2014,2014,2014,2014,2014,2014,2014,2014,2014,2014,2014,2014,2014,2014,2014,null,2014,2014,1,null,null,1]
[18,null,"   Border procedures ",2014,"",2014,2014,2014,2014,2014,2014,2014,2014,2014,2014,2014,2014,2014,{"$f":"IF(ISNUMBER(INDEX(INDIRECT(S$3&\"!\"&\"E4:N4\"),MATCH(9.99999999999999E+307,INDIRECT(S$3&\"!\"&\"E\"&$A18&\":N\"&$A18)))),INDEX(INDIRECT(S$3&\"!\"&\"E4:N4\"),MATCH(9.99999999999999E+307,INDIRECT(S$3&\"!\"&\"E\"&$A18&\":N\"&$A18))),\"\")","v":2014},2014,2014,2014,2014,null,2014,2014,1,null,null,1]
[19,null,"   Corruption",{"$f":"IF(ISNUMBER(INDEX(INDIRECT(D$3&\"!\"&\"E4:N4\"),MATCH(9.99999999999999E+307,INDIRECT(D$3&\"!\"&\"E\"&$A19&\":N\"&$A19)))),INDEX(INDIRECT(D$3&\"!\"&\"E4:N4\"),MATCH(9.99999999999999E+307,INDIRECT(D$3&\"!\"&\"E\"&$A19&\":N\"&$A19))),\"\")","v":2014},2014,2014,2014,2014,2014,2014,2014,2014,2014,2014,2014,2014,2014,2014,2014,2014,2014,2014,2014,null,2014,2014,1,null,null,1]
[20,null,"   Legal system",2014,2014,2014,2014,2014,2014,2014,2014,2014,2014,2014,2014,2014,2014,2014,2014,2014,2014,2014,2014,null,2014,2014,1,null,null,1]
[21,null,"Technological innovation",2012,2014,2014,2012,2010,2011,2009,2012,2014,2011,2014,2011,2014,2014,2012,2010,2011,2009,2010,2012,null,2009,2014,2,null,null,2]
[22,null,"Technological infrastructure",2014,"",2014,2014,2014,2014,2014,2014,2014,2014,2014,2014,2014,2014,2014,2014,2014,2014,2014,2014,null,2014,2014,1,null,null,1]
[23,null,"Working age population",2014,2014,2014,2014,2014,2014,2014,2014,2014,2014,2014,2014,2014,2014,2014,2014,2014,2014,2014,2014,null,2014,2014,1,null,null,1]
[24,null,"Social pillar","","","","","","","","","","","","","","","","","","","","",null,null,null,null,{"$f":"MIN(Y25:Y28)","v":2009},{"$f":"MAX(Z25:Z28)","v":2014},3]
[25,null,"Inequality (Gini coefficient)",2010,2013,2012,2010,2011,2009,2010,2009,2012,2009,2009,2010,2012,2011,2011,2012,2011,2012,2012,2012,null,2009,2013,2,null,null,2]
[26,null,"Educational attainment",2012,2013,2011,2013,2013,2013,2012,2012,2013,2012,2012,2013,2013,2014,2014,2013,2014,2013,2013,2013,null,2011,2014,2,null,null,2]
[27,null,"Labour standards",2014,2014,2014,2014,2014,2014,2014,2014,2014,2014,2014,2014,2014,2014,2014,2014,2014,2014,2014,2014,null,2014,2014,1,null,null,1]
[28,null,"Political stability",2014,2014,2014,2014,2014,2014,2014,2014,2014,2014,2014,2014,2014,2014,2014,2014,2014,2014,2014,2014,null,2014,2014,1,null,null,1]
[29,null,"Environmental pillar","","","","","","","","","","","","","","","","","","","","",null,null,null,null,{"$f":"MIN(Y30:Y35)","v":2011},{"$f":"MAX(Z30:Z35)","v":2014},3]
[30,null,"Air pollution",2012,2012,2012,2012,2012,2012,2012,2012,2012,2012,2012,2012,2012,2012,2012,2012,2012,2012,2012,2012,null,2012,2012,1,null,null,1]
[31,null,"Deforestation",2012,2012,2012,2012,2012,2012,2012,2012,2012,2012,2012,2012,2012,2012,2012,{"$f":"IF(ISNUMBER(INDEX(INDIRECT(S$3&\"!\"&\"E4:N4\"),MATCH(9.99999999999999E+307,INDIRECT(S$3&\"!\"&\"E\"&$A31&\":N\"&$A31)))),INDEX(INDIRECT(S$3&\"!\"&\"E4:N4\"),MATCH(9.99999999999999E+307,INDIRECT(S$3&\"!\"&\"E\"&$A31&\":N\"&$A31))),\"\")","v":2012},2012,2012,2012,2012,null,2012,2012,1,null,null,1]
[32,null,"Water pollution",{"$f":"IF(ISNUMBER(INDEX(INDIRECT(D$3&\"!\"&\"E4:N4\"),MATCH(9.99999999999999E+307,INDIRECT(D$3&\"!\"&\"E\"&$A32&\":N\"&$A32)))),INDEX(INDIRECT(D$3&\"!\"&\"E4:N4\"),MATCH(9.99999999999999E+307,INDIRECT(D$3&\"!\"&\"E\"&$A32&\":N\"&$A32))),\"\")","v":2012},2012,2012,2012,2012,2012,2012,2012,2012,2012,2012,2012,2012,2012,2012,2012,2012,2012,2012,2012,null,2012,2012,1,null,null,1]
[33,null,"Environmental standards in trade",2014,2014,2014,2014,2014,2014,2014,2014,2014,2014,2014,2014,2014,2014,2014,2014,2014,2014,2014,2014,null,2014,2014,1,null,null,1]
[34,null,"Carbon emissions in trade",2011,2012,2014,2014,2014,2014,2014,2014,2014,2014,2014,2014,2014,2014,2014,2014,2014,2014,2014,2014,null,2011,2014,2,null,null,2]
[35,null,"Share of natural resources in trade",2011,2012,2014,2014,2014,2014,2014,2014,2014,2014,2014,2014,2014,2014,2014,2014,2014,2014,2014,2014,null,2011,2014,2,null,null,2]

{"sheet":"Home","index":23,"n_rows":33,"n_cols":10,"rows_kept":33,"cut":false,"hidden":true,"merged":[[32,1,32,2]]}
[]
[]
[]
[]
[]
[]
[]
[]
[]
[]
[]
[]
[]
[]
[]
[]
[]
[]
[]
[null,"Zoom",null,null,null,null,null,null,null,"Full screen"]
[null,"Select a zoom level appropriate for your display."]
[null,null,null,null,null,null,null,null,null,"To maximise the viewing area, click for Full-Screen mode."]
[null,null,null,null,null,null,null,null,null,"Press Escape to return to normal display mode."]
[null,"Selected zoom will be applied to all worksheets except this one."]
[]
[]
[]
[]
[]
[]
[]
[]
[null,"PRODUCTION"]

{"sheet":"1. Map","index":24,"n_rows":96,"n_cols":12,"rows_kept":96,"cut":false,"hidden":false,"merged":[[39,1,39,2],[39,4,39,5],[39,7,39,8],[39,10,39,11],[5,1,5,9],[6,1,6,9],[38,1,38,2],[38,4,38,5],[38,7,38,8],[38,10,38,11],[7,9,8,11]]}
[]
[]
[]
[]
[]
[null,{"$f":"IF(uxb_works!$B$14=1,uxb_works!Z14,uxb_works!AA14)","v":"1) ECONOMIC PILLAR"}]
[null,{"$f":"IF(uxb_works!$B$14=1,\"\",uxb_works!Z14)","v":"1.11) Current account liberalisation"},null,null,null,null,null,null,null,null,null,{"$f":"IF(uxb_works!$B$6=1,\"No Country Highlighted\",\"SELECTED COUNTRY\")","v":"No Country Highlighted"}]
[null,null,null,null,null,null,null,null,null,{"$f":"iMap_Rank!C9","v":"Click on map or select from the country highlight drop down box"}]
[]
[]
[]
[]
[]
[]
[]
[]
[]
[]
[]
[]
[]
[]
[]
[]
[]
[]
[]
[]
[]
[]
[]
[]
[]
[]
[]
[]
[]
[]
[null,"BEST ENVIRONMENT",null,null,"GOOD ENVIRONMENT",null,null,"MODERATE ENVIRONMENT",null,null,"NEEDS IMPROVEMENT"]
[null,{"$f":"iMap_Rank!AN15","v":"Score 75.1 to 100"},null,null,{"$f":"iMap_Rank!AQ15","v":"Score 50.1 to 75"},null,null,{"$f":"iMap_Rank!AT15","v":"Score 25.1 to 50"},null,null,{"$f":"iMap_Rank!AW15","v":"Score 0 to 25"}]
[{"$f":"iMap_Rank!AM19","v":1},{"$f":"iMap_Rank!AN19","v":"Brunei"},{"$f":"iMap_Rank!AO19","v":100},{"$f":"iMap_Rank!AP19","v":1},{"$f":"iMap_Rank!AQ19","v":"Bangladesh"},{"$f":"iMap_Rank!AR19","v":75},{"$f":"iMap_Rank!AS19","v":1},{"$f":"iMap_Rank!AT19","v":"Pakistan"},{"$f":"iMap_Rank!AU19","v":50},{"$f":"iMap_Rank!AV19","v":0},{"$f":"iMap_Rank!AW19","v":""},{"$f":"iMap_Rank!AX19","v":""}]
[{"$f":"iMap_Rank!AM20","v":1},{"$f":"iMap_Rank!AN20","v":"Cambodia"},{"$f":"iMap_Rank!AO20","v":100},{"$f":"iMap_Rank!AP20","v":1},{"$f":"iMap_Rank!AQ20","v":"India"},{"$f":"iMap_Rank!AR20","v":75},{"$f":"iMap_Rank!AS20","v":0},{"$f":"iMap_Rank!AT20","v":""},{"$f":"iMap_Rank!AU20","v":""},{"$f":"iMap_Rank!AV20","v":0},{"$f":"iMap_Rank!AW20","v":""},{"$f":"iMap_Rank!AX20","v":""}]
[{"$f":"iMap_Rank!AM21","v":1},{"$f":"iMap_Rank!AN21","v":"Hong Kong"},{"$f":"iMap_Rank!AO21","v":100},{"$f":"iMap_Rank!AP21","v":1},{"$f":"iMap_Rank!AQ21","v":"Indonesia"},{"$f":"iMap_Rank!AR21","v":75},{"$f":"iMap_Rank!AS21","v":0},{"$f":"iMap_Rank!AT21","v":""},{"$f":"iMap_Rank!AU21","v":""},{"$f":"iMap_Rank!AV21","v":0},{"$f":"iMap_Rank!AW21","v":""},{"$f":"iMap_Rank!AX21","v":""}]
[{"$f":"iMap_Rank!AM22","v":1},{"$f":"iMap_Rank!AN22","v":"Japan"},{"$f":"iMap_Rank!AO22","v":100},{"$f":"iMap_Rank!AP22","v":1},{"$f":"iMap_Rank!AQ22","v":"Myanmar"},{"$f":"iMap_Rank!AR22","v":75},{"$f":"iMap_Rank!AS22","v":0},{"$f":"iMap_Rank!AT22","v":""},{"$f":"iMap_Rank!AU22","v":""},{"$f":"iMap_Rank!AV22","v":0},{"$f":"iMap_Rank!AW22","v":""},{"$f":"iMap_Rank!AX22","v":""}]
[{"$f":"iMap_Rank!AM23","v":1},{"$f":"iMap_Rank!AN23","v":"Laos"},{"$f":"iMap_Rank!AO23","v":100},{"$f":"iMap_Rank!AP23","v":0},{"$f":"iMap_Rank!AQ23","v":""},{"$f":"iMap_Rank!AR23","v":""},{"$f":"iMap_Rank!AS23","v":0},{"$f":"iMap_Rank!AT23","v":""},{"$f":"iMap_Rank!AU23","v":""},{"$f":"iMap_Rank!AV23","v":0},{"$f":"iMap_Rank!AW23","v":""},{"$f":"iMap_Rank!AX23","v":""}]
[{"$f":"iMap_Rank!AM24","v":1},{"$f":"iMap_Rank!AN24","v":"Malaysia"},{"$f":"iMap_Rank!AO24","v":100},{"$f":"iMap_Rank!AP24","v":0},{"$f":"iMap_Rank!AQ24","v":""},{"$f":"iMap_Rank!AR24","v":""},{"$f":"iMap_Rank!AS24","v":0},{"$f":"iMap_Rank!AT24","v":""},{"$f":"iMap_Rank!AU24","v":""},{"$f":"iMap_Rank!AV24","v":0},{"$f":"iMap_Rank!AW24","v":""},{"$f":"iMap_Rank!AX24","v":""}]
[{"$f":"iMap_Rank!AM25","v":1},{"$f":"iMap_Rank!AN25","v":"Singapore"},{"$f":"iMap_Rank!AO25","v":100},{"$f":"iMap_Rank!AP25","v":0},{"$f":"iMap_Rank!AQ25","v":""},{"$f":"iMap_Rank!AR25","v":""},{"$f":"iMap_Rank!AS25","v":0},{"$f":"iMap_Rank!AT25","v":""},{"$f":"iMap_Rank!AU25","v":""},{"$f":"iMap_Rank!AV25","v":0},{"$f":"iMap_Rank!AW25","v":""},{"$f":"iMap_Rank!AX25","v":""}]
[{"$f":"iMap_Rank!AM26","v":1},{"$f":"iMap_Rank!AN26","v":"Sri Lanka"},{"$f":"iMap_Rank!AO26","v":100},{"$f":"iMap_Rank!AP26","v":0},{"$f":"iMap_Rank!AQ26","v":""},{"$f":"iMap_Rank!AR26","v":""},{"$f":"iMap_Rank!AS26","v":0},{"$f":"iMap_Rank!AT26","v":""},{"$f":"iMap_Rank!AU26","v":""},{"$f":"iMap_Rank!AV26","v":0},{"$f":"iMap_Rank!AW26","v":""},{"$f":"iMap_Rank!AX26","v":""}]
[{"$f":"iMap_Rank!AM27","v":1},{"$f":"iMap_Rank!AN27","v":"Taiwan"},{"$f":"iMap_Rank!AO27","v":100},{"$f":"iMap_Rank!AP27","v":0},{"$f":"iMap_Rank!AQ27","v":""},{"$f":"iMap_Rank!AR27","v":""},{"$f":"iMap_Rank!AS27","v":0},{"$f":"iMap_Rank!AT27","v":""},{"$f":"iMap_Rank!AU27","v":""},{"$f":"iMap_Rank!AV27","v":0},{"$f":"iMap_Rank!AW27","v":""},{"$f":"iMap_Rank!AX27","v":""}]
[{"$f":"iMap_Rank!AM28","v":1},{"$f":"iMap_Rank!AN28","v":"Thailand"},{"$f":"iMap_Rank!AO28","v":100},{"$f":"iMap_Rank!AP28","v":0},{"$f":"iMap_Rank!AQ28","v":""},{"$f":"iMap_Rank!AR28","v":""},{"$f":"iMap_Rank!AS28","v":0},{"$f":"iMap_Rank!AT28","v":""},{"$f":"iMap_Rank!AU28","v":""},{"$f":"iMap_Rank!AV28","v":0},{"$f":"iMap_Rank!AW28","v":""},{"$f":"iMap_Rank!AX28","v":""}]
[{"$f":"iMap_Rank!AM29","v":1},{"$f":"iMap_Rank!AN29","v":"Vietnam"},{"$f":"iMap_Rank!AO29","v":100},{"$f":"iMap_Rank!AP29","v":0},{"$f":"iMap_Rank!AQ29","v":""},{"$f":"iMap_Rank!AR29","v":""},{"$f":"iMap_Rank!AS29","v":0},{"$f":"iMap_Rank!AT29","v":""},{"$f":"iMap_Rank!AU29","v":""},{"$f":"iMap_Rank!AV29","v":0},{"$f":"iMap_Rank!AW29","v":""},{"$f":"iMap_Rank!AX29","v":""}]
[{"$f":"iMap_Rank!AM30","v":1},{"$f":"iMap_Rank!AN30","v":"USA"},{"$f":"iMap_Rank!AO30","v":100},{"$f":"iMap_Rank!AP30","v":0},{"$f":"iMap_Rank!AQ30","v":""},{"$f":"iMap_Rank!AR30","v":""},{"$f":"iMap_Rank!AS30","v":0},{"$f":"iMap_Rank!AT30","v":""},{"$f":"iMap_Rank!AU30","v":""},{"$f":"iMap_Rank!AV30","v":0},{"$f":"iMap_Rank!AW30","v":""},{"$f":"iMap_Rank!AX30","v":""}]
[{"$f":"iMap_Rank!AM31","v":1},{"$f":"iMap_Rank!AN31","v":"China"},{"$f":"iMap_Rank!AO31","v":85},{"$f":"iMap_Rank!AP31","v":0},{"$f":"iMap_Rank!AQ31","v":""},{"$f":"iMap_Rank!AR31","v":""},{"$f":"iMap_Rank!AS31","v":0},{"$f":"iMap_Rank!AT31","v":""},{"$f":"iMap_Rank!AU31","v":""},{"$f":"iMap_Rank!AV31","v":0},{"$f":"iMap_Rank!AW31","v":""},{"$f":"iMap_Rank!AX31","v":""}]
[{"$f":"iMap_Rank!AM32","v":1},{"$f":"iMap_Rank!AN32","v":"Philippines"},{"$f":"iMap_Rank!AO32","v":85},{"$f":"iMap_Rank!AP32","v":0},{"$f":"iMap_Rank!AQ32","v":""},{"$f":"iMap_Rank!AR32","v":""},{"$f":"iMap_Rank!AS32","v":0},{"$f":"iMap_Rank!AT32","v":""},{"$f":"iMap_Rank!AU32","v":""},{"$f":"iMap_Rank!AV32","v":0},{"$f":"iMap_Rank!AW32","v":""},{"$f":"iMap_Rank!AX32","v":""}]
[{"$f":"iMap_Rank!AM33","v":1},{"$f":"iMap_Rank!AN33","v":"South Korea"},{"$f":"iMap_Rank!AO33","v":85},{"$f":"iMap_Rank!AP33","v":0},{"$f":"iMap_Rank!AQ33","v":""},{"$f":"iMap_Rank!AR33","v":""},{"$f":"iMap_Rank!AS33","v":0},{"$f":"iMap_Rank!AT33","v":""},{"$f":"iMap_Rank!AU33","v":""},{"$f":"iMap_Rank!AV33","v":0},{"$f":"iMap_Rank!AW33","v":""},{"$f":"iMap_Rank!AX33","v":""}]
[{"$f":"iMap_Rank!AM34","v":0},{"$f":"iMap_Rank!AN34","v":""},{"$f":"iMap_Rank!AO34","v":""},{"$f":"iMap_Rank!AP34","v":0},{"$f":"iMap_Rank!AQ34","v":""},{"$f":"iMap_Rank!AR34","v":""},{"$f":"iMap_Rank!AS34","v":0},{"$f":"iMap_Rank!AT34","v":""},{"$f":"iMap_Rank!AU34","v":""},{"$f":"iMap_Rank!AV34","v":0},{"$f":"iMap_Rank!AW34","v":""},{"$f":"iMap_Rank!AX34","v":""}]
[{"$f":"iMap_Rank!AM35","v":0},{"$f":"iMap_Rank!AN35","v":""},{"$f":"iMap_Rank!AO35","v":""},{"$f":"iMap_Rank!AP35","v":0},{"$f":"iMap_Rank!AQ35","v":""},{"$f":"iMap_Rank!AR35","v":""},{"$f":"iMap_Rank!AS35","v":0},{"$f":"iMap_Rank!AT35","v":""},{"$f":"iMap_Rank!AU35","v":""},{"$f":"iMap_Rank!AV35","v":0},{"$f":"iMap_Rank!AW35","v":""},{"$f":"iMap_Rank!AX35","v":""}]
[{"$f":"iMap_Rank!AM36","v":0},{"$f":"iMap_Rank!AN36","v":""},{"$f":"iMap_Rank!AO36","v":""},{"$f":"iMap_Rank!AP36","v":0},{"$f":"iMap_Rank!AQ36","v":""},{"$f":"iMap_Rank!AR36","v":""},{"$f":"iMap_Rank!AS36","v":0},{"$f":"iMap_Rank!AT36","v":""},{"$f":"iMap_Rank!AU36","v":""},{"$f":"iMap_Rank!AV36","v":0},{"$f":"iMap_Rank!AW36","v":""},{"$f":"iMap_Rank!AX36","v":""}]
[{"$f":"iMap_Rank!AM37","v":0},{"$f":"iMap_Rank!AN37","v":""},{"$f":"iMap_Rank!AO37","v":""},{"$f":"iMap_Rank!AP37","v":0},{"$f":"iMap_Rank!AQ37","v":""},{"$f":"iMap_Rank!AR37","v":""},{"$f":"iMap_Rank!AS37","v":0},{"$f":"iMap_Rank!AT37","v":""},{"$f":"iMap_Rank!AU37","v":""},{"$f":"iMap_Rank!AV37","v":0},{"$f":"iMap_Rank!AW37","v":""},{"$f":"iMap_Rank!AX37","v":""}]
[{"$f":"iMap_Rank!AM38","v":0},{"$f":"iMap_Rank!AN38","v":""},{"$f":"iMap_Rank!AO38","v":""},{"$f":"iMap_Rank!AP38","v":0},{"$f":"iMap_Rank!AQ38","v":""},{"$f":"iMap_Rank!AR38","v":""},{"$f":"iMap_Rank!AS38","v":0},{"$f":"iMap_Rank!AT38","v":""},{"$f":"iMap_Rank!AU38","v":""},{"$f":"iMap_Rank!AV38","v":0},{"$f":"iMap_Rank!AW38","v":""},{"$f":"iMap_Rank!AX38","v":""}]
[{"$f":"iMap_Rank!AM39","v":0},{"$f":"iMap_Rank!AN39","v":0},{"$f":"iMap_Rank!AO39","v":0},{"$f":"iMap_Rank!AP39","v":0},{"$f":"iMap_Rank!AQ39","v":0},{"$f":"iMap_Rank!AR39","v":0},{"$f":"iMap_Rank!AS39","v":0},{"$f":"iMap_Rank!AT39","v":0},{"$f":"iMap_Rank!AU39","v":0},{"$f":"iMap_Rank!AV39","v":0},{"$f":"iMap_Rank!AW39","v":0},{"$f":"iMap_Rank!AX39","v":0}]
[{"$f":"iMap_Rank!AM40","v":0},{"$f":"iMap_Rank!AN40","v":0},{"$f":"iMap_Rank!AO40","v":0},{"$f":"iMap_Rank!AP40","v":0},{"$f":"iMap_Rank!AQ40","v":0},{"$f":"iMap_Rank!AR40","v":0},{"$f":"iMap_Rank!AS40","v":0},{"$f":"iMap_Rank!AT40","v":0},{"$f":"iMap_Rank!AU40","v":0},{"$f":"iMap_Rank!AV40","v":0},{"$f":"iMap_Rank!AW40","v":0},{"$f":"iMap_Rank!AX40","v":0}]
[{"$f":"iMap_Rank!AM41","v":0},{"$f":"iMap_Rank!AN41","v":0},{"$f":"iMap_Rank!AO41","v":0},{"$f":"iMap_Rank!AP41","v":0},{"$f":"iMap_Rank!AQ41","v":0},{"$f":"iMap_Rank!AR41","v":0},{"$f":"iMap_Rank!AS41","v":0},{"$f":"iMap_Rank!AT41","v":0},{"$f":"iMap_Rank!AU41","v":0},{"$f":"iMap_Rank!AV41","v":0},{"$f":"iMap_Rank!AW41","v":0},{"$f":"iMap_Rank!AX41","v":0}]
[{"$f":"iMap_Rank!AM42","v":0},{"$f":"iMap_Rank!AN42","v":0},{"$f":"iMap_Rank!AO42","v":0},{"$f":"iMap_Rank!AP42","v":0},{"$f":"iMap_Rank!AQ42","v":0},{"$f":"iMap_Rank!AR42","v":0},{"$f":"iMap_Rank!AS42","v":0},{"$f":"iMap_Rank!AT42","v":0},{"$f":"iMap_Rank!AU42","v":0},{"$f":"iMap_Rank!AV42","v":0},{"$f":"iMap_Rank!AW42","v":0},{"$f":"iMap_Rank!AX42","v":0}]
[{"$f":"iMap_Rank!AM43","v":0},{"$f":"iMap_Rank!AN43","v":0},{"$f":"iMap_Rank!AO43","v":0},{"$f":"iMap_Rank!AP43","v":0},{"$f":"iMap_Rank!AQ43","v":0},{"$f":"iMap_Rank!AR43","v":0},{"$f":"iMap_Rank!AS43","v":0},{"$f":"iMap_Rank!AT43","v":0},{"$f":"iMap_Rank!AU43","v":0},{"$f":"iMap_Rank!AV43","v":0},{"$f":"iMap_Rank!AW43","v":0},{"$f":"iMap_Rank!AX43","v":0}]
[{"$f":"iMap_Rank!AM44","v":0},{"$f":"iMap_Rank!AN44","v":0},{"$f":"iMap_Rank!AO44","v":0},{"$f":"iMap_Rank!AP44","v":0},{"$f":"iMap_Rank!AQ44","v":0},{"$f":"iMap_Rank!AR44","v":0},{"$f":"iMap_Rank!AS44","v":0},{"$f":"iMap_Rank!AT44","v":0},{"$f":"iMap_Rank!AU44","v":0},{"$f":"iMap_Rank!AV44","v":0},{"$f":"iMap_Rank!AW44","v":0},{"$f":"iMap_Rank!AX44","v":0}]
[{"$f":"iMap_Rank!AM45","v":0},{"$f":"iMap_Rank!AN45","v":0},{"$f":"iMap_Rank!AO45","v":0},{"$f":"iMap_Rank!AP45","v":0},{"$f":"iMap_Rank!AQ45","v":0},{"$f":"iMap_Rank!AR45","v":0},{"$f":"iMap_Rank!AS45","v":0},{"$f":"iMap_Rank!AT45","v":0},{"$f":"iMap_Rank!AU45","v":0},{"$f":"iMap_Rank!AV45","v":0},{"$f":"iMap_Rank!AW45","v":0},{"$f":"iMap_Rank!AX45","v":0}]
[{"$f":"iMap_Rank!AM46","v":0},{"$f":"iMap_Rank!AN46","v":0},{"$f":"iMap_Rank!AO46","v":0},{"$f":"iMap_Rank!AP46","v":0},{"$f":"iMap_Rank!AQ46","v":0},{"$f":"iMap_Rank!AR46","v":0},{"$f":"iMap_Rank!AS46","v":0},{"$f":"iMap_Rank!AT46","v":0},{"$f":"iMap_Rank!AU46","v":0},{"$f":"iMap_Rank!AV46","v":0},{"$f":"iMap_Rank!AW46","v":0},{"$f":"iMap_Rank!AX46","v":0}]
[{"$f":"iMap_Rank!AM47","v":0},{"$f":"iMap_Rank!AN47","v":0},{"$f":"iMap_Rank!AO47","v":0},{"$f":"iMap_Rank!AP47","v":0},{"$f":"iMap_Rank!AQ47","v":0},{"$f":"iMap_Rank!AR47","v":0},{"$f":"iMap_Rank!AS47","v":0},{"$f":"iMap_Rank!AT47","v":0},{"$f":"iMap_Rank!AU47","v":0},{"$f":"iMap_Rank!AV47","v":0},{"$f":"iMap_Rank!AW47","v":0},{"$f":"iMap_Rank!AX47","v":0}]
[{"$f":"iMap_Rank!AM48","v":0},{"$f":"iMap_Rank!AN48","v":0},{"$f":"iMap_Rank!AO48","v":0},{"$f":"iMap_Rank!AP48","v":0},{"$f":"iMap_Rank!AQ48","v":0},{"$f":"iMap_Rank!AR48","v":0},{"$f":"iMap_Rank!AS48","v":0},{"$f":"iMap_Rank!AT48","v":0},{"$f":"iMap_Rank!AU48","v":0},{"$f":"iMap_Rank!AV48","v":0},{"$f":"iMap_Rank!AW48","v":0},{"$f":"iMap_Rank!AX48","v":0}]
[{"$f":"iMap_Rank!AM49","v":0},{"$f":"iMap_Rank!AN49","v":0},{"$f":"iMap_Rank!AO49","v":0},{"$f":"iMap_Rank!AP49","v":0},{"$f":"iMap_Rank!AQ49","v":0},{"$f":"iMap_Rank!AR49","v":0},{"$f":"iMap_Rank!AS49","v":0},{"$f":"iMap_Rank!AT49","v":0},{"$f":"iMap_Rank!AU49","v":0},{"$f":"iMap_Rank!AV49","v":0},{"$f":"iMap_Rank!AW49","v":0},{"$f":"iMap_Rank!AX49","v":0}]
[{"$f":"iMap_Rank!AM50","v":0},{"$f":"iMap_Rank!AN50","v":0},{"$f":"iMap_Rank!AO50","v":0},{"$f":"iMap_Rank!AP50","v":0},{"$f":"iMap_Rank!AQ50","v":0},{"$f":"iMap_Rank!AR50","v":0},{"$f":"iMap_Rank!AS50","v":0},{"$f":"iMap_Rank!AT50","v":0},{"$f":"iMap_Rank!AU50","v":0},{"$f":"iMap_Rank!AV50","v":0},{"$f":"iMap_Rank!AW50","v":0},{"$f":"iMap_Rank!AX50","v":0}]
[{"$f":"iMap_Rank!AM51","v":0},{"$f":"iMap_Rank!AN51","v":0},{"$f":"iMap_Rank!AO51","v":0},{"$f":"iMap_Rank!AP51","v":0},{"$f":"iMap_Rank!AQ51","v":0},{"$f":"iMap_Rank!AR51","v":0},{"$f":"iMap_Rank!AS51","v":0},{"$f":"iMap_Rank!AT51","v":0},{"$f":"iMap_Rank!AU51","v":0},{"$f":"iMap_Rank!AV51","v":0},{"$f":"iMap_Rank!AW51","v":0},{"$f":"iMap_Rank!AX51","v":0}]
[{"$f":"iMap_Rank!AM52","v":0},{"$f":"iMap_Rank!AN52","v":0},{"$f":"iMap_Rank!AO52","v":0},{"$f":"iMap_Rank!AP52","v":0},{"$f":"iMap_Rank!AQ52","v":0},{"$f":"iMap_Rank!AR52","v":0},{"$f":"iMap_Rank!AS52","v":0},{"$f":"iMap_Rank!AT52","v":0},{"$f":"iMap_Rank!AU52","v":0},{"$f":"iMap_Rank!AV52","v":0},{"$f":"iMap_Rank!AW52","v":0},{"$f":"iMap_Rank!AX52","v":0}]
[{"$f":"iMap_Rank!AM53","v":0},{"$f":"iMap_Rank!AN53","v":0},{"$f":"iMap_Rank!AO53","v":0},{"$f":"iMap_Rank!AP53","v":0},{"$f":"iMap_Rank!AQ53","v":0},{"$f":"iMap_Rank!AR53","v":0},{"$f":"iMap_Rank!AS53","v":0},{"$f":"iMap_Rank!AT53","v":0},{"$f":"iMap_Rank!AU53","v":0},{"$f":"iMap_Rank!AV53","v":0},{"$f":"iMap_Rank!AW53","v":0},{"$f":"iMap_Rank!AX53","v":0}]
[{"$f":"iMap_Rank!AM54","v":0},{"$f":"iMap_Rank!AN54","v":0},{"$f":"iMap_Rank!AO54","v":0},{"$f":"iMap_Rank!AP54","v":0},{"$f":"iMap_Rank!AQ54","v":0},{"$f":"iMap_Rank!AR54","v":0},{"$f":"iMap_Rank!AS54","v":0},{"$f":"iMap_Rank!AT54","v":0},{"$f":"iMap_Rank!AU54","v":0},{"$f":"iMap_Rank!AV54","v":0},{"$f":"iMap_Rank!AW54","v":0},{"$f":"iMap_Rank!AX54","v":0}]
[{"$f":"iMap_Rank!AM55","v":0},{"$f":"iMap_Rank!AN55","v":0},{"$f":"iMap_Rank!AO55","v":0},{"$f":"iMap_Rank!AP55","v":0},{"$f":"iMap_Rank!AQ55","v":0},{"$f":"iMap_Rank!AR55","v":0},{"$f":"iMap_Rank!AS55","v":0},{"$f":"iMap_Rank!AT55","v":0},{"$f":"iMap_Rank!AU55","v":0},{"$f":"iMap_Rank!AV55","v":0},{"$f":"iMap_Rank!AW55","v":0},{"$f":"iMap_Rank!AX55","v":0}]
[{"$f":"iMap_Rank!AM56","v":0},{"$f":"iMap_Rank!AN56","v":0},{"$f":"iMap_Rank!AO56","v":0},{"$f":"iMap_Rank!AP56","v":0},{"$f":"iMap_Rank!AQ56","v":0},{"$f":"iMap_Rank!AR56","v":0},{"$f":"iMap_Rank!AS56","v":0},{"$f":"iMap_Rank!AT56","v":0},{"$f":"iMap_Rank!AU56","v":0},{"$f":"iMap_Rank!AV56","v":0},{"$f":"iMap_Rank!AW56","v":0},{"$f":"iMap_Rank!AX56","v":0}]
[{"$f":"iMap_Rank!AM57","v":0},{"$f":"iMap_Rank!AN57","v":0},{"$f":"iMap_Rank!AO57","v":0},{"$f":"iMap_Rank!AP57","v":0},{"$f":"iMap_Rank!AQ57","v":0},{"$f":"iMap_Rank!AR57","v":0},{"$f":"iMap_Rank!AS57","v":0},{"$f":"iMap_Rank!AT57","v":0},{"$f":"iMap_Rank!AU57","v":0},{"$f":"iMap_Rank!AV57","v":0},{"$f":"iMap_Rank!AW57","v":0},{"$f":"iMap_Rank!AX57","v":0}]
[{"$f":"iMap_Rank!AM58","v":0},{"$f":"iMap_Rank!AN58","v":0},{"$f":"iMap_Rank!AO58","v":0},{"$f":"iMap_Rank!AP58","v":0},{"$f":"iMap_Rank!AQ58","v":0},{"$f":"iMap_Rank!AR58","v":0},{"$f":"iMap_Rank!AS58","v":0},{"$f":"iMap_Rank!AT58","v":0},{"$f":"iMap_Rank!AU58","v":0},{"$f":"iMap_Rank!AV58","v":0},{"$f":"iMap_Rank!AW58","v":0},{"$f":"iMap_Rank!AX58","v":0}]
[{"$f":"iMap_Rank!AM59","v":0},{"$f":"iMap_Rank!AN59","v":0},{"$f":"iMap_Rank!AO59","v":0},{"$f":"iMap_Rank!AP59","v":0},{"$f":"iMap_Rank!AQ59","v":0},{"$f":"iMap_Rank!AR59","v":0},{"$f":"iMap_Rank!AS59","v":0},{"$f":"iMap_Rank!AT59","v":0},{"$f":"iMap_Rank!AU59","v":0},{"$f":"iMap_Rank!AV59","v":0},{"$f":"iMap_Rank!AW59","v":0},{"$f":"iMap_Rank!AX59","v":0}]
[{"$f":"iMap_Rank!AM60","v":0},{"$f":"iMap_Rank!AN60","v":0},{"$f":"iMap_Rank!AO60","v":0},{"$f":"iMap_Rank!AP60","v":0},{"$f":"iMap_Rank!AQ60","v":0},{"$f":"iMap_Rank!AR60","v":0},{"$f":"iMap_Rank!AS60","v":0},{"$f":"iMap_Rank!AT60","v":0},{"$f":"iMap_Rank!AU60","v":0},{"$f":"iMap_Rank!AV60","v":0},{"$f":"iMap_Rank!AW60","v":0},{"$f":"iMap_Rank!AX60","v":0}]
[{"$f":"iMap_Rank!AM61","v":0},{"$f":"iMap_Rank!AN61","v":0},{"$f":"iMap_Rank!AO61","v":0},{"$f":"iMap_Rank!AP61","v":0},{"$f":"iMap_Rank!AQ61","v":0},{"$f":"iMap_Rank!AR61","v":0},{"$f":"iMap_Rank!AS61","v":0},{"$f":"iMap_Rank!AT61","v":0},{"$f":"iMap_Rank!AU61","v":0},{"$f":"iMap_Rank!AV61","v":0},{"$f":"iMap_Rank!AW61","v":0},{"$f":"iMap_Rank!AX61","v":0}]
[{"$f":"iMap_Rank!AM62","v":0},{"$f":"iMap_Rank!AN62","v":0},{"$f":"iMap_Rank!AO62","v":0},{"$f":"iMap_Rank!AP62","v":0},{"$f":"iMap_Rank!AQ62","v":0},{"$f":"iMap_Rank!AR62","v":0},{"$f":"iMap_Rank!AS62","v":0},{"$f":"iMap_Rank!AT62","v":0},{"$f":"iMap_Rank!AU62","v":0},{"$f":"iMap_Rank!AV62","v":0},{"$f":"iMap_Rank!AW62","v":0},{"$f":"iMap_Rank!AX62","v":0}]
[{"$f":"iMap_Rank!AM63","v":0},{"$f":"iMap_Rank!AN63","v":0},{"$f":"iMap_Rank!AO63","v":0},{"$f":"iMap_Rank!AP63","v":0},{"$f":"iMap_Rank!AQ63","v":0},{"$f":"iMap_Rank!AR63","v":0},{"$f":"iMap_Rank!AS63","v":0},{"$f":"iMap_Rank!AT63","v":0},{"$f":"iMap_Rank!AU63","v":0},{"$f":"iMap_Rank!AV63","v":0},{"$f":"iMap_Rank!AW63","v":0},{"$f":"iMap_Rank!AX63","v":0}]
[{"$f":"iMap_Rank!AM64","v":0},{"$f":"iMap_Rank!AN64","v":0},{"$f":"iMap_Rank!AO64","v":0},{"$f":"iMap_Rank!AP64","v":0},{"$f":"iMap_Rank!AQ64","v":0},{"$f":"iMap_Rank!AR64","v":0},{"$f":"iMap_Rank!AS64","v":0},{"$f":"iMap_Rank!AT64","v":0},{"$f":"iMap_Rank!AU64","v":0},{"$f":"iMap_Rank!AV64","v":0},{"$f":"iMap_Rank!AW64","v":0},{"$f":"iMap_Rank!AX64","v":0}]
[{"$f":"iMap_Rank!AM65","v":0},{"$f":"iMap_Rank!AN65","v":0},{"$f":"iMap_Rank!AO65","v":0},{"$f":"iMap_Rank!AP65","v":0},{"$f":"iMap_Rank!AQ65","v":0},{"$f":"iMap_Rank!AR65","v":0},{"$f":"iMap_Rank!AS65","v":0},{"$f":"iMap_Rank!AT65","v":0},{"$f":"iMap_Rank!AU65","v":0},{"$f":"iMap_Rank!AV65","v":0},{"$f":"iMap_Rank!AW65","v":0},{"$f":"iMap_Rank!AX65","v":0}]
[{"$f":"iMap_Rank!AM66","v":0},{"$f":"iMap_Rank!AN66","v":0},{"$f":"iMap_Rank!AO66","v":0},{"$f":"iMap_Rank!AP66","v":0},{"$f":"iMap_Rank!AQ66","v":0},{"$f":"iMap_Rank!AR66","v":0},{"$f":"iMap_Rank!AS66","v":0},{"$f":"iMap_Rank!AT66","v":0},{"$f":"iMap_Rank!AU66","v":0},{"$f":"iMap_Rank!AV66","v":0},{"$f":"iMap_Rank!AW66","v":0},{"$f":"iMap_Rank!AX66","v":0}]
[{"$f":"iMap_Rank!AM67","v":0},{"$f":"iMap_Rank!AN67","v":0},{"$f":"iMap_Rank!AO67","v":0},{"$f":"iMap_Rank!AP67","v":0},{"$f":"iMap_Rank!AQ67","v":0},{"$f":"iMap_Rank!AR67","v":0},{"$f":"iMap_Rank!AS67","v":0},{"$f":"iMap_Rank!AT67","v":0},{"$f":"iMap_Rank!AU67","v":0},{"$f":"iMap_Rank!AV67","v":0},{"$f":"iMap_Rank!AW67","v":0},{"$f":"iMap_Rank!AX67","v":0}]
[{"$f":"iMap_Rank!AM68","v":0},{"$f":"iMap_Rank!AN68","v":0},{"$f":"iMap_Rank!AO68","v":0},{"$f":"iMap_Rank!AP68","v":0},{"$f":"iMap_Rank!AQ68","v":0},{"$f":"iMap_Rank!AR68","v":0},{"$f":"iMap_Rank!AS68","v":0},{"$f":"iMap_Rank!AT68","v":0},{"$f":"iMap_Rank!AU68","v":0},{"$f":"iMap_Rank!AV68","v":0},{"$f":"iMap_Rank!AW68","v":0},{"$f":"iMap_Rank!AX68","v":0}]
[{"$f":"iMap_Rank!AM69","v":0},{"$f":"iMap_Rank!AN69","v":0},{"$f":"iMap_Rank!AO69","v":0},{"$f":"iMap_Rank!AP69","v":0},{"$f":"iMap_Rank!AQ69","v":0},{"$f":"iMap_Rank!AR69","v":0},{"$f":"iMap_Rank!AS69","v":0},{"$f":"iMap_Rank!AT69","v":0},{"$f":"iMap_Rank!AU69","v":0},{"$f":"iMap_Rank!AV69","v":0},{"$f":"iMap_Rank!AW69","v":0},{"$f":"iMap_Rank!AX69","v":0}]
[{"$f":"iMap_Rank!AM70","v":0},{"$f":"iMap_Rank!AN70","v":0},{"$f":"iMap_Rank!AO70","v":0},{"$f":"iMap_Rank!AP70","v":0},{"$f":"iMap_Rank!AQ70","v":0},{"$f":"iMap_Rank!AR70","v":0},{"$f":"iMap_Rank!AS70","v":0},{"$f":"iMap_Rank!AT70","v":0},{"$f":"iMap_Rank!AU70","v":0},{"$f":"iMap_Rank!AV70","v":0},{"$f":"iMap_Rank!AW70","v":0},{"$f":"iMap_Rank!AX70","v":0}]
[{"$f":"iMap_Rank!AM71","v":0},{"$f":"iMap_Rank!AN71","v":0},{"$f":"iMap_Rank!AO71","v":0},{"$f":"iMap_Rank!AP71","v":0},{"$f":"iMap_Rank!AQ71","v":0},{"$f":"iMap_Rank!AR71","v":0},{"$f":"iMap_Rank!AS71","v":0},{"$f":"iMap_Rank!AT71","v":0},{"$f":"iMap_Rank!AU71","v":0},{"$f":"iMap_Rank!AV71","v":0},{"$f":"iMap_Rank!AW71","v":0},{"$f":"iMap_Rank!AX71","v":0}]
[{"$f":"iMap_Rank!AM72","v":0},{"$f":"iMap_Rank!AN72","v":0},{"$f":"iMap_Rank!AO72","v":0},{"$f":"iMap_Rank!AP72","v":0},{"$f":"iMap_Rank!AQ72","v":0},{"$f":"iMap_Rank!AR72","v":0},{"$f":"iMap_Rank!AS72","v":0},{"$f":"iMap_Rank!AT72","v":0},{"$f":"iMap_Rank!AU72","v":0},{"$f":"iMap_Rank!AV72","v":0},{"$f":"iMap_Rank!AW72","v":0},{"$f":"iMap_Rank!AX72","v":0}]
[{"$f":"iMap_Rank!AM73","v":0},{"$f":"iMap_Rank!AN73","v":0},{"$f":"iMap_Rank!AO73","v":0},{"$f":"iMap_Rank!AP73","v":0},{"$f":"iMap_Rank!AQ73","v":0},{"$f":"iMap_Rank!AR73","v":0},{"$f":"iMap_Rank!AS73","v":0},{"$f":"iMap_Rank!AT73","v":0},{"$f":"iMap_Rank!AU73","v":0},{"$f":"iMap_Rank!AV73","v":0},{"$f":"iMap_Rank!AW73","v":0},{"$f":"iMap_Rank!AX73","v":0}]
[{"$f":"iMap_Rank!AM74","v":0},{"$f":"iMap_Rank!AN74","v":0},{"$f":"iMap_Rank!AO74","v":0},{"$f":"iMap_Rank!AP74","v":0},{"$f":"iMap_Rank!AQ74","v":0},{"$f":"iMap_Rank!AR74","v":0},{"$f":"iMap_Rank!AS74","v":0},{"$f":"iMap_Rank!AT74","v":0},{"$f":"iMap_Rank!AU74","v":0},{"$f":"iMap_Rank!AV74","v":0},{"$f":"iMap_Rank!AW74","v":0},{"$f":"iMap_Rank!AX74","v":0}]

{"sheet":"iMap_Rank","index":25,"n_rows":42,"n_cols":50,"rows_kept":42,"cut":false,"hidden":true,"merged":[]}
[null,{"$f":"uxb_works!#REF!","v":{"$error":"#REF!"}},{"$f":"uxb_works!C13","v":"IS_BG"},{"$f":"uxb_works!D13","v":"Spare1"},{"$f":"uxb_works!E13","v":"INDI_CODE"},{"$f":"uxb_works!F13","v":"PARENT_CODE"},{"$f":"uxb_works!G13","v":"DEPTH"},{"$f":"uxb_works!H13","v":"REF"},{"$f":"uxb_works!I13","v":"NDICATOR_SHORT"},{"$f":"uxb_works!J13","v":"DESCRIPTION"},{"$f":"uxb_works!K13","v":"INDICATOR_UNIT"},{"$f":"uxb_works!L13","v":"Rational"},{"$f":"uxb_works!M13","v":"Scoring Criteria (0-100 or 0-4 etc)"},{"$f":"uxb_works!N13","v":"Year"},{"$f":"uxb_works!O13","v":"Geography"},{"$f":"uxb_works!P13","v":"HIGH=Good"},{"$f":"uxb_works!Q13","v":"Format"},{"$f":"uxb_works!R13","v":"MAIN_SOURCE"},{"$f":"uxb_works!S13","v":"SOURCE_WS_ID"},{"$f":"uxb_works!T13","v":"HIGH_IS"},{"$f":"uxb_works!U13","v":"NORM_ID (1=sumproduct, 2=min max set by data values, 3=min max set by user here)"}]
[{"$f":"uxb_works!A19","v":"CITY1_ID"},{"$f":"uxb_works!B14","v":4},{"$f":"uxb_works!C14","v":0},{"$f":"uxb_works!D14","v":""},{"$f":"uxb_works!E14","v":"EP_11"},{"$f":"uxb_works!F14","v":"EP"},{"$f":"uxb_works!G14","v":2},{"$f":"uxb_works!H14","v":1.1100000000000001},{"$f":"uxb_works!I14","v":"Current account liberalisation"},{"$f":"uxb_works!J14","v":"A measure of a country’s current account liberalisation, with consideration of restrictions in this area; used to capture the ease with which a country trades goods across its border."},{"$f":"uxb_works!K14","v":"1-5 scores"},{"$f":"uxb_works!L14","v":""},{"$f":"uxb_works!M14","v":""},{"$f":"uxb_works!N14","v":2014},{"$f":"uxb_works!O14","v":""},{"$f":"uxb_works!P14","v":"High score = good"},{"$f":"uxb_works!Q14","v":"#0"},{"$f":"uxb_works!R14","v":"EIU"},{"$f":"uxb_works!S14","v":1.1100000000000001},{"$f":"uxb_works!T14","v":0},{"$f":"uxb_works!U14","v":3}]
["INDI_IS_NATIONAL",{"$f":"D2","v":""},null,null,null,null,null,null,null,null,null,null,null,null,null,null,null,null,null,null,1]
[]
[null,null,null,null,null,null,null,null,null,null,null,null,null,null,null,null,null,"percentiles","equal buckets"]
["SERIES_LEVEL",1,null,null,null,null,null,null,null,null,null,null,null,null,"Fifths",null,0,{"$f":"IF($U$2=1,PERCENTILE(R$19:R$38,Q6),Q6*100)","v":0},{"$f":"#REF!","v":{"$error":"#REF!"}}]
["Rank_Order",0,null,null,null,null,null,null,null,null,null,null,null,null,null,null,0.25,{"$f":"IF($U$2=1,PERCENTILE(R$19:R$38,Q7),Q7*100)","v":25},{"$f":"AB38","v":50},1,null,null,null,null,null,{"$f":"56/6","v":9.3333333333333339}]
[null,null,null,null,null,null,null,null,null,null,null,null,null,null,null,null,0.5,{"$f":"IF($U$2=1,PERCENTILE(R$19:R$38,Q8),Q8*100)","v":50},{"$f":"AB33","v":85},2]
[{"$f":"uxb_works!A6","v":"CITY_HIGHLIGHT_DD"},{"$f":"uxb_works!B6","v":1},{"$f":"IF(uxb_works!C6=\"<none>\",\"Click on map or select from the country highlight drop down box\",uxb_works!C6)","v":"Click on map or select from the country highlight drop down box"},{"$f":"IF(ISNA(INDEX(P19:P38,MATCH(C9,N19:N38,0))),\"\",INDEX(P19:P38,MATCH(C9,N19:N38,0)))","v":""},null,null,null,null,null,null,null,null,null,null,null,null,0.75,{"$f":"IF($U$2=1,PERCENTILE(R$19:R$38,Q9),Q9*100)","v":75},{"$f":"AB28","v":100},3]
[null,null,null,null,null,null,null,null,null,null,null,null,null,null,null,null,1,{"$f":"IF($U$2=1,PERCENTILE(R$19:R$38,Q10),Q10*100)","v":100},{"$f":"AB23","v":100},4]
[null,null,null,null,null,null,null,null,null,null,null,null,null,null,null,null,null,null,{"$f":"AB19","v":100},5,{"$f":"80/5","v":16}]
[]
[null,null,null,null,null,null,null,null,null,null,null,null,null,null,null,null,null,null,{"$f":"PERCENTILE(R$19:R$38,Q11)","v":50}]
[null,null,null,null,null,null,null,null,null,null,null,null,null,null,null,null,null,null,null,null,null,null,null,null,null,null,null,null,null,null,null,null,null,null,"Buckets"]
[null,null,null,null,null,null,null,null,null,null,null,null,null,null,null,null,null,null,null,null,null,null,null,null,null,null,null,null,null,null,null,null,null,null,null,null,null,null,null,{"$f":"\"Score \"&ROUND($R$9+0.1,1)&\" to \"&$R$10","v":"Score 75.1 to 100"},null,null,{"$f":"\"Score \"&ROUND($R$8+0.1,1)&\" to \"&ROUND($R$9,1)","v":"Score 50.1 to 75"},null,null,{"$f":"\"Score \"&ROUND($R$7+0.1,1)&\" to \"&ROUND($R$8,1)","v":"Score 25.1 to 50"},null,null,{"$f":"\"Score \"&ROUND($R$6,1)&\" to \"&ROUND($R$7,1)","v":"Score 0 to 25"}]
[]
["SHOW_DATA",{"$f":"IF(OR(P2=1,AC2=0),FALSE,TRUE)","v":false},null,null,null,null,null,null,null,null,null,null,null,null,null,null,null,null,null,"ALL UNFILTERED DATA POINTS",null,"Country Highlight","Country Filter",null,null,null,null,null,null,null,null,null,null,null,4,3,2,1,null,1,3,null,1,3,null,1,3,null,1,3]
[null,null,null,"IsRegion",null,"ActiveStatus","Score (unrounded)","Rank unrounded","LU","yScatter","RankRounded",null,null,null,"Score","Score Display",{"$f":"IF($B$17,\"Data\",\"\")","v":""},"Map Display",null,"X","Y",null,null,null,null,null,null,null,null,null,null,"Main Set","Highlighted",null,0,0,0,0,{"$f":"$F$18","v":"ActiveStatus"},"B1","B1a",{"$f":"$F$18","v":"ActiveStatus"},"B2","B2a",{"$f":"$F$18","v":"ActiveStatus"},"B3","B3a",{"$f":"$F$18","v":"ActiveStatus"},"B4","B4a"]
[{"$f":"tblTerritories!A3","v":1},{"$f":"tblTerritories!B3","v":"BGD"},{"$f":"tblTerritories!C3","v":"Bangladesh"},{"$f":"INDEX(tblTerritories!$R$3:$V$22,A19,uxb_works!$B$10)","v":1},null,{"$f":"IF(D19=0,0,tblTerritories!G3)","v":1},{"$f":"IF(F19=0,\"\",INDEX(aScores,$B$2,$A19))","v":75},{"$f":"IF(F19=0,\"\",RANK(G19,G$19:G$38,$B$7)+COUNTIF(G$19:G19,G19)-1)","v":16},{"$f":"IF(ISERROR(MATCH($A19,H$19:H$38,0)),\"\",MATCH($A19,H$19:H$38,0))","v":2},{"$f":"IF(I19=\"\",\"\",1)","v":1},{"$f":"IF(I19=\"\",\"\",RANK(O19,O$19:O$38,$B$7))","v":1},{"$f":"IF(I19=\"\",0,INDEX($F$19:$F$38,I19))","v":1},{"$f":"IF(I19=\"\",\"\",IF(OR(K19=K18,K19=K20),CONCATENATE(\"=\",K19),K19))","v":"=1"},{"$f":"IF(I19=\"\",\"\",INDEX($C$19:$C$38,I19))","v":"Brunei"},{"$f":"IF(I19=\"\",\"\",INDEX(aRoundedScores,$B$2,I19))","v":100},{"$f":"IF(L19=0,\"\",IF($C$2=1,\"-\",O19))","v":100},{"$f":"IF(ISNA(VLOOKUP(N19,uxb_regions!$C$3:$I$82,7,FALSE)),\"\",VLOOKUP(N19,uxb_regions!$C$3:$I$82,7,FALSE))","v":"BRN"},{"$f":"IF(L19=0,\"\",O19)","v":100},{"$f":"IF(Q19=\"\",\"\",CHOOSE($U$3,IF(R19<=R$7,1,IF(R19<=R$8,2,IF(R19<=R$9,3,IF(R19<=R$10,4))))))","v":4},{"$f":"IF(ISNUMBER(O19),O19,NA())","v":100},{"$f":"1","v":1},{"$f":"IF(ISNA(INDEX($F$19:$F$38,MATCH(N19,$C$19:$C$38,0))),0,INDEX($F$19:$F$38,MATCH(N19,$C$19:$C$38,0)))","v":1},{"$f":"IF(OR(V19=3,V19=2),Q19,0)","v":0},{"$f":"IF(ISNA(V19),\"\",Q19)","v":"BRN"},{"$f":"IF(L19=2,T19,NA())","v":{"$error":"#N/A"}},{"$f":"IF(L19=2,1,NA())","v":{"$error":"#N/A"}},null,{"$f":"LARGE($R$19:$R$38,ROW(R1)-ROW($R$1)+1)","v":100},null,null,{"$f":"IF(ISNUMBER(O19),N19,CONCATENATE(N19))","v":"Brunei"},{"$f":"IF(ISNUMBER(P19),P19,\"-\")","v":100},{"$f":"IF(W19=0,NA(),AF19)","v":{"$error":"#N/A"}},{"$f":"TEXT(AF19,$Q$2)","v":"100"},{"$f":"AI18+MATCH(AI$17,OFFSET($S$19:$S$38,AI18,0),0)","v":1},{"$f":"AJ18+MATCH(AJ$17,OFFSET($S$19:$S$38,AJ18,0),0)","v":16},{"$f":"AK18+MATCH(AK$17,OFFSET($S$19:$S$38,AK18,0),0)","v":20},{"$f":"AL18+MATCH(AL$17,OFFSET($S$19:$S$38,AL18,0),0)","v":{"$error":"#N/A"}},{"$f":"IF(AN19=\"\",0,INDEX($F$19:$F$38,MATCH(AN19,$C$19:$C$38,0)))","v":1},{"$f":"IF(ISNA(AI19),\"\",INDEX($N$19:$P$38,$AI19,AN$17))","v":"Brunei"},{"$f":"IF(ISNA(AI19),\"\",INDEX($N$19:$P$38,$AI19,AO$17))","v":100},{"$f":"IF(AQ19=\"\",0,INDEX($F$19:$F$38,MATCH(AQ19,$C$19:$C$38,0)))","v":1},{"$f":"IF(ISNA(AJ19),\"\",INDEX($N$19:$P$38,$AJ19,AQ$17))","v":"Bangladesh"},{"$f":"IF(ISNA(AJ19),\"\",INDEX($N$19:$P$38,$AJ19,AR$17))","v":75},{"$f":"IF(AT19=\"\",0,INDEX($F$19:$F$38,MATCH(AT19,$C$19:$C$38,0)))","v":1},{"$f":"IF(ISNA(AK19),\"\",INDEX($N$19:$P$38,$AK19,AT$17))","v":"Pakistan"},{"$f":"IF(ISNA(AK19),\"\",INDEX($N$19:$P$38,$AK19,AU$17))","v":50},{"$f":"IF(AW19=\"\",0,INDEX($F$19:$F$38,MATCH(AW19,$C$19:$C$38,0)))","v":0},{"$f":"IF(ISNA(AL19),\"\",INDEX($N$19:$P$38,$AL19,AW$17))","v":""},{"$f":"IF(ISNA(AL19),\"\",INDEX($N$19:$P$38,$AL19,AX$17))","v":""}]
[{"$f":"tblTerritories!A4","v":2},{"$f":"tblTerritories!B4","v":"BRN"},{"$f":"tblTerritories!C4","v":"Brunei"},{"$f":"INDEX(tblTerritories!$R$3:$V$22,A20,uxb_works!$B$10)","v":1},null,{"$f":"IF(D20=0,0,tblTerritories!G4)","v":1},{"$f":"IF(F20=0,\"\",INDEX(aScores,$B$2,$A20))","v":100},{"$f":"IF(F20=0,\"\",RANK(G20,G$19:G$38,$B$7)+COUNTIF(G$19:G20,G20)-1)","v":1},{"$f":"IF(ISERROR(MATCH($A20,H$19:H$38,0)),\"\",MATCH($A20,H$19:H$38,0))","v":3},{"$f":"IF(I20=\"\",\"\",1)","v":1},{"$f":"IF(I20=\"\",\"\",RANK(O20,O$19:O$38,$B$7))","v":1},{"$f":"IF(I20=\"\",0,INDEX($F$19:$F$38,I20))","v":1},{"$f":"IF(I20=\"\",\"\",IF(OR(K20=K19,K20=K21),CONCATENATE(\"=\",K20),K20))","v":"=1"},{"$f":"IF(I20=\"\",\"\",INDEX($C$19:$C$38,I20))","v":"Cambodia"},{"$f":"IF(I20=\"\",\"\",INDEX(aRoundedScores,$B$2,I20))","v":100},{"$f":"IF(L20=0,\"\",IF($C$2=1,\"-\",O20))","v":100},{"$f":"IF(ISNA(VLOOKUP(N20,uxb_regions!$C$3:$I$82,7,FALSE)),\"\",VLOOKUP(N20,uxb_regions!$C$3:$I$82,7,FALSE))","v":"KHM"},{"$f":"IF(L20=0,\"\",O20)","v":100},{"$f":"IF(Q20=\"\",\"\",CHOOSE($U$3,IF(R20<=R$7,1,IF(R20<=R$8,2,IF(R20<=R$9,3,IF(R20<=R$10,4))))))","v":4},{"$f":"IF(ISNUMBER(O20),O20,NA())","v":100},{"$f":"1","v":1},{"$f":"IF(ISNA(INDEX($F$19:$F$38,MATCH(N20,$C$19:$C$38,0))),0,INDEX($F$19:$F$38,MATCH(N20,$C$19:$C$38,0)))","v":1},{"$f":"IF(OR(V20=3,V20=2),Q20,0)","v":0},{"$f":"IF(ISNA(V20),\"\",Q20)","v":"KHM"},{"$f":"IF(L20=2,T20,NA())","v":{"$error":"#N/A"}},{"$f":"IF(L20=2,1,NA())","v":{"$error":"#N/A"}},null,{"$f":"LARGE($R$19:$R$38,ROW(R2)-ROW($R$1)+1)","v":100},null,null,{"$f":"IF(ISNUMBER(O20),N20,CONCATENATE(N20))","v":"Cambodia"},{"$f":"IF(ISNUMBER(P20),P20,\"-\")","v":100},{"$f":"IF(W20=0,NA(),AF20)","v":{"$error":"#N/A"}},{"$f":"TEXT(AF20,$Q$2)","v":"100"},{"$f":"AI19+MATCH(AI$17,OFFSET($S$19:$S$38,AI19,0),0)","v":2},{"$f":"AJ19+MATCH(AJ$17,OFFSET($S$19:$S$38,AJ19,0),0)","v":17},{"$f":"AK19+MATCH(AK$17,OFFSET($S$19:$S$38,AK19,0),0)","v":{"$error":"#N/A"}},{"$f":"AL19+MATCH(AL$17,OFFSET($S$19:$S$38,AL19,0),0)","v":{"$error":"#N/A"}},{"$f":"IF(AN20=\"\",0,INDEX($F$19:$F$38,MATCH(AN20,$C$19:$C$38,0)))","v":1},{"$f":"IF(ISNA(AI20),\"\",INDEX($N$19:$P$38,$AI20,AN$17))","v":"Cambodia"},{"$f":"IF(ISNA(AI20),\"\",INDEX($N$19:$P$38,$AI20,AO$17))","v":100},{"$f":"IF(AQ20=\"\",0,INDEX($F$19:$F$38,MATCH(AQ20,$C$19:$C$38,0)))","v":1},{"$f":"IF(ISNA(AJ20),\"\",INDEX($N$19:$P$38,$AJ20,AQ$17))","v":"India"},{"$f":"IF(ISNA(AJ20),\"\",INDEX($N$19:$P$38,$AJ20,AR$17))","v":75},{"$f":"IF(AT20=\"\",0,INDEX($F$19:$F$38,MATCH(AT20,$C$19:$C$38,0)))","v":0},{"$f":"IF(ISNA(AK20),\"\",INDEX($N$19:$P$38,$AK20,AT$17))","v":""},{"$f":"IF(ISNA(AK20),\"\",INDEX($N$19:$P$38,$AK20,AU$17))","v":""},{"$f":"IF(AW20=\"\",0,INDEX($F$19:$F$38,MATCH(AW20,$C$19:$C$38,0)))","v":0},{"$f":"IF(ISNA(AL20),\"\",INDEX($N$19:$P$38,$AL20,AW$17))","v":""},{"$f":"IF(ISNA(AL20),\"\",INDEX($N$19:$P$38,$AL20,AX$17))","v":""}]
[{"$f":"tblTerritories!A5","v":3},{"$f":"tblTerritories!B5","v":"KHM"},{"$f":"tblTerritories!C5","v":"Cambodia"},{"$f":"INDEX(tblTerritories!$R$3:$V$22,A21,uxb_works!$B$10)","v":1},null,{"$f":"IF(D21=0,0,tblTerritories!G5)","v":1},{"$f":"IF(F21=0,\"\",INDEX(aScores,$B$2,$A21))","v":100},{"$f":"IF(F21=0,\"\",RANK(G21,G$19:G$38,$B$7)+COUNTIF(G$19:G21,G21)-1)","v":2},5,1,1,1,"=1","Hong Kong",100,100,{"$f":"IF(ISNA(VLOOKUP(N21,uxb_regions!$C$3:$I$82,7,FALSE)),\"\",VLOOKUP(N21,uxb_regions!$C$3:$I$82,7,FALSE))","v":"HKG"},100,4,100,{"$f":"1","v":1},1,0,"HKG",{"$error":"#N/A"},{"$error":"#N/A"},null,100,null,null,"Hong Kong",100,{"$error":"#N/A"},"100",3,18,{"$error":"#N/A"},{"$error":"#N/A"},1,"Hong Kong",100,1,"Indonesia",75,0,"","",0,"",""]
[{"$f":"tblTerritories!A6","v":4},{"$f":"tblTerritories!B6","v":"CHN"},{"$f":"tblTerritories!C6","v":"China"},{"$f":"INDEX(tblTerritories!$R$3:$V$22,A22,uxb_works!$B$10)","v":1},null,{"$f":"IF(D22=0,0,tblTerritories!G6)","v":1},85.000000000000014,{"$f":"IF(F22=0,\"\",RANK(G22,G$19:G$38,$B$7)+COUNTIF(G$19:G22,G22)-1)","v":13},8,1,1,1,"=1","Japan",100,100,{"$f":"IF(ISNA(VLOOKUP(N22,uxb_regions!$C$3:$I$82,7,FALSE)),\"\",VLOOKUP(N22,uxb_regions!$C$3:$I$82,7,FALSE))","v":"JPN"},100,4,100,{"$f":"1","v":1},1,0,"JPN",{"$error":"#N/A"},{"$error":"#N/A"},null,100,null,null,"Japan",100,{"$error":"#N/A"},"100",4,19,{"$error":"#N/A"},{"$error":"#N/A"},1,"Japan",100,1,"Myanmar",75,0,"","",0,"",""]
[{"$f":"tblTerritories!A7","v":5},{"$f":"tblTerritories!B7","v":"HKG"},{"$f":"tblTerritories!C7","v":"Hong Kong"},{"$f":"INDEX(tblTerritories!$R$3:$V$22,A23,uxb_works!$B$10)","v":1},null,{"$f":"IF(D23=0,0,tblTerritories!G7)","v":1},100,{"$f":"IF(F23=0,\"\",RANK(G23,G$19:G$38,$B$7)+COUNTIF(G$19:G23,G23)-1)","v":3},9,1,1,1,"=1","Laos",100,100,{"$f":"IF(ISNA(VLOOKUP(N23,uxb_regions!$C$3:$I$82,7,FALSE)),\"\",VLOOKUP(N23,uxb_regions!$C$3:$I$82,7,FALSE))","v":"LAO"},100,4,100,{"$f":"1","v":1},1,0,"LAO",{"$error":"#N/A"},{"$error":"#N/A"},null,100,null,null,"Laos",100,{"$error":"#N/A"},"100",5,{"$error":"#N/A"},{"$error":"#N/A"},{"$error":"#N/A"},1,"Laos",100,0,"","",0,"","",0,"",""]
[{"$f":"tblTerritories!A8","v":6},{"$f":"tblTerritories!B8","v":"IND"},{"$f":"tblTerritories!C8","v":"India"},{"$f":"INDEX(tblTerritories!$R$3:$V$22,A24,uxb_works!$B$10)","v":1},null,{"$f":"IF(D24=0,0,tblTerritories!G8)","v":1},75,{"$f":"IF(F24=0,\"\",RANK(G24,G$19:G$38,$B$7)+COUNTIF(G$19:G24,G24)-1)","v":17},10,1,1,1,"=1","Malaysia",100,100,{"$f":"IF(ISNA(VLOOKUP(N24,uxb_regions!$C$3:$I$82,7,FALSE)),\"\",VLOOKUP(N24,uxb_regions!$C$3:$I$82,7,FALSE))","v":"MYS"},100,4,100,{"$f":"1","v":1},1,0,"MYS",{"$error":"#N/A"},{"$error":"#N/A"},null,100,null,null,"Malaysia",100,{"$error":"#N/A"},"100",6,{"$error":"#N/A"},{"$error":"#N/A"},{"$error":"#N/A"},1,"Malaysia",100,0,"","",0,"","",0,"",""]
[{"$f":"tblTerritories!A9","v":7},{"$f":"tblTerritories!B9","v":"IDN"},{"$f":"tblTerritories!C9","v":"Indonesia"},{"$f":"INDEX(tblTerritories!$R$3:$V$22,A25,uxb_works!$B$10)","v":1},null,{"$f":"IF(D25=0,0,tblTerritories!G9)","v":1},75,{"$f":"IF(F25=0,\"\",RANK(G25,G$19:G$38,$B$7)+COUNTIF(G$19:G25,G25)-1)","v":18},14,1,1,1,"=1","Singapore",100,100,{"$f":"IF(ISNA(VLOOKUP(N25,uxb_regions!$C$3:$I$82,7,FALSE)),\"\",VLOOKUP(N25,uxb_regions!$C$3:$I$82,7,FALSE))","v":"SGP"},100,4,100,{"$f":"1","v":1},1,0,"SGP",{"$error":"#N/A"},{"$error":"#N/A"},null,100,null,null,"Singapore",100,{"$error":"#N/A"},"100",7,{"$error":"#N/A"},{"$error":"#N/A"},{"$error":"#N/A"},1,"Singapore",100,0,"","",0,"","",0,"",""]
[{"$f":"tblTerritories!A10","v":8},{"$f":"tblTerritories!B10","v":"JPN"},{"$f":"tblTerritories!C10","v":"Japan"},{"$f":"INDEX(tblTerritories!$R$3:$V$22,A26,uxb_works!$B$10)","v":1},null,{"$f":"IF(D26=0,0,tblTerritories!G10)","v":1},100,{"$f":"IF(F26=0,\"\",RANK(G26,G$19:G$38,$B$7)+COUNTIF(G$19:G26,G26)-1)","v":4},16,1,1,1,"=1","Sri Lanka",100,100,{"$f":"IF(ISNA(VLOOKUP(N26,uxb_regions!$C$3:$I$82,7,FALSE)),\"\",VLOOKUP(N26,uxb_regions!$C$3:$I$82,7,FALSE))","v":"LKA"},100,4,100,{"$f":"1","v":1},1,0,"LKA",{"$error":"#N/A"},{"$error":"#N/A"},null,100,null,null,"Sri Lanka",100,{"$error":"#N/A"},"100",8,{"$error":"#N/A"},{"$error":"#N/A"},{"$error":"#N/A"},1,"Sri Lanka",100,0,"","",0,"","",0,"",""]
[{"$f":"tblTerritories!A11","v":9},{"$f":"tblTerritories!B11","v":"LAO"},{"$f":"tblTerritories!C11","v":"Laos"},{"$f":"INDEX(tblTerritories!$R$3:$V$22,A27,uxb_works!$B$10)","v":1},null,{"$f":"IF(D27=0,0,tblTerritories!G11)","v":1},100,{"$f":"IF(F27=0,\"\",RANK(G27,G$19:G$38,$B$7)+COUNTIF(G$19:G27,G27)-1)","v":5},17,1,1,1,"=1","Taiwan",100,100,{"$f":"IF(ISNA(VLOOKUP(N27,uxb_regions!$C$3:$I$82,7,FALSE)),\"\",VLOOKUP(N27,uxb_regions!$C$3:$I$82,7,FALSE))","v":"TWN"},100,4,100,{"$f":"1","v":1},1,0,"TWN",{"$error":"#N/A"},{"$error":"#N/A"},null,100,null,null,"Taiwan",100,{"$error":"#N/A"},"100",9,{"$error":"#N/A"},{"$error":"#N/A"},{"$error":"#N/A"},1,"Taiwan",100,0,"","",0,"","",0,"",""]
[{"$f":"tblTerritories!A12","v":10},{"$f":"tblTerritories!B12","v":"MYS"},{"$f":"tblTerritories!C12","v":"Malaysia"},{"$f":"INDEX(tblTerritories!$R$3:$V$22,A28,uxb_works!$B$10)","v":1},null,{"$f":"IF(D28=0,0,tblTerritories!G12)","v":1},100,{"$f":"IF(F28=0,\"\",RANK(G28,G$19:G$38,$B$7)+COUNTIF(G$19:G28,G28)-1)","v":6},18,1,1,1,"=1","Thailand",100,100,{"$f":"IF(ISNA(VLOOKUP(N28,uxb_regions!$C$3:$I$82,7,FALSE)),\"\",VLOOKUP(N28,uxb_regions!$C$3:$I$82,7,FALSE))","v":"THA"},100,4,100,{"$f":"1","v":1},1,0,"THA",{"$error":"#N/A"},{"$error":"#N/A"},null,100,null,null,"Thailand",100,{"$error":"#N/A"},"100",10,{"$error":"#N/A"},{"$error":"#N/A"},{"$error":"#N/A"},1,"Thailand",100,0,"","",0,"","",0,"",""]
[{"$f":"tblTerritories!A13","v":11},{"$f":"tblTerritories!B13","v":"MMR"},{"$f":"tblTerritories!C13","v":"Myanmar"},{"$f":"INDEX(tblTerritories!$R$3:$V$22,A29,uxb_works!$B$10)","v":1},null,{"$f":"IF(D29=0,0,tblTerritories!G13)","v":1},75,{"$f":"IF(F29=0,\"\",RANK(G29,G$19:G$38,$B$7)+COUNTIF(G$19:G29,G29)-1)","v":19},19,1,1,1,"=1","Vietnam",100,100,{"$f":"IF(ISNA(VLOOKUP(N29,uxb_regions!$C$3:$I$82,7,FALSE)),\"\",VLOOKUP(N29,uxb_regions!$C$3:$I$82,7,FALSE))","v":"VNM"},100,4,100,{"$f":"1","v":1},1,0,"VNM",{"$error":"#N/A"},{"$error":"#N/A"},null,100,null,null,"Vietnam",100,{"$error":"#N/A"},"100",11,{"$error":"#N/A"},{"$error":"#N/A"},{"$error":"#N/A"},1,"Vietnam",100,0,"","",0,"","",0,"",""]
[{"$f":"tblTerritories!A14","v":12},{"$f":"tblTerritories!B14","v":"PAK"},{"$f":"tblTerritories!C14","v":"Pakistan"},{"$f":"INDEX(tblTerritories!$R$3:$V$22,A30,uxb_works!$B$10)","v":1},null,{"$f":"IF(D30=0,0,tblTerritories!G14)","v":1},50,{"$f":"IF(F30=0,\"\",RANK(G30,G$19:G$38,$B$7)+COUNTIF(G$19:G30,G30)-1)","v":20},20,1,1,1,"=1","USA",100,100,{"$f":"IF(ISNA(VLOOKUP(N30,uxb_regions!$C$3:$I$82,7,FALSE)),\"\",VLOOKUP(N30,uxb_regions!$C$3:$I$82,7,FALSE))","v":"USA"},100,4,100,{"$f":"1","v":1},1,0,"USA",{"$error":"#N/A"},{"$error":"#N/A"},null,100,null,null,"USA",100,{"$error":"#N/A"},"100",12,{"$error":"#N/A"},{"$error":"#N/A"},{"$error":"#N/A"},1,"USA",100,0,"","",0,"","",0,"",""]
[{"$f":"tblTerritories!A15","v":13},{"$f":"tblTerritories!B15","v":"PHL"},{"$f":"tblTerritories!C15","v":"Philippines"},{"$f":"INDEX(tblTerritories!$R$3:$V$22,A31,uxb_works!$B$10)","v":1},null,{"$f":"IF(D31=0,0,tblTerritories!G15)","v":1},85.000000000000014,{"$f":"IF(F31=0,\"\",RANK(G31,G$19:G$38,$B$7)+COUNTIF(G$19:G31,G31)-1)","v":14},4,1,13,1,"=13","China",85,85,{"$f":"IF(ISNA(VLOOKUP(N31,uxb_regions!$C$3:$I$82,7,FALSE)),\"\",VLOOKUP(N31,uxb_regions!$C$3:$I$82,7,FALSE))","v":"CHN"},85,4,85,{"$f":"1","v":1},1,0,"CHN",{"$error":"#N/A"},{"$error":"#N/A"},null,85,null,null,"China",85,{"$error":"#N/A"},"85",13,{"$error":"#N/A"},{"$error":"#N/A"},{"$error":"#N/A"},1,"China",85,0,"","",0,"","",0,"",""]
[{"$f":"tblTerritories!A16","v":14},{"$f":"tblTerritories!B16","v":"SGP"},{"$f":"tblTerritories!C16","v":"Singapore"},{"$f":"INDEX(tblTerritories!$R$3:$V$22,A32,uxb_works!$B$10)","v":1},null,{"$f":"IF(D32=0,0,tblTerritories!G16)","v":1},100,{"$f":"IF(F32=0,\"\",RANK(G32,G$19:G$38,$B$7)+COUNTIF(G$19:G32,G32)-1)","v":7},13,1,13,1,"=13","Philippines",85,85,{"$f":"IF(ISNA(VLOOKUP(N32,uxb_regions!$C$3:$I$82,7,FALSE)),\"\",VLOOKUP(N32,uxb_regions!$C$3:$I$82,7,FALSE))","v":"PHL"},85,4,85,{"$f":"1","v":1},1,0,"PHL",{"$error":"#N/A"},{"$error":"#N/A"},null,85,null,null,"Philippines",85,{"$error":"#N/A"},"85",14,{"$error":"#N/A"},{"$error":"#N/A"},{"$error":"#N/A"},1,"Philippines",85,0,"","",0,"","",0,"",""]
[{"$f":"tblTerritories!A17","v":15},{"$f":"tblTerritories!B17","v":"KOR"},{"$f":"tblTerritories!C17","v":"South Korea"},{"$f":"INDEX(tblTerritories!$R$3:$V$22,A33,uxb_works!$B$10)","v":1},null,{"$f":"IF(D33=0,0,tblTerritories!G17)","v":1},85.000000000000014,{"$f":"IF(F33=0,\"\",RANK(G33,G$19:G$38,$B$7)+COUNTIF(G$19:G33,G33)-1)","v":15},15,1,13,1,"=13","South Korea",85,85,{"$f":"IF(ISNA(VLOOKUP(N33,uxb_regions!$C$3:$I$82,7,FALSE)),\"\",VLOOKUP(N33,uxb_regions!$C$3:$I$82,7,FALSE))","v":"KOR"},85,4,85,{"$f":"1","v":1},1,0,"KOR",{"$error":"#N/A"},{"$error":"#N/A"},null,85,null,null,"South Korea",85,{"$error":"#N/A"},"85",15,{"$error":"#N/A"},{"$error":"#N/A"},{"$error":"#N/A"},1,"South Korea",85,0,"","",0,"","",0,"",""]
[{"$f":"tblTerritories!A18","v":16},{"$f":"tblTerritories!B18","v":"LKA"},{"$f":"tblTerritories!C18","v":"Sri Lanka"},{"$f":"INDEX(tblTerritories!$R$3:$V$22,A34,uxb_works!$B$10)","v":1},null,{"$f":"IF(D34=0,0,tblTerritories!G18)","v":1},100,{"$f":"IF(F34=0,\"\",RANK(G34,G$19:G$38,$B$7)+COUNTIF(G$19:G34,G34)-1)","v":8},1,1,16,1,"=16","Bangladesh",75,75,{"$f":"IF(ISNA(VLOOKUP(N34,uxb_regions!$C$3:$I$82,7,FALSE)),\"\",VLOOKUP(N34,uxb_regions!$C$3:$I$82,7,FALSE))","v":"BGD"},75,3,75,{"$f":"1","v":1},1,0,"BGD",{"$error":"#N/A"},{"$error":"#N/A"},null,75,null,null,"Bangladesh",75,{"$error":"#N/A"},"75",{"$error":"#N/A"},{"$error":"#N/A"},{"$error":"#N/A"},{"$error":"#N/A"},0,"","",0,"","",0,"","",0,"",""]
[{"$f":"tblTerritories!A19","v":17},{"$f":"tblTerritories!B19","v":"TWN"},{"$f":"tblTerritories!C19","v":"Taiwan"},{"$f":"INDEX(tblTerritories!$R$3:$V$22,A35,uxb_works!$B$10)","v":1},null,{"$f":"IF(D35=0,0,tblTerritories!G19)","v":1},100,{"$f":"IF(F35=0,\"\",RANK(G35,G$19:G$38,$B$7)+COUNTIF(G$19:G35,G35)-1)","v":9},6,1,16,1,"=16","India",75,75,{"$f":"IF(ISNA(VLOOKUP(N35,uxb_regions!$C$3:$I$82,7,FALSE)),\"\",VLOOKUP(N35,uxb_regions!$C$3:$I$82,7,FALSE))","v":"IND"},75,3,75,{"$f":"1","v":1},1,0,"IND",{"$error":"#N/A"},{"$error":"#N/A"},null,75,null,null,"India",75,{"$error":"#N/A"},"75",{"$error":"#N/A"},{"$error":"#N/A"},{"$error":"#N/A"},{"$error":"#N/A"},0,"","",0,"","",0,"","",0,"",""]
[{"$f":"tblTerritories!A20","v":18},{"$f":"tblTerritories!B20","v":"THA"},{"$f":"tblTerritories!C20","v":"Thailand"},{"$f":"INDEX(tblTerritories!$R$3:$V$22,A36,uxb_works!$B$10)","v":1},null,{"$f":"IF(D36=0,0,tblTerritories!G20)","v":1},100,{"$f":"IF(F36=0,\"\",RANK(G36,G$19:G$38,$B$7)+COUNTIF(G$19:G36,G36)-1)","v":10},7,1,16,1,"=16","Indonesia",75,75,{"$f":"IF(ISNA(VLOOKUP(N36,uxb_regions!$C$3:$I$82,7,FALSE)),\"\",VLOOKUP(N36,uxb_regions!$C$3:$I$82,7,FALSE))","v":"IDN"},75,3,75,{"$f":"1","v":1},1,0,"IDN",{"$error":"#N/A"},{"$error":"#N/A"},null,75,null,null,"Indonesia",75,{"$error":"#N/A"},"75",{"$error":"#N/A"},{"$error":"#N/A"},{"$error":"#N/A"},{"$error":"#N/A"},0,"","",0,"","",0,"","",0,"",""]
[{"$f":"tblTerritories!A21","v":19},{"$f":"tblTerritories!B21","v":"VNM"},{"$f":"tblTerritories!C21","v":"Vietnam"},{"$f":"INDEX(tblTerritories!$R$3:$V$22,A37,uxb_works!$B$10)","v":1},null,{"$f":"IF(D37=0,0,tblTerritories!G21)","v":1},100,{"$f":"IF(F37=0,\"\",RANK(G37,G$19:G$38,$B$7)+COUNTIF(G$19:G37,G37)-1)","v":11},11,1,16,1,"=16","Myanmar",75,75,{"$f":"IF(ISNA(VLOOKUP(N37,uxb_regions!$C$3:$I$82,7,FALSE)),\"\",VLOOKUP(N37,uxb_regions!$C$3:$I$82,7,FALSE))","v":"MMR"},75,3,75,{"$f":"1","v":1},1,0,"MMR",{"$error":"#N/A"},{"$error":"#N/A"},null,75,null,null,"Myanmar",75,{"$error":"#N/A"},"75",{"$error":"#N/A"},{"$error":"#N/A"},{"$error":"#N/A"},{"$error":"#N/A"},0,"","",0,"","",0,"","",0,"",""]
[{"$f":"tblTerritories!A22","v":20},{"$f":"tblTerritories!B22","v":"USA"},{"$f":"tblTerritories!C22","v":"USA"},{"$f":"INDEX(tblTerritories!$R$3:$V$22,A38,uxb_works!$B$10)","v":1},null,{"$f":"IF(D38=0,0,tblTerritories!G22)","v":1},100,{"$f":"IF(F38=0,\"\",RANK(G38,G$19:G$38,$B$7)+COUNTIF(G$19:G38,G38)-1)","v":12},12,1,20,1,20,"Pakistan",50,50,{"$f":"IF(ISNA(VLOOKUP(N38,uxb_regions!$C$3:$I$82,7,FALSE)),\"\",VLOOKUP(N38,uxb_regions!$C$3:$I$82,7,FALSE))","v":"PAK"},50,2,50,{"$f":"1","v":1},1,0,"PAK",{"$error":"#N/A"},{"$error":"#N/A"},null,50,null,null,"Pakistan",50,{"$error":"#N/A"},"50",{"$error":"#N/A"},{"$error":"#N/A"},{"$error":"#N/A"},{"$error":"#N/A"},0,"","",0,"","",0,"","",0,"",""]
[]
[]
[]
[null,null,null,null,null,null,null,null,null,1,null,null,null,null,{"$f":"IF(uxb_works!B7>1,INDEX(G18:G38,uxb_works!B7),NA())","v":{"$error":"#N/A"}}]

{"sheet":"iMap_Graph","index":26,"n_rows":42,"n_cols":61,"rows_kept":42,"cut":false,"hidden":true,"merged":[]}
[null,{"$f":"uxb_works!B13","v":32},{"$f":"uxb_works!C13","v":"IS_BG"},{"$f":"uxb_works!D13","v":"Spare1"},{"$f":"uxb_works!E13","v":"INDI_CODE"},{"$f":"uxb_works!F13","v":"PARENT_CODE"},{"$f":"uxb_works!G13","v":"DEPTH"},{"$f":"uxb_works!H13","v":"REF"},{"$f":"uxb_works!I13","v":"NDICATOR_SHORT"},{"$f":"uxb_works!J13","v":"DESCRIPTION"},{"$f":"uxb_works!K13","v":"INDICATOR_UNIT"},{"$f":"uxb_works!L13","v":"Rational"},{"$f":"uxb_works!M13","v":"Scoring Criteria (0-100 or 0-4 etc)"},{"$f":"uxb_works!N13","v":"Year"},{"$f":"uxb_works!O13","v":"Geography"},{"$f":"uxb_works!P13","v":"HIGH=Good"},{"$f":"uxb_works!Q13","v":"Format"},{"$f":"uxb_works!R13","v":"MAIN_SOURCE"},{"$f":"uxb_works!S13","v":"SOURCE_WS_ID"},{"$f":"uxb_works!T13","v":"HIGH_IS"},{"$f":"uxb_works!U13","v":"NORM_ID (1=sumproduct, 2=min max set by data values, 3=min max set by user here)"}]
[{"$f":"uxb_works!A19","v":"CITY1_ID"},{"$f":"uxb_works!B14","v":4},{"$f":"uxb_works!C14","v":0},{"$f":"uxb_works!D14","v":""},{"$f":"uxb_works!E14","v":"EP_11"},{"$f":"uxb_works!F14","v":"EP"},{"$f":"uxb_works!G14","v":2},{"$f":"uxb_works!H14","v":1.1100000000000001},{"$f":"uxb_works!I14","v":"Current account liberalisation"},{"$f":"uxb_works!J14","v":"A measure of a country’s current account liberalisation, with consideration of restrictions in this area; used to capture the ease with which a country trades goods across its border."},{"$f":"uxb_works!K14","v":"1-5 scores"},{"$f":"uxb_works!L14","v":""},{"$f":"uxb_works!M14","v":""},{"$f":"uxb_works!N14","v":2014},{"$f":"uxb_works!O14","v":""},{"$f":"uxb_works!P14","v":"High score = good"},{"$f":"uxb_works!Q14","v":"#0"},{"$f":"uxb_works!R14","v":"EIU"},{"$f":"uxb_works!S14","v":1.1100000000000001},{"$f":"uxb_works!T14","v":0},{"$f":"uxb_works!U14","v":3}]
["INDI_IS_NATIONAL",{"$f":"D2","v":""},null,null,null,null,null,null,null,null,null,null,null,null,null,null,null,null,null,null,1]
[]
[null,null,null,null,null,null,null,null,null,null,null,null,null,null,null,null,null,"percentiles","equal buckets"]
["SERIES_LEVEL",1,null,null,null,null,null,null,null,null,null,null,null,null,"Fifths",null,0,{"$f":"IF($U$2=1,PERCENTILE(R$19:R$38,Q6),Q6*100)","v":0}]
["Rank_Order",0,null,null,null,null,null,null,null,null,null,null,null,null,null,null,0.25,{"$f":"IF($U$2=1,PERCENTILE(R$19:R$38,Q7),Q7*100)","v":25},null,1,null,null,null,null,null,{"$f":"56/6","v":9.3333333333333339}]
[null,null,null,null,null,null,null,null,null,null,null,null,null,null,null,null,0.5,{"$f":"IF($U$2=1,PERCENTILE(R$19:R$38,Q8),Q8*100)","v":50},null,2]
[{"$f":"uxb_works!A6","v":"CITY_HIGHLIGHT_DD"},{"$f":"uxb_works!B6","v":1},{"$f":"uxb_works!C6","v":"<none>"},{"$f":"INDEX(P19:P38,MATCH(C9,N19:N38,0))","v":{"$error":"#N/A"}},null,null,null,null,null,null,null,null,null,null,null,null,0.75,{"$f":"IF($U$2=1,PERCENTILE(R$19:R$38,Q9),Q9*100)","v":75},null,3]
[null,null,null,null,null,null,null,null,null,null,null,null,null,null,null,null,1,{"$f":"IF($U$2=1,PERCENTILE(R$19:R$38,Q10),Q10*100)","v":100},null,4]
[null,null,null,null,null,null,null,null,null,null,null,null,null,null,null,null,null,null,null,5,{"$f":"80/5","v":16}]
[]
[null,null,null,null,null,null,null,null,null,null,null,null,null,null,null,null,null,null,{"$f":"PERCENTILE(R$19:R$38,Q11)","v":50}]
[null,null,null,null,null,null,null,null,null,null,null,null,null,null,null,null,null,null,null,null,null,null,null,null,null,null,null,null,null,null,null,null,null,null,null,null,null,null,null,null,null,null,null,null,null,"Buckets"]
[null,null,null,null,null,null,null,null,null,null,null,null,null,null,null,null,null,null,null,null,null,null,null,null,null,null,null,{"$f":"uxb_works!B10","v":1},null,null,{"$f":"uxb_works!B10","v":1},null,null,null,null,null,null,null,null,null,null,null,null,null,null,null,null,null,null,null,{"$f":"\"Score \"&ROUND($R$9+0.1,1)&\" to \"&$R$10","v":"Score 75.1 to 100"},null,null,{"$f":"\"Score \"&ROUND($R$8+0.1,1)&\" to \"&ROUND($R$9,1)","v":"Score 50.1 to 75"},null,null,{"$f":"\"Score \"&ROUND($R$7+0.1,1)&\" to \"&ROUND($R$8,1)","v":"Score 25.1 to 50"},null,null,{"$f":"\"Score \"&ROUND($R$6,1)&\" to \"&ROUND($R$7,1)","v":"Score 0 to 25"}]
[]
["SHOW_DATA",{"$f":"IF(OR(P2=1,AK2=0),FALSE,TRUE)","v":false},null,null,"Highlight",null,null,null,null,null,null,null,null,null,null,null,null,null,null,"ALL UNFILTERED DATA POINTS",null,"Country Highlight","Country Filter",null,null,null,null,"Region Filter",null,null,"Group Filter",null,null,null,null,null,null,null,null,null,null,null,null,null,null,4,3,2,1,null,1,3,null,1,3,null,1,3,null,1,3]
[null,null,null,"IsRegion","Status","ActiveStatus","Score (unrounded)","Rank unrounded","LU","yScatter","RankRounded",null,null,null,"Score","Score Display",{"$f":"IF($B$17,\"Data\",\"\")","v":""},"Map Display",null,"X","Y",null,null,null,null,null,null,"Unsorted","Sorted",null,"Unsorted","Sorted",null,null,null,null,null,null,null,"Main Set","Region Filter","Group Filter","Intersect","Highlighted",null,0,0,0,0,null,"B1","B1a",null,"B2","B2a",null,"B3","B3a",null,"B4","B4a"]
[{"$f":"tblTerritories!A3","v":1},{"$f":"tblTerritories!B3","v":"BGD"},{"$f":"tblTerritories!C3","v":"Bangladesh"},null,{"$f":"tblTerritories!E3","v":"Bangladesh"},{"$f":"IF(tblTerritories!G3=3,3,IF(tblTerritories!G3=2,2,1))","v":1},{"$f":"IF(F19=0,\"\",ROUND(INDEX(aScores,$B$2,$A19),2))","v":75},{"$f":"IF(F19=0,\"\",RANK(G19,G$19:G$38,$B$7)+COUNTIF(G$19:G19,G19)-1)","v":16},{"$f":"IF(ISERROR(MATCH($A19,H$19:H$38,0)),\"\",MATCH($A19,H$19:H$38,0))","v":2},{"$f":"IF(I19=\"\",\"\",1)","v":1},{"$f":"IF(I19=\"\",\"\",RANK(O19,O$19:O$38,$B$7))","v":1},{"$f":"IF(I19=\"\",0,INDEX($F$19:$F$38,I19))","v":1},{"$f":"IF(I19=\"\",\"\",IF(OR(K19=K18,K19=K20),CONCATENATE(\"=\",K19),K19))","v":"=1"},{"$f":"IF(I19=\"\",\"\",INDEX($C$19:$C$38,I19))","v":"Brunei"},{"$f":"IF(I19=\"\",\"\",INDEX(aRoundedScores,$B$2,I19))","v":100},{"$f":"IF(L19=0,\"\",IF($C$2=1,\"-\",O19))","v":100},{"$f":"IF(ISNA(VLOOKUP(N19,uxb_regions!$C$3:$I$82,7,FALSE)),\"\",VLOOKUP(N19,uxb_regions!$C$3:$I$82,7,FALSE))","v":"BRN"},{"$f":"IF(L19=0,\"\",O19)","v":100},{"$f":"IF(Q19=\"\",\"\",CHOOSE($U$3,IF(R19<R$7,1,IF(R19<R$8,2,IF(R19<R$9,3,IF(R19<=R$10,4))))))","v":4},{"$f":"IF(ISNUMBER(O19),O19,NA())","v":100},{"$f":"1","v":1},{"$f":"IF(ISNA(INDEX($F$19:$F$38,MATCH(N19,$C$19:$C$38,0))),0,INDEX($F$19:$F$38,MATCH(N19,$C$19:$C$38,0)))","v":1},{"$f":"IF(OR(V19=3,V19=2),Q19,0)","v":0},{"$f":"IF(ISNA(V19),\"\",Q19)","v":"BRN"},{"$f":"IF(L19=2,T19,NA())","v":{"$error":"#N/A"}},{"$f":"IF(L19=2,1,NA())","v":{"$error":"#N/A"}},null,null,null,null,{"$f":"IF($AE$15=1,0,INDEX(tblTerritories!$S$3:$V$22,A19,$AE$15-1))","v":0},{"$f":"IF(ISNA(INDEX($AE$19:$AE$38,MATCH(N19,$C$19:$C$38,0))),0,INDEX($AE$19:$AE$38,MATCH(N19,$C$19:$C$38,0)))","v":0},null,null,null,{"$f":"LARGE($R$19:$R$38,ROW(R1)-ROW($R$1)+1)","v":100},null,null,{"$f":"IF(ISNUMBER(O19),N19,CONCATENATE(N19))","v":"Brunei"},{"$f":"IF(ISNUMBER(P19),P19,\"-\")","v":100},null,{"$f":"IF(AF19=0,NA(),$AN19)","v":{"$error":"#N/A"}},null,{"$f":"IF(W19=0,NA(),$AN19)","v":{"$error":"#N/A"}},{"$f":"TEXT(AN19,$Q$2)","v":"100"},{"$f":"AT18+MATCH(AT$17,OFFSET($S$19:$S$38,AT18,0),0)","v":1},{"$f":"AU18+MATCH(AU$17,OFFSET($S$19:$S$38,AU18,0),0)","v":20},{"$f":"AV18+MATCH(AV$17,OFFSET($S$19:$S$38,AV18,0),0)","v":{"$error":"#N/A"}},{"$f":"AW18+MATCH(AW$17,OFFSET($S$19:$S$38,AW18,0),0)","v":{"$error":"#N/A"}},null,{"$f":"IF(ISNA(AT19),\"\",INDEX($N$19:$P$38,$AT19,AY$17))","v":"Brunei"},{"$f":"IF(ISNA(AT19),\"\",INDEX($N$19:$P$38,$AT19,AZ$17))","v":100},null,{"$f":"IF(ISNA(AU19),\"\",INDEX($N$19:$P$38,$AU19,BB$17))","v":"Pakistan"},{"$f":"IF(ISNA(AU19),\"\",INDEX($N$19:$P$38,$AU19,BC$17))","v":50},null,{"$f":"IF(ISNA(AV19),\"\",INDEX($N$19:$P$38,$AV19,BE$17))","v":""},{"$f":"IF(ISNA(AV19),\"\",INDEX($N$19:$P$38,$AV19,BF$17))","v":""},null,{"$f":"IF(ISNA(AW19),\"\",INDEX($N$19:$P$38,$AW19,BH$17))","v":""},{"$f":"IF(ISNA(AW19),\"\",INDEX($N$19:$P$38,$AW19,BI$17))","v":""}]
[{"$f":"tblTerritories!A4","v":2},{"$f":"tblTerritories!B4","v":"BRN"},{"$f":"tblTerritories!C4","v":"Brunei"},null,{"$f":"tblTerritories!E4","v":"Brunei"},{"$f":"IF(tblTerritories!G4=3,3,IF(tblTerritories!G4=2,2,1))","v":1},100,{"$f":"IF(F20=0,\"\",RANK(G20,G$19:G$38,$B$7)+COUNTIF(G$19:G20,G20)-1)","v":1},3,{"$f":"IF(I20=\"\",\"\",1)","v":1},{"$f":"IF(I20=\"\",\"\",RANK(O20,O$19:O$38,$B$7))","v":1},{"$f":"IF(I20=\"\",0,INDEX($F$19:$F$38,I20))","v":1},{"$f":"IF(I20=\"\",\"\",IF(OR(K20=K19,K20=K21),CONCATENATE(\"=\",K20),K20))","v":"=1"},{"$f":"IF(I20=\"\",\"\",INDEX($C$19:$C$38,I20))","v":"Cambodia"},{"$f":"IF(I20=\"\",\"\",INDEX(aRoundedScores,$B$2,I20))","v":100},{"$f":"IF(L20=0,\"\",IF($C$2=1,\"-\",O20))","v":100},{"$f":"IF(ISNA(VLOOKUP(N20,uxb_regions!$C$3:$I$82,7,FALSE)),\"\",VLOOKUP(N20,uxb_regions!$C$3:$I$82,7,FALSE))","v":"KHM"},{"$f":"IF(L20=0,\"\",O20)","v":100},{"$f":"IF(Q20=\"\",\"\",CHOOSE($U$3,IF(R20<R$7,1,IF(R20<R$8,2,IF(R20<R$9,3,IF(R20<=R$10,4))))))","v":4},{"$f":"IF(ISNUMBER(O20),O20,NA())","v":100},{"$f":"1","v":1},{"$f":"IF(ISNA(INDEX($F$19:$F$38,MATCH(N20,$C$19:$C$38,0))),0,INDEX($F$19:$F$38,MATCH(N20,$C$19:$C$38,0)))","v":1},{"$f":"IF(OR(V20=3,V20=2),Q20,0)","v":0},{"$f":"IF(ISNA(V20),\"\",Q20)","v":"KHM"},{"$f":"IF(L20=2,T20,NA())","v":{"$error":"#N/A"}},{"$f":"IF(L20=2,1,NA())","v":{"$error":"#N/A"}},null,null,null,null,{"$f":"IF($AE$15=1,0,INDEX(tblTerritories!$S$3:$V$22,A20,$AE$15-1))","v":0},{"$f":"IF(ISNA(INDEX($AE$19:$AE$38,MATCH(N20,$C$19:$C$38,0))),0,INDEX($AE$19:$AE$38,MATCH(N20,$C$19:$C$38,0)))","v":0},null,null,null,{"$f":"LARGE($R$19:$R$38,ROW(R2)-ROW($R$1)+1)","v":100},null,null,{"$f":"IF(ISNUMBER(O20),N20,CONCATENATE(N20))","v":"Cambodia"},{"$f":"IF(ISNUMBER(P20),P20,\"-\")","v":100},null,{"$f":"IF(AF20=0,NA(),$AN20)","v":{"$error":"#N/A"}},null,{"$f":"IF(W20=0,NA(),$AN20)","v":{"$error":"#N/A"}},{"$f":"TEXT(AN20,$Q$2)","v":"100"},{"$f":"AT19+MATCH(AT$17,OFFSET($S$19:$S$38,AT19,0),0)","v":2},{"$f":"AU19+MATCH(AU$17,OFFSET($S$19:$S$38,AU19,0),0)","v":{"$error":"#N/A"}},{"$f":"AV19+MATCH(AV$17,OFFSET($S$19:$S$38,AV19,0),0)","v":{"$error":"#N/A"}},{"$f":"AW19+MATCH(AW$17,OFFSET($S$19:$S$38,AW19,0),0)","v":{"$error":"#N/A"}},null,{"$f":"IF(ISNA(AT20),\"\",INDEX($N$19:$P$38,$AT20,AY$17))","v":"Cambodia"},{"$f":"IF(ISNA(AT20),\"\",INDEX($N$19:$P$38,$AT20,AZ$17))","v":100},null,{"$f":"IF(ISNA(AU20),\"\",INDEX($N$19:$P$38,$AU20,BB$17))","v":""},{"$f":"IF(ISNA(AU20),\"\",INDEX($N$19:$P$38,$AU20,BC$17))","v":""},null,{"$f":"IF(ISNA(AV20),\"\",INDEX($N$19:$P$38,$AV20,BE$17))","v":""},{"$f":"IF(ISNA(AV20),\"\",INDEX($N$19:$P$38,$AV20,BF$17))","v":""},null,{"$f":"IF(ISNA(AW20),\"\",INDEX($N$19:$P$38,$AW20,BH$17))","v":""},{"$f":"IF(ISNA(AW20),\"\",INDEX($N$19:$P$38,$AW20,BI$17))","v":""}]
[{"$f":"tblTerritories!A5","v":3},{"$f":"tblTerritories!B5","v":"KHM"},{"$f":"tblTerritories!C5","v":"Cambodia"},null,{"$f":"tblTerritories!E5","v":"Cambodia"},{"$f":"IF(tblTerritories!G5=3,3,IF(tblTerritories!G5=2,2,1))","v":1},100,{"$f":"IF(F21=0,\"\",RANK(G21,G$19:G$38,$B$7)+COUNTIF(G$19:G21,G21)-1)","v":2},5,1,1,1,"=1","Hong Kong",100,100,{"$f":"IF(ISNA(VLOOKUP(N21,uxb_regions!$C$3:$I$82,7,FALSE)),\"\",VLOOKUP(N21,uxb_regions!$C$3:$I$82,7,FALSE))","v":"HKG"},100,4,100,{"$f":"1","v":1},1,0,"HKG",{"$error":"#N/A"},{"$error":"#N/A"},null,null,null,null,{"$f":"IF($AE$15=1,0,INDEX(tblTerritories!$S$3:$V$22,A21,$AE$15-1))","v":0},0,null,null,null,100,null,null,"Hong Kong",100,null,{"$error":"#N/A"},null,{"$error":"#N/A"},"100",3,{"$error":"#N/A"},{"$error":"#N/A"},{"$error":"#N/A"},null,"Hong Kong",100,null,"","",null,"","",null,"",""]
[{"$f":"tblTerritories!A6","v":4},{"$f":"tblTerritories!B6","v":"CHN"},{"$f":"tblTerritories!C6","v":"China"},null,{"$f":"tblTerritories!E6","v":"China"},{"$f":"IF(tblTerritories!G6=3,3,IF(tblTerritories!G6=2,2,1))","v":1},85,{"$f":"IF(F22=0,\"\",RANK(G22,G$19:G$38,$B$7)+COUNTIF(G$19:G22,G22)-1)","v":13},8,1,1,1,"=1","Japan",100,100,{"$f":"IF(ISNA(VLOOKUP(N22,uxb_regions!$C$3:$I$82,7,FALSE)),\"\",VLOOKUP(N22,uxb_regions!$C$3:$I$82,7,FALSE))","v":"JPN"},100,4,100,{"$f":"1","v":1},1,0,"JPN",{"$error":"#N/A"},{"$error":"#N/A"},null,null,null,null,{"$f":"IF($AE$15=1,0,INDEX(tblTerritories!$S$3:$V$22,A22,$AE$15-1))","v":0},0,null,null,null,100,null,null,"Japan",100,null,{"$error":"#N/A"},null,{"$error":"#N/A"},"100",4,{"$error":"#N/A"},{"$error":"#N/A"},{"$error":"#N/A"},null,"Japan",100,null,"","",null,"","",null,"",""]
[{"$f":"tblTerritories!A7","v":5},{"$f":"tblTerritories!B7","v":"HKG"},{"$f":"tblTerritories!C7","v":"Hong Kong"},null,{"$f":"tblTerritories!E7","v":"Hong Kong"},{"$f":"IF(tblTerritories!G7=3,3,IF(tblTerritories!G7=2,2,1))","v":1},100,{"$f":"IF(F23=0,\"\",RANK(G23,G$19:G$38,$B$7)+COUNTIF(G$19:G23,G23)-1)","v":3},9,1,1,1,"=1","Laos",100,100,{"$f":"IF(ISNA(VLOOKUP(N23,uxb_regions!$C$3:$I$82,7,FALSE)),\"\",VLOOKUP(N23,uxb_regions!$C$3:$I$82,7,FALSE))","v":"LAO"},100,4,100,{"$f":"1","v":1},1,0,"LAO",{"$error":"#N/A"},{"$error":"#N/A"},null,null,null,null,{"$f":"IF($AE$15=1,0,INDEX(tblTerritories!$S$3:$V$22,A23,$AE$15-1))","v":0},0,null,null,null,100,null,null,"Laos",100,null,{"$error":"#N/A"},null,{"$error":"#N/A"},"100",5,{"$error":"#N/A"},{"$error":"#N/A"},{"$error":"#N/A"},null,"Laos",100,null,"","",null,"","",null,"",""]
[{"$f":"tblTerritories!A8","v":6},{"$f":"tblTerritories!B8","v":"IND"},{"$f":"tblTerritories!C8","v":"India"},null,{"$f":"tblTerritories!E8","v":"India"},{"$f":"IF(tblTerritories!G8=3,3,IF(tblTerritories!G8=2,2,1))","v":1},75,{"$f":"IF(F24=0,\"\",RANK(G24,G$19:G$38,$B$7)+COUNTIF(G$19:G24,G24)-1)","v":17},10,1,1,1,"=1","Malaysia",100,100,{"$f":"IF(ISNA(VLOOKUP(N24,uxb_regions!$C$3:$I$82,7,FALSE)),\"\",VLOOKUP(N24,uxb_regions!$C$3:$I$82,7,FALSE))","v":"MYS"},100,4,100,{"$f":"1","v":1},1,0,"MYS",{"$error":"#N/A"},{"$error":"#N/A"},null,null,null,null,{"$f":"IF($AE$15=1,0,INDEX(tblTerritories!$S$3:$V$22,A24,$AE$15-1))","v":0},0,null,null,null,100,null,null,"Malaysia",100,null,{"$error":"#N/A"},null,{"$error":"#N/A"},"100",6,{"$error":"#N/A"},{"$error":"#N/A"},{"$error":"#N/A"},null,"Malaysia",100,null,"","",null,"","",null,"",""]
[{"$f":"tblTerritories!A9","v":7},{"$f":"tblTerritories!B9","v":"IDN"},{"$f":"tblTerritories!C9","v":"Indonesia"},null,{"$f":"tblTerritories!E9","v":"Indonesia"},{"$f":"IF(tblTerritories!G9=3,3,IF(tblTerritories!G9=2,2,1))","v":1},75,{"$f":"IF(F25=0,\"\",RANK(G25,G$19:G$38,$B$7)+COUNTIF(G$19:G25,G25)-1)","v":18},14,1,1,1,"=1","Singapore",100,100,{"$f":"IF(ISNA(VLOOKUP(N25,uxb_regions!$C$3:$I$82,7,FALSE)),\"\",VLOOKUP(N25,uxb_regions!$C$3:$I$82,7,FALSE))","v":"SGP"},100,4,100,{"$f":"1","v":1},1,0,"SGP",{"$error":"#N/A"},{"$error":"#N/A"},null,null,null,null,{"$f":"IF($AE$15=1,0,INDEX(tblTerritories!$S$3:$V$22,A25,$AE$15-1))","v":0},0,null,null,null,100,null,null,"Singapore",100,null,{"$error":"#N/A"},null,{"$error":"#N/A"},"100",7,{"$error":"#N/A"},{"$error":"#N/A"},{"$error":"#N/A"},null,"Singapore",100,null,"","",null,"","",null,"",""]
[{"$f":"tblTerritories!A10","v":8},{"$f":"tblTerritories!B10","v":"JPN"},{"$f":"tblTerritories!C10","v":"Japan"},null,{"$f":"tblTerritories!E10","v":"Japan"},{"$f":"IF(tblTerritories!G10=3,3,IF(tblTerritories!G10=2,2,1))","v":1},100,{"$f":"IF(F26=0,\"\",RANK(G26,G$19:G$38,$B$7)+COUNTIF(G$19:G26,G26)-1)","v":4},16,1,1,1,"=1","Sri Lanka",100,100,{"$f":"IF(ISNA(VLOOKUP(N26,uxb_regions!$C$3:$I$82,7,FALSE)),\"\",VLOOKUP(N26,uxb_regions!$C$3:$I$82,7,FALSE))","v":"LKA"},100,4,100,{"$f":"1","v":1},1,0,"LKA",{"$error":"#N/A"},{"$error":"#N/A"},null,null,null,null,{"$f":"IF($AE$15=1,0,INDEX(tblTerritories!$S$3:$V$22,A26,$AE$15-1))","v":0},0,null,null,null,100,null,null,"Sri Lanka",100,null,{"$error":"#N/A"},null,{"$error":"#N/A"},"100",8,{"$error":"#N/A"},{"$error":"#N/A"},{"$error":"#N/A"},null,"Sri Lanka",100,null,"","",null,"","",null,"",""]
[{"$f":"tblTerritories!A11","v":9},{"$f":"tblTerritories!B11","v":"LAO"},{"$f":"tblTerritories!C11","v":"Laos"},null,{"$f":"tblTerritories!E11","v":"Laos"},{"$f":"IF(tblTerritories!G11=3,3,IF(tblTerritories!G11=2,2,1))","v":1},100,{"$f":"IF(F27=0,\"\",RANK(G27,G$19:G$38,$B$7)+COUNTIF(G$19:G27,G27)-1)","v":5},17,1,1,1,"=1","Taiwan",100,100,{"$f":"IF(ISNA(VLOOKUP(N27,uxb_regions!$C$3:$I$82,7,FALSE)),\"\",VLOOKUP(N27,uxb_regions!$C$3:$I$82,7,FALSE))","v":"TWN"},100,4,100,{"$f":"1","v":1},1,0,"TWN",{"$error":"#N/A"},{"$error":"#N/A"},null,null,null,null,{"$f":"IF($AE$15=1,0,INDEX(tblTerritories!$S$3:$V$22,A27,$AE$15-1))","v":0},0,null,null,null,100,null,null,"Taiwan",100,null,{"$error":"#N/A"},null,{"$error":"#N/A"},"100",9,{"$error":"#N/A"},{"$error":"#N/A"},{"$error":"#N/A"},null,"Taiwan",100,null,"","",null,"","",null,"",""]
[{"$f":"tblTerritories!A12","v":10},{"$f":"tblTerritories!B12","v":"MYS"},{"$f":"tblTerritories!C12","v":"Malaysia"},null,{"$f":"tblTerritories!E12","v":"Malaysia"},{"$f":"IF(tblTerritories!G12=3,3,IF(tblTerritories!G12=2,2,1))","v":1},100,{"$f":"IF(F28=0,\"\",RANK(G28,G$19:G$38,$B$7)+COUNTIF(G$19:G28,G28)-1)","v":6},18,1,1,1,"=1","Thailand",100,100,{"$f":"IF(ISNA(VLOOKUP(N28,uxb_regions!$C$3:$I$82,7,FALSE)),\"\",VLOOKUP(N28,uxb_regions!$C$3:$I$82,7,FALSE))","v":"THA"},100,4,100,{"$f":"1","v":1},1,0,"THA",{"$error":"#N/A"},{"$error":"#N/A"},null,null,null,null,{"$f":"IF($AE$15=1,0,INDEX(tblTerritories!$S$3:$V$22,A28,$AE$15-1))","v":0},0,null,null,null,100,null,null,"Thailand",100,null,{"$error":"#N/A"},null,{"$error":"#N/A"},"100",10,{"$error":"#N/A"},{"$error":"#N/A"},{"$error":"#N/A"},null,"Thailand",100,null,"","",null,"","",null,"",""]
[{"$f":"tblTerritories!A13","v":11},{"$f":"tblTerritories!B13","v":"MMR"},{"$f":"tblTerritories!C13","v":"Myanmar"},null,{"$f":"tblTerritories!E13","v":"Myanmar"},{"$f":"IF(tblTerritories!G13=3,3,IF(tblTerritories!G13=2,2,1))","v":1},75,{"$f":"IF(F29=0,\"\",RANK(G29,G$19:G$38,$B$7)+COUNTIF(G$19:G29,G29)-1)","v":19},19,1,1,1,"=1","Vietnam",100,100,{"$f":"IF(ISNA(VLOOKUP(N29,uxb_regions!$C$3:$I$82,7,FALSE)),\"\",VLOOKUP(N29,uxb_regions!$C$3:$I$82,7,FALSE))","v":"VNM"},100,4,100,{"$f":"1","v":1},1,0,"VNM",{"$error":"#N/A"},{"$error":"#N/A"},null,null,null,null,{"$f":"IF($AE$15=1,0,INDEX(tblTerritories!$S$3:$V$22,A29,$AE$15-1))","v":0},0,null,null,null,100,null,null,"Vietnam",100,null,{"$error":"#N/A"},null,{"$error":"#N/A"},"100",11,{"$error":"#N/A"},{"$error":"#N/A"},{"$error":"#N/A"},null,"Vietnam",100,null,"","",null,"","",null,"",""]
[{"$f":"tblTerritories!A14","v":12},{"$f":"tblTerritories!B14","v":"PAK"},{"$f":"tblTerritories!C14","v":"Pakistan"},null,{"$f":"tblTerritories!E14","v":"Pakistan"},{"$f":"IF(tblTerritories!G14=3,3,IF(tblTerritories!G14=2,2,1))","v":1},50,{"$f":"IF(F30=0,\"\",RANK(G30,G$19:G$38,$B$7)+COUNTIF(G$19:G30,G30)-1)","v":20},20,1,1,1,"=1","USA",100,100,{"$f":"IF(ISNA(VLOOKUP(N30,uxb_regions!$C$3:$I$82,7,FALSE)),\"\",VLOOKUP(N30,uxb_regions!$C$3:$I$82,7,FALSE))","v":"USA"},100,4,100,{"$f":"1","v":1},1,0,"USA",{"$error":"#N/A"},{"$error":"#N/A"},null,null,null,null,{"$f":"IF($AE$15=1,0,INDEX(tblTerritories!$S$3:$V$22,A30,$AE$15-1))","v":0},0,null,null,null,100,null,null,"USA",100,null,{"$error":"#N/A"},null,{"$error":"#N/A"},"100",12,{"$error":"#N/A"},{"$error":"#N/A"},{"$error":"#N/A"},null,"USA",100,null,"","",null,"","",null,"",""]
[{"$f":"tblTerritories!A15","v":13},{"$f":"tblTerritories!B15","v":"PHL"},{"$f":"tblTerritories!C15","v":"Philippines"},null,{"$f":"tblTerritories!E15","v":"Philippines"},{"$f":"IF(tblTerritories!G15=3,3,IF(tblTerritories!G15=2,2,1))","v":1},85,{"$f":"IF(F31=0,\"\",RANK(G31,G$19:G$38,$B$7)+COUNTIF(G$19:G31,G31)-1)","v":14},4,1,13,1,"=13","China",85,85,{"$f":"IF(ISNA(VLOOKUP(N31,uxb_regions!$C$3:$I$82,7,FALSE)),\"\",VLOOKUP(N31,uxb_regions!$C$3:$I$82,7,FALSE))","v":"CHN"},85,4,85,{"$f":"1","v":1},1,0,"CHN",{"$error":"#N/A"},{"$error":"#N/A"},null,null,null,null,{"$f":"IF($AE$15=1,0,INDEX(tblTerritories!$S$3:$V$22,A31,$AE$15-1))","v":0},0,null,null,null,85,null,null,"China",85,null,{"$error":"#N/A"},null,{"$error":"#N/A"},"85",13,{"$error":"#N/A"},{"$error":"#N/A"},{"$error":"#N/A"},null,"China",85,null,"","",null,"","",null,"",""]
[{"$f":"tblTerritories!A16","v":14},{"$f":"tblTerritories!B16","v":"SGP"},{"$f":"tblTerritories!C16","v":"Singapore"},null,{"$f":"tblTerritories!E16","v":"Singapore"},{"$f":"IF(tblTerritories!G16=3,3,IF(tblTerritories!G16=2,2,1))","v":1},100,{"$f":"IF(F32=0,\"\",RANK(G32,G$19:G$38,$B$7)+COUNTIF(G$19:G32,G32)-1)","v":7},13,1,13,1,"=13","Philippines",85,85,{"$f":"IF(ISNA(VLOOKUP(N32,uxb_regions!$C$3:$I$82,7,FALSE)),\"\",VLOOKUP(N32,uxb_regions!$C$3:$I$82,7,FALSE))","v":"PHL"},85,4,85,{"$f":"1","v":1},1,0,"PHL",{"$error":"#N/A"},{"$error":"#N/A"},null,null,null,null,{"$f":"IF($AE$15=1,0,INDEX(tblTerritories!$S$3:$V$22,A32,$AE$15-1))","v":0},0,null,null,null,85,null,null,"Philippines",85,null,{"$error":"#N/A"},null,{"$error":"#N/A"},"85",14,{"$error":"#N/A"},{"$error":"#N/A"},{"$error":"#N/A"},null,"Philippines",85,null,"","",null,"","",null,"",""]
[{"$f":"tblTerritories!A17","v":15},{"$f":"tblTerritories!B17","v":"KOR"},{"$f":"tblTerritories!C17","v":"South Korea"},null,{"$f":"tblTerritories!E17","v":"South Korea"},{"$f":"IF(tblTerritories!G17=3,3,IF(tblTerritories!G17=2,2,1))","v":1},85,{"$f":"IF(F33=0,\"\",RANK(G33,G$19:G$38,$B$7)+COUNTIF(G$19:G33,G33)-1)","v":15},15,1,13,1,"=13","South Korea",85,85,{"$f":"IF(ISNA(VLOOKUP(N33,uxb_regions!$C$3:$I$82,7,FALSE)),\"\",VLOOKUP(N33,uxb_regions!$C$3:$I$82,7,FALSE))","v":"KOR"},85,4,85,{"$f":"1","v":1},1,0,"KOR",{"$error":"#N/A"},{"$error":"#N/A"},null,null,null,null,{"$f":"IF($AE$15=1,0,INDEX(tblTerritories!$S$3:$V$22,A33,$AE$15-1))","v":0},0,null,null,null,85,null,null,"South Korea",85,null,{"$error":"#N/A"},null,{"$error":"#N/A"},"85",15,{"$error":"#N/A"},{"$error":"#N/A"},{"$error":"#N/A"},null,"South Korea",85,null,"","",null,"","",null,"",""]
[{"$f":"tblTerritories!A18","v":16},{"$f":"tblTerritories!B18","v":"LKA"},{"$f":"tblTerritories!C18","v":"Sri Lanka"},null,{"$f":"tblTerritories!E18","v":"Sri Lanka"},{"$f":"IF(tblTerritories!G18=3,3,IF(tblTerritories!G18=2,2,1))","v":1},100,{"$f":"IF(F34=0,\"\",RANK(G34,G$19:G$38,$B$7)+COUNTIF(G$19:G34,G34)-1)","v":8},1,1,16,1,"=16","Bangladesh",75,75,{"$f":"IF(ISNA(VLOOKUP(N34,uxb_regions!$C$3:$I$82,7,FALSE)),\"\",VLOOKUP(N34,uxb_regions!$C$3:$I$82,7,FALSE))","v":"BGD"},75,4,75,{"$f":"1","v":1},1,0,"BGD",{"$error":"#N/A"},{"$error":"#N/A"},null,null,null,null,{"$f":"IF($AE$15=1,0,INDEX(tblTerritories!$S$3:$V$22,A34,$AE$15-1))","v":0},0,null,null,null,75,null,null,"Bangladesh",75,null,{"$error":"#N/A"},null,{"$error":"#N/A"},"75",16,{"$error":"#N/A"},{"$error":"#N/A"},{"$error":"#N/A"},null,"Bangladesh",75,null,"","",null,"","",null,"",""]
[{"$f":"tblTerritories!A19","v":17},{"$f":"tblTerritories!B19","v":"TWN"},{"$f":"tblTerritories!C19","v":"Taiwan"},null,{"$f":"tblTerritories!E19","v":"Taiwan"},{"$f":"IF(tblTerritories!G19=3,3,IF(tblTerritories!G19=2,2,1))","v":1},100,{"$f":"IF(F35=0,\"\",RANK(G35,G$19:G$38,$B$7)+COUNTIF(G$19:G35,G35)-1)","v":9},6,1,16,1,"=16","India",75,75,{"$f":"IF(ISNA(VLOOKUP(N35,uxb_regions!$C$3:$I$82,7,FALSE)),\"\",VLOOKUP(N35,uxb_regions!$C$3:$I$82,7,FALSE))","v":"IND"},75,4,75,{"$f":"1","v":1},1,0,"IND",{"$error":"#N/A"},{"$error":"#N/A"},null,null,null,null,{"$f":"IF($AE$15=1,0,INDEX(tblTerritories!$S$3:$V$22,A35,$AE$15-1))","v":0},0,null,null,null,75,null,null,"India",75,null,{"$error":"#N/A"},null,{"$error":"#N/A"},"75",17,{"$error":"#N/A"},{"$error":"#N/A"},{"$error":"#N/A"},null,"India",75,null,"","",null,"","",null,"",""]
[{"$f":"tblTerritories!A20","v":18},{"$f":"tblTerritories!B20","v":"THA"},{"$f":"tblTerritories!C20","v":"Thailand"},null,{"$f":"tblTerritories!E20","v":"Thailand"},{"$f":"IF(tblTerritories!G20=3,3,IF(tblTerritories!G20=2,2,1))","v":1},100,{"$f":"IF(F36=0,\"\",RANK(G36,G$19:G$38,$B$7)+COUNTIF(G$19:G36,G36)-1)","v":10},7,1,16,1,"=16","Indonesia",75,75,{"$f":"IF(ISNA(VLOOKUP(N36,uxb_regions!$C$3:$I$82,7,FALSE)),\"\",VLOOKUP(N36,uxb_regions!$C$3:$I$82,7,FALSE))","v":"IDN"},75,4,75,{"$f":"1","v":1},1,0,"IDN",{"$error":"#N/A"},{"$error":"#N/A"},null,null,null,null,{"$f":"IF($AE$15=1,0,INDEX(tblTerritories!$S$3:$V$22,A36,$AE$15-1))","v":0},0,null,null,null,75,null,null,"Indonesia",75,null,{"$error":"#N/A"},null,{"$error":"#N/A"},"75",18,{"$error":"#N/A"},{"$error":"#N/A"},{"$error":"#N/A"},null,"Indonesia",75,null,"","",null,"","",null,"",""]
[{"$f":"tblTerritories!A21","v":19},{"$f":"tblTerritories!B21","v":"VNM"},{"$f":"tblTerritories!C21","v":"Vietnam"},null,{"$f":"tblTerritories!E21","v":"Vietnam"},{"$f":"IF(tblTerritories!G21=3,3,IF(tblTerritories!G21=2,2,1))","v":1},100,{"$f":"IF(F37=0,\"\",RANK(G37,G$19:G$38,$B$7)+COUNTIF(G$19:G37,G37)-1)","v":11},11,1,16,1,"=16","Myanmar",75,75,{"$f":"IF(ISNA(VLOOKUP(N37,uxb_regions!$C$3:$I$82,7,FALSE)),\"\",VLOOKUP(N37,uxb_regions!$C$3:$I$82,7,FALSE))","v":"MMR"},75,4,75,{"$f":"1","v":1},1,0,"MMR",{"$error":"#N/A"},{"$error":"#N/A"},null,null,null,null,{"$f":"IF($AE$15=1,0,INDEX(tblTerritories!$S$3:$V$22,A37,$AE$15-1))","v":0},0,null,null,null,75,null,null,"Myanmar",75,null,{"$error":"#N/A"},null,{"$error":"#N/A"},"75",19,{"$error":"#N/A"},{"$error":"#N/A"},{"$error":"#N/A"},null,"Myanmar",75,null,"","",null,"","",null,"",""]
[{"$f":"tblTerritories!A22","v":20},{"$f":"tblTerritories!B22","v":"USA"},{"$f":"tblTerritories!C22","v":"USA"},null,{"$f":"tblTerritories!E22","v":"USA"},{"$f":"IF(tblTerritories!G22=3,3,IF(tblTerritories!G22=2,2,1))","v":1},100,{"$f":"IF(F38=0,\"\",RANK(G38,G$19:G$38,$B$7)+COUNTIF(G$19:G38,G38)-1)","v":12},12,1,20,1,20,"Pakistan",50,50,{"$f":"IF(ISNA(VLOOKUP(N38,uxb_regions!$C$3:$I$82,7,FALSE)),\"\",VLOOKUP(N38,uxb_regions!$C$3:$I$82,7,FALSE))","v":"PAK"},50,3,50,{"$f":"1","v":1},1,0,"PAK",{"$error":"#N/A"},{"$error":"#N/A"},null,null,null,null,{"$f":"IF($AE$15=1,0,INDEX(tblTerritories!$S$3:$V$22,A38,$AE$15-1))","v":0},0,null,null,null,50,null,null,"Pakistan",50,null,{"$error":"#N/A"},null,{"$error":"#N/A"},"50",{"$error":"#N/A"},{"$error":"#N/A"},{"$error":"#N/A"},{"$error":"#N/A"},null,"","",null,"","",null,"","",null,"",""]
[]
[]
[]
[null,null,null,null,null,null,null,null,null,1,null,null,null,null,{"$f":"IF(uxb_works!B7>1,INDEX(G18:G38,uxb_works!B7),NA())","v":{"$error":"#N/A"}}]

{"sheet":"uxb_mapdata","index":27,"n_rows":39,"n_cols":25,"rows_kept":39,"cut":false,"hidden":true,"merged":[]}
[null,null,null,null,null,null,null,null,null,null,null,null,null,1,null,2,null,3,null,4,null,5]
[]
[]
[]
[null,null,null,null,null,null,null,null,null,null,null,{"$f":"#REF!","v":{"$error":"#REF!"}}]
[null,null,null,null,null,null,null,null,null,null,null,"EIU Calculation"]
[]
[]
[null,null,null,null,null,null,null,null,null,null,null,null,{"$f":"IF(OR(#REF!=0,#REF!=1),IF(#REF!<100,TEXT(#REF!,\"0.0\"),TEXT(#REF!,\"#,#\")),\"\")","v":{"$error":"#REF!"}},{"$f":"IF(OR(#REF!=0,#REF!=1),\"\",0)","v":{"$error":"#REF!"}},{"$f":"IF(OR(#REF!=0,#REF!=1),IF(#REF!<100,TEXT(#REF!,\"0.0\"),TEXT(#REF!,\"#,#\")),\"\")","v":{"$error":"#REF!"}},{"$f":"IF(OR(#REF!=0,#REF!=1),\"\",25)","v":{"$error":"#REF!"}},{"$f":"IF(OR(#REF!=0,#REF!=1),IF(#REF!<100,TEXT(#REF!,\"0.0\"),TEXT(#REF!,\"#,#\")),\"\")","v":{"$error":"#REF!"}},{"$f":"IF(OR(#REF!=0,#REF!=1),\"\",50)","v":{"$error":"#REF!"}},{"$f":"IF(OR(#REF!=0,#REF!=1),IF(#REF!<100,TEXT(#REF!,\"0.0\"),TEXT(#REF!,\"#,#\")),\"\")","v":{"$error":"#REF!"}},{"$f":"IF(OR(#REF!=0,#REF!=1),\"\",75)","v":{"$error":"#REF!"}},{"$f":"IF(OR(#REF!=0,#REF!=1),IF(#REF!<100,TEXT(#REF!,\"0.0\"),TEXT(#REF!,\"#,#\")),\"\")","v":{"$error":"#REF!"}},{"$f":"IF(OR(#REF!=0,#REF!=1),\"\",100)","v":{"$error":"#REF!"}},{"$f":"IF(OR(#REF!=0,#REF!=1),IF(#REF!<100,TEXT(#REF!,\"0.0\"),TEXT(#REF!,\"#,#\")),\"\")","v":{"$error":"#REF!"}}]
[]
[]
[null,null,null,null,null,null,null,null,"Highlight outline","Shape outline","N/A Fill",null,1,2,3,4]
[null,null,null,null,null,null,null,null,null,"x"]
[]
[]
[null,null,null,null,null,null,null,null,null,null,null,null,"Regions"]
[null,null,null,null,null,null,null,null,null,"x"]
[null,null,null,null,null,null,null,null,null,null,null,null,null,null,null,null,null,null,null,null,null,{"$error":"#REF!"},null,null,{"$error":"#REF!"}]
[]
[]
[null,null,null,null,null,null,null,null,null,null,null,null,null,null,null,null,null,null,null,null,null,{"$error":"#REF!"},null,null,{"$error":"#REF!"}]
[]
[]
[null,null,null,null,null,null,null,null,null,null,null,null,null,null,null,null,null,null,null,null,null,{"$error":"#REF!"},null,null,{"$error":"#REF!"}]
[]
[]
[null,null,null,null,null,null,null,null,null,null,null,null,null,null,null,null,null,null,null,null,null,{"$error":"#REF!"},null,null,{"$error":"#REF!"}]
[]
[]
[null,null,null,null,null,null,null,null,null,null,null,null,null,null,null,null,null,null,null,null,null,{"$error":"#REF!"},null,null,{"$error":"#REF!"}]
[]
[]
[null,null,null,null,null,null,null,null,null,null,null,null,null,null,null,null,null,null,null,null,null,{"$error":"#REF!"}]
[]
[]
[null,null,null,null,null,null,null,null,null,null,null,null,null,null,null,null,null,null,null,null,null,{"$error":"#REF!"}]
[]
[null,null,null,null,null,null,null,null,null,null,null,null,null,null,null,null,null,null,null,null,null,"."]
[null,null,null,null,null,null,null,null,null,null,null,null,null,null,null,null,null,null,null,null,null,{"$error":"#REF!"}]

{"sheet":"uxb_regions","index":28,"n_rows":22,"n_cols":9,"rows_kept":22,"cut":false,"hidden":true,"merged":[]}
[" ","RegionCode","<none>",null,null,null,null,null,"MAPCODE"]
[1,null,"<none>"]
[2,{"$f":"tblTerritories!B3","v":"BGD"},{"$f":"tblTerritories!C3","v":"Bangladesh"},null,{"$f":"B3","v":"BGD"},null,null,null,{"$f":"B3","v":"BGD"}]
[3,{"$f":"tblTerritories!B4","v":"BRN"},{"$f":"tblTerritories!C4","v":"Brunei"},null,{"$f":"B4","v":"BRN"},null,null,null,{"$f":"B4","v":"BRN"}]
[4,{"$f":"tblTerritories!B5","v":"KHM"},{"$f":"tblTerritories!C5","v":"Cambodia"},null,"KHM",null,null,null,"KHM"]
[5,{"$f":"tblTerritories!B6","v":"CHN"},{"$f":"tblTerritories!C6","v":"China"},null,"CHN",null,null,null,"CHN"]
[6,{"$f":"tblTerritories!B7","v":"HKG"},{"$f":"tblTerritories!C7","v":"Hong Kong"},null,"HKG",null,null,null,"HKG"]
[7,{"$f":"tblTerritories!B8","v":"IND"},{"$f":"tblTerritories!C8","v":"India"},null,"IND",null,null,null,"IND"]
[8,{"$f":"tblTerritories!B9","v":"IDN"},{"$f":"tblTerritories!C9","v":"Indonesia"},null,"IDN",null,null,null,"IDN"]
[9,{"$f":"tblTerritories!B10","v":"JPN"},{"$f":"tblTerritories!C10","v":"Japan"},null,"JPN",null,null,null,"JPN"]
[10,{"$f":"tblTerritories!B11","v":"LAO"},{"$f":"tblTerritories!C11","v":"Laos"},null,"LAO",null,null,null,"LAO"]
[11,{"$f":"tblTerritories!B12","v":"MYS"},{"$f":"tblTerritories!C12","v":"Malaysia"},null,"MYS",null,null,null,"MYS"]
[12,{"$f":"tblTerritories!B13","v":"MMR"},{"$f":"tblTerritories!C13","v":"Myanmar"},null,"MMR",null,null,null,"MMR"]
[13,{"$f":"tblTerritories!B14","v":"PAK"},{"$f":"tblTerritories!C14","v":"Pakistan"},null,"PAK",null,null,null,"PAK"]
[14,{"$f":"tblTerritories!B15","v":"PHL"},{"$f":"tblTerritories!C15","v":"Philippines"},null,"PHL",null,null,null,"PHL"]
[15,{"$f":"tblTerritories!B16","v":"SGP"},{"$f":"tblTerritories!C16","v":"Singapore"},null,"SGP",null,null,null,"SGP"]
[16,{"$f":"tblTerritories!B17","v":"KOR"},{"$f":"tblTerritories!C17","v":"South Korea"},null,"KOR",null,null,null,"KOR"]
[17,{"$f":"tblTerritories!B18","v":"LKA"},{"$f":"tblTerritories!C18","v":"Sri Lanka"},null,"LKA",null,null,null,"LKA"]
[18,{"$f":"tblTerritories!B19","v":"TWN"},{"$f":"tblTerritories!C19","v":"Taiwan"},null,"TWN",null,null,null,"TWN"]
[19,{"$f":"tblTerritories!B20","v":"THA"},{"$f":"tblTerritories!C20","v":"Thailand"},null,"THA",null,null,null,"THA"]
[20,{"$f":"tblTerritories!B21","v":"VNM"},{"$f":"tblTerritories!C21","v":"Vietnam"},null,"VNM",null,null,null,"VNM"]
[21,{"$f":"tblTerritories!B22","v":"USA"},{"$f":"tblTerritories!C22","v":"USA"},null,"USA",null,null,null,"USA"]

{"sheet":"tblIndicators","index":29,"n_rows":33,"n_cols":53,"rows_kept":33,"cut":false,"hidden":true,"merged":[]}
["ID","IS_BG","Spare1","INDI_CODE","PARENT_CODE","DEPTH","REF","NDICATOR_SHORT","DESCRIPTION","INDICATOR_UNIT","Rational","Scoring Criteria (0-100 or 0-4 etc)","Year","Geography","HIGH=Good","Format","MAIN_SOURCE","SOURCE_WS_ID","HIGH_IS","NORM_ID (1=sumproduct, 2=min max set by data values, 3=min max set by user here)","Set Min","Set Max","WEIGHT_NOM","WEIGHT_PERC","REF_INDI","PARENT","Weight_row","Weight_nom_inc_1","Weight-%",null,"Weight_nom_inc_2","Weight-%",null,"Weight_nom_inc_3","Weight-%",null,"Weight_nom_inc_4","Weight-%",null,"Weight_nom_2_1","Weight-%_2",null,"Weight_nom_2_2","Weight-%_2",null,"Weight_nom_2_3","Weight-%_2",null,"Weight_nom_2_4","Weight-%_2",null,"Weights for display only","Weight-%_2"]
[1,0,null,"TOTAL","OVERALL SCORE",0,null,"OVERALL SCORE","The overall score is the weighted sum of the following category scores:\n\n1) ECONOMIC PILLAR\n2) SOCIAL PILLAR\n3) ENVIRONMENTAL PILLAR","Index score/number",null,null,{"$f":"CHOOSE(iDateCollect!AD4,iDateCollect!Z4,\"Dates range between \"&iDateCollect!Y4&\" and \"&iDateCollect!Z4,\"Scores derived from data taken between \"&iDateCollect!AB4&\" and \"&iDateCollect!AC4,iDateCollect!AC2)","v":"Scores derived from data taken between 2006 and 2014"},null,null,"0.0","EIU Calculation",null,{"$f":"IF(O2=\"\",\"\",IF(O2=\"High score = good\",0,1))","v":""},1,null,null,{"$f":"AC2","v":0},{"$f":"IF(F2=0,\"\",IF(SUMIF(E$3:E$126,E2,W$3:W$33)=0,0,W2/SUMIF(E$3:E$33,E2,W$3:W$33)))","v":""},{"$f":"IF(G2=\"\",H2,CONCATENATE(G2,\") \",IF(F2>=2,H2,UPPER(H2))))","v":"OVERALL SCORE"}]
[2,0,null,"EP","TOTAL",1,1,{"$f":"iDataCollect!C5","v":"Economic pillar"},"The category score is the weighted sum of the following indicator scores: \n\n1.10) Growth in per capita GDP\n1.11) Current account liberalisation\n1.12) Tariff & non-tariff barriers\n1.13) Exchange rate volatility\n1.14) Financial sector depth\n1.15) Foreign trade and payments risk\n1.16) Export market concentration\n1.17) Export product concentration\n1.18) Foreign Direct Investment\n1.19) Gross fixed capital formation\n1.20) Trade costs\n1.21) Technological innovation\n1.22) Technological infrastructure\n1.23) Growth in labour force","Index score/number",null,null,{"$f":"CHOOSE(iDateCollect!AD5,iDateCollect!Z5,\"Dates range between \"&iDateCollect!Y5&\" and \"&iDateCollect!Z5,\"Scores derived from data taken between \"&iDateCollect!AB5&\" and \"&iDateCollect!AC5,iDateCollect!AC3)","v":"Scores derived from data taken between 2006 and 2014"},null,null,"#0.0","EIU Calculation",{"$f":"G3","v":1},{"$f":"IF(O3=\"\",\"\",IF(O3=\"High score = good\",0,1))","v":""},1,null,null,{"$f":"AC3","v":0.33333333333333331},0.33333333333333331,"1) ECONOMIC PILLAR",{"$f":"$Y$2","v":"OVERALL SCORE"},{"$f":"MATCH($D3,Weights!$C$7:$C$47,0)","v":1},{"$f":"IF(ISERROR($AA3),1,INDEX(Weights2!$G$7:$G$45,$AA3))","v":1},{"$f":"IF(ISERROR(AB3/SUMIF($E$2:$E$42,$E3,AB$2:AB$33)),0,AB3/SUMIF($E$2:$E$42,$E3,AB$2:AB$33))","v":0.33333333333333331},null,{"$f":"IF(ISERROR($AA3),1,INDEX(Weights2!$K$7:$K$45,$AA3))","v":1},{"$f":"IF(ISERROR(AE3/SUMIF($E$2:$E$42,$E3,AE$2:AE$33)),0,AE3/SUMIF($E$2:$E$42,$E3,AE$2:AE$33))","v":0.33333333333333331},null,{"$f":"IF(ISERROR(AA3),1,INDEX(Weights2!$O$7:$O$77,AA3))","v":1},{"$f":"IF(ISERROR(AH3/SUMIF($E$2:$E$42,$E3,AH$2:AH$33)),0,AH3/SUMIF($E$2:$E$42,$E3,AH$2:AH$33))","v":0.33333333333333331},null,{"$f":"IF(ISERROR(AA3),1,INDEX(Weights2!$S$7:$S$77,AA3))","v":1},{"$f":"IF(ISERROR(AK3/SUMIF($E$2:$E$42,$E3,AK$2:AK$33)),0,AK3/SUMIF($E$2:$E$42,$E3,AK$2:AK$33))","v":0.33333333333333331},null,{"$f":"IF(ISERROR($AA3),1,INDEX(iWeights2!$H$5:$AU$43,$AA3,uxb_works!$B$36))","v":1},{"$f":"IF(ISERROR(AN3/SUMIF($E$2:$E$42,$E3,AN$2:AN$33)),0,AN3/SUMIF($E$2:$E$42,$E3,AN$2:AN$33))","v":0.33333333333333331},null,{"$f":"IF(ISERROR($AA3),1,INDEX(iWeights2!$H$5:$AU$43,$AA3,uxb_works!$B$36+1))","v":1.2},{"$f":"IF(ISERROR(AQ3/SUMIF($E$2:$E$42,$E3,AQ$2:AQ$33)),0,AQ3/SUMIF($E$2:$E$42,$E3,AQ$2:AQ$33))","v":0.39999999999999997},null,{"$f":"IF(ISERROR($AA3),1,INDEX(iWeights2!$H$5:$AU$43,$AA3,uxb_works!$B$36+2))","v":1.5},{"$f":"IF(ISERROR(AT3/SUMIF($E$2:$E$42,$E3,AT$2:AT$33)),0,AT3/SUMIF($E$2:$E$42,$E3,AT$2:AT$33))","v":0.5},null,{"$f":"IF(ISERROR($AA3),1,INDEX(iWeights2!$H$5:$AU$43,$AA3,uxb_works!$B$36+3))","v":1.8},{"$f":"IF(ISERROR(AW3/SUMIF($E$2:$E$42,$E3,AW$2:AW$33)),0,AW3/SUMIF($E$2:$E$42,$E3,AW$2:AW$33))","v":0.6},null,{"$f":"IF(ISERROR($AA3),1,INDEX(Weights!$G$7:$G$45,$AA3))","v":1.6},{"$f":"IF(ISERROR(AZ3/SUMIF($E$2:$E$42,$E3,AZ$2:AZ$33)),0,AZ3/SUMIF($E$2:$E$42,$E3,AZ$2:AZ$33))","v":0.53333333333333333}]
[3,0,null,"EP_10","EP",2,"1.10",{"$f":"iDataCollect!C6","v":"Growth in per capita GDP"},"Year-on-year growth of per-capita GDP. As a proxy for personal income, this indicator reflects consumers’ ability to spend on imported goods.\nconsumers’ ability to spend on imported goods.","percentage growth",null,null,{"$f":"CHOOSE(iDateCollect!AD6,iDateCollect!Z6,\"Dates range between \"&iDateCollect!Y6&\" and \"&iDateCollect!Z6,\"Scores derived from data taken between \"&iDateCollect!AB6&\" and \"&iDateCollect!AC6,iDateCollect!AC4)","v":2014},null,"High score = good","#0.0","EIU",{"$f":"G4","v":"1.10"},0,2,null,null,{"$f":"AC4","v":7.1428571428571425E-2},7.1428571428571452E-2,"1.10) Growth in per capita GDP",{"$f":"$Y$3","v":"1) ECONOMIC PILLAR"},{"$f":"MATCH($D4,Weights!$C$7:$C$47,0)","v":7},{"$f":"IF(ISERROR($AA4),1,INDEX(Weights2!$G$7:$G$45,$AA4))","v":1},7.1428571428571425E-2,null,{"$f":"IF(ISERROR(AA4),1,INDEX(Weights2!$K$7:$K$45,AA4))","v":1},{"$f":"IF(ISERROR(AE4/SUMIF($E$2:$E$42,$E4,AE$2:AE$33)),0,AE4/SUMIF($E$2:$E$42,$E4,AE$2:AE$33))","v":7.1428571428571425E-2},null,{"$f":"IF(ISERROR(AA4),1,INDEX(Weights2!$O$7:$O$77,AA4))","v":1},{"$f":"IF(ISERROR(AH4/SUMIF($E$2:$E$42,$E4,AH$2:AH$33)),0,AH4/SUMIF($E$2:$E$42,$E4,AH$2:AH$33))","v":7.1428571428571425E-2},null,{"$f":"IF(ISERROR(AA4),1,INDEX(Weights2!$S$7:$S$77,AA4))","v":1},{"$f":"IF(ISERROR(AK4/SUMIF($E$2:$E$42,$E4,AK$2:AK$33)),0,AK4/SUMIF($E$2:$E$42,$E4,AK$2:AK$33))","v":7.1428571428571425E-2},null,{"$f":"IF(ISERROR($AA4),1,INDEX(iWeights2!$H$5:$AU$43,$AA4,uxb_works!$B$36))","v":1},7.1428571428571425E-2,null,{"$f":"IF(ISERROR($AA4),1,INDEX(iWeights2!$H$5:$AU$43,$AA4,uxb_works!$B$36+1))","v":1},7.1428571428571425E-2,null,{"$f":"IF(ISERROR($AA4),1,INDEX(iWeights2!$H$5:$AU$43,$AA4,uxb_works!$B$36+2))","v":1},4.1666666666666664E-2,null,{"$f":"IF(ISERROR($AA4),1,INDEX(iWeights2!$H$5:$AU$43,$AA4,uxb_works!$B$36+3))","v":1},7.1428571428571425E-2,null,{"$f":"IF(ISERROR($AA4),1,INDEX(Weights!$G$7:$G$45,$AA4))","v":1},7.1428571428571425E-2]
[4,0,null,"EP_11","EP",2,1.1100000000000001,{"$f":"iDataCollect!C7","v":"Current account liberalisation"},"A measure of a country’s current account liberalisation, with consideration of restrictions in this area; used to capture the ease with which a country trades goods across its border.","1-5 scores",null,null,{"$f":"CHOOSE(iDateCollect!AD7,iDateCollect!Z7,\"Dates range between \"&iDateCollect!Y7&\" and \"&iDateCollect!Z7,\"Scores derived from data taken between \"&iDateCollect!AB7&\" and \"&iDateCollect!AC7,iDateCollect!AC5)","v":2014},null,"High score = good","#0","EIU",1.1100000000000001,0,3,1,5,7.1428571428571425E-2,7.1428571428571452E-2,"1.11) Current account liberalisation","1) ECONOMIC PILLAR",{"$f":"MATCH($D5,Weights!$C$7:$C$47,0)","v":8},{"$f":"IF(ISERROR($AA5),1,INDEX(Weights2!$G$7:$G$45,$AA5))","v":1},7.1428571428571425E-2,null,{"$f":"IF(ISERROR(AA5),1,INDEX(Weights2!$K$7:$K$45,AA5))","v":1},7.1428571428571425E-2,null,{"$f":"IF(ISERROR(AA5),1,INDEX(Weights2!$O$7:$O$77,AA5))","v":1},7.1428571428571425E-2,null,{"$f":"IF(ISERROR(AA5),1,INDEX(Weights2!$S$7:$S$77,AA5))","v":1},7.1428571428571425E-2,null,{"$f":"IF(ISERROR($AA5),1,INDEX(iWeights2!$H$5:$AU$43,$AA5,uxb_works!$B$36))","v":1},7.1428571428571425E-2,null,{"$f":"IF(ISERROR($AA5),1,INDEX(iWeights2!$H$5:$AU$43,$AA5,uxb_works!$B$36+1))","v":1},7.1428571428571425E-2,null,{"$f":"IF(ISERROR($AA5),1,INDEX(iWeights2!$H$5:$AU$43,$AA5,uxb_works!$B$36+2))","v":1},4.1666666666666664E-2,null,{"$f":"IF(ISERROR($AA5),1,INDEX(iWeights2!$H$5:$AU$43,$AA5,uxb_works!$B$36+3))","v":1},7.1428571428571425E-2,null,{"$f":"IF(ISERROR($AA5),1,INDEX(Weights!$G$7:$G$45,$AA5))","v":1},7.1428571428571425E-2]
[5,0,null,"EP_12","EP",2,1.1200000000000001,{"$f":"iDataCollect!C8","v":"Tariff & non-tariff barriers"},"A measure of tariff barriers and non-tariff barriers such as trade quotas, licensing and import inspection. This indicator provides a broad measure of the impediments to trade in a country.","1-5 scores",null,null,{"$f":"CHOOSE(iDateCollect!AD8,iDateCollect!Z8,\"Dates range between \"&iDateCollect!Y8&\" and \"&iDateCollect!Z8,\"Scores derived from data taken between \"&iDateCollect!AB8&\" and \"&iDateCollect!AC8,iDateCollect!AC6)","v":2014},null,"High score = good","#0","EIU",1.1200000000000001,0,3,1,5,7.1428571428571425E-2,7.1428571428571452E-2,"1.12) Tariff & non-tariff barriers","1) ECONOMIC PILLAR",{"$f":"MATCH($D6,Weights!$C$7:$C$47,0)","v":9},{"$f":"IF(ISERROR($AA6),1,INDEX(Weights2!$G$7:$G$45,$AA6))","v":1},7.1428571428571425E-2,null,{"$f":"IF(ISERROR(AA6),1,INDEX(Weights2!$K$7:$K$45,AA6))","v":1},7.1428571428571425E-2,null,{"$f":"IF(ISERROR(AA6),1,INDEX(Weights2!$O$7:$O$77,AA6))","v":1},7.1428571428571425E-2,null,{"$f":"IF(ISERROR(AA6),1,INDEX(Weights2!$S$7:$S$77,AA6))","v":1},7.1428571428571425E-2,null,{"$f":"IF(ISERROR($AA6),1,INDEX(iWeights2!$H$5:$AU$43,$AA6,uxb_works!$B$36))","v":1},7.1428571428571425E-2,null,{"$f":"IF(ISERROR($AA6),1,INDEX(iWeights2!$H$5:$AU$43,$AA6,uxb_works!$B$36+1))","v":1},7.1428571428571425E-2,null,{"$f":"IF(ISERROR($AA6),1,INDEX(iWeights2!$H$5:$AU$43,$AA6,uxb_works!$B$36+2))","v":1},4.1666666666666664E-2,null,{"$f":"IF(ISERROR($AA6),1,INDEX(iWeights2!$H$5:$AU$43,$AA6,uxb_works!$B$36+3))","v":1},7.1428571428571425E-2,null,{"$f":"IF(ISERROR($AA6),1,INDEX(Weights!$G$7:$G$45,$AA6))","v":1},7.1428571428571425E-2]
[6,0,null,"EP_13","EP",2,1.1299999999999999,{"$f":"iDataCollect!C9","v":"Exchange rate volatility"},"The standard deviation of a country’s exchange rate to its major trading partners. It is a trade-weighted measure to reflect that volatility matters more for higher volumes of trade. As an indicator, exchange rate volatility is a potential source of uncertainty when conducting trade.","trade-weighted standard deviations",null,null,{"$f":"CHOOSE(iDateCollect!AD9,iDateCollect!Z9,\"Dates range between \"&iDateCollect!Y9&\" and \"&iDateCollect!Z9,\"Scores derived from data taken between \"&iDateCollect!AB9&\" and \"&iDateCollect!AC9,iDateCollect!AC7)","v":2014},null,"High score = bad","#0.00",null,1.1299999999999999,1,2,null,null,7.1428571428571425E-2,7.1428571428571452E-2,"1.13) Exchange rate volatility","1) ECONOMIC PILLAR",{"$f":"MATCH($D7,Weights!$C$7:$C$47,0)","v":10},{"$f":"IF(ISERROR($AA7),1,INDEX(Weights2!$G$7:$G$45,$AA7))","v":1},7.1428571428571425E-2,null,{"$f":"IF(ISERROR(AA7),1,INDEX(Weights2!$K$7:$K$45,AA7))","v":1},7.1428571428571425E-2,null,{"$f":"IF(ISERROR(AA7),1,INDEX(Weights2!$O$7:$O$77,AA7))","v":1},7.1428571428571425E-2,null,{"$f":"IF(ISERROR(AA7),1,INDEX(Weights2!$S$7:$S$77,AA7))","v":1},7.1428571428571425E-2,null,{"$f":"IF(ISERROR($AA7),1,INDEX(iWeights2!$H$5:$AU$43,$AA7,uxb_works!$B$36))","v":1},7.1428571428571425E-2,null,{"$f":"IF(ISERROR($AA7),1,INDEX(iWeights2!$H$5:$AU$43,$AA7,uxb_works!$B$36+1))","v":1},7.1428571428571425E-2,null,{"$f":"IF(ISERROR($AA7),1,INDEX(iWeights2!$H$5:$AU$43,$AA7,uxb_works!$B$36+2))","v":6},0.25,null,{"$f":"IF(ISERROR($AA7),1,INDEX(iWeights2!$H$5:$AU$43,$AA7,uxb_works!$B$36+3))","v":1},7.1428571428571425E-2,null,{"$f":"IF(ISERROR($AA7),1,INDEX(Weights!$G$7:$G$45,$AA7))","v":1},7.1428571428571425E-2]
[7,0,null,"EP_14","EP",2,1.1399999999999999,{"$f":"iDataCollect!C10","v":"Financial sector depth"},"Domestic credit to the private sector, as a percentage of GDP. This indicator is a proxy for the availability of trade finance to provide a hedge against exchange rate volatility.","% of GDP",null,null,{"$f":"CHOOSE(iDateCollect!AD10,iDateCollect!Z10,\"Dates range between \"&iDateCollect!Y10&\" and \"&iDateCollect!Z10,\"Scores derived from data taken between \"&iDateCollect!AB10&\" and \"&iDateCollect!AC10,iDateCollect!AC8)","v":"Dates range between 2010 and 2014"},null,"High score = good","#0","EIU",1.1399999999999999,0,2,null,null,7.1428571428571425E-2,7.1428571428571452E-2,"1.14) Financial sector depth","1) ECONOMIC PILLAR",{"$f":"MATCH($D8,Weights!$C$7:$C$47,0)","v":11},{"$f":"IF(ISERROR($AA8),1,INDEX(Weights2!$G$7:$G$45,$AA8))","v":1},7.1428571428571425E-2,null,{"$f":"IF(ISERROR(AA8),1,INDEX(Weights2!$K$7:$K$45,AA8))","v":1},7.1428571428571425E-2,null,{"$f":"IF(ISERROR(AA8),1,INDEX(Weights2!$O$7:$O$77,AA8))","v":1},7.1428571428571425E-2,null,{"$f":"IF(ISERROR(AA8),1,INDEX(Weights2!$S$7:$S$77,AA8))","v":1},7.1428571428571425E-2,null,{"$f":"IF(ISERROR($AA8),1,INDEX(iWeights2!$H$5:$AU$43,$AA8,uxb_works!$B$36))","v":1},7.1428571428571425E-2,null,{"$f":"IF(ISERROR($AA8),1,INDEX(iWeights2!$H$5:$AU$43,$AA8,uxb_works!$B$36+1))","v":1},7.1428571428571425E-2,null,{"$f":"IF(ISERROR($AA8),1,INDEX(iWeights2!$H$5:$AU$43,$AA8,uxb_works!$B$36+2))","v":1},4.1666666666666664E-2,null,{"$f":"IF(ISERROR($AA8),1,INDEX(iWeights2!$H$5:$AU$43,$AA8,uxb_works!$B$36+3))","v":1},7.1428571428571425E-2,null,{"$f":"IF(ISERROR($AA8),1,INDEX(Weights!$G$7:$G$45,$AA8))","v":1},7.1428571428571425E-2]
[8,0,null,"EP_15","EP",2,1.1499999999999999,{"$f":"iDataCollect!C11","v":"Foreign trade and payments risk"},"A measure that assesses a company’s risk in getting money or inputs in and out of a country. This indicator captures the risks to conducting trade, which provide an additional barrier to trade for trading companies.","1-100 scores",null,null,{"$f":"CHOOSE(iDateCollect!AD11,iDateCollect!Z11,\"Dates range between \"&iDateCollect!Y11&\" and \"&iDateCollect!Z11,\"Scores derived from data taken between \"&iDateCollect!AB11&\" and \"&iDateCollect!AC11,iDateCollect!AC9)","v":2014},null,"High score = bad","#0","EIU",1.1499999999999999,1,3,1,100,7.1428571428571425E-2,7.1428571428571452E-2,"1.15) Foreign trade and payments risk","1) ECONOMIC PILLAR",{"$f":"MATCH($D9,Weights!$C$7:$C$47,0)","v":12},{"$f":"IF(ISERROR($AA9),1,INDEX(Weights2!$G$7:$G$45,$AA9))","v":1},7.1428571428571425E-2,null,{"$f":"IF(ISERROR(AA9),1,INDEX(Weights2!$K$7:$K$45,AA9))","v":1},7.1428571428571425E-2,null,{"$f":"IF(ISERROR(AA9),1,INDEX(Weights2!$O$7:$O$77,AA9))","v":1},7.1428571428571425E-2,null,{"$f":"IF(ISERROR(AA9),1,INDEX(Weights2!$S$7:$S$77,AA9))","v":1},7.1428571428571425E-2,null,{"$f":"IF(ISERROR($AA9),1,INDEX(iWeights2!$H$5:$AU$43,$AA9,uxb_works!$B$36))","v":1},7.1428571428571425E-2,null,{"$f":"IF(ISERROR($AA9),1,INDEX(iWeights2!$H$5:$AU$43,$AA9,uxb_works!$B$36+1))","v":1},7.1428571428571425E-2,null,{"$f":"IF(ISERROR($AA9),1,INDEX(iWeights2!$H$5:$AU$43,$AA9,uxb_works!$B$36+2))","v":6},0.25,null,{"$f":"IF(ISERROR($AA9),1,INDEX(iWeights2!$H$5:$AU$43,$AA9,uxb_works!$B$36+3))","v":1},7.1428571428571425E-2,null,{"$f":"IF(ISERROR($AA9),1,INDEX(Weights!$G$7:$G$45,$AA9))","v":1},7.1428571428571425E-2]
[9,0,null,"EP_16","EP",2,1.1599999999999999,{"$f":"iDataCollect!C12","v":"Export market concentration"},"The share of a country’s exports by destination, calculated as the average of the country’s top four trading partners. This indicator provides a measure of export market concentration, as a highly concentrated export market is a trading vulnerability.","% ",null,null,{"$f":"CHOOSE(iDateCollect!AD12,iDateCollect!Z12,\"Dates range between \"&iDateCollect!Y12&\" and \"&iDateCollect!Z12,\"Scores derived from data taken between \"&iDateCollect!AB12&\" and \"&iDateCollect!AC12,iDateCollect!AC10)","v":2014},null,"High score = bad","#0.00","EIU",1.1599999999999999,1,2,null,null,7.1428571428571425E-2,7.1428571428571452E-2,"1.16) Export market concentration","1) ECONOMIC PILLAR",{"$f":"MATCH($D10,Weights!$C$7:$C$47,0)","v":13},{"$f":"IF(ISERROR($AA10),1,INDEX(Weights2!$G$7:$G$45,$AA10))","v":1},7.1428571428571425E-2,null,{"$f":"IF(ISERROR(AA10),1,INDEX(Weights2!$K$7:$K$45,AA10))","v":1},7.1428571428571425E-2,null,{"$f":"IF(ISERROR(AA10),1,INDEX(Weights2!$O$7:$O$77,AA10))","v":1},7.1428571428571425E-2,null,{"$f":"IF(ISERROR(AA10),1,INDEX(Weights2!$S$7:$S$77,AA10))","v":1},7.1428571428571425E-2,null,{"$f":"IF(ISERROR($AA10),1,INDEX(iWeights2!$H$5:$AU$43,$AA10,uxb_works!$B$36))","v":1},7.1428571428571425E-2,null,{"$f":"IF(ISERROR($AA10),1,INDEX(iWeights2!$H$5:$AU$43,$AA10,uxb_works!$B$36+1))","v":1},7.1428571428571425E-2,null,{"$f":"IF(ISERROR($AA10),1,INDEX(iWeights2!$H$5:$AU$43,$AA10,uxb_works!$B$36+2))","v":1},4.1666666666666664E-2,null,{"$f":"IF(ISERROR($AA10),1,INDEX(iWeights2!$H$5:$AU$43,$AA10,uxb_works!$B$36+3))","v":1},7.1428571428571425E-2,null,{"$f":"IF(ISERROR($AA10),1,INDEX(Weights!$G$7:$G$45,$AA10))","v":1},7.1428571428571425E-2]
[10,0,null,"EP_17","EP",2,1.17,{"$f":"iDataCollect!C13","v":"Export product concentration"},"The share of a country’s exports by product (as opposed to destination), calculated as the average of the country’s top four product shares. This indicator provides a measure of product market concentration, signalling vulnerability if this share is highly concentrated on certain products.","%",null,null,{"$f":"CHOOSE(iDateCollect!AD13,iDateCollect!Z13,\"Dates range between \"&iDateCollect!Y13&\" and \"&iDateCollect!Z13,\"Scores derived from data taken between \"&iDateCollect!AB13&\" and \"&iDateCollect!AC13,iDateCollect!AC11)","v":"Dates range between 2006 and 2014"},null,"High score = bad","#0.0","EIU",1.17,1,2,null,null,7.1428571428571425E-2,7.1428571428571452E-2,"1.17) Export product concentration","1) ECONOMIC PILLAR",{"$f":"MATCH($D11,Weights!$C$7:$C$47,0)","v":14},{"$f":"IF(ISERROR($AA11),1,INDEX(Weights2!$G$7:$G$45,$AA11))","v":1},7.1428571428571425E-2,null,{"$f":"IF(ISERROR(AA11),1,INDEX(Weights2!$K$7:$K$45,AA11))","v":1},7.1428571428571425E-2,null,{"$f":"IF(ISERROR(AA11),1,INDEX(Weights2!$O$7:$O$77,AA11))","v":1},7.1428571428571425E-2,null,{"$f":"IF(ISERROR(AA11),1,INDEX(Weights2!$S$7:$S$77,AA11))","v":1},7.1428571428571425E-2,null,{"$f":"IF(ISERROR($AA11),1,INDEX(iWeights2!$H$5:$AU$43,$AA11,uxb_works!$B$36))","v":1},7.1428571428571425E-2,null,{"$f":"IF(ISERROR($AA11),1,INDEX(iWeights2!$H$5:$AU$43,$AA11,uxb_works!$B$36+1))","v":1},7.1428571428571425E-2,null,{"$f":"IF(ISERROR($AA11),1,INDEX(iWeights2!$H$5:$AU$43,$AA11,uxb_works!$B$36+2))","v":1},4.1666666666666664E-2,null,{"$f":"IF(ISERROR($AA11),1,INDEX(iWeights2!$H$5:$AU$43,$AA11,uxb_works!$B$36+3))","v":1},7.1428571428571425E-2,null,{"$f":"IF(ISERROR($AA11),1,INDEX(Weights!$G$7:$G$45,$AA11))","v":1},7.1428571428571425E-2]
[11,0,null,"EP_18","EP",2,1.18,{"$f":"iDataCollect!C14","v":"Foreign Direct Investment"},"Inward FDI as a share of GDP. The indicator measures this source of investment that supports a country’s trade and economic growth.","% of GDP",null,null,{"$f":"CHOOSE(iDateCollect!AD14,iDateCollect!Z14,\"Dates range between \"&iDateCollect!Y14&\" and \"&iDateCollect!Z14,\"Scores derived from data taken between \"&iDateCollect!AB14&\" and \"&iDateCollect!AC14,iDateCollect!AC12)","v":"Dates range between 2011 and 2014"},null,"High score = good","#0.0","EIU",1.18,0,2,null,null,{"$f":"AC12","v":7.1428571428571425E-2},7.1428571428571452E-2,"1.18) Foreign Direct Investment","1) ECONOMIC PILLAR",{"$f":"MATCH($D12,Weights!$C$7:$C$47,0)","v":15},{"$f":"IF(ISERROR($AA12),1,INDEX(Weights2!$G$7:$G$45,$AA12))","v":1},7.1428571428571425E-2,null,{"$f":"IF(ISERROR(AA12),1,INDEX(Weights2!$K$7:$K$45,AA12))","v":1},7.1428571428571425E-2,null,{"$f":"IF(ISERROR(AA12),1,INDEX(Weights2!$O$7:$O$77,AA12))","v":1},7.1428571428571425E-2,null,{"$f":"IF(ISERROR(AA12),1,INDEX(Weights2!$S$7:$S$77,AA12))","v":1},7.1428571428571425E-2,null,{"$f":"IF(ISERROR($AA12),1,INDEX(iWeights2!$H$5:$AU$43,$AA12,uxb_works!$B$36))","v":1},7.1428571428571425E-2,null,{"$f":"IF(ISERROR($AA12),1,INDEX(iWeights2!$H$5:$AU$43,$AA12,uxb_works!$B$36+1))","v":1},7.1428571428571425E-2,null,{"$f":"IF(ISERROR($AA12),1,INDEX(iWeights2!$H$5:$AU$43,$AA12,uxb_works!$B$36+2))","v":1},4.1666666666666664E-2,null,{"$f":"IF(ISERROR($AA12),1,INDEX(iWeights2!$H$5:$AU$43,$AA12,uxb_works!$B$36+3))","v":1},7.1428571428571425E-2,null,{"$f":"IF(ISERROR($AA12),1,INDEX(Weights!$G$7:$G$45,$AA12))","v":1},7.1428571428571425E-2]
[12,0,null,"EP_19","EP",2,1.19,{"$f":"iDataCollect!C15","v":"Gross fixed capital formation"},"Gross fixed investment in the national economy. Like FDI, a country’s gross investment encourages trade and economic growth.","% of GDP",null,null,{"$f":"CHOOSE(iDateCollect!AD15,iDateCollect!Z15,\"Dates range between \"&iDateCollect!Y15&\" and \"&iDateCollect!Z15,\"Scores derived from data taken between \"&iDateCollect!AB15&\" and \"&iDateCollect!AC15,iDateCollect!AC13)","v":2014},null,"High score = good","#0.00","EIU",1.19,0,2,null,null,7.1428571428571425E-2,7.1428571428571452E-2,"1.19) Gross fixed capital formation","1) ECONOMIC PILLAR",{"$f":"MATCH($D13,Weights!$C$7:$C$47,0)","v":16},{"$f":"IF(ISERROR($AA13),1,INDEX(Weights2!$G$7:$G$45,$AA13))","v":1},7.1428571428571425E-2,null,{"$f":"IF(ISERROR(AA13),1,INDEX(Weights2!$K$7:$K$45,AA13))","v":1},7.1428571428571425E-2,null,{"$f":"IF(ISERROR(AA13),1,INDEX(Weights2!$O$7:$O$77,AA13))","v":1},7.1428571428571425E-2,null,{"$f":"IF(ISERROR(AA13),1,INDEX(Weights2!$S$7:$S$77,AA13))","v":1},7.1428571428571425E-2,null,{"$f":"IF(ISERROR($AA13),1,INDEX(iWeights2!$H$5:$AU$43,$AA13,uxb_works!$B$36))","v":1},7.1428571428571425E-2,null,{"$f":"IF(ISERROR($AA13),1,INDEX(iWeights2!$H$5:$AU$43,$AA13,uxb_works!$B$36+1))","v":1},7.1428571428571425E-2,null,{"$f":"IF(ISERROR($AA13),1,INDEX(iWeights2!$H$5:$AU$43,$AA13,uxb_works!$B$36+2))","v":1},4.1666666666666664E-2,null,{"$f":"IF(ISERROR($AA13),1,INDEX(iWeights2!$H$5:$AU$43,$AA13,uxb_works!$B$36+3))","v":1},7.1428571428571425E-2,null,{"$f":"IF(ISERROR($AA13),1,INDEX(Weights!$G$7:$G$45,$AA13))","v":1},7.1428571428571425E-2]
[13,0,null,"EP_20","EP",2,"1.20",{"$f":"iDataCollect!C16","v":"Trade costs"},"The indicator score is the weighted sum of the following sub-indicator scores: \n\n1.20.1)    Infrastructure\n1.20.2)    Logistics performance\n1.20.3)    Corruption\n1.20.4)    Legal system","Index score/number",null,null,{"$f":"CHOOSE(iDateCollect!AD16,iDateCollect!Z16,\"Dates range between \"&iDateCollect!Y16&\" and \"&iDateCollect!Z16,\"Scores derived from data taken between \"&iDateCollect!AB16&\" and \"&iDateCollect!AC16,iDateCollect!AC14)","v":0},null,null,"#0.0","EIU Calculation","1.20","",1,null,null,7.1428571428571425E-2,7.1428571428571452E-2,"1.20) Trade costs","1) ECONOMIC PILLAR",{"$f":"MATCH($D14,Weights!$C$7:$C$47,0)","v":17},{"$f":"IF(ISERROR($AA14),1,INDEX(Weights2!$G$7:$G$45,$AA14))","v":1},7.1428571428571425E-2,null,{"$f":"IF(ISERROR(AA14),1,INDEX(Weights2!$K$7:$K$45,AA14))","v":1},7.1428571428571425E-2,null,{"$f":"IF(ISERROR(AA14),1,INDEX(Weights2!$O$7:$O$77,AA14))","v":1},7.1428571428571425E-2,null,{"$f":"IF(ISERROR(AA14),1,INDEX(Weights2!$S$7:$S$77,AA14))","v":1},7.1428571428571425E-2,null,{"$f":"IF(ISERROR($AA14),1,INDEX(iWeights2!$H$5:$AU$43,$AA14,uxb_works!$B$36))","v":1},7.1428571428571425E-2,null,{"$f":"IF(ISERROR($AA14),1,INDEX(iWeights2!$H$5:$AU$43,$AA14,uxb_works!$B$36+1))","v":1},7.1428571428571425E-2,null,{"$f":"IF(ISERROR($AA14),1,INDEX(iWeights2!$H$5:$AU$43,$AA14,uxb_works!$B$36+2))","v":1},4.1666666666666664E-2,null,{"$f":"IF(ISERROR($AA14),1,INDEX(iWeights2!$H$5:$AU$43,$AA14,uxb_works!$B$36+3))","v":1},7.1428571428571425E-2,null,{"$f":"IF(ISERROR($AA14),1,INDEX(Weights!$G$7:$G$45,$AA14))","v":1},7.1428571428571425E-2]
[14,0,null,"EP_20_1","EP_20",3,"1.20.1",{"$f":"iDataCollect!C17","v":"   Infrastructure"},"The EIU’s infrastructure rating scores countries between 1 and 10 on a variety of measures such as telecoms, transport, energy, and office space. Depending on its state, a country’s infrastructure can either support or inhibit economic growth and trade.","1-10 scores",null,null,{"$f":"CHOOSE(iDateCollect!AD17,iDateCollect!Z17,\"Dates range between \"&iDateCollect!Y17&\" and \"&iDateCollect!Z17,\"Scores derived from data taken between \"&iDateCollect!AB17&\" and \"&iDateCollect!AC17,iDateCollect!AC15)","v":2014},null,"High score = good","#0.0","EIU","1.20.1",0,3,1,10,0.25,0.25,"1.20.1)    Infrastructure",{"$f":"$Y$14","v":"1.20) Trade costs"},{"$f":"MATCH($D15,Weights!$C$7:$C$47,0)","v":36},{"$f":"IF(ISERROR($AA15),1,INDEX(Weights2!$G$7:$G$45,$AA15))","v":1},0.25,null,{"$f":"IF(ISERROR(AA15),1,INDEX(Weights2!$K$7:$K$45,AA15))","v":1},0.25,null,{"$f":"IF(ISERROR(AA15),1,INDEX(Weights2!$O$7:$O$77,AA15))","v":1},0.25,null,{"$f":"IF(ISERROR(AA15),1,INDEX(Weights2!$S$7:$S$77,AA15))","v":1},0.25,null,{"$f":"IF(ISERROR($AA15),1,INDEX(iWeights2!$H$5:$AU$43,$AA15,uxb_works!$B$36))","v":1},0.25,null,{"$f":"IF(ISERROR($AA15),1,INDEX(iWeights2!$H$5:$AU$43,$AA15,uxb_works!$B$36+1))","v":1},0.25,null,{"$f":"IF(ISERROR($AA15),1,INDEX(iWeights2!$H$5:$AU$43,$AA15,uxb_works!$B$36+2))","v":1},0.25,null,{"$f":"IF(ISERROR($AA15),1,INDEX(iWeights2!$H$5:$AU$43,$AA15,uxb_works!$B$36+3))","v":1},0.25,null,{"$f":"IF(ISERROR($AA15),1,INDEX(Weights!$G$7:$G$45,$AA15))","v":1},0.25]
[15,0,null,"EP_20_2","EP_20",3,"1.20.2",{"$f":"iDataCollect!C18","v":"   Logistics performance"},"Logistics performance refers to the efficiency of the supply chains that support domestic and international trade in a country. Inefficient logistics can raise the costs of trade and hinder economic growth.","0 - 5",null,null,{"$f":"CHOOSE(iDateCollect!AD18,iDateCollect!Z18,\"Dates range between \"&iDateCollect!Y18&\" and \"&iDateCollect!Z18,\"Scores derived from data taken between \"&iDateCollect!AB18&\" and \"&iDateCollect!AC18,iDateCollect!AC16)","v":2014},null,"High score = good","#0.00","WB LPI","1.20.2",0,3,0,5,0.25,0.25,"1.20.2)    Logistics performance",{"$f":"$Y$14","v":"1.20) Trade costs"},{"$f":"MATCH($D16,Weights!$C$7:$C$47,0)","v":37},{"$f":"IF(ISERROR($AA16),1,INDEX(Weights2!$G$7:$G$45,$AA16))","v":1},0.25,null,{"$f":"IF(ISERROR(AA16),1,INDEX(Weights2!$K$7:$K$45,AA16))","v":1},0.25,null,{"$f":"IF(ISERROR(AA16),1,INDEX(Weights2!$O$7:$O$77,AA16))","v":1},0.25,null,{"$f":"IF(ISERROR(AA16),1,INDEX(Weights2!$S$7:$S$77,AA16))","v":1},0.25,null,{"$f":"IF(ISERROR($AA16),1,INDEX(iWeights2!$H$5:$AU$43,$AA16,uxb_works!$B$36))","v":1},0.25,null,{"$f":"IF(ISERROR($AA16),1,INDEX(iWeights2!$H$5:$AU$43,$AA16,uxb_works!$B$36+1))","v":1},0.25,null,{"$f":"IF(ISERROR($AA16),1,INDEX(iWeights2!$H$5:$AU$43,$AA16,uxb_works!$B$36+2))","v":1},0.25,null,{"$f":"IF(ISERROR($AA16),1,INDEX(iWeights2!$H$5:$AU$43,$AA16,uxb_works!$B$36+3))","v":1},0.25,null,{"$f":"IF(ISERROR($AA16),1,INDEX(Weights!$G$7:$G$45,$AA16))","v":1},0.25]
[16,0,null,"EP_20_3","EP_20",3,"1.20.3",{"$f":"iDataCollect!C19","v":"   Corruption"},"The EIU’s corruption rating scores countries between 1 and 5 on the pervasiveness of corruption among public officials. Corruption raises the costs of conducting trade.","1-5 scores",null,null,{"$f":"CHOOSE(iDateCollect!AD19,iDateCollect!Z19,\"Dates range between \"&iDateCollect!Y19&\" and \"&iDateCollect!Z19,\"Scores derived from data taken between \"&iDateCollect!AB19&\" and \"&iDateCollect!AC19,iDateCollect!AC17)","v":2014},null,"High score = good","#0","EIU","1.20.3",0,3,1,5,0.25,0.25,"1.20.3)    Corruption","1.20) Trade costs",{"$f":"MATCH($D17,Weights!$C$7:$C$47,0)","v":38},{"$f":"IF(ISERROR($AA17),1,INDEX(Weights2!$G$7:$G$45,$AA17))","v":1},0.25,null,{"$f":"IF(ISERROR(AA17),1,INDEX(Weights2!$K$7:$K$45,AA17))","v":1},0.25,null,{"$f":"IF(ISERROR(AA17),1,INDEX(Weights2!$O$7:$O$77,AA17))","v":1},0.25,null,{"$f":"IF(ISERROR(AA17),1,INDEX(Weights2!$S$7:$S$77,AA17))","v":1},0.25,null,{"$f":"IF(ISERROR($AA17),1,INDEX(iWeights2!$H$5:$AU$43,$AA17,uxb_works!$B$36))","v":1},0.25,null,{"$f":"IF(ISERROR($AA17),1,INDEX(iWeights2!$H$5:$AU$43,$AA17,uxb_works!$B$36+1))","v":1},0.25,null,{"$f":"IF(ISERROR($AA17),1,INDEX(iWeights2!$H$5:$AU$43,$AA17,uxb_works!$B$36+2))","v":1},0.25,null,{"$f":"IF(ISERROR($AA17),1,INDEX(iWeights2!$H$5:$AU$43,$AA17,uxb_works!$B$36+3))","v":1},0.25,null,{"$f":"IF(ISERROR($AA17),1,INDEX(Weights!$G$7:$G$45,$AA17))","v":1},0.25]
[17,0,null,"EP_20_4","EP_20",3,"1.20.4",{"$f":"iDataCollect!C20","v":"   Legal system"},"The EIU scores countries between 1 and 5 on the transparency and fairness of legal system. An obscure and unfair legal system raises the costs to trade.","1-5 scores",null,null,{"$f":"CHOOSE(iDateCollect!AD20,iDateCollect!Z20,\"Dates range between \"&iDateCollect!Y20&\" and \"&iDateCollect!Z20,\"Scores derived from data taken between \"&iDateCollect!AB20&\" and \"&iDateCollect!AC20,iDateCollect!AC18)","v":2014},null,"High score = good","#0","EIU","1.20.4",0,3,1,5,0.25,0.25,"1.20.4)    Legal system","1.20) Trade costs",{"$f":"MATCH($D18,Weights!$C$7:$C$47,0)","v":39},{"$f":"IF(ISERROR($AA18),1,INDEX(Weights2!$G$7:$G$45,$AA18))","v":1},0.25,null,{"$f":"IF(ISERROR(AA18),1,INDEX(Weights2!$K$7:$K$45,AA18))","v":1},0.25,null,{"$f":"IF(ISERROR(AA18),1,INDEX(Weights2!$O$7:$O$77,AA18))","v":1},0.25,null,{"$f":"IF(ISERROR(AA18),1,INDEX(Weights2!$S$7:$S$77,AA18))","v":1},0.25,null,{"$f":"IF(ISERROR($AA18),1,INDEX(iWeights2!$H$5:$AU$43,$AA18,uxb_works!$B$36))","v":1},0.25,null,{"$f":"IF(ISERROR($AA18),1,INDEX(iWeights2!$H$5:$AU$43,$AA18,uxb_works!$B$36+1))","v":1},0.25,null,{"$f":"IF(ISERROR($AA18),1,INDEX(iWeights2!$H$5:$AU$43,$AA18,uxb_works!$B$36+2))","v":1},0.25,null,{"$f":"IF(ISERROR($AA18),1,INDEX(iWeights2!$H$5:$AU$43,$AA18,uxb_works!$B$36+3))","v":1},0.25,null,{"$f":"IF(ISERROR($AA18),1,INDEX(Weights!$G$7:$G$45,$AA18))","v":1},0.25]
[18,0,null,"EP_21","EP",2,1.21,{"$f":"iDataCollect!C21","v":"Technological innovation"},"A measure of a country’s investment in research and development as a percentage of total GDP. This indicator captures a country’s ability to innovate and participate in the trading system as it moves towards more sophisticated goods.","Score",null,null,{"$f":"CHOOSE(iDateCollect!AD21,iDateCollect!Z21,\"Dates range between \"&iDateCollect!Y21&\" and \"&iDateCollect!Z21,\"Scores derived from data taken between \"&iDateCollect!AB21&\" and \"&iDateCollect!AC21,iDateCollect!AC19)","v":"Dates range between 2009 and 2014"},null,"High score = good","#0.0","UNESCO/World Bank",1.21,0,2,null,null,7.1428571428571425E-2,7.1428571428571452E-2,"1.21) Technological innovation",{"$f":"$Y$3","v":"1) ECONOMIC PILLAR"},{"$f":"MATCH($D19,Weights!$C$7:$C$47,0)","v":18},{"$f":"IF(ISERROR($AA19),1,INDEX(Weights2!$G$7:$G$45,$AA19))","v":1},7.1428571428571425E-2,null,{"$f":"IF(ISERROR(AA19),1,INDEX(Weights2!$K$7:$K$45,AA19))","v":1},7.1428571428571425E-2,null,{"$f":"IF(ISERROR(AA19),1,INDEX(Weights2!$O$7:$O$77,AA19))","v":1},7.1428571428571425E-2,null,{"$f":"IF(ISERROR(AA19),1,INDEX(Weights2!$S$7:$S$77,AA19))","v":1},7.1428571428571425E-2,null,{"$f":"IF(ISERROR($AA19),1,INDEX(iWeights2!$H$5:$AU$43,$AA19,uxb_works!$B$36))","v":1},7.1428571428571425E-2,null,{"$f":"IF(ISERROR($AA19),1,INDEX(iWeights2!$H$5:$AU$43,$AA19,uxb_works!$B$36+1))","v":1},7.1428571428571425E-2,null,{"$f":"IF(ISERROR($AA19),1,INDEX(iWeights2!$H$5:$AU$43,$AA19,uxb_works!$B$36+2))","v":1},4.1666666666666664E-2,null,{"$f":"IF(ISERROR($AA19),1,INDEX(iWeights2!$H$5:$AU$43,$AA19,uxb_works!$B$36+3))","v":1},7.1428571428571425E-2,null,{"$f":"IF(ISERROR($AA19),1,INDEX(Weights!$G$7:$G$45,$AA19))","v":1},7.1428571428571425E-2]
[19,0,null,"EP_22","EP",2,1.22,{"$f":"iDataCollect!C22","v":"Technological infrastructure"},"A measure of a country’s technological infrastructure in the use of telecommunications and computers. This indicator measures a country’s IT infrastructure to attract FDI and have a competitive infrastructure for exporting.","Score",null,null,{"$f":"CHOOSE(iDateCollect!AD22,iDateCollect!Z22,\"Dates range between \"&iDateCollect!Y22&\" and \"&iDateCollect!Z22,\"Scores derived from data taken between \"&iDateCollect!AB22&\" and \"&iDateCollect!AC22,iDateCollect!AC20)","v":2014},null,"High score = bad","#0","EIU",1.22,1,2,null,null,7.1428571428571425E-2,7.1428571428571452E-2,"1.22) Technological infrastructure","1) ECONOMIC PILLAR",{"$f":"MATCH($D20,Weights!$C$7:$C$47,0)","v":19},{"$f":"IF(ISERROR($AA20),1,INDEX(Weights2!$G$7:$G$45,$AA20))","v":1},7.1428571428571425E-2,null,{"$f":"IF(ISERROR(AA20),1,INDEX(Weights2!$K$7:$K$45,AA20))","v":1},7.1428571428571425E-2,null,{"$f":"IF(ISERROR(AA20),1,INDEX(Weights2!$O$7:$O$77,AA20))","v":1},7.1428571428571425E-2,null,{"$f":"IF(ISERROR(AA20),1,INDEX(Weights2!$S$7:$S$77,AA20))","v":1},7.1428571428571425E-2,null,{"$f":"IF(ISERROR($AA20),1,INDEX(iWeights2!$H$5:$AU$43,$AA20,uxb_works!$B$36))","v":1},7.1428571428571425E-2,null,{"$f":"IF(ISERROR($AA20),1,INDEX(iWeights2!$H$5:$AU$43,$AA20,uxb_works!$B$36+1))","v":1},7.1428571428571425E-2,null,{"$f":"IF(ISERROR($AA20),1,INDEX(iWeights2!$H$5:$AU$43,$AA20,uxb_works!$B$36+2))","v":1},4.1666666666666664E-2,null,{"$f":"IF(ISERROR($AA20),1,INDEX(iWeights2!$H$5:$AU$43,$AA20,uxb_works!$B$36+3))","v":1},7.1428571428571425E-2,null,{"$f":"IF(ISERROR($AA20),1,INDEX(Weights!$G$7:$G$45,$AA20))","v":1},7.1428571428571425E-2]
[20,0,null,"EP_23","EP",2,1.23,{"$f":"iDataCollect!C23","v":"Growth in labour force"},"The year-on-year change in a country’s labour force. A growing labour force supports economic growth and a country’s ability to continue trading.","%",null,null,{"$f":"CHOOSE(iDateCollect!AD23,iDateCollect!Z23,\"Dates range between \"&iDateCollect!Y23&\" and \"&iDateCollect!Z23,\"Scores derived from data taken between \"&iDateCollect!AB23&\" and \"&iDateCollect!AC23,iDateCollect!AC21)","v":2014},null,"High score = good","#0.00","EIU",1.23,0,2,null,null,7.1428571428571425E-2,7.1428571428571452E-2,"1.23) Growth in labour force","1) ECONOMIC PILLAR",{"$f":"MATCH($D21,Weights!$C$7:$C$47,0)","v":20},{"$f":"IF(ISERROR($AA21),1,INDEX(Weights2!$G$7:$G$45,$AA21))","v":1},7.1428571428571425E-2,null,{"$f":"IF(ISERROR(AA21),1,INDEX(Weights2!$K$7:$K$45,AA21))","v":1},7.1428571428571425E-2,null,{"$f":"IF(ISERROR(AA21),1,INDEX(Weights2!$O$7:$O$77,AA21))","v":1},7.1428571428571425E-2,null,{"$f":"IF(ISERROR(AA21),1,INDEX(Weights2!$S$7:$S$77,AA21))","v":1},7.1428571428571425E-2,null,{"$f":"IF(ISERROR($AA21),1,INDEX(iWeights2!$H$5:$AU$43,$AA21,uxb_works!$B$36))","v":1},7.1428571428571425E-2,null,{"$f":"IF(ISERROR($AA21),1,INDEX(iWeights2!$H$5:$AU$43,$AA21,uxb_works!$B$36+1))","v":1},7.1428571428571425E-2,null,{"$f":"IF(ISERROR($AA21),1,INDEX(iWeights2!$H$5:$AU$43,$AA21,uxb_works!$B$36+2))","v":1},4.1666666666666664E-2,null,{"$f":"IF(ISERROR($AA21),1,INDEX(iWeights2!$H$5:$AU$43,$AA21,uxb_works!$B$36+3))","v":1},7.1428571428571425E-2,null,{"$f":"IF(ISERROR($AA21),1,INDEX(Weights!$G$7:$G$45,$AA21))","v":1},7.1428571428571425E-2]
[21,0,null,"SP","TOTAL",1,2,{"$f":"iDataCollect!C24","v":"Social pillar"},"The category score is the weighted sum of the following indicator scores: \n\n2.1) Inequality (Gini coefficient)\n2.2) Educational attainment\n2.3) Labour standards\n2.4) Political stability","Index score/number",null,null,{"$f":"CHOOSE(iDateCollect!AD24,iDateCollect!Z24,\"Dates range between \"&iDateCollect!Y24&\" and \"&iDateCollect!Z24,\"Scores derived from data taken between \"&iDateCollect!AB24&\" and \"&iDateCollect!AC24,iDateCollect!AC22)","v":"Scores derived from data taken between 2009 and 2014"},null,null,"#0.0","EIU Calculation",2,"",1,null,null,0.33333333333333331,0.33333333333333331,"2) SOCIAL PILLAR",{"$f":"$Y$2","v":"OVERALL SCORE"},{"$f":"MATCH($D22,Weights!$C$7:$C$47,0)","v":2},{"$f":"IF(ISERROR($AA22),1,INDEX(Weights2!$G$7:$G$45,$AA22))","v":1},0.33333333333333331,null,{"$f":"IF(ISERROR(AA22),1,INDEX(Weights2!$K$7:$K$45,AA22))","v":1},0.33333333333333331,null,{"$f":"IF(ISERROR(AA22),1,INDEX(Weights2!$O$7:$O$77,AA22))","v":1},0.33333333333333331,null,{"$f":"IF(ISERROR(AA22),1,INDEX(Weights2!$S$7:$S$77,AA22))","v":1},0.33333333333333331,null,{"$f":"IF(ISERROR($AA22),1,INDEX(iWeights2!$H$5:$AU$43,$AA22,uxb_works!$B$36))","v":1},0.33333333333333331,null,{"$f":"IF(ISERROR($AA22),1,INDEX(iWeights2!$H$5:$AU$43,$AA22,uxb_works!$B$36+1))","v":1.2},0.39999999999999997,null,{"$f":"IF(ISERROR($AA22),1,INDEX(iWeights2!$H$5:$AU$43,$AA22,uxb_works!$B$36+2))","v":1},0.33333333333333331,null,{"$f":"IF(ISERROR($AA22),1,INDEX(iWeights2!$H$5:$AU$43,$AA22,uxb_works!$B$36+3))","v":0.8},0.26666666666666666,null,{"$f":"IF(ISERROR($AA22),1,INDEX(Weights!$G$7:$G$45,$AA22))","v":0.7},0.23333333333333331]
[22,0,null,"SP_10","SP",2,2.1,{"$f":"iDataCollect!C25","v":"Inequality (Gini coefficient)"},"A country’s measure on the Gini coefficient. This indicator captures the inequality level in a country between the upper and lower income brackets. Trade can impact inequality, and similarly, inequality can be a burden on trade and growth.","0 to upper bound",null,null,{"$f":"CHOOSE(iDateCollect!AD25,iDateCollect!Z25,\"Dates range between \"&iDateCollect!Y25&\" and \"&iDateCollect!Z25,\"Scores derived from data taken between \"&iDateCollect!AB25&\" and \"&iDateCollect!AC25,iDateCollect!AC23)","v":"Dates range between 2009 and 2013"},null,"High score = bad","#0.0","World Bank",2.1,1,2,null,null,0.25,0.25,"2.1) Inequality (Gini coefficient)",{"$f":"$Y$22","v":"2) SOCIAL PILLAR"},{"$f":"MATCH($D23,Weights!$C$7:$C$47,0)","v":22},{"$f":"IF(ISERROR($AA23),1,INDEX(Weights2!$G$7:$G$45,$AA23))","v":1},0.25,null,{"$f":"IF(ISERROR(AA23),1,INDEX(Weights2!$K$7:$K$45,AA23))","v":1},0.25,null,{"$f":"IF(ISERROR(AA23),1,INDEX(Weights2!$O$7:$O$77,AA23))","v":1},0.25,null,{"$f":"IF(ISERROR(AA23),1,INDEX(Weights2!$S$7:$S$77,AA23))","v":1},0.25,null,{"$f":"IF(ISERROR($AA23),1,INDEX(iWeights2!$H$5:$AU$43,$AA23,uxb_works!$B$36))","v":1},0.25,null,{"$f":"IF(ISERROR($AA23),1,INDEX(iWeights2!$H$5:$AU$43,$AA23,uxb_works!$B$36+1))","v":1},0.25,null,{"$f":"IF(ISERROR($AA23),1,INDEX(iWeights2!$H$5:$AU$43,$AA23,uxb_works!$B$36+2))","v":1},0.25,null,{"$f":"IF(ISERROR($AA23),1,INDEX(iWeights2!$H$5:$AU$43,$AA23,uxb_works!$B$36+3))","v":1},0.25,null,{"$f":"IF(ISERROR($AA23),1,INDEX(Weights!$G$7:$G$45,$AA23))","v":1},0.25]
[23,0,null,"SP_11","SP",2,2.2000000000000002,{"$f":"iDataCollect!C26","v":"Educational attainment"},"Percentage of individuals receiving tertiary education. This indicator provides a proxy for the level of educational attainment in a population, reflecting the relationship between human capital and trade.","0-100 percentage ",null,null,{"$f":"CHOOSE(iDateCollect!AD26,iDateCollect!Z26,\"Dates range between \"&iDateCollect!Y26&\" and \"&iDateCollect!Z26,\"Scores derived from data taken between \"&iDateCollect!AB26&\" and \"&iDateCollect!AC26,iDateCollect!AC24)","v":"Dates range between 2011 and 2014"},null,"High score = good","#0.0","UNESCO/World Bank",2.2000000000000002,0,2,null,null,0.25,0.25,"2.2) Educational attainment",{"$f":"$Y$22","v":"2) SOCIAL PILLAR"},{"$f":"MATCH($D24,Weights!$C$7:$C$47,0)","v":23},{"$f":"IF(ISERROR($AA24),1,INDEX(Weights2!$G$7:$G$45,$AA24))","v":1},0.25,null,{"$f":"IF(ISERROR(AA24),1,INDEX(Weights2!$K$7:$K$45,AA24))","v":1},0.25,null,{"$f":"IF(ISERROR(AA24),1,INDEX(Weights2!$O$7:$O$77,AA24))","v":1},0.25,null,{"$f":"IF(ISERROR(AA24),1,INDEX(Weights2!$S$7:$S$77,AA24))","v":1},0.25,null,{"$f":"IF(ISERROR($AA24),1,INDEX(iWeights2!$H$5:$AU$43,$AA24,uxb_works!$B$36))","v":1},0.25,null,{"$f":"IF(ISERROR($AA24),1,INDEX(iWeights2!$H$5:$AU$43,$AA24,uxb_works!$B$36+1))","v":1},0.25,null,{"$f":"IF(ISERROR($AA24),1,INDEX(iWeights2!$H$5:$AU$43,$AA24,uxb_works!$B$36+2))","v":1},0.25,null,{"$f":"IF(ISERROR($AA24),1,INDEX(iWeights2!$H$5:$AU$43,$AA24,uxb_works!$B$36+3))","v":1},0.25,null,{"$f":"IF(ISERROR($AA24),1,INDEX(Weights!$G$7:$G$45,$AA24))","v":1},0.25]
[24,0,null,"SP_12","SP",2,2.2999999999999998,{"$f":"iDataCollect!C27","v":"Labour standards"},"An assessment of child labour from the ILO, thus capturing the prevalence of child labour in a country. Trade is unlikely to be sustainable with enduring low-levels of labour standards.","1-4 score ",null,null,{"$f":"CHOOSE(iDateCollect!AD27,iDateCollect!Z27,\"Dates range between \"&iDateCollect!Y27&\" and \"&iDateCollect!Z27,\"Scores derived from data taken between \"&iDateCollect!AB27&\" and \"&iDateCollect!AC27,iDateCollect!AC25)","v":2014},null,"High score = bad","#0","ILO",2.2999999999999998,1,3,1,4,0.25,0.25,"2.3) Labour standards","2) SOCIAL PILLAR",{"$f":"MATCH($D25,Weights!$C$7:$C$47,0)","v":24},{"$f":"IF(ISERROR($AA25),1,INDEX(Weights2!$G$7:$G$45,$AA25))","v":1},0.25,null,{"$f":"IF(ISERROR(AA25),1,INDEX(Weights2!$K$7:$K$45,AA25))","v":1},0.25,null,{"$f":"IF(ISERROR(AA25),1,INDEX(Weights2!$O$7:$O$77,AA25))","v":1},0.25,null,{"$f":"IF(ISERROR(AA25),1,INDEX(Weights2!$S$7:$S$77,AA25))","v":1},0.25,null,{"$f":"IF(ISERROR($AA25),1,INDEX(iWeights2!$H$5:$AU$43,$AA25,uxb_works!$B$36))","v":1},0.25,null,{"$f":"IF(ISERROR($AA25),1,INDEX(iWeights2!$H$5:$AU$43,$AA25,uxb_works!$B$36+1))","v":1},0.25,null,{"$f":"IF(ISERROR($AA25),1,INDEX(iWeights2!$H$5:$AU$43,$AA25,uxb_works!$B$36+2))","v":1},0.25,null,{"$f":"IF(ISERROR($AA25),1,INDEX(iWeights2!$H$5:$AU$43,$AA25,uxb_works!$B$36+3))","v":1},0.25,null,{"$f":"IF(ISERROR($AA25),1,INDEX(Weights!$G$7:$G$45,$AA25))","v":1},0.25]
[25,0,null,"SP_13","SP",2,2.4,{"$f":"iDataCollect!C28","v":"Political stability"},"The EIU scores countries on the level of political stability in a given year, thus providing a link between trade and the political and social stability in a country.","0-5 score ",null,null,{"$f":"CHOOSE(iDateCollect!AD28,iDateCollect!Z28,\"Dates range between \"&iDateCollect!Y28&\" and \"&iDateCollect!Z28,\"Scores derived from data taken between \"&iDateCollect!AB28&\" and \"&iDateCollect!AC28,iDateCollect!AC26)","v":2014},null,"High score = bad","#0.0","EIU",2.4,1,3,0,5,0.25,0.25,"2.4) Political stability","2) SOCIAL PILLAR",{"$f":"MATCH($D26,Weights!$C$7:$C$47,0)","v":25},{"$f":"IF(ISERROR($AA26),1,INDEX(Weights2!$G$7:$G$45,$AA26))","v":1},0.25,null,{"$f":"IF(ISERROR(AA26),1,INDEX(Weights2!$K$7:$K$45,AA26))","v":1},0.25,null,{"$f":"IF(ISERROR(AA26),1,INDEX(Weights2!$O$7:$O$77,AA26))","v":1},0.25,null,{"$f":"IF(ISERROR(AA26),1,INDEX(Weights2!$S$7:$S$77,AA26))","v":1},0.25,null,{"$f":"IF(ISERROR($AA26),1,INDEX(iWeights2!$H$5:$AU$43,$AA26,uxb_works!$B$36))","v":1},0.25,null,{"$f":"IF(ISERROR($AA26),1,INDEX(iWeights2!$H$5:$AU$43,$AA26,uxb_works!$B$36+1))","v":1},0.25,null,{"$f":"IF(ISERROR($AA26),1,INDEX(iWeights2!$H$5:$AU$43,$AA26,uxb_works!$B$36+2))","v":1},0.25,null,{"$f":"IF(ISERROR($AA26),1,INDEX(iWeights2!$H$5:$AU$43,$AA26,uxb_works!$B$36+3))","v":1},0.25,null,{"$f":"IF(ISERROR($AA26),1,INDEX(Weights!$G$7:$G$45,$AA26))","v":1},0.25]
[26,0,null,"ENP","TOTAL",1,3,{"$f":"iDataCollect!C29","v":"Environmental pillar"},"The category score is the weighted sum of the following indicator scores:\n\n3.1) Air pollution\n3.2) Deforestation\n3.3) Water pollution\n3.4) Environmental standards in trade\n3.5) Carbon emissions in trade\n3.6) Share of natural resources in trade","Index score/number",null,null,{"$f":"CHOOSE(iDateCollect!AD29,iDateCollect!Z29,\"Dates range between \"&iDateCollect!Y29&\" and \"&iDateCollect!Z29,\"Scores derived from data taken between \"&iDateCollect!AB29&\" and \"&iDateCollect!AC29,iDateCollect!AC27)","v":"Scores derived from data taken between 2011 and 2014"},null,null,"#0.0","EIU Calculation",3,"",1,null,null,0.33333333333333331,0.33333333333333331,"3) ENVIRONMENTAL PILLAR",{"$f":"$Y$2","v":"OVERALL SCORE"},{"$f":"MATCH($D27,Weights!$C$7:$C$47,0)","v":3},{"$f":"IF(ISERROR($AA27),1,INDEX(Weights2!$G$7:$G$45,$AA27))","v":1},0.33333333333333331,null,{"$f":"IF(ISERROR(AA27),1,INDEX(Weights2!$K$7:$K$45,AA27))","v":1},0.33333333333333331,null,{"$f":"IF(ISERROR(AA27),1,INDEX(Weights2!$O$7:$O$77,AA27))","v":1},0.33333333333333331,null,{"$f":"IF(ISERROR(AA27),1,INDEX(Weights2!$S$7:$S$77,AA27))","v":1},0.33333333333333331,null,{"$f":"IF(ISERROR($AA27),1,INDEX(iWeights2!$H$5:$AU$43,$AA27,uxb_works!$B$36))","v":1},0.33333333333333331,null,{"$f":"IF(ISERROR($AA27),1,INDEX(iWeights2!$H$5:$AU$43,$AA27,uxb_works!$B$36+1))","v":0.6},0.19999999999999998,null,{"$f":"IF(ISERROR($AA27),1,INDEX(iWeights2!$H$5:$AU$43,$AA27,uxb_works!$B$36+2))","v":0.5},0.16666666666666666,null,{"$f":"IF(ISERROR($AA27),1,INDEX(iWeights2!$H$5:$AU$43,$AA27,uxb_works!$B$36+3))","v":0.4},0.13333333333333333,null,{"$f":"IF(ISERROR($AA27),1,INDEX(Weights!$G$7:$G$45,$AA27))","v":0.7},0.23333333333333331]
[27,0,null,"ENP_10","ENP",2,3.1,{"$f":"iDataCollect!C30","v":"Air pollution"},"Levels of particulate matter 2.5 (PM 2.5), to capture the air pollution in a country. This indicator highlights the link between economic growth, trade and pollution.","0 to Upper Bound (Population weighted exposure to PM2.5 (micro-grams per cubic meter))",null,null,{"$f":"CHOOSE(iDateCollect!AD30,iDateCollect!Z30,\"Dates range between \"&iDateCollect!Y30&\" and \"&iDateCollect!Z30,\"Scores derived from data taken between \"&iDateCollect!AB30&\" and \"&iDateCollect!AC30,iDateCollect!AC28)","v":2012},null,"High score = bad","#0.00","Yale EPI",3.1,1,2,null,null,0.16666666666666666,0.16666666666666669,"3.1) Air pollution",{"$f":"$Y$27","v":"3) ENVIRONMENTAL PILLAR"},{"$f":"MATCH($D28,Weights!$C$7:$C$47,0)","v":27},{"$f":"IF(ISERROR($AA28),1,INDEX(Weights2!$G$7:$G$45,$AA28))","v":1},0.16666666666666666,null,{"$f":"IF(ISERROR(AA28),1,INDEX(Weights2!$K$7:$K$45,AA28))","v":1},0.16666666666666666,null,{"$f":"IF(ISERROR(AA28),1,INDEX(Weights2!$O$7:$O$77,AA28))","v":1},0.16666666666666666,null,{"$f":"IF(ISERROR(AA28),1,INDEX(Weights2!$S$7:$S$77,AA28))","v":1},0.16666666666666666,null,{"$f":"IF(ISERROR($AA28),1,INDEX(iWeights2!$H$5:$AU$43,$AA28,uxb_works!$B$36))","v":1},0.16666666666666666,null,{"$f":"IF(ISERROR($AA28),1,INDEX(iWeights2!$H$5:$AU$43,$AA28,uxb_works!$B$36+1))","v":1},0.16666666666666666,null,{"$f":"IF(ISERROR($AA28),1,INDEX(iWeights2!$H$5:$AU$43,$AA28,uxb_works!$B$36+2))","v":1},0.16666666666666666,null,{"$f":"IF(ISERROR($AA28),1,INDEX(iWeights2!$H$5:$AU$43,$AA28,uxb_works!$B$36+3))","v":1},0.16666666666666666,null,{"$f":"IF(ISERROR($AA28),1,INDEX(Weights!$G$7:$G$45,$AA28))","v":1},0.16666666666666666]
[28,0,null,"ENP_11","ENP",2,3.2,{"$f":"iDataCollect!C31","v":"Deforestation"},"The change in a country’s forest cover. This indicator measures the rate of deforestation in a country over time, reflecting the links between growth, trade and the degradation of natural resources.","Lower Bound to 0 (percent change) ",null,null,{"$f":"CHOOSE(iDateCollect!AD31,iDateCollect!Z31,\"Dates range between \"&iDateCollect!Y31&\" and \"&iDateCollect!Z31,\"Scores derived from data taken between \"&iDateCollect!AB31&\" and \"&iDateCollect!AC31,iDateCollect!AC29)","v":2012},null,"High score = good","#0.0","Yale EPI",3.2,0,2,null,null,0.16666666666666666,0.16666666666666669,"3.2) Deforestation",{"$f":"$Y$27","v":"3) ENVIRONMENTAL PILLAR"},{"$f":"MATCH($D29,Weights!$C$7:$C$47,0)","v":28},{"$f":"IF(ISERROR($AA29),1,INDEX(Weights2!$G$7:$G$45,$AA29))","v":1},0.16666666666666666,null,{"$f":"IF(ISERROR(AA29),1,INDEX(Weights2!$K$7:$K$45,AA29))","v":1},0.16666666666666666,null,{"$f":"IF(ISERROR(AA29),1,INDEX(Weights2!$O$7:$O$77,AA29))","v":1},0.16666666666666666,null,{"$f":"IF(ISERROR(AA29),1,INDEX(Weights2!$S$7:$S$77,AA29))","v":1},0.16666666666666666,null,{"$f":"IF(ISERROR($AA29),1,INDEX(iWeights2!$H$5:$AU$43,$AA29,uxb_works!$B$36))","v":1},0.16666666666666666,null,{"$f":"IF(ISERROR($AA29),1,INDEX(iWeights2!$H$5:$AU$43,$AA29,uxb_works!$B$36+1))","v":1},0.16666666666666666,null,{"$f":"IF(ISERROR($AA29),1,INDEX(iWeights2!$H$5:$AU$43,$AA29,uxb_works!$B$36+2))","v":1},0.16666666666666666,null,{"$f":"IF(ISERROR($AA29),1,INDEX(iWeights2!$H$5:$AU$43,$AA29,uxb_works!$B$36+3))","v":1},0.16666666666666666,null,{"$f":"IF(ISERROR($AA29),1,INDEX(Weights!$G$7:$G$45,$AA29))","v":1},0.16666666666666666]
[29,0,null,"ENP_12","ENP",2,3.3,{"$f":"iDataCollect!C32","v":"Water pollution"},"The level of water pollution in a country. This indicator reflects the links between economic growth, trade and pollution in a country.","0-100 (% of wastewater treatment)",null,null,{"$f":"CHOOSE(iDateCollect!AD32,iDateCollect!Z32,\"Dates range between \"&iDateCollect!Y32&\" and \"&iDateCollect!Z32,\"Scores derived from data taken between \"&iDateCollect!AB32&\" and \"&iDateCollect!AC32,iDateCollect!AC30)","v":2012},null,"High score = good","#0","Yale EPI",3.3,0,2,null,null,0.16666666666666666,0.16666666666666669,"3.3) Water pollution","3) ENVIRONMENTAL PILLAR",{"$f":"MATCH($D30,Weights!$C$7:$C$47,0)","v":29},{"$f":"IF(ISERROR($AA30),1,INDEX(Weights2!$G$7:$G$45,$AA30))","v":1},0.16666666666666666,null,{"$f":"IF(ISERROR(AA30),1,INDEX(Weights2!$K$7:$K$45,AA30))","v":1},0.16666666666666666,null,{"$f":"IF(ISERROR(AA30),1,INDEX(Weights2!$O$7:$O$77,AA30))","v":1},0.16666666666666666,null,{"$f":"IF(ISERROR(AA30),1,INDEX(Weights2!$S$7:$S$77,AA30))","v":1},0.16666666666666666,null,{"$f":"IF(ISERROR($AA30),1,INDEX(iWeights2!$H$5:$AU$43,$AA30,uxb_works!$B$36))","v":1},0.16666666666666666,null,{"$f":"IF(ISERROR($AA30),1,INDEX(iWeights2!$H$5:$AU$43,$AA30,uxb_works!$B$36+1))","v":1},0.16666666666666666,null,{"$f":"IF(ISERROR($AA30),1,INDEX(iWeights2!$H$5:$AU$43,$AA30,uxb_works!$B$36+2))","v":1},0.16666666666666666,null,{"$f":"IF(ISERROR($AA30),1,INDEX(iWeights2!$H$5:$AU$43,$AA30,uxb_works!$B$36+3))","v":1},0.16666666666666666,null,{"$f":"IF(ISERROR($AA30),1,INDEX(Weights!$G$7:$G$45,$AA30))","v":1},0.16666666666666666]
[30,0,null,"ENP_13","ENP",2,3.4,{"$f":"iDataCollect!C33","v":"Environmental standards in trade"},"Indicator scores a country based on how many of seven key environmental agreements it has signed.","1-7 score ",null,null,{"$f":"CHOOSE(iDateCollect!AD33,iDateCollect!Z33,\"Dates range between \"&iDateCollect!Y33&\" and \"&iDateCollect!Z33,\"Scores derived from data taken between \"&iDateCollect!AB33&\" and \"&iDateCollect!AC33,iDateCollect!AC31)","v":2014},null,"High score = good","#0","WTO / Academic research",3.4,0,3,1,7,0.16666666666666666,0.16666666666666669,"3.4) Environmental standards in trade","3) ENVIRONMENTAL PILLAR",{"$f":"MATCH($D31,Weights!$C$7:$C$47,0)","v":30},{"$f":"IF(ISERROR($AA31),1,INDEX(Weights2!$G$7:$G$45,$AA31))","v":1},0.16666666666666666,null,{"$f":"IF(ISERROR(AA31),1,INDEX(Weights2!$K$7:$K$45,AA31))","v":1},0.16666666666666666,null,{"$f":"IF(ISERROR(AA31),1,INDEX(Weights2!$O$7:$O$77,AA31))","v":1},0.16666666666666666,null,{"$f":"IF(ISERROR(AA31),1,INDEX(Weights2!$S$7:$S$77,AA31))","v":1},0.16666666666666666,null,{"$f":"IF(ISERROR($AA31),1,INDEX(iWeights2!$H$5:$AU$43,$AA31,uxb_works!$B$36))","v":1},0.16666666666666666,null,{"$f":"IF(ISERROR($AA31),1,INDEX(iWeights2!$H$5:$AU$43,$AA31,uxb_works!$B$36+1))","v":1},0.16666666666666666,null,{"$f":"IF(ISERROR($AA31),1,INDEX(iWeights2!$H$5:$AU$43,$AA31,uxb_works!$B$36+2))","v":1},0.16666666666666666,null,{"$f":"IF(ISERROR($AA31),1,INDEX(iWeights2!$H$5:$AU$43,$AA31,uxb_works!$B$36+3))","v":1},0.16666666666666666,null,{"$f":"IF(ISERROR($AA31),1,INDEX(Weights!$G$7:$G$45,$AA31))","v":1},0.16666666666666666]
[31,0,null,"ENP_14","ENP",2,3.5,{"$f":"iDataCollect!C34","v":"Carbon emissions in trade"},"This indicator captures if a country has carbon pricing for exporting sectors that would internalize the cost of carbon to the production system. Carbon emissions and climate change are likely to significantly impact trade policy, given the links between climate change and the global trading system.","Total of carbon emissions in imports and exports (2004) estimates per country- kilotons C02",null,null,{"$f":"CHOOSE(iDateCollect!AD34,iDateCollect!Z34,\"Dates range between \"&iDateCollect!Y34&\" and \"&iDateCollect!Z34,\"Scores derived from data taken between \"&iDateCollect!AB34&\" and \"&iDateCollect!AC34,iDateCollect!AC32)","v":"Dates range between 2011 and 2014"},null,"High score = bad","#0","OECD / WTO / Academic research",3.5,1,2,null,null,0.16666666666666666,0.16666666666666669,"3.5) Carbon emissions in trade","3) ENVIRONMENTAL PILLAR",{"$f":"MATCH($D32,Weights!$C$7:$C$47,0)","v":31},{"$f":"IF(ISERROR($AA32),1,INDEX(Weights2!$G$7:$G$45,$AA32))","v":1},0.16666666666666666,null,{"$f":"IF(ISERROR(AA32),1,INDEX(Weights2!$K$7:$K$45,AA32))","v":1},0.16666666666666666,null,{"$f":"IF(ISERROR(AA32),1,INDEX(Weights2!$O$7:$O$77,AA32))","v":1},0.16666666666666666,null,{"$f":"IF(ISERROR(AA32),1,INDEX(Weights2!$S$7:$S$77,AA32))","v":1},0.16666666666666666,null,{"$f":"IF(ISERROR($AA32),1,INDEX(iWeights2!$H$5:$AU$43,$AA32,uxb_works!$B$36))","v":1},0.16666666666666666,null,{"$f":"IF(ISERROR($AA32),1,INDEX(iWeights2!$H$5:$AU$43,$AA32,uxb_works!$B$36+1))","v":1},0.16666666666666666,null,{"$f":"IF(ISERROR($AA32),1,INDEX(iWeights2!$H$5:$AU$43,$AA32,uxb_works!$B$36+2))","v":1},0.16666666666666666,null,{"$f":"IF(ISERROR($AA32),1,INDEX(iWeights2!$H$5:$AU$43,$AA32,uxb_works!$B$36+3))","v":1},0.16666666666666666,null,{"$f":"IF(ISERROR($AA32),1,INDEX(Weights!$G$7:$G$45,$AA32))","v":1},0.16666666666666666]
[32,0,null,"ENP_15","ENP",2,3.6,{"$f":"iDataCollect!C35","v":"Share of natural resources in trade"},"As a proxy for sustainability, this indicator captures what percentage of a country’s exports is related to natural resources. If a country hopes to continue trading in the economic system, it must either think of a way to preserve its indigenous resources, or develop other sectors and products to remain competitive.","0-100 percentage",null,null,{"$f":"CHOOSE(iDateCollect!AD35,iDateCollect!Z35,\"Dates range between \"&iDateCollect!Y35&\" and \"&iDateCollect!Z35,\"Scores derived from data taken between \"&iDateCollect!AB35&\" and \"&iDateCollect!AC35,iDateCollect!AC33)","v":"Dates range between 2011 and 2014"},null,"High score = bad","#0.00","UNCTAD Concentration Index ",3.6,1,2,null,null,0.16666666666666666,0.16666666666666669,"3.6) Share of natural resources in trade","3) ENVIRONMENTAL PILLAR",{"$f":"MATCH($D33,Weights!$C$7:$C$47,0)","v":32},{"$f":"IF(ISERROR($AA33),1,INDEX(Weights2!$G$7:$G$45,$AA33))","v":1},0.16666666666666666,null,{"$f":"IF(ISERROR(AA33),1,INDEX(Weights2!$K$7:$K$45,AA33))","v":1},0.16666666666666666,null,{"$f":"IF(ISERROR(AA33),1,INDEX(Weights2!$O$7:$O$77,AA33))","v":1},0.16666666666666666,null,{"$f":"IF(ISERROR(AA33),1,INDEX(Weights2!$S$7:$S$77,AA33))","v":1},0.16666666666666666,null,{"$f":"IF(ISERROR($AA33),1,INDEX(iWeights2!$H$5:$AU$43,$AA33,uxb_works!$B$36))","v":1},0.16666666666666666,null,{"$f":"IF(ISERROR($AA33),1,INDEX(iWeights2!$H$5:$AU$43,$AA33,uxb_works!$B$36+1))","v":1},0.16666666666666666,null,{"$f":"IF(ISERROR($AA33),1,INDEX(iWeights2!$H$5:$AU$43,$AA33,uxb_works!$B$36+2))","v":1},0.16666666666666666,null,{"$f":"IF(ISERROR($AA33),1,INDEX(iWeights2!$H$5:$AU$43,$AA33,uxb_works!$B$36+3))","v":1},0.16666666666666666,null,{"$f":"IF(ISERROR($AA33),1,INDEX(Weights!$G$7:$G$45,$AA33))","v":1},0.16666666666666666]

{"sheet":"uxb_works","index":30,"n_rows":65,"n_cols":37,"rows_kept":65,"cut":false,"hidden":true,"merged":[]}
["TERRITORY_COUNT",20]
["VERSION",{"$f":"Home!B33","v":"PRODUCTION"}]
["MAIN_DP",0]
["WEIGHT_PROFILE_ID",1]
[null,null,"plus none","ignore none","Country Code","Country Number"]
["CITY_HIGHLIGHT_DD",1,{"$f":"INDEX(luCityPlusNone,B6)","v":"<none>"},{"$f":"INDEX(luCities,B6)","v":"Bangladesh"},"USA",{"$f":"MATCH(E6,tblTerritories!B2:B22,0)","v":21}]
["CITY_HIGHLIGHT_ID",{"$f":"B6-1","v":0}]
["GROUP_HIGHLIGHT_DD",1,{"$f":"INDEX(luRegions,B8)","v":"<none>"}]
[null,{"$f":"B8+1","v":2},null,null,"Check if Autoheight on Summary page should run"]
["GROUP_FILTER_ID",1,{"$f":"INDEX(tblTerritories!O4:O8,B10)","v":"All Incomes"},null,{"$f":"COUNTIF(iSummary!M8:M27,1)","v":20},20,{"$f":"IF(E10=F10,1,0)","v":1}]
[null,{"$f":"B10-1","v":0},null,null,null,null,null,null,null,null,null,null,null,null,null,null,null,null,null,null,null,null,null,null,null,null,null,null,"Not Applicable"]
["NUMBER_OF_INDICATORS",1]
["Indicator Ranking",32,{"$f":"tblIndicators!B1","v":"IS_BG"},{"$f":"tblIndicators!C1","v":"Spare1"},{"$f":"tblIndicators!D1","v":"INDI_CODE"},{"$f":"tblIndicators!E1","v":"PARENT_CODE"},{"$f":"tblIndicators!F1","v":"DEPTH"},{"$f":"tblIndicators!G1","v":"REF"},{"$f":"tblIndicators!H1","v":"NDICATOR_SHORT"},{"$f":"tblIndicators!I1","v":"DESCRIPTION"},{"$f":"tblIndicators!J1","v":"INDICATOR_UNIT"},{"$f":"tblIndicators!K1","v":"Rational"},{"$f":"tblIndicators!L1","v":"Scoring Criteria (0-100 or 0-4 etc)"},{"$f":"tblIndicators!M1","v":"Year"},{"$f":"tblIndicators!N1","v":"Geography"},{"$f":"tblIndicators!O1","v":"HIGH=Good"},{"$f":"tblIndicators!P1","v":"Format"},{"$f":"tblIndicators!Q1","v":"MAIN_SOURCE"},{"$f":"tblIndicators!R1","v":"SOURCE_WS_ID"},{"$f":"tblIndicators!S1","v":"HIGH_IS"},{"$f":"tblIndicators!T1","v":"NORM_ID (1=sumproduct, 2=min max set by data values, 3=min max set by user here)"},{"$f":"tblIndicators!U1","v":"Set Min"},{"$f":"tblIndicators!V1","v":"Set Max"},{"$f":"tblIndicators!W1","v":"WEIGHT_NOM"},{"$f":"tblIndicators!X1","v":"WEIGHT_PERC"},{"$f":"tblIndicators!Y1","v":"REF_INDI"},{"$f":"tblIndicators!Z1","v":"PARENT"},{"$f":"tblIndicators!AA1","v":"Weight_row"},{"$f":"tblIndicators!AB1","v":"Weight_nom_inc_1"},{"$f":"tblIndicators!AC1","v":"Weight-%"},{"$f":"tblIndicators!#REF!","v":{"$error":"#REF!"}},{"$f":"tblIndicators!AN1","v":"Weight_nom_2_1"},{"$f":"tblIndicators!AO1","v":"Weight-%_2"},{"$f":"tblIndicators!AD1","v":0},{"$f":"tblIndicators!AE1","v":"Weight_nom_inc_2"},{"$f":"tblIndicators!AF1","v":"Weight-%"},{"$f":"tblIndicators!AF1","v":"Weight-%"}]
["INDI_ID",4,{"$f":"IF(INDEX(tblIndicators!B$2:B$33,$B14)=\"\",\"\",INDEX(tblIndicators!B$2:B$33,$B14))","v":0},{"$f":"IF(INDEX(tblIndicators!C$2:C$33,$B14)=\"\",\"\",INDEX(tblIndicators!C$2:C$33,$B14))","v":""},{"$f":"IF(INDEX(tblIndicators!D$2:D$33,$B14)=\"\",\"\",INDEX(tblIndicators!D$2:D$33,$B14))","v":"EP_11"},{"$f":"IF(INDEX(tblIndicators!E$2:E$33,$B14)=\"\",\"\",INDEX(tblIndicators!E$2:E$33,$B14))","v":"EP"},{"$f":"IF(INDEX(tblIndicators!F$2:F$33,$B14)=\"\",\"\",INDEX(tblIndicators!F$2:F$33,$B14))","v":2},{"$f":"IF(INDEX(tblIndicators!G$2:G$33,$B14)=\"\",\"\",INDEX(tblIndicators!G$2:G$33,$B14))","v":1.1100000000000001},{"$f":"IF(INDEX(tblIndicators!H$2:H$33,$B14)=\"\",\"\",INDEX(tblIndicators!H$2:H$33,$B14))","v":"Current account liberalisation"},{"$f":"IF(INDEX(tblIndicators!I$2:I$33,$B14)=\"\",\"\",INDEX(tblIndicators!I$2:I$33,$B14))","v":"A measure of a country’s current account liberalisation, with consideration of restrictions in this area; used to capture the ease with which a country trades goods across its border."},{"$f":"IF(INDEX(tblIndicators!J$2:J$33,$B14)=\"\",\"\",INDEX(tblIndicators!J$2:J$33,$B14))","v":"1-5 scores"},{"$f":"IF(INDEX(tblIndicators!K$2:K$33,$B14)=\"\",\"\",INDEX(tblIndicators!K$2:K$33,$B14))","v":""},{"$f":"IF(INDEX(tblIndicators!L$2:L$33,$B14)=\"\",\"\",INDEX(tblIndicators!L$2:L$33,$B14))","v":""},{"$f":"IF(INDEX(tblIndicators!M$2:M$33,$B14)=\"\",\"\",INDEX(tblIndicators!M$2:M$33,$B14))","v":2014},{"$f":"IF(INDEX(tblIndicators!N$2:N$33,$B14)=\"\",\"\",INDEX(tblIndicators!N$2:N$33,$B14))","v":""},{"$f":"IF(INDEX(tblIndicators!O$2:O$33,$B14)=\"\",\"\",INDEX(tblIndicators!O$2:O$33,$B14))","v":"High score = good"},{"$f":"IF(INDEX(tblIndicators!P$2:P$33,$B14)=\"\",\"\",INDEX(tblIndicators!P$2:P$33,$B14))","v":"#0"},{"$f":"IF(INDEX(tblIndicators!Q$2:Q$33,$B14)=\"\",\"\",INDEX(tblIndicators!Q$2:Q$33,$B14))","v":"EIU"},{"$f":"IF(INDEX(tblIndicators!R$2:R$33,$B14)=\"\",\"\",INDEX(tblIndicators!R$2:R$33,$B14))","v":1.1100000000000001},{"$f":"IF(INDEX(tblIndicators!S$2:S$33,$B14)=\"\",\"\",INDEX(tblIndicators!S$2:S$33,$B14))","v":0},{"$f":"IF(INDEX(tblIndicators!T$2:T$33,$B14)=\"\",\"\",INDEX(tblIndicators!T$2:T$33,$B14))","v":3},{"$f":"IF(INDEX(tblIndicators!U$2:U$33,$B14)=\"\",\"\",INDEX(tblIndicators!U$2:U$33,$B14))","v":1},{"$f":"IF(INDEX(tblIndicators!V$2:V$33,$B14)=\"\",\"\",INDEX(tblIndicators!V$2:V$33,$B14))","v":5},{"$f":"IF(INDEX(tblIndicators!W$2:W$33,$B14)=\"\",\"\",INDEX(tblIndicators!W$2:W$33,$B14))","v":7.1428571428571425E-2},{"$f":"IF(INDEX(tblIndicators!X$2:X$33,$B14)=\"\",\"\",INDEX(tblIndicators!X$2:X$33,$B14))","v":7.1428571428571452E-2},{"$f":"IF(INDEX(tblIndicators!Y$2:Y$33,$B14)=\"\",\"\",INDEX(tblIndicators!Y$2:Y$33,$B14))","v":"1.11) Current account liberalisation"},{"$f":"IF(INDEX(tblIndicators!Z$2:Z$33,$B14)=\"\",\"\",INDEX(tblIndicators!Z$2:Z$33,$B14))","v":"1) ECONOMIC PILLAR"},{"$f":"IF(INDEX(tblIndicators!AA$2:AA$33,$B14)=\"\",\"\",INDEX(tblIndicators!AA$2:AA$33,$B14))","v":8},{"$f":"IF(INDEX(tblIndicators!AB$2:AB$33,$B14)=\"\",\"\",INDEX(tblIndicators!AB$2:AB$33,$B14))","v":1},{"$f":"IF(INDEX(tblIndicators!AC$2:AC$33,$B14)=\"\",\"\",INDEX(tblIndicators!AC$2:AC$33,$B14))","v":7.1428571428571425E-2},{"$f":"IF(INDEX(tblIndicators!#REF!,$B14)=\"\",\"\",INDEX(tblIndicators!#REF!,$B14))","v":{"$error":"#REF!"}},{"$f":"IF(INDEX(tblIndicators!AN$2:AN$33,$B14)=\"\",\"\",INDEX(tblIndicators!AN$2:AN$33,$B14))","v":1},{"$f":"IF(INDEX(tblIndicators!AO$2:AO$33,$B14)=\"\",\"\",INDEX(tblIndicators!AO$2:AO$33,$B14))","v":7.1428571428571425E-2},{"$f":"IF(INDEX(tblIndicators!AD$2:AD$33,$B14)=\"\",\"\",INDEX(tblIndicators!AD$2:AD$33,$B14))","v":""},{"$f":"IF(INDEX(tblIndicators!AE$2:AE$33,$B14)=\"\",\"\",INDEX(tblIndicators!AE$2:AE$33,$B14))","v":1},{"$f":"IF(INDEX(tblIndicators!AF$2:AF$33,$B14)=\"\",\"\",INDEX(tblIndicators!AF$2:AF$33,$B14))","v":7.1428571428571425E-2},{"$f":"IF(INDEX(tblIndicators!AF$2:AF$33,$B14)=\"\",\"\",INDEX(tblIndicators!AF$2:AF$33,$B14))","v":7.1428571428571425E-2}]
[]
["INDI_OR_SUB_INDI",false]
[]
["City PROFILE",null,"City","Code","CoreRegionID"]
["CITY1_ID",4,{"$f":"INDEX(luCities,B19)","v":"China"},{"$f":"INDEX(OFFSET(luCities,0,-3),B19)","v":"CHN"},{"$f":"INDEX(OFFSET(luCities,0,3),B19)","v":0}]
["CITY2_ID",6,{"$f":"INDEX(luCities,B20)","v":"India"},{"$f":"INDEX(OFFSET(luCities,0,-3),B20)","v":"IND"},{"$f":"INDEX(OFFSET(luCities,0,3),B20)","v":0}]
["Show_data_Buckets",true,{"$f":"IF(B21,1,0)","v":1}]
[null,null,1,2,3,4,5,6,7,8,9,10,11,12,13,14,15,16,17,18,19]
["SCATTER",null,{"$f":"INDEX(tblIndicators!$D$1:$AO$1,C22)","v":"INDI_CODE"},{"$f":"INDEX(tblIndicators!$D$1:$AO$1,D22)","v":"PARENT_CODE"},{"$f":"INDEX(tblIndicators!$D$1:$AO$1,E22)","v":"DEPTH"},{"$f":"INDEX(tblIndicators!$D$1:$AO$1,F22)","v":"REF"},{"$f":"INDEX(tblIndicators!$D$1:$AO$1,G22)","v":"NDICATOR_SHORT"},{"$f":"INDEX(tblIndicators!$D$1:$AO$1,H22)","v":"DESCRIPTION"},{"$f":"INDEX(tblIndicators!$D$1:$AO$1,I22)","v":"INDICATOR_UNIT"},{"$f":"INDEX(tblIndicators!$D$1:$AO$1,J22)","v":"Rational"},{"$f":"INDEX(tblIndicators!$D$1:$AO$1,K22)","v":"Scoring Criteria (0-100 or 0-4 etc)"},{"$f":"INDEX(tblIndicators!$D$1:$AO$1,L22)","v":"Year"},{"$f":"INDEX(tblIndicators!$D$1:$AO$1,M22)","v":"Geography"},{"$f":"INDEX(tblIndicators!$D$1:$AO$1,N22)","v":"HIGH=Good"},{"$f":"INDEX(tblIndicators!$D$1:$AO$1,O22)","v":"Format"},{"$f":"INDEX(tblIndicators!$D$1:$AO$1,P22)","v":"MAIN_SOURCE"},{"$f":"INDEX(tblIndicators!$D$1:$AO$1,Q22)","v":"SOURCE_WS_ID"},{"$f":"INDEX(tblIndicators!$D$1:$AO$1,R22)","v":"HIGH_IS"},{"$f":"INDEX(tblIndicators!$D$1:$AO$1,S22)","v":"NORM_ID (1=sumproduct, 2=min max set by data values, 3=min max set by user here)"},{"$f":"INDEX(tblIndicators!$D$1:$AO$1,T22)","v":"Set Min"},{"$f":"INDEX(tblIndicators!$D$1:$AO$1,U22)","v":"Set Max"}]
["INDI_1",{"$f":"B14","v":4},{"$f":"INDEX(tblIndicators!$D$2:$Y$33,uxb_works!$B24,C$22)","v":"EP_11"},{"$f":"INDEX(tblIndicators!$D$2:$Y$33,uxb_works!$B24,D$22)","v":"EP"},{"$f":"INDEX(tblIndicators!$D$2:$Y$33,uxb_works!$B24,E$22)","v":2},{"$f":"INDEX(tblIndicators!$D$2:$Y$33,uxb_works!$B24,F$22)","v":1.1100000000000001},{"$f":"INDEX(tblIndicators!$D$2:$Y$33,uxb_works!$B24,G$22)","v":"Current account liberalisation"},{"$f":"INDEX(tblIndicators!$D$2:$Y$33,uxb_works!$B24,H$22)","v":"A measure of a country’s current account liberalisation, with consideration of restrictions in this area; used to capture the ease with which a country trades goods across its border."},{"$f":"INDEX(tblIndicators!$D$2:$Y$33,uxb_works!$B24,I$22)","v":"1-5 scores"},{"$f":"INDEX(tblIndicators!$D$2:$Y$33,uxb_works!$B24,J$22)","v":0},{"$f":"INDEX(tblIndicators!$D$2:$Y$33,uxb_works!$B24,K$22)","v":0},{"$f":"INDEX(tblIndicators!$D$2:$Y$33,uxb_works!$B24,L$22)","v":2014},{"$f":"INDEX(tblIndicators!$D$2:$Y$33,uxb_works!$B24,M$22)","v":0},{"$f":"INDEX(tblIndicators!$D$2:$Y$33,uxb_works!$B24,N$22)","v":"High score = good"},{"$f":"INDEX(tblIndicators!$D$2:$Y$33,uxb_works!$B24,O$22)","v":"#0"},{"$f":"INDEX(tblIndicators!$D$2:$Y$33,uxb_works!$B24,P$22)","v":"EIU"},{"$f":"INDEX(tblIndicators!$D$2:$Y$33,uxb_works!$B24,Q$22)","v":1.1100000000000001},{"$f":"INDEX(tblIndicators!$D$2:$Y$33,uxb_works!$B24,R$22)","v":0},{"$f":"INDEX(tblIndicators!$D$2:$Y$33,uxb_works!$B24,S$22)","v":3},{"$f":"INDEX(tblIndicators!$D$2:$Y$33,uxb_works!$B24,T$22)","v":1},{"$f":"INDEX(tblIndicators!$D$2:$Y$33,uxb_works!$B24,U$22)","v":5}]
["INDI_2",1,{"$f":"INDEX(tblIndicators!$D$2:$Y$33,uxb_works!$B25,C$22)","v":"TOTAL"},{"$f":"INDEX(tblIndicators!$D$2:$Y$33,uxb_works!$B25,D$22)","v":"OVERALL SCORE"},{"$f":"INDEX(tblIndicators!$D$2:$Y$33,uxb_works!$B25,E$22)","v":0},{"$f":"INDEX(tblIndicators!$D$2:$Y$33,uxb_works!$B25,F$22)","v":0},{"$f":"INDEX(tblIndicators!$D$2:$Y$33,uxb_works!$B25,G$22)","v":"OVERALL SCORE"},{"$f":"INDEX(tblIndicators!$D$2:$Y$33,uxb_works!$B25,H$22)","v":"The overall score is the weighted sum of the following category scores:\n\n1) ECONOMIC PILLAR\n2) SOCIAL PILLAR\n3) ENVIRONMENTAL PILLAR"},{"$f":"INDEX(tblIndicators!$D$2:$Y$33,uxb_works!$B25,I$22)","v":"Index score/number"},{"$f":"INDEX(tblIndicators!$D$2:$Y$33,uxb_works!$B25,J$22)","v":0},{"$f":"INDEX(tblIndicators!$D$2:$Y$33,uxb_works!$B25,K$22)","v":0},{"$f":"INDEX(tblIndicators!$D$2:$Y$33,uxb_works!$B25,L$22)","v":"Scores derived from data taken between 2006 and 2014"},{"$f":"INDEX(tblIndicators!$D$2:$Y$33,uxb_works!$B25,M$22)","v":0},{"$f":"INDEX(tblIndicators!$D$2:$Y$33,uxb_works!$B25,N$22)","v":0},{"$f":"INDEX(tblIndicators!$D$2:$Y$33,uxb_works!$B25,O$22)","v":"0.0"},{"$f":"INDEX(tblIndicators!$D$2:$Y$33,uxb_works!$B25,P$22)","v":"EIU Calculation"},{"$f":"INDEX(tblIndicators!$D$2:$Y$33,uxb_works!$B25,Q$22)","v":0},{"$f":"INDEX(tblIndicators!$D$2:$Y$33,uxb_works!$B25,R$22)","v":""},{"$f":"INDEX(tblIndicators!$D$2:$Y$33,uxb_works!$B25,S$22)","v":1},{"$f":"INDEX(tblIndicators!$D$2:$Y$33,uxb_works!$B25,T$22)","v":0},{"$f":"INDEX(tblIndicators!$D$2:$Y$33,uxb_works!$B25,U$22)","v":0}]
[]
["SHOW_LABELS",false]
["SHOW_OUTLIERS",false]
[]
["CHANGE_IN_WEIGHT",{"$f":"iWeights2!BC3","v":0},{"$f":"IF(B30=0,\"\",\"Weight profile has been changed from it's neutralsetting\")","v":""}]
[]
["COUNTRY_COMPARE",1]
[]
["WEIGHT_PROFILE_2",8,null,null,"Max count"]
["INDICATOR_SELECT_WEIGHT_COMPARE",1,{"$f":"INDEX(tblIndiSets!B5:B8,B35)","v":1},{"$f":"INDEX(tblIndiSets!C5:C8,B35)","v":"OVERALL SCORE"},4]
["WEIGHT_PROFILE_2_CALL",{"$f":"(B34-1)*4+1","v":29}]
["WEIGHT_INC_1",1]
["WEIGHT_INC_2",1]
["WEIGHT_INC_3",1]
["WEIGHT_INC_4",1]
[]
["SAVE_WEIGHT_INC",1]
["SAVE_WEIGHT_INC_ACTIVE",{"$f":"(B42-1)*4+1","v":1}]
[]
[null,"70% (recommended for 1024 width displays)",70]
[null,0.8,80]
[null,0.9,90]
[null,"100% (recommended for wide screen displays)",100]
[null,1.25,125]
[]
["ZOOM",4,{"$f":"INDEX(C45:C49,B51)","v":100}]
[]
[]
[]
[]
[]
["Text"]
[null,"Scores are normalized (0-100, where 100=most favorable)"]
[]
[]
["Weight_Compare"]
[]
["Indicator",1]
["WEIGHT_COMP",1]
["Order",true]

{"sheet":"tblIndiSets","index":31,"n_rows":119,"n_cols":22,"rows_kept":119,"cut":false,"hidden":true,"merged":[]}
[]
["CATEGORIES"]
[]
[]
["TOTAL",{"$f":"IF(A5=\"\",\"\",MATCH(A5,tblIndicators!D$2:D$33,0))","v":1},{"$f":"IF($A5=\"\",\"\",INDEX(tblIndicators!Y$2:Y$33,$B5))","v":"OVERALL SCORE"}]
["EP",{"$f":"IF(A6=\"\",\"\",MATCH(A6,tblIndicators!D$2:D$33,0))","v":2},{"$f":"IF($A6=\"\",\"\",INDEX(tblIndicators!Y$2:Y$33,$B6))","v":"1) ECONOMIC PILLAR"},null,null,null,null,null,null,null,null,null,null,null,null,null,"TOTAL","TOTAL","TOTAL","TOTAL","TOTAL","TOTAL"]
["SP",{"$f":"IF(A7=\"\",\"\",MATCH(A7,tblIndicators!D$2:D$33,0))","v":21},{"$f":"IF($A7=\"\",\"\",INDEX(tblIndicators!Y$2:Y$33,$B7))","v":"2) SOCIAL PILLAR"},null,null,null,null,null,null,null,null,null,null,null,null,null,"EP","EP","EP"]
["ENP",{"$f":"IF(A8=\"\",\"\",MATCH(A8,tblIndicators!D$2:D$33,0))","v":26},{"$f":"IF($A8=\"\",\"\",INDEX(tblIndicators!Y$2:Y$33,$B8))","v":"3) ENVIRONMENTAL PILLAR"},null,null,null,null,null,null,null,null,null,null,null,null,null,"EP_10","SP","EP_10"]
[null,null,null,null,null,null,null,null,null,null,null,null,null,null,null,null,"EP_11","ENP","EP_11"]
[null,null,null,null,null,null,null,null,null,null,null,null,null,null,null,null,"EP_12",null,"EP_12"]
["CATEGORIES + INDICATORS (SCORING ONES ONLY)",null,null,null,null,null,null,null,null,null,null,null,null,null,null,null,"EP_13",null,"EP_13"]
["TOTAL",{"$f":"IF(A12=\"\",\"\",MATCH(A12,tblIndicators!D$2:D$33,0))","v":1},{"$f":"IF($A12=\"\",\"\",INDEX(tblIndicators!Y$2:Y$33,$B12))","v":"OVERALL SCORE"},null,null,null,null,null,null,null,null,null,null,null,null,null,"EP_14",null,"EP_14"]
["EP",{"$f":"IF(A13=\"\",\"\",MATCH(A13,tblIndicators!D$2:D$33,0))","v":2},{"$f":"IF($A13=\"\",\"\",INDEX(tblIndicators!Y$2:Y$33,$B13))","v":"1) ECONOMIC PILLAR"},null,null,null,null,null,null,null,null,null,null,null,null,null,"EP_15",null,"EP_15"]
["EP_10",{"$f":"IF(A14=\"\",\"\",MATCH(A14,tblIndicators!D$2:D$33,0))","v":3},{"$f":"IF($A14=\"\",\"\",INDEX(tblIndicators!Y$2:Y$33,$B14))","v":"1.10) Growth in per capita GDP"},null,null,null,null,null,null,null,null,null,null,null,null,null,"EP_16",null,"EP_16"]
["EP_11",{"$f":"IF(A15=\"\",\"\",MATCH(A15,tblIndicators!D$2:D$33,0))","v":4},{"$f":"IF($A15=\"\",\"\",INDEX(tblIndicators!Y$2:Y$33,$B15))","v":"1.11) Current account liberalisation"},null,null,null,null,null,null,null,null,null,null,null,null,null,"EP_17",null,"EP_17"]
["EP_12",{"$f":"IF(A16=\"\",\"\",MATCH(A16,tblIndicators!D$2:D$33,0))","v":5},{"$f":"IF($A16=\"\",\"\",INDEX(tblIndicators!Y$2:Y$33,$B16))","v":"1.12) Tariff & non-tariff barriers"},null,null,null,null,null,null,null,null,null,null,null,null,null,"EP_18",null,"EP_18"]
["EP_13",{"$f":"IF(A17=\"\",\"\",MATCH(A17,tblIndicators!D$2:D$33,0))","v":6},{"$f":"IF($A17=\"\",\"\",INDEX(tblIndicators!Y$2:Y$33,$B17))","v":"1.13) Exchange rate volatility"},null,null,null,null,null,null,null,null,null,null,null,null,null,"EP_19",null,"EP_19"]
["EP_14",{"$f":"IF(A18=\"\",\"\",MATCH(A18,tblIndicators!D$2:D$33,0))","v":7},{"$f":"IF($A18=\"\",\"\",INDEX(tblIndicators!Y$2:Y$33,$B18))","v":"1.14) Financial sector depth"},null,null,null,null,null,null,null,null,null,null,null,null,null,"EP_20",null,"EP_20"]
["EP_15",{"$f":"IF(A19=\"\",\"\",MATCH(A19,tblIndicators!D$2:D$33,0))","v":8},{"$f":"IF($A19=\"\",\"\",INDEX(tblIndicators!Y$2:Y$33,$B19))","v":"1.15) Foreign trade and payments risk"},null,null,null,null,null,null,null,null,null,null,null,null,null,"EP_20_1",null,"EP_21"]
["EP_16",{"$f":"IF(A20=\"\",\"\",MATCH(A20,tblIndicators!D$2:D$33,0))","v":9},{"$f":"IF($A20=\"\",\"\",INDEX(tblIndicators!Y$2:Y$33,$B20))","v":"1.16) Export market concentration"},null,null,null,null,null,null,null,null,null,null,null,null,null,"EP_20_2",null,"EP_22"]
["EP_17",{"$f":"IF(A21=\"\",\"\",MATCH(A21,tblIndicators!D$2:D$33,0))","v":10},{"$f":"IF($A21=\"\",\"\",INDEX(tblIndicators!Y$2:Y$33,$B21))","v":"1.17) Export product concentration"},null,null,null,null,null,null,null,null,null,null,null,null,null,"EP_20_3",null,"EP_23"]
["EP_18",{"$f":"IF(A22=\"\",\"\",MATCH(A22,tblIndicators!D$2:D$33,0))","v":11},{"$f":"IF($A22=\"\",\"\",INDEX(tblIndicators!Y$2:Y$33,$B22))","v":"1.18) Foreign Direct Investment"},null,null,null,null,null,null,null,null,null,null,null,null,null,"EP_20_4",null,"SP"]
["EP_19",{"$f":"IF(A23=\"\",\"\",MATCH(A23,tblIndicators!D$2:D$33,0))","v":12},{"$f":"IF($A23=\"\",\"\",INDEX(tblIndicators!Y$2:Y$33,$B23))","v":"1.19) Gross fixed capital formation"},null,null,null,null,null,null,null,null,null,null,null,null,null,"EP_21",null,"SP_10"]
["EP_20",{"$f":"IF(A24=\"\",\"\",MATCH(A24,tblIndicators!D$2:D$33,0))","v":13},{"$f":"IF($A24=\"\",\"\",INDEX(tblIndicators!Y$2:Y$33,$B24))","v":"1.20) Trade costs"},null,null,null,null,null,null,null,null,null,null,null,null,null,"EP_22",null,"SP_11"]
["EP_21",{"$f":"IF(A25=\"\",\"\",MATCH(A25,tblIndicators!D$2:D$33,0))","v":18},{"$f":"IF($A25=\"\",\"\",INDEX(tblIndicators!Y$2:Y$33,$B25))","v":"1.21) Technological innovation"},null,null,null,null,null,null,null,null,null,null,null,null,null,"EP_23",null,"SP_12"]
["EP_22",{"$f":"IF(A26=\"\",\"\",MATCH(A26,tblIndicators!D$2:D$33,0))","v":19},{"$f":"IF($A26=\"\",\"\",INDEX(tblIndicators!Y$2:Y$33,$B26))","v":"1.22) Technological infrastructure"},null,null,null,null,null,null,null,null,null,null,null,null,null,"SP",null,"SP_13"]
["EP_23",{"$f":"IF(A27=\"\",\"\",MATCH(A27,tblIndicators!D$2:D$33,0))","v":20},{"$f":"IF($A27=\"\",\"\",INDEX(tblIndicators!Y$2:Y$33,$B27))","v":"1.23) Growth in labour force"},null,null,null,null,null,null,null,null,null,null,null,null,null,"SP_10",null,"ENP"]
["SP",{"$f":"IF(A28=\"\",\"\",MATCH(A28,tblIndicators!D$2:D$33,0))","v":21},{"$f":"IF($A28=\"\",\"\",INDEX(tblIndicators!Y$2:Y$33,$B28))","v":"2) SOCIAL PILLAR"},null,null,null,null,null,null,null,null,null,null,null,null,null,"SP_11",null,"ENP_10"]
["SP_10",{"$f":"IF(A29=\"\",\"\",MATCH(A29,tblIndicators!D$2:D$33,0))","v":22},{"$f":"IF($A29=\"\",\"\",INDEX(tblIndicators!Y$2:Y$33,$B29))","v":"2.1) Inequality (Gini coefficient)"},null,null,null,null,null,null,null,null,null,null,null,null,null,"SP_12",null,"ENP_11"]
["SP_11",{"$f":"IF(A30=\"\",\"\",MATCH(A30,tblIndicators!D$2:D$33,0))","v":23},{"$f":"IF($A30=\"\",\"\",INDEX(tblIndicators!Y$2:Y$33,$B30))","v":"2.2) Educational attainment"},null,null,null,null,null,null,null,null,null,null,null,null,null,"SP_13",null,"ENP_12"]
["SP_12",{"$f":"IF(A31=\"\",\"\",MATCH(A31,tblIndicators!D$2:D$33,0))","v":24},{"$f":"IF($A31=\"\",\"\",INDEX(tblIndicators!Y$2:Y$33,$B31))","v":"2.3) Labour standards"},null,null,null,null,null,null,null,null,null,null,null,null,null,"ENP",null,"ENP_13"]
["SP_13",{"$f":"IF(A32=\"\",\"\",MATCH(A32,tblIndicators!D$2:D$33,0))","v":25},{"$f":"IF($A32=\"\",\"\",INDEX(tblIndicators!Y$2:Y$33,$B32))","v":"2.4) Political stability"},null,null,null,null,null,null,null,null,null,null,null,null,null,"ENP_10",null,"ENP_14"]
["ENP",{"$f":"IF(A33=\"\",\"\",MATCH(A33,tblIndicators!D$2:D$33,0))","v":26},{"$f":"IF($A33=\"\",\"\",INDEX(tblIndicators!Y$2:Y$33,$B33))","v":"3) ENVIRONMENTAL PILLAR"},null,null,null,null,null,null,null,null,null,null,null,null,null,"ENP_11",null,"ENP_15"]
["ENP_10",{"$f":"IF(A34=\"\",\"\",MATCH(A34,tblIndicators!D$2:D$33,0))","v":27},{"$f":"IF($A34=\"\",\"\",INDEX(tblIndicators!Y$2:Y$33,$B34))","v":"3.1) Air pollution"},null,null,null,null,null,null,null,null,null,null,null,null,null,"ENP_12"]
["ENP_11",{"$f":"IF(A35=\"\",\"\",MATCH(A35,tblIndicators!D$2:D$33,0))","v":28},{"$f":"IF($A35=\"\",\"\",INDEX(tblIndicators!Y$2:Y$33,$B35))","v":"3.2) Deforestation"},null,null,null,null,null,null,null,null,null,null,null,null,null,"ENP_13"]
["ENP_12",{"$f":"IF(A36=\"\",\"\",MATCH(A36,tblIndicators!D$2:D$33,0))","v":29},{"$f":"IF($A36=\"\",\"\",INDEX(tblIndicators!Y$2:Y$33,$B36))","v":"3.3) Water pollution"},null,null,null,null,null,null,null,null,null,null,null,null,null,"ENP_14"]
["ENP_13",{"$f":"IF(A37=\"\",\"\",MATCH(A37,tblIndicators!D$2:D$33,0))","v":30},{"$f":"IF($A37=\"\",\"\",INDEX(tblIndicators!Y$2:Y$33,$B37))","v":"3.4) Environmental standards in trade"},null,null,null,null,null,null,null,null,null,null,null,null,null,"ENP_15"]
["ENP_14",{"$f":"IF(A38=\"\",\"\",MATCH(A38,tblIndicators!D$2:D$33,0))","v":31},{"$f":"IF($A38=\"\",\"\",INDEX(tblIndicators!Y$2:Y$33,$B38))","v":"3.5) Carbon emissions in trade"}]
["ENP_15",{"$f":"IF(A39=\"\",\"\",MATCH(A39,tblIndicators!D$2:D$33,0))","v":32},{"$f":"IF($A39=\"\",\"\",INDEX(tblIndicators!Y$2:Y$33,$B39))","v":"3.6) Share of natural resources in trade"}]
[]
[]
["INDICATOR RANKING","Cat, Indi + Sub Indi"]
[]
["TOTAL",{"$f":"IF(A44=\"\",\"\",MATCH(A44,tblIndicators!D$2:D$33,0))","v":1},{"$f":"IF($A44=\"\",\"\",REPT(\" \",D44)&INDEX(tblIndicators!Y$2:Y$33,$B44))","v":"OVERALL SCORE"},{"$f":"tblIndicators!F2*2","v":0}]
["EP",{"$f":"IF(A45=\"\",\"\",MATCH(A45,tblIndicators!D$2:D$33,0))","v":2},{"$f":"IF($A45=\"\",\"\",REPT(\" \",D45)&INDEX(tblIndicators!Y$2:Y$33,$B45))","v":"  1) ECONOMIC PILLAR"},{"$f":"tblIndicators!F3*2","v":2}]
["EP_10",{"$f":"IF(A46=\"\",\"\",MATCH(A46,tblIndicators!D$2:D$33,0))","v":3},{"$f":"IF($A46=\"\",\"\",REPT(\" \",D46)&INDEX(tblIndicators!Y$2:Y$33,$B46))","v":"    1.10) Growth in per capita GDP"},{"$f":"tblIndicators!F4*2","v":4}]
["EP_11",{"$f":"IF(A47=\"\",\"\",MATCH(A47,tblIndicators!D$2:D$33,0))","v":4},{"$f":"IF($A47=\"\",\"\",REPT(\" \",D47)&INDEX(tblIndicators!Y$2:Y$33,$B47))","v":"    1.11) Current account liberalisation"},{"$f":"tblIndicators!F5*2","v":4}]
["EP_12",{"$f":"IF(A48=\"\",\"\",MATCH(A48,tblIndicators!D$2:D$33,0))","v":5},{"$f":"IF($A48=\"\",\"\",REPT(\" \",D48)&INDEX(tblIndicators!Y$2:Y$33,$B48))","v":"    1.12) Tariff & non-tariff barriers"},{"$f":"tblIndicators!F6*2","v":4}]
["EP_13",{"$f":"IF(A49=\"\",\"\",MATCH(A49,tblIndicators!D$2:D$33,0))","v":6},{"$f":"IF($A49=\"\",\"\",REPT(\" \",D49)&INDEX(tblIndicators!Y$2:Y$33,$B49))","v":"    1.13) Exchange rate volatility"},{"$f":"tblIndicators!F7*2","v":4}]
["EP_14",{"$f":"IF(A50=\"\",\"\",MATCH(A50,tblIndicators!D$2:D$33,0))","v":7},{"$f":"IF($A50=\"\",\"\",REPT(\" \",D50)&INDEX(tblIndicators!Y$2:Y$33,$B50))","v":"    1.14) Financial sector depth"},{"$f":"tblIndicators!F8*2","v":4}]
["EP_15",{"$f":"IF(A51=\"\",\"\",MATCH(A51,tblIndicators!D$2:D$33,0))","v":8},{"$f":"IF($A51=\"\",\"\",REPT(\" \",D51)&INDEX(tblIndicators!Y$2:Y$33,$B51))","v":"    1.15) Foreign trade and payments risk"},{"$f":"tblIndicators!F9*2","v":4}]
["EP_16",{"$f":"IF(A52=\"\",\"\",MATCH(A52,tblIndicators!D$2:D$33,0))","v":9},{"$f":"IF($A52=\"\",\"\",REPT(\" \",D52)&INDEX(tblIndicators!Y$2:Y$33,$B52))","v":"    1.16) Export market concentration"},{"$f":"tblIndicators!F10*2","v":4}]
["EP_17",{"$f":"IF(A53=\"\",\"\",MATCH(A53,tblIndicators!D$2:D$33,0))","v":10},{"$f":"IF($A53=\"\",\"\",REPT(\" \",D53)&INDEX(tblIndicators!Y$2:Y$33,$B53))","v":"    1.17) Export product concentration"},{"$f":"tblIndicators!F11*2","v":4}]
["EP_18",{"$f":"IF(A54=\"\",\"\",MATCH(A54,tblIndicators!D$2:D$33,0))","v":11},{"$f":"IF($A54=\"\",\"\",REPT(\" \",D54)&INDEX(tblIndicators!Y$2:Y$33,$B54))","v":"    1.18) Foreign Direct Investment"},{"$f":"tblIndicators!F12*2","v":4}]
["EP_19",{"$f":"IF(A55=\"\",\"\",MATCH(A55,tblIndicators!D$2:D$33,0))","v":12},{"$f":"IF($A55=\"\",\"\",REPT(\" \",D55)&INDEX(tblIndicators!Y$2:Y$33,$B55))","v":"    1.19) Gross fixed capital formation"},{"$f":"tblIndicators!F13*2","v":4}]
["EP_20",{"$f":"IF(A56=\"\",\"\",MATCH(A56,tblIndicators!D$2:D$33,0))","v":13},{"$f":"IF($A56=\"\",\"\",REPT(\" \",D56)&INDEX(tblIndicators!Y$2:Y$33,$B56))","v":"    1.20) Trade costs"},{"$f":"tblIndicators!F14*2","v":4}]
["EP_20_1",{"$f":"IF(A57=\"\",\"\",MATCH(A57,tblIndicators!D$2:D$33,0))","v":14},{"$f":"IF($A57=\"\",\"\",REPT(\" \",D57)&INDEX(tblIndicators!Y$2:Y$33,$B57))","v":"      1.20.1)    Infrastructure"},{"$f":"tblIndicators!F15*2","v":6}]
["EP_20_2",{"$f":"IF(A58=\"\",\"\",MATCH(A58,tblIndicators!D$2:D$33,0))","v":15},{"$f":"IF($A58=\"\",\"\",REPT(\" \",D58)&INDEX(tblIndicators!Y$2:Y$33,$B58))","v":"      1.20.2)    Logistics performance"},{"$f":"tblIndicators!F16*2","v":6}]
["EP_20_3",{"$f":"IF(A59=\"\",\"\",MATCH(A59,tblIndicators!D$2:D$33,0))","v":16},{"$f":"IF($A59=\"\",\"\",REPT(\" \",D59)&INDEX(tblIndicators!Y$2:Y$33,$B59))","v":"      1.20.3)    Corruption"},{"$f":"tblIndicators!F17*2","v":6}]
["EP_20_4",{"$f":"IF(A60=\"\",\"\",MATCH(A60,tblIndicators!D$2:D$33,0))","v":17},{"$f":"IF($A60=\"\",\"\",REPT(\" \",D60)&INDEX(tblIndicators!Y$2:Y$33,$B60))","v":"      1.20.4)    Legal system"},{"$f":"tblIndicators!F18*2","v":6}]
["EP_21",{"$f":"IF(A61=\"\",\"\",MATCH(A61,tblIndicators!D$2:D$33,0))","v":18},{"$f":"IF($A61=\"\",\"\",REPT(\" \",D61)&INDEX(tblIndicators!Y$2:Y$33,$B61))","v":"    1.21) Technological innovation"},{"$f":"tblIndicators!F19*2","v":4}]
["EP_22",{"$f":"IF(A62=\"\",\"\",MATCH(A62,tblIndicators!D$2:D$33,0))","v":19},{"$f":"IF($A62=\"\",\"\",REPT(\" \",D62)&INDEX(tblIndicators!Y$2:Y$33,$B62))","v":"    1.22) Technological infrastructure"},{"$f":"tblIndicators!F20*2","v":4}]
["EP_23",{"$f":"IF(A63=\"\",\"\",MATCH(A63,tblIndicators!D$2:D$33,0))","v":20},{"$f":"IF($A63=\"\",\"\",REPT(\" \",D63)&INDEX(tblIndicators!Y$2:Y$33,$B63))","v":"    1.23) Growth in labour force"},{"$f":"tblIndicators!F21*2","v":4}]
["SP",{"$f":"IF(A64=\"\",\"\",MATCH(A64,tblIndicators!D$2:D$33,0))","v":21},{"$f":"IF($A64=\"\",\"\",REPT(\" \",D64)&INDEX(tblIndicators!Y$2:Y$33,$B64))","v":"  2) SOCIAL PILLAR"},{"$f":"tblIndicators!F22*2","v":2}]
["SP_10",{"$f":"IF(A65=\"\",\"\",MATCH(A65,tblIndicators!D$2:D$33,0))","v":22},{"$f":"IF($A65=\"\",\"\",REPT(\" \",D65)&INDEX(tblIndicators!Y$2:Y$33,$B65))","v":"    2.1) Inequality (Gini coefficient)"},{"$f":"tblIndicators!F23*2","v":4}]
["SP_11",{"$f":"IF(A66=\"\",\"\",MATCH(A66,tblIndicators!D$2:D$33,0))","v":23},{"$f":"IF($A66=\"\",\"\",REPT(\" \",D66)&INDEX(tblIndicators!Y$2:Y$33,$B66))","v":"    2.2) Educational attainment"},{"$f":"tblIndicators!F24*2","v":4}]
["SP_12",{"$f":"IF(A67=\"\",\"\",MATCH(A67,tblIndicators!D$2:D$33,0))","v":24},{"$f":"IF($A67=\"\",\"\",REPT(\" \",D67)&INDEX(tblIndicators!Y$2:Y$33,$B67))","v":"    2.3) Labour standards"},{"$f":"tblIndicators!F25*2","v":4}]
["SP_13",{"$f":"IF(A68=\"\",\"\",MATCH(A68,tblIndicators!D$2:D$33,0))","v":25},{"$f":"IF($A68=\"\",\"\",REPT(\" \",D68)&INDEX(tblIndicators!Y$2:Y$33,$B68))","v":"    2.4) Political stability"},{"$f":"tblIndicators!F26*2","v":4}]
["ENP",{"$f":"IF(A69=\"\",\"\",MATCH(A69,tblIndicators!D$2:D$33,0))","v":26},{"$f":"IF($A69=\"\",\"\",REPT(\" \",D69)&INDEX(tblIndicators!Y$2:Y$33,$B69))","v":"  3) ENVIRONMENTAL PILLAR"},{"$f":"tblIndicators!F27*2","v":2}]
["ENP_10",{"$f":"IF(A70=\"\",\"\",MATCH(A70,tblIndicators!D$2:D$33,0))","v":27},{"$f":"IF($A70=\"\",\"\",REPT(\" \",D70)&INDEX(tblIndicators!Y$2:Y$33,$B70))","v":"    3.1) Air pollution"},{"$f":"tblIndicators!F28*2","v":4}]
["ENP_11",{"$f":"IF(A71=\"\",\"\",MATCH(A71,tblIndicators!D$2:D$33,0))","v":28},{"$f":"IF($A71=\"\",\"\",REPT(\" \",D71)&INDEX(tblIndicators!Y$2:Y$33,$B71))","v":"    3.2) Deforestation"},{"$f":"tblIndicators!F29*2","v":4}]
["ENP_12",{"$f":"IF(A72=\"\",\"\",MATCH(A72,tblIndicators!D$2:D$33,0))","v":29},{"$f":"IF($A72=\"\",\"\",REPT(\" \",D72)&INDEX(tblIndicators!Y$2:Y$33,$B72))","v":"    3.3) Water pollution"},{"$f":"tblIndicators!F30*2","v":4}]
["ENP_13",{"$f":"IF(A73=\"\",\"\",MATCH(A73,tblIndicators!D$2:D$33,0))","v":30},{"$f":"IF($A73=\"\",\"\",REPT(\" \",D73)&INDEX(tblIndicators!Y$2:Y$33,$B73))","v":"    3.4) Environmental standards in trade"},{"$f":"tblIndicators!F31*2","v":4}]
["ENP_14",{"$f":"IF(A74=\"\",\"\",MATCH(A74,tblIndicators!D$2:D$33,0))","v":31},{"$f":"IF($A74=\"\",\"\",REPT(\" \",D74)&INDEX(tblIndicators!Y$2:Y$33,$B74))","v":"    3.5) Carbon emissions in trade"},{"$f":"tblIndicators!F32*2","v":4}]
["ENP_15",{"$f":"IF(A75=\"\",\"\",MATCH(A75,tblIndicators!D$2:D$33,0))","v":32},{"$f":"IF($A75=\"\",\"\",REPT(\" \",D75)&INDEX(tblIndicators!Y$2:Y$33,$B75))","v":"    3.6) Share of natural resources in trade"},{"$f":"tblIndicators!F33*2","v":4}]
[]
[]
[]
["TOTAL",{"$f":"IF(A79=\"\",\"\",MATCH(A79,tblIndicators!D$2:D$33,0))","v":1},"VIEW ALL"]
[{"$f":"A6","v":"EP"},{"$f":"IF(A80=\"\",\"\",MATCH(A80,tblIndicators!D$2:D$33,0))","v":2},{"$f":"IF($A80=\"\",\"\",INDEX(tblIndicators!Y$2:Y$33,$B80))","v":"1) ECONOMIC PILLAR"}]
[{"$f":"A7","v":"SP"},{"$f":"IF(A81=\"\",\"\",MATCH(A81,tblIndicators!D$2:D$33,0))","v":21},{"$f":"IF($A81=\"\",\"\",INDEX(tblIndicators!Y$2:Y$33,$B81))","v":"2) SOCIAL PILLAR"}]
["ENP",{"$f":"IF(A82=\"\",\"\",MATCH(A82,tblIndicators!D$2:D$33,0))","v":26},{"$f":"IF($A82=\"\",\"\",INDEX(tblIndicators!Y$2:Y$33,$B82))","v":"3) ENVIRONMENTAL PILLAR"}]
[]
[]
[]
[]
[]
["City Compare Spider"]
["GSIF",{"$f":"IF(A89=\"\",\"\",MATCH(A89,tblIndicators!D$2:D$33,0))","v":{"$error":"#N/A"}},{"$f":"IF($A89=\"\",\"\",INDEX(tblIndicators!Y$2:Y$33,$B89))","v":{"$error":"#N/A"}},{"$f":"B14","v":3},"1.10) Growth in per capita GDP",{"$f":"B22","v":11},"1.18) Foreign Direct Investment",{"$f":"B31","v":24},"2.3) Labour standards",{"$f":"B37","v":30},"3.4) Environmental standards in trade"]
["EMEN",{"$f":"IF(A90=\"\",\"\",MATCH(A90,tblIndicators!D$2:D$33,0))","v":{"$error":"#N/A"}},{"$f":"IF($A90=\"\",\"\",INDEX(tblIndicators!Y$2:Y$33,$B90))","v":{"$error":"#N/A"}},4,"1.11) Current account liberalisation",12,"1.19) Gross fixed capital formation",25,"2.4) Political stability",31,"3.5) Carbon emissions in trade"]
["EDTR",{"$f":"IF(A91=\"\",\"\",MATCH(A91,tblIndicators!D$2:D$33,0))","v":{"$error":"#N/A"}},{"$f":"IF($A91=\"\",\"\",INDEX(tblIndicators!Y$2:Y$33,$B91))","v":{"$error":"#N/A"}},5,"1.12) Tariff & non-tariff barriers",13,"1.20) Trade costs",26,"3) ENVIRONMENTAL PILLAR",32,"3.6) Share of natural resources in trade"]
["HUSC",{"$f":"IF(A92=\"\",\"\",MATCH(A92,tblIndicators!D$2:D$33,0))","v":{"$error":"#N/A"}},{"$f":"IF($A92=\"\",\"\",INDEX(tblIndicators!Y$2:Y$33,$B92))","v":{"$error":"#N/A"}},6,"1.13) Exchange rate volatility",18,"1.21) Technological innovation",27,"3.1) Air pollution",{"$f":"#REF!","v":{"$error":"#REF!"}},{"$f":"#REF!","v":{"$error":"#REF!"}}]
[null,null,null,7,"1.14) Financial sector depth",19,"1.22) Technological infrastructure",28,"3.2) Deforestation",{"$f":"#REF!","v":{"$error":"#REF!"}},{"$f":"#REF!","v":{"$error":"#REF!"}}]
[null,null,null,8,"1.15) Foreign trade and payments risk",20,"1.23) Growth in labour force"]
[null,null,null,9,"1.16) Export market concentration",21,"2) SOCIAL PILLAR"]
[null,null,null,null,null,22,"2.1) Inequality (Gini coefficient)"]
[]
[]
[]
["MAP"]
[]
[]
["LOOKUPS"]
[1,"Circles; area=value"]
[2,"Circles; colour=group"]
[3,"Circles; area=value, colour=group"]
[4,"Bars; height=value"]
[5,"Bars; height=value, colour=group"]
[]
[]
[]
["Weights Compare"]
[null,null,"Country Name"]
[null,null,"Score: Weight Profile 1"]
[null,null,"Score: Weight Profile 2"]
[null,null,"Change in Score"]
[null,null,"Rank: Weight Profile 1"]
[null,null,"Rank: Weight Profile 2"]
[null,null,"Change in Rank"]

{"sheet":"tblCategories","index":32,"n_rows":34,"n_cols":27,"rows_kept":34,"cut":false,"hidden":true,"merged":[]}
["CityID","ISO","Indicator","DisplayName","ISO/MAP","Display_Status","ParentCity",null,null,null,null,null,1,2,3,4,null,null,null,null,"For Spider Chart",null,null,1,2,3,4]
[0,null,"<none>",{"$f":"C2","v":"<none>"},null,0,null,null,null,null,"All",null,{"$f":"INDEX($K$2:$K$6,M1)","v":"All"},{"$f":"INDEX($K$2:$K$6,N1)","v":"1) ECONOMIC PILLAR"},{"$f":"INDEX($K$2:$K$6,O1)","v":"2) SOCIAL PILLAR"},{"$f":"INDEX($K$2:$K$6,P1)","v":"3) ENVIRONMENTAL PILLAR"},null,null,null,null,null,"All",null,{"$f":"INDEX($K$2:$K$6,X1)","v":"All"},{"$f":"INDEX($K$2:$K$6,Y1)","v":"1) ECONOMIC PILLAR"},{"$f":"INDEX($K$2:$K$6,Z1)","v":"2) SOCIAL PILLAR"},{"$f":"INDEX($K$2:$K$6,AA1)","v":"3) ENVIRONMENTAL PILLAR"}]
[1,null,{"$f":"tblIndicators!Y3","v":"1) ECONOMIC PILLAR"},{"$f":"C3","v":"1) ECONOMIC PILLAR"},null,{"$f":"INDEX(M3:P3,uxb_works!$B$32)","v":1},null,"City_HIGHLIGHT_ID",{"$f":"uxb_works!B7","v":0},null,{"$f":"C3","v":"1) ECONOMIC PILLAR"},1,1,1,0,0,null,null,null,{"$f":"INDEX(X3:AA3,uxb_works!$B$32)","v":1},null,{"$f":"K3","v":"1) ECONOMIC PILLAR"},1,1,0,0,0]
[2,null,{"$f":"tblIndicators!Y4","v":"1.10) Growth in per capita GDP"},{"$f":"C4","v":"1.10) Growth in per capita GDP"},null,{"$f":"INDEX(M4:P4,uxb_works!$B$32)","v":1},null,"GROUP_HIGHLIGHT_ID",1,null,{"$f":"C22","v":"2) SOCIAL PILLAR"},1,1,1,0,0,null,null,null,{"$f":"INDEX(X4:AA4,uxb_works!$B$32)","v":0},null,{"$f":"K4","v":"2) SOCIAL PILLAR"},1,0,1,0,0]
[3,null,{"$f":"tblIndicators!Y5","v":"1.11) Current account liberalisation"},"1.11) Current account liberalisation",null,{"$f":"INDEX(M5:P5,uxb_works!$B$32)","v":1},null,null,{"$f":"Country_Compare!#REF!","v":{"$error":"#REF!"}},null,{"$f":"C27","v":"3) ENVIRONMENTAL PILLAR"},1,1,1,0,0,null,null,null,{"$f":"INDEX(X5:AA5,uxb_works!$B$32)","v":0},null,{"$f":"K5","v":"3) ENVIRONMENTAL PILLAR"},1,0,1,0,0]
[4,null,{"$f":"tblIndicators!Y6","v":"1.12) Tariff & non-tariff barriers"},"1.12) Tariff & non-tariff barriers",null,{"$f":"INDEX(M6:P6,uxb_works!$B$32)","v":1},null,null,null,null,null,1,1,1,0,0,null,null,null,{"$f":"INDEX(X6:AA6,uxb_works!$B$32)","v":0},null,null,1,0,1,0,0]
[5,null,{"$f":"tblIndicators!Y7","v":"1.13) Exchange rate volatility"},"1.13) Exchange rate volatility",null,{"$f":"INDEX(M7:P7,uxb_works!$B$32)","v":1},null,null,null,null,null,1,1,1,0,0,null,null,null,{"$f":"INDEX(X7:AA7,uxb_works!$B$32)","v":0},null,null,1,0,1,0,0]
[6,null,{"$f":"tblIndicators!Y8","v":"1.14) Financial sector depth"},"1.14) Financial sector depth",null,{"$f":"INDEX(M8:P8,uxb_works!$B$32)","v":1},null,null,null,null,null,1,1,1,0,0,null,null,null,{"$f":"INDEX(X8:AA8,uxb_works!$B$32)","v":0},null,null,1,0,1,0,0]
[7,null,{"$f":"tblIndicators!Y9","v":"1.15) Foreign trade and payments risk"},"1.15) Foreign trade and payments risk",null,{"$f":"INDEX(M9:P9,uxb_works!$B$32)","v":1},null,null,null,null,null,1,1,1,0,0,null,null,null,{"$f":"INDEX(X9:AA9,uxb_works!$B$32)","v":0},null,null,1,0,1,0,0]
[8,null,{"$f":"tblIndicators!Y10","v":"1.16) Export market concentration"},"1.16) Export market concentration",null,{"$f":"INDEX(M10:P10,uxb_works!$B$32)","v":1},null,null,null,null,null,1,1,1,0,0,null,null,null,{"$f":"INDEX(X10:AA10,uxb_works!$B$32)","v":0},null,null,1,0,1,0,0]
[9,null,{"$f":"tblIndicators!Y11","v":"1.17) Export product concentration"},"1.17) Export product concentration",null,{"$f":"INDEX(M11:P11,uxb_works!$B$32)","v":1},null,null,null,null,null,1,1,1,0,0,null,null,null,{"$f":"INDEX(X11:AA11,uxb_works!$B$32)","v":0},null,null,1,0,1,0,0]
[10,null,{"$f":"tblIndicators!Y12","v":"1.18) Foreign Direct Investment"},"1.18) Foreign Direct Investment",null,{"$f":"INDEX(M12:P12,uxb_works!$B$32)","v":1},null,null,null,null,null,1,1,1,0,0,null,null,null,{"$f":"INDEX(X12:AA12,uxb_works!$B$32)","v":0},null,null,1,0,1,0,0]
[11,null,{"$f":"tblIndicators!Y13","v":"1.19) Gross fixed capital formation"},"1.19) Gross fixed capital formation",null,{"$f":"INDEX(M13:P13,uxb_works!$B$32)","v":1},null,null,null,null,null,1,1,1,0,0,null,null,null,{"$f":"INDEX(X13:AA13,uxb_works!$B$32)","v":0},null,null,1,0,1,0,0]
[12,null,{"$f":"tblIndicators!Y14","v":"1.20) Trade costs"},"1.20) Trade costs",null,{"$f":"INDEX(M14:P14,uxb_works!$B$32)","v":1},null,null,null,null,null,1,1,1,0,0,null,null,null,{"$f":"INDEX(X14:AA14,uxb_works!$B$32)","v":0},null,null,1,0,1,0,0]
[13,null,{"$f":"tblIndicators!Y15","v":"1.20.1)    Infrastructure"},"1.20.1)    Infrastructure",null,{"$f":"INDEX(M15:P15,uxb_works!$B$32)","v":1},null,null,null,null,null,1,1,1,0,0,null,null,null,{"$f":"INDEX(X15:AA15,uxb_works!$B$32)","v":0},null,null,1,0,0,0,0]
[14,null,{"$f":"tblIndicators!Y16","v":"1.20.2)    Logistics performance"},"1.20.2)    Logistics performance",null,{"$f":"INDEX(M16:P16,uxb_works!$B$32)","v":1},null,null,null,null,null,1,1,1,0,0,null,null,null,{"$f":"INDEX(X16:AA16,uxb_works!$B$32)","v":0},null,null,1,0,0,0,0]
[15,null,{"$f":"tblIndicators!Y17","v":"1.20.3)    Corruption"},"1.20.3)    Corruption",null,{"$f":"INDEX(M17:P17,uxb_works!$B$32)","v":1},null,null,null,null,null,1,1,1,0,0,null,null,null,{"$f":"INDEX(X17:AA17,uxb_works!$B$32)","v":0},null,null,1,0,0,0,0]
[16,null,{"$f":"tblIndicators!Y18","v":"1.20.4)    Legal system"},"1.20.4)    Legal system",null,{"$f":"INDEX(M18:P18,uxb_works!$B$32)","v":1},null,null,null,null,null,1,1,1,0,0,null,null,null,{"$f":"INDEX(X18:AA18,uxb_works!$B$32)","v":0},null,null,1,0,0,0,0]
[17,null,{"$f":"tblIndicators!Y19","v":"1.21) Technological innovation"},"1.21) Technological innovation",null,{"$f":"INDEX(M19:P19,uxb_works!$B$32)","v":1},null,null,null,null,null,1,1,1,0,0,null,null,null,{"$f":"INDEX(X19:AA19,uxb_works!$B$32)","v":0},null,null,1,0,1,0,0]
[18,null,{"$f":"tblIndicators!Y20","v":"1.22) Technological infrastructure"},"1.22) Technological infrastructure",null,{"$f":"INDEX(M20:P20,uxb_works!$B$32)","v":1},null,null,null,null,null,1,1,1,0,0,null,null,null,{"$f":"INDEX(X20:AA20,uxb_works!$B$32)","v":0},null,null,1,0,1,0,0]
[19,null,{"$f":"tblIndicators!Y21","v":"1.23) Growth in labour force"},"1.23) Growth in labour force",null,{"$f":"INDEX(M21:P21,uxb_works!$B$32)","v":1},null,null,null,null,null,1,1,1,0,0,null,null,null,{"$f":"INDEX(X21:AA21,uxb_works!$B$32)","v":0},null,null,1,0,1,0,0]
[20,null,{"$f":"tblIndicators!Y22","v":"2) SOCIAL PILLAR"},"2) SOCIAL PILLAR",null,{"$f":"INDEX(M22:P22,uxb_works!$B$32)","v":1},null,null,null,null,null,1,1,0,1,0,null,null,null,{"$f":"INDEX(X22:AA22,uxb_works!$B$32)","v":1},null,null,1,1,0,0,0]
[21,null,{"$f":"tblIndicators!Y23","v":"2.1) Inequality (Gini coefficient)"},"2.1) Inequality (Gini coefficient)",null,{"$f":"INDEX(M23:P23,uxb_works!$B$32)","v":1},null,null,null,null,null,1,1,0,1,0,null,null,null,{"$f":"INDEX(X23:AA23,uxb_works!$B$32)","v":0},null,null,1,0,0,1,0]
[22,null,{"$f":"tblIndicators!Y24","v":"2.2) Educational attainment"},"2.2) Educational attainment",null,{"$f":"INDEX(M24:P24,uxb_works!$B$32)","v":1},null,null,null,null,null,1,1,0,1,0,null,null,null,{"$f":"INDEX(X24:AA24,uxb_works!$B$32)","v":0},null,null,1,0,0,1,0]
[23,null,{"$f":"tblIndicators!Y25","v":"2.3) Labour standards"},"2.3) Labour standards",null,{"$f":"INDEX(M25:P25,uxb_works!$B$32)","v":1},null,null,null,null,null,1,1,0,1,0,null,null,null,{"$f":"INDEX(X25:AA25,uxb_works!$B$32)","v":0},null,null,1,0,0,1,0]
[24,null,{"$f":"tblIndicators!Y26","v":"2.4) Political stability"},"2.4) Political stability",null,{"$f":"INDEX(M26:P26,uxb_works!$B$32)","v":1},null,null,null,null,null,1,1,0,1,0,null,null,null,{"$f":"INDEX(X26:AA26,uxb_works!$B$32)","v":0},null,null,1,0,0,1,0]
[25,null,{"$f":"tblIndicators!Y27","v":"3) ENVIRONMENTAL PILLAR"},"3) ENVIRONMENTAL PILLAR",null,{"$f":"INDEX(M27:P27,uxb_works!$B$32)","v":1},null,null,null,null,null,1,1,0,0,1,null,null,null,{"$f":"INDEX(X27:AA27,uxb_works!$B$32)","v":1},null,null,1,1,0,0,0]
[26,null,{"$f":"tblIndicators!Y28","v":"3.1) Air pollution"},"3.1) Air pollution",null,{"$f":"INDEX(M28:P28,uxb_works!$B$32)","v":1},null,null,null,null,null,1,1,0,0,1,null,null,null,{"$f":"INDEX(X28:AA28,uxb_works!$B$32)","v":0},null,null,1,0,0,0,1]
[27,null,{"$f":"tblIndicators!Y29","v":"3.2) Deforestation"},"3.2) Deforestation",null,{"$f":"INDEX(M29:P29,uxb_works!$B$32)","v":1},null,null,null,null,null,1,1,0,0,1,null,null,null,{"$f":"INDEX(X29:AA29,uxb_works!$B$32)","v":0},null,null,1,0,0,0,1]
[28,null,{"$f":"tblIndicators!Y30","v":"3.3) Water pollution"},{"$f":"C30","v":"3.3) Water pollution"},null,{"$f":"INDEX(M30:P30,uxb_works!$B$32)","v":1},null,null,null,null,null,1,1,0,0,1,null,null,null,{"$f":"INDEX(X30:AA30,uxb_works!$B$32)","v":0},null,null,1,0,0,0,1]
[29,null,{"$f":"tblIndicators!Y31","v":"3.4) Environmental standards in trade"},"3.4) Environmental standards in trade",null,{"$f":"INDEX(M31:P31,uxb_works!$B$32)","v":1},null,null,null,null,null,1,1,0,0,1,null,null,null,{"$f":"INDEX(X31:AA31,uxb_works!$B$32)","v":0},null,null,1,0,0,0,1]
[30,null,{"$f":"tblIndicators!Y32","v":"3.5) Carbon emissions in trade"},"3.5) Carbon emissions in trade",null,{"$f":"INDEX(M32:P32,uxb_works!$B$32)","v":1},null,null,null,null,null,1,1,0,0,1,null,null,null,{"$f":"INDEX(X32:AA32,uxb_works!$B$32)","v":0},null,null,1,0,0,0,1]
[31,null,{"$f":"tblIndicators!Y33","v":"3.6) Share of natural resources in trade"},"3.6) Share of natural resources in trade",null,{"$f":"INDEX(M33:P33,uxb_works!$B$32)","v":1},null,null,null,null,null,1,1,0,0,1,null,null,null,{"$f":"INDEX(X33:AA33,uxb_works!$B$32)","v":0},null,null,1,0,0,0,1]
[32,null,{"$f":"tblIndicators!#REF!","v":{"$error":"#REF!"}},{"$error":"#REF!"},null,{"$f":"INDEX(M34:P34,uxb_works!$B$32)","v":1},null,null,null,null,null,1,1,0,0,1,null,null,null,{"$f":"INDEX(X34:AA34,uxb_works!$B$32)","v":0},null,null,1,0,0,0,1]

{"sheet":"tblTerritories","index":33,"n_rows":24,"n_cols":27,"rows_kept":24,"cut":false,"hidden":true,"merged":[]}
["CityID",null,"City","RegionID","DisplayName","MAP OBJECT IDENTIFIER",null,"Display_Status","Parentcity",null,null,"Tier No.",null,null,null,null,1,2,3,4,5,6]
[0,null,"<none>",0,{"$f":"C2","v":"<none>"},null,0,null,null,null,null,null,null,null,"Groups",null,{"$f":"INDEX(luRegionsPlusNone,Q1)","v":"<none>"},"All Incomes","Upper income","Lower middle income","low income","Least developed"]
[1,"BGD","Bangladesh",{"$f":"H3","v":0},{"$f":"C3","v":"Bangladesh"},{"$f":"C3","v":"Bangladesh"},{"$f":"IF(A3=$K$3,3,IF(INDEX($R3:$V3,$K$5)=0,0,IF(INDEX($Q3:$V3,$K$4)=1,2,1)))","v":1},null,null,"CITY_HIGHLIGHT_ID",{"$f":"uxb_works!B7","v":0},{"$f":"MATCH(1,S3:V3,0)","v":4},null,1,"<none>",null,0,1,0,0,0,1,null,null,{"$f":"O3","v":"<none>"}]
[2,"BRN","Brunei",{"$f":"H4","v":0},{"$f":"C4","v":"Brunei"},{"$f":"C4","v":"Brunei"},1,null,null,"GROUP_HIGHLIGHT_ID",{"$f":"IF(uxb_works!B9=2,1,uxb_works!B9)","v":1},1,null,2,"All Incomes",null,0,1,1,0,0,0,null,null,{"$f":"O5","v":"Upper income"},null,{"$f":"\"Weight Profile: \"&Y4","v":"Weight Profile: Upper income"}]
[3,"KHM","Cambodia",0,"Cambodia","Cambodia",1,null,null,"GROUP_FILTER_ID",{"$f":"uxb_works!B10","v":1},4,1,3,"Upper income",null,0,1,0,0,0,1,null,null,{"$f":"O6","v":"Lower middle income"},null,{"$f":"\"Weight Profile: \"&Y5","v":"Weight Profile: Lower middle income"}]
[4,"CHN","China",0,"China","China",1,null,null,null,null,2,2,4,"Lower middle income",null,0,1,0,1,0,0,null,null,"low income",null,"Weight Profile: low income"]
[5,"HKG","Hong Kong",0,"Hong Kong","Hong Kong",1,null,null,null,null,1,3,5,"low income",null,0,1,1,0,0,0,null,null,"Least developed",null,"Weight Profile: Least developed"]
[6,"IND","India",0,"India","India",1,null,null,null,null,4,4,6,"Least developed",null,0,1,0,0,0,1]
[7,"IDN","Indonesia",0,"Indonesia","Indonesia",1,null,null,null,null,3,null,null,null,null,0,1,0,0,1,0]
[8,"JPN","Japan",0,"Japan","Japan",1,null,null,null,null,1,null,null,null,null,0,1,1,0,0,0]
[9,"LAO","Laos",0,"Laos","Laos",1,null,null,null,null,4,null,null,null,null,0,1,0,0,0,1]
[10,"MYS","Malaysia",0,"Malaysia","Malaysia",1,null,null,null,null,2,null,null,null,null,0,1,0,1,0,0]
[11,"MMR","Myanmar",0,"Myanmar","Myanmar",1,null,null,null,null,4,null,null,null,null,0,1,0,0,0,1]
[12,"PAK","Pakistan",0,"Pakistan","Pakistan",1,null,null,null,null,4,null,null,null,null,0,1,0,0,0,1]
[13,"PHL","Philippines",0,"Philippines","Philippines",1,null,null,null,null,3,null,null,null,null,0,1,0,0,1,0]
[14,"SGP","Singapore",0,"Singapore","Singapore",1,null,null,null,null,1,null,null,null,null,0,1,1,0,0,0]
[15,"KOR","South Korea",0,"South Korea","South Korea",1,null,null,null,null,1,null,null,null,null,0,1,1,0,0,0]
[16,"LKA","Sri Lanka",0,"Sri Lanka","Sri Lanka",1,null,null,null,null,3,null,null,null,null,0,1,0,0,1,0]
[17,"TWN","Taiwan",0,"Taiwan","Taiwan",1,null,null,null,null,1,null,null,null,null,0,1,1,0,0,0]
[18,"THA","Thailand",0,"Thailand","Thailand",1,null,null,null,null,2,null,null,null,null,0,1,0,1,0,0]
[19,"VNM","Vietnam",0,"Vietnam","Vietnam",1,null,null,null,null,3,null,null,null,null,0,1,0,0,1,0]
[20,"USA","USA",0,"USA","USA",1,null,null,null,null,1,null,null,null,null,0,1,1,0,0,0]
[]
[null,null,null,null,null,null,null,null,null,null,null,null,null,null,null,null,null,null,{"$f":"SUM(S3:S22)","v":7},{"$f":"SUM(T3:T22)","v":3},4,6]

{"sheet":"iData","index":34,"n_rows":36,"n_cols":29,"rows_kept":36,"cut":false,"hidden":true,"merged":[]}
[]
[]
[null,null,null,null,null,null,null,null,null,3,4,5,6,7,8,9,10,11,12,13,14,15,16,17,18,19,20,21,22]
[null,{"$f":"tblIndicators!A1","v":"ID"},{"$f":"tblIndicators!B1","v":"IS_BG"},{"$f":"tblIndicators!D1","v":"INDI_CODE"},{"$f":"tblIndicators!E1","v":"PARENT_CODE"},"Name",{"$f":"tblIndicators!T1","v":"NORM_ID (1=sumproduct, 2=min max set by data values, 3=min max set by user here)"},"Indicator","Multiplication Factor",{"$f":"INDEX(tblTerritories!$C$3:$C$22,J3-2)","v":"Bangladesh"},{"$f":"INDEX(tblTerritories!$C$3:$C$22,K3-2)","v":"Brunei"},{"$f":"INDEX(tblTerritories!$C$3:$C$22,L3-2)","v":"Cambodia"},{"$f":"INDEX(tblTerritories!$C$3:$C$22,M3-2)","v":"China"},{"$f":"INDEX(tblTerritories!$C$3:$C$22,N3-2)","v":"Hong Kong"},{"$f":"INDEX(tblTerritories!$C$3:$C$22,O3-2)","v":"India"},{"$f":"INDEX(tblTerritories!$C$3:$C$22,P3-2)","v":"Indonesia"},{"$f":"INDEX(tblTerritories!$C$3:$C$22,Q3-2)","v":"Japan"},{"$f":"INDEX(tblTerritories!$C$3:$C$22,R3-2)","v":"Laos"},{"$f":"INDEX(tblTerritories!$C$3:$C$22,S3-2)","v":"Malaysia"},{"$f":"INDEX(tblTerritories!$C$3:$C$22,T3-2)","v":"Myanmar"},{"$f":"INDEX(tblTerritories!$C$3:$C$22,U3-2)","v":"Pakistan"},{"$f":"INDEX(tblTerritories!$C$3:$C$22,V3-2)","v":"Philippines"},{"$f":"INDEX(tblTerritories!$C$3:$C$22,W3-2)","v":"Singapore"},{"$f":"INDEX(tblTerritories!$C$3:$C$22,X3-2)","v":"South Korea"},{"$f":"INDEX(tblTerritories!$C$3:$C$22,Y3-2)","v":"Sri Lanka"},{"$f":"INDEX(tblTerritories!$C$3:$C$22,Z3-2)","v":"Taiwan"},{"$f":"INDEX(tblTerritories!$C$3:$C$22,AA3-2)","v":"Thailand"},{"$f":"INDEX(tblTerritories!$C$3:$C$22,AB3-2)","v":"Vietnam"},{"$f":"INDEX(tblTerritories!$C$3:$C$22,AC3-2)","v":"USA"}]
[null,{"$f":"tblIndicators!A2","v":1},{"$f":"tblIndicators!B2","v":0},{"$f":"tblIndicators!D2","v":"TOTAL"},{"$f":"tblIndicators!E2","v":"OVERALL SCORE"},{"$f":"tblIndicators!H2","v":"OVERALL SCORE"},{"$f":"tblIndicators!T2","v":1},{"$f":"tblIndicators!Y2","v":"OVERALL SCORE"},{"$f":"IF(G5=1,\"\",tblIndicators!J2)","v":""}]
[null,{"$f":"tblIndicators!A3","v":2},{"$f":"tblIndicators!B3","v":0},{"$f":"tblIndicators!D3","v":"EP"},{"$f":"tblIndicators!E3","v":"TOTAL"},{"$f":"tblIndicators!H3","v":"Economic pillar"},{"$f":"tblIndicators!T3","v":1},{"$f":"tblIndicators!Y3","v":"1) ECONOMIC PILLAR"},{"$f":"IF(G6=1,\"\",tblIndicators!J3)","v":""}]
[1,{"$f":"tblIndicators!A4","v":3},{"$f":"tblIndicators!B4","v":0},{"$f":"tblIndicators!D4","v":"EP_10"},{"$f":"tblIndicators!E4","v":"EP"},{"$f":"tblIndicators!H4","v":"Growth in per capita GDP"},{"$f":"tblIndicators!T4","v":2},{"$f":"tblIndicators!Y4","v":"1.10) Growth in per capita GDP"},1,{"$f":"IF(Data!J7=\"\",\"\",Data!J7/$I7)","v":4.8899999999999997},{"$f":"IF(Data!K7=\"\",\"\",Data!K7/$I7)","v":-1.63},{"$f":"IF(Data!L7=\"\",\"\",Data!L7/$I7)","v":5.1100000000000003},{"$f":"IF(Data!M7=\"\",\"\",Data!M7/$I7)","v":8},{"$f":"IF(Data!N7=\"\",\"\",Data!N7/$I7)","v":3.04},{"$f":"IF(Data!O7=\"\",\"\",Data!O7/$I7)","v":5.1499999999999995},{"$f":"IF(Data!P7=\"\",\"\",Data!P7/$I7)","v":4.7300000000000004},{"$f":"IF(Data!Q7=\"\",\"\",Data!Q7/$I7)","v":1.59},{"$f":"IF(Data!R7=\"\",\"\",Data!R7/$I7)","v":6.04},{"$f":"IF(Data!S7=\"\",\"\",Data!S7/$I7)","v":4.04},{"$f":"IF(Data!T7=\"\",\"\",Data!T7/$I7)","v":4.3600000000000003},{"$f":"IF(Data!U7=\"\",\"\",Data!U7/$I7)","v":1.6500000000000001},{"$f":"IF(Data!V7=\"\",\"\",Data!V7/$I7)","v":4.42},{"$f":"IF(Data!W7=\"\",\"\",Data!W7/$I7)","v":4.5},{"$f":"IF(Data!X7=\"\",\"\",Data!X7/$I7)","v":3.16},{"$f":"IF(Data!Y7=\"\",\"\",Data!Y7/$I7)","v":5.83},{"$f":"IF(Data!Z7=\"\",\"\",Data!Z7/$I7)","v":4.22},{"$f":"IF(Data!AA7=\"\",\"\",Data!AA7/$I7)","v":3.58},{"$f":"IF(Data!AB7=\"\",\"\",Data!AB7/$I7)","v":4.7},{"$f":"IF(Data!AC7=\"\",\"\",Data!AC7/$I7)","v":1.29}]
[1,{"$f":"tblIndicators!A5","v":4},{"$f":"tblIndicators!B5","v":0},{"$f":"tblIndicators!D5","v":"EP_11"},{"$f":"tblIndicators!E5","v":"EP"},{"$f":"tblIndicators!H5","v":"Current account liberalisation"},{"$f":"tblIndicators!T5","v":3},{"$f":"tblIndicators!Y5","v":"1.11) Current account liberalisation"},1,{"$f":"IF(Data!J8=\"\",\"\",Data!J8/$I8)","v":4},{"$f":"IF(Data!K8=\"\",\"\",Data!K8/$I8)","v":5},{"$f":"IF(Data!L8=\"\",\"\",Data!L8/$I8)","v":5},{"$f":"IF(Data!M8=\"\",\"\",Data!M8/$I8)","v":4.4000000000000004},{"$f":"IF(Data!N8=\"\",\"\",Data!N8/$I8)","v":5},{"$f":"IF(Data!O8=\"\",\"\",Data!O8/$I8)","v":4},{"$f":"IF(Data!P8=\"\",\"\",Data!P8/$I8)","v":4},{"$f":"IF(Data!Q8=\"\",\"\",Data!Q8/$I8)","v":5},{"$f":"IF(Data!R8=\"\",\"\",Data!R8/$I8)","v":5},{"$f":"IF(Data!S8=\"\",\"\",Data!S8/$I8)","v":5},{"$f":"IF(Data!T8=\"\",\"\",Data!T8/$I8)","v":4},{"$f":"IF(Data!U8=\"\",\"\",Data!U8/$I8)","v":3},{"$f":"IF(Data!V8=\"\",\"\",Data!V8/$I8)","v":4.4000000000000004},{"$f":"IF(Data!W8=\"\",\"\",Data!W8/$I8)","v":5},{"$f":"IF(Data!X8=\"\",\"\",Data!X8/$I8)","v":4.4000000000000004},{"$f":"IF(Data!Y8=\"\",\"\",Data!Y8/$I8)","v":5},{"$f":"IF(Data!Z8=\"\",\"\",Data!Z8/$I8)","v":5},{"$f":"IF(Data!AA8=\"\",\"\",Data!AA8/$I8)","v":5},{"$f":"IF(Data!AB8=\"\",\"\",Data!AB8/$I8)","v":5},{"$f":"IF(Data!AC8=\"\",\"\",Data!AC8/$I8)","v":5}]
[1,{"$f":"tblIndicators!A6","v":5},{"$f":"tblIndicators!B6","v":0},{"$f":"tblIndicators!D6","v":"EP_12"},{"$f":"tblIndicators!E6","v":"EP"},{"$f":"tblIndicators!H6","v":"Tariff & non-tariff barriers"},{"$f":"tblIndicators!T6","v":3},{"$f":"tblIndicators!Y6","v":"1.12) Tariff & non-tariff barriers"},1,{"$f":"IF(Data!J9=\"\",\"\",Data!J9/$I9)","v":2},{"$f":"IF(Data!K9=\"\",\"\",Data!K9/$I9)","v":3},{"$f":"IF(Data!L9=\"\",\"\",Data!L9/$I9)","v":3},{"$f":"IF(Data!M9=\"\",\"\",Data!M9/$I9)","v":3},{"$f":"IF(Data!N9=\"\",\"\",Data!N9/$I9)","v":5},{"$f":"IF(Data!O9=\"\",\"\",Data!O9/$I9)","v":2},{"$f":"IF(Data!P9=\"\",\"\",Data!P9/$I9)","v":4},{"$f":"IF(Data!Q9=\"\",\"\",Data!Q9/$I9)","v":4},{"$f":"IF(Data!R9=\"\",\"\",Data!R9/$I9)","v":4},{"$f":"IF(Data!S9=\"\",\"\",Data!S9/$I9)","v":4},{"$f":"IF(Data!T9=\"\",\"\",Data!T9/$I9)","v":4},{"$f":"IF(Data!U9=\"\",\"\",Data!U9/$I9)","v":2},{"$f":"IF(Data!V9=\"\",\"\",Data!V9/$I9)","v":4},{"$f":"IF(Data!W9=\"\",\"\",Data!W9/$I9)","v":5},{"$f":"IF(Data!X9=\"\",\"\",Data!X9/$I9)","v":4},{"$f":"IF(Data!Y9=\"\",\"\",Data!Y9/$I9)","v":3},{"$f":"IF(Data!Z9=\"\",\"\",Data!Z9/$I9)","v":4},{"$f":"IF(Data!AA9=\"\",\"\",Data!AA9/$I9)","v":3.4},{"$f":"IF(Data!AB9=\"\",\"\",Data!AB9/$I9)","v":2.4},{"$f":"IF(Data!AC9=\"\",\"\",Data!AC9/$I9)","v":4}]
[1,{"$f":"tblIndicators!A7","v":6},{"$f":"tblIndicators!B7","v":0},{"$f":"tblIndicators!D7","v":"EP_13"},{"$f":"tblIndicators!E7","v":"EP"},{"$f":"tblIndicators!H7","v":"Exchange rate volatility"},{"$f":"tblIndicators!T7","v":2},{"$f":"tblIndicators!Y7","v":"1.13) Exchange rate volatility"},1,{"$f":"IF(Data!J10=\"\",\"\",Data!J10/$I10)","v":2.1999999999999999E-2},{"$f":"IF(Data!K10=\"\",\"\",Data!K10/$I10)","v":1.7999999999999999E-2},{"$f":"IF(Data!L10=\"\",\"\",Data!L10/$I10)","v":1.4000000000000002E-2},{"$f":"IF(Data!M10=\"\",\"\",Data!M10/$I10)","v":0.02},{"$f":"IF(Data!N10=\"\",\"\",Data!N10/$I10)","v":0.01},{"$f":"IF(Data!O10=\"\",\"\",Data!O10/$I10)","v":3.4000000000000002E-2},{"$f":"IF(Data!P10=\"\",\"\",Data!P10/$I10)","v":2.4E-2},{"$f":"IF(Data!Q10=\"\",\"\",Data!Q10/$I10)","v":0.03},{"$f":"IF(Data!R10=\"\",\"\",Data!R10/$I10)","v":1.3999999999999999E-2},{"$f":"IF(Data!S10=\"\",\"\",Data!S10/$I10)","v":0.02},{"$f":"IF(Data!T10=\"\",\"\",Data!T10/$I10)","v":0.30199999999999999},{"$f":"IF(Data!U10=\"\",\"\",Data!U10/$I10)","v":1.4000000000000002E-2},{"$f":"IF(Data!V10=\"\",\"\",Data!V10/$I10)","v":0.02},{"$f":"IF(Data!W10=\"\",\"\",Data!W10/$I10)","v":1.7999999999999999E-2},{"$f":"IF(Data!X10=\"\",\"\",Data!X10/$I10)","v":2.4E-2},{"$f":"IF(Data!Y10=\"\",\"\",Data!Y10/$I10)","v":0.02},{"$f":"IF(Data!Z10=\"\",\"\",Data!Z10/$I10)","v":1.4000000000000002E-2},{"$f":"IF(Data!AA10=\"\",\"\",Data!AA10/$I10)","v":2.4E-2},{"$f":"IF(Data!AB10=\"\",\"\",Data!AB10/$I10)","v":1.6E-2},{"$f":"IF(Data!AC10=\"\",\"\",Data!AC10/$I10)","v":2.2000000000000002E-2}]
[1,{"$f":"tblIndicators!A8","v":7},{"$f":"tblIndicators!B8","v":0},{"$f":"tblIndicators!D8","v":"EP_14"},{"$f":"tblIndicators!E8","v":"EP"},{"$f":"tblIndicators!H8","v":"Financial sector depth"},{"$f":"tblIndicators!T8","v":2},{"$f":"tblIndicators!Y8","v":"1.14) Financial sector depth"},1,{"$f":"IF(Data!J11=\"\",\"\",Data!J11/$I11)","v":42},{"$f":"IF(Data!K11=\"\",\"\",Data!K11/$I11)","v":33},{"$f":"IF(Data!L11=\"\",\"\",Data!L11/$I11)","v":54},{"$f":"IF(Data!M11=\"\",\"\",Data!M11/$I11)","v":142},{"$f":"IF(Data!N11=\"\",\"\",Data!N11/$I11)","v":234},{"$f":"IF(Data!O11=\"\",\"\",Data!O11/$I11)","v":51},{"$f":"IF(Data!P11=\"\",\"\",Data!P11/$I11)","v":40},{"$f":"IF(Data!Q11=\"\",\"\",Data!Q11/$I11)","v":188},{"$f":"IF(Data!R11=\"\",\"\",Data!R11/$I11)","v":21},{"$f":"IF(Data!S11=\"\",\"\",Data!S11/$I11)","v":125},{"$f":"IF(Data!T11=\"\",\"\",Data!T11/$I11)","v":14},{"$f":"IF(Data!U11=\"\",\"\",Data!U11/$I11)","v":15},{"$f":"IF(Data!V11=\"\",\"\",Data!V11/$I11)","v":39},{"$f":"IF(Data!W11=\"\",\"\",Data!W11/$I11)","v":131},{"$f":"IF(Data!X11=\"\",\"\",Data!X11/$I11)","v":138},{"$f":"IF(Data!Y11=\"\",\"\",Data!Y11/$I11)","v":28},{"$f":"IF(Data!Z11=\"\",\"\",Data!Z11/$I11)","v":159.6},{"$f":"IF(Data!AA11=\"\",\"\",Data!AA11/$I11)","v":159},{"$f":"IF(Data!AB11=\"\",\"\",Data!AB11/$I11)","v":100},{"$f":"IF(Data!AC11=\"\",\"\",Data!AC11/$I11)","v":196}]
[1,{"$f":"tblIndicators!A9","v":8},{"$f":"tblIndicators!B9","v":0},{"$f":"tblIndicators!D9","v":"EP_15"},{"$f":"tblIndicators!E9","v":"EP"},{"$f":"tblIndicators!H9","v":"Foreign trade and payments risk"},{"$f":"tblIndicators!T9","v":3},{"$f":"tblIndicators!Y9","v":"1.15) Foreign trade and payments risk"},1,{"$f":"IF(Data!J12=\"\",\"\",Data!J12/$I12)","v":57},{"$f":"IF(Data!K12=\"\",\"\",Data!K12/$I12)","v":21},{"$f":"IF(Data!L12=\"\",\"\",Data!L12/$I12)","v":42},{"$f":"IF(Data!M12=\"\",\"\",Data!M12/$I12)","v":33},{"$f":"IF(Data!N12=\"\",\"\",Data!N12/$I12)","v":7},{"$f":"IF(Data!O12=\"\",\"\",Data!O12/$I12)","v":50},{"$f":"IF(Data!P12=\"\",\"\",Data!P12/$I12)","v":43},{"$f":"IF(Data!Q12=\"\",\"\",Data!Q12/$I12)","v":25},{"$f":"IF(Data!R12=\"\",\"\",Data!R12/$I12)","v":71},{"$f":"IF(Data!S12=\"\",\"\",Data!S12/$I12)","v":21},{"$f":"IF(Data!T12=\"\",\"\",Data!T12/$I12)","v":64},{"$f":"IF(Data!U12=\"\",\"\",Data!U12/$I12)","v":75},{"$f":"IF(Data!V12=\"\",\"\",Data!V12/$I12)","v":29},{"$f":"IF(Data!W12=\"\",\"\",Data!W12/$I12)","v":4},{"$f":"IF(Data!X12=\"\",\"\",Data!X12/$I12)","v":26},{"$f":"IF(Data!Y12=\"\",\"\",Data!Y12/$I12)","v":36},{"$f":"IF(Data!Z12=\"\",\"\",Data!Z12/$I12)","v":18},{"$f":"IF(Data!AA12=\"\",\"\",Data!AA12/$I12)","v":43},{"$f":"IF(Data!AB12=\"\",\"\",Data!AB12/$I12)","v":49},{"$f":"IF(Data!AC12=\"\",\"\",Data!AC12/$I12)","v":21}]
[1,{"$f":"tblIndicators!A10","v":9},{"$f":"tblIndicators!B10","v":0},{"$f":"tblIndicators!D10","v":"EP_16"},{"$f":"tblIndicators!E10","v":"EP"},{"$f":"tblIndicators!H10","v":"Export market concentration"},{"$f":"tblIndicators!T10","v":2},{"$f":"tblIndicators!Y10","v":"1.16) Export market concentration"},1,{"$f":"IF(Data!J13=\"\",\"\",Data!J13/$I13)","v":10.358000000000001},{"$f":"IF(Data!K13=\"\",\"\",Data!K13/$I13)","v":70.599999999999994},{"$f":"IF(Data!L13=\"\",\"\",Data!L13/$I13)","v":11.776},{"$f":"IF(Data!M13=\"\",\"\",Data!M13/$I13)","v":11},{"$f":"IF(Data!N13=\"\",\"\",Data!N13/$I13)","v":17.456},{"$f":"IF(Data!O13=\"\",\"\",Data!O13/$I13)","v":8.0559999999999992},{"$f":"IF(Data!P13=\"\",\"\",Data!P13/$I13)","v":11.028},{"$f":"IF(Data!Q13=\"\",\"\",Data!Q13/$I13)","v":12.294},{"$f":"IF(Data!R13=\"\",\"\",Data!R13/$I13)","v":18.238},{"$f":"IF(Data!S13=\"\",\"\",Data!S13/$I13)","v":11.526},{"$f":"IF(Data!T13=\"\",\"\",Data!T13/$I13)","v":19.740000000000002},{"$f":"IF(Data!U13=\"\",\"\",Data!U13/$I13)","v":10.334},{"$f":"IF(Data!V13=\"\",\"\",Data!V13/$I13)","v":13.447999999999999},{"$f":"IF(Data!W13=\"\",\"\",Data!W13/$I13)","v":10.032},{"$f":"IF(Data!X13=\"\",\"\",Data!X13/$I13)","v":11.95},{"$f":"IF(Data!Y13=\"\",\"\",Data!Y13/$I13)","v":10.212},{"$f":"IF(Data!Z13=\"\",\"\",Data!Z13/$I13)","v":15.236000000000001},{"$f":"IF(Data!AA13=\"\",\"\",Data!AA13/$I13)","v":9.3460000000000001},{"$f":"IF(Data!AB13=\"\",\"\",Data!AB13/$I13)","v":11.523999999999999},{"$f":"IF(Data!AC13=\"\",\"\",Data!AC13/$I13)","v":11.174000000000001}]
[1,{"$f":"tblIndicators!A11","v":10},{"$f":"tblIndicators!B11","v":0},{"$f":"tblIndicators!D11","v":"EP_17"},{"$f":"tblIndicators!E11","v":"EP"},{"$f":"tblIndicators!H11","v":"Export product concentration"},{"$f":"tblIndicators!T11","v":2},{"$f":"tblIndicators!Y11","v":"1.17) Export product concentration"},1,{"$f":"IF(Data!J14=\"\",\"\",Data!J14/$I14)","v":18.82},{"$f":"IF(Data!K14=\"\",\"\",Data!K14/$I14)","v":98.1},{"$f":"IF(Data!L14=\"\",\"\",Data!L14/$I14)","v":24.74},{"$f":"IF(Data!M14=\"\",\"\",Data!M14/$I14)","v":10.64},{"$f":"IF(Data!N14=\"\",\"\",Data!N14/$I14)","v":24.48},{"$f":"IF(Data!O14=\"\",\"\",Data!O14/$I14)","v":16.760000000000002},{"$f":"IF(Data!P14=\"\",\"\",Data!P14/$I14)","v":18.420000000000002},{"$f":"IF(Data!Q14=\"\",\"\",Data!Q14/$I14)","v":23.36},{"$f":"IF(Data!R14=\"\",\"\",Data!R14/$I14)","v":12.1},{"$f":"IF(Data!S14=\"\",\"\",Data!S14/$I14)","v":18.740000000000002},{"$f":"IF(Data!T14=\"\",\"\",Data!T14/$I14)","v":14.920000000000002},{"$f":"IF(Data!U14=\"\",\"\",Data!U14/$I14)","v":9.1199999999999992},{"$f":"IF(Data!V14=\"\",\"\",Data!V14/$I14)","v":16.8},{"$f":"IF(Data!W14=\"\",\"\",Data!W14/$I14)","v":17.100000000000001},{"$f":"IF(Data!X14=\"\",\"\",Data!X14/$I14)","v":22.080000000000002},{"$f":"IF(Data!Y14=\"\",\"\",Data!Y14/$I14)","v":16.000000000000004},{"$f":"IF(Data!Z14=\"\",\"\",Data!Z14/$I14)","v":18.98},{"$f":"IF(Data!AA14=\"\",\"\",Data!AA14/$I14)","v":25},{"$f":"IF(Data!AB14=\"\",\"\",Data!AB14/$I14)","v":8.32},{"$f":"IF(Data!AC14=\"\",\"\",Data!AC14/$I14)","v":21.88}]
[1,{"$f":"tblIndicators!A12","v":11},{"$f":"tblIndicators!B12","v":0},{"$f":"tblIndicators!D12","v":"EP_18"},{"$f":"tblIndicators!E12","v":"EP"},{"$f":"tblIndicators!H12","v":"Foreign Direct Investment"},{"$f":"tblIndicators!T12","v":2},{"$f":"tblIndicators!Y12","v":"1.18) Foreign Direct Investment"},1,{"$f":"IF(Data!J15=\"\",\"\",Data!J15/$I15)","v":0.92000000000000015},{"$f":"IF(Data!K15=\"\",\"\",Data!K15/$I15)","v":3.0000000000000001E-3},{"$f":"IF(Data!L15=\"\",\"\",Data!L15/$I15)","v":7.7140000000000004},{"$f":"IF(Data!M15=\"\",\"\",Data!M15/$I15)","v":3.9539999999999997},{"$f":"IF(Data!N15=\"\",\"\",Data!N15/$I15)","v":34.22},{"$f":"IF(Data!O15=\"\",\"\",Data!O15/$I15)","v":1.6199999999999999},{"$f":"IF(Data!P15=\"\",\"\",Data!P15/$I15)","v":2.36},{"$f":"IF(Data!Q15=\"\",\"\",Data!Q15/$I15)","v":0.1},{"$f":"IF(Data!R15=\"\",\"\",Data!R15/$I15)","v":3.6399999999999997},{"$f":"IF(Data!S15=\"\",\"\",Data!S15/$I15)","v":3.88},{"$f":"IF(Data!T15=\"\",\"\",Data!T15/$I15)","v":5.08},{"$f":"IF(Data!U15=\"\",\"\",Data!U15/$I15)","v":0.68},{"$f":"IF(Data!V15=\"\",\"\",Data!V15/$I15)","v":1.26},{"$f":"IF(Data!W15=\"\",\"\",Data!W15/$I15)","v":20.7},{"$f":"IF(Data!X15=\"\",\"\",Data!X15/$I15)","v":0.84000000000000008},{"$f":"IF(Data!Y15=\"\",\"\",Data!Y15/$I15)","v":1.38},{"$f":"IF(Data!Z15=\"\",\"\",Data!Z15/$I15)","v":0.4},{"$f":"IF(Data!AA15=\"\",\"\",Data!AA15/$I15)","v":2.62},{"$f":"IF(Data!AB15=\"\",\"\",Data!AB15/$I15)","v":5.64},{"$f":"IF(Data!AC15=\"\",\"\",Data!AC15/$I15)","v":1.46}]
[1,{"$f":"tblIndicators!A13","v":12},{"$f":"tblIndicators!B13","v":0},{"$f":"tblIndicators!D13","v":"EP_19"},{"$f":"tblIndicators!E13","v":"EP"},{"$f":"tblIndicators!H13","v":"Gross fixed capital formation"},{"$f":"tblIndicators!T13","v":2},{"$f":"tblIndicators!Y13","v":"1.19) Gross fixed capital formation"},1,{"$f":"IF(Data!J16=\"\",\"\",Data!J16/$I16)","v":27.802000000000003},{"$f":"IF(Data!K16=\"\",\"\",Data!K16/$I16)","v":35.266000000000005},{"$f":"IF(Data!L16=\"\",\"\",Data!L16/$I16)","v":17.221999999999998},{"$f":"IF(Data!M16=\"\",\"\",Data!M16/$I16)","v":44.456000000000003},{"$f":"IF(Data!N16=\"\",\"\",Data!N16/$I16)","v":23.698},{"$f":"IF(Data!O16=\"\",\"\",Data!O16/$I16)","v":31.071999999999996},{"$f":"IF(Data!P16=\"\",\"\",Data!P16/$I16)","v":31.905999999999999},{"$f":"IF(Data!Q16=\"\",\"\",Data!Q16/$I16)","v":21.14},{"$f":"IF(Data!R16=\"\",\"\",Data!R16/$I16)","v":28.187999999999999},{"$f":"IF(Data!S16=\"\",\"\",Data!S16/$I16)","v":24.488000000000003},{"$f":"IF(Data!T16=\"\",\"\",Data!T16/$I16)","v":17.139999999999997},{"$f":"IF(Data!U16=\"\",\"\",Data!U16/$I16)","v":13.39},{"$f":"IF(Data!V16=\"\",\"\",Data!V16/$I16)","v":20.032},{"$f":"IF(Data!W16=\"\",\"\",Data!W16/$I16)","v":26.033999999999999},{"$f":"IF(Data!X16=\"\",\"\",Data!X16/$I16)","v":29.736000000000001},{"$f":"IF(Data!Y16=\"\",\"\",Data!Y16/$I16)","v":27.858000000000004},{"$f":"IF(Data!Z16=\"\",\"\",Data!Z16/$I16)","v":22.62},{"$f":"IF(Data!AA16=\"\",\"\",Data!AA16/$I16)","v":25.344000000000001},{"$f":"IF(Data!AB16=\"\",\"\",Data!AB16/$I16)","v":26.204000000000001},{"$f":"IF(Data!AC16=\"\",\"\",Data!AC16/$I16)","v":14.913999999999998}]
[1,{"$f":"tblIndicators!A14","v":13},{"$f":"tblIndicators!B14","v":0},{"$f":"tblIndicators!D14","v":"EP_20"},{"$f":"tblIndicators!E14","v":"EP"},{"$f":"tblIndicators!H14","v":"Trade costs"},{"$f":"tblIndicators!T14","v":1},{"$f":"tblIndicators!Y14","v":"1.20) Trade costs"},1,{"$f":"IF(Data!J17=\"\",\"\",Data!J17/$I17)","v":""},{"$f":"IF(Data!K17=\"\",\"\",Data!K17/$I17)","v":""},{"$f":"IF(Data!L17=\"\",\"\",Data!L17/$I17)","v":""},{"$f":"IF(Data!M17=\"\",\"\",Data!M17/$I17)","v":""},{"$f":"IF(Data!N17=\"\",\"\",Data!N17/$I17)","v":""},{"$f":"IF(Data!O17=\"\",\"\",Data!O17/$I17)","v":""},{"$f":"IF(Data!P17=\"\",\"\",Data!P17/$I17)","v":""},{"$f":"IF(Data!Q17=\"\",\"\",Data!Q17/$I17)","v":""},{"$f":"IF(Data!R17=\"\",\"\",Data!R17/$I17)","v":""},{"$f":"IF(Data!S17=\"\",\"\",Data!S17/$I17)","v":""},{"$f":"IF(Data!T17=\"\",\"\",Data!T17/$I17)","v":""},{"$f":"IF(Data!U17=\"\",\"\",Data!U17/$I17)","v":""},{"$f":"IF(Data!V17=\"\",\"\",Data!V17/$I17)","v":""},{"$f":"IF(Data!W17=\"\",\"\",Data!W17/$I17)","v":""},{"$f":"IF(Data!X17=\"\",\"\",Data!X17/$I17)","v":""},{"$f":"IF(Data!Y17=\"\",\"\",Data!Y17/$I17)","v":""},{"$f":"IF(Data!Z17=\"\",\"\",Data!Z17/$I17)","v":""},{"$f":"IF(Data!AA17=\"\",\"\",Data!AA17/$I17)","v":""},{"$f":"IF(Data!AB17=\"\",\"\",Data!AB17/$I17)","v":""},{"$f":"IF(Data!AC17=\"\",\"\",Data!AC17/$I17)","v":""}]
[1,{"$f":"tblIndicators!A15","v":14},{"$f":"tblIndicators!B15","v":0},{"$f":"tblIndicators!D15","v":"EP_20_1"},{"$f":"tblIndicators!E15","v":"EP_20"},{"$f":"tblIndicators!H15","v":"   Infrastructure"},{"$f":"tblIndicators!T15","v":3},{"$f":"tblIndicators!Y15","v":"1.20.1)    Infrastructure"},1,{"$f":"IF(Data!J18=\"\",\"\",Data!J18/$I18)","v":2.5},{"$f":"IF(Data!K18=\"\",\"\",Data!K18/$I18)","v":3.53125},{"$f":"IF(Data!L18=\"\",\"\",Data!L18/$I18)","v":3.53125},{"$f":"IF(Data!M18=\"\",\"\",Data!M18/$I18)","v":6.2},{"$f":"IF(Data!N18=\"\",\"\",Data!N18/$I18)","v":8.6},{"$f":"IF(Data!O18=\"\",\"\",Data!O18/$I18)","v":4.7},{"$f":"IF(Data!P18=\"\",\"\",Data!P18/$I18)","v":5.0999999999999996},{"$f":"IF(Data!Q18=\"\",\"\",Data!Q18/$I18)","v":8.6},{"$f":"IF(Data!R18=\"\",\"\",Data!R18/$I18)","v":2.4},{"$f":"IF(Data!S18=\"\",\"\",Data!S18/$I18)","v":7.1},{"$f":"IF(Data!T18=\"\",\"\",Data!T18/$I18)","v":1.933333333},{"$f":"IF(Data!U18=\"\",\"\",Data!U18/$I18)","v":4.0999999999999996},{"$f":"IF(Data!V18=\"\",\"\",Data!V18/$I18)","v":5.2},{"$f":"IF(Data!W18=\"\",\"\",Data!W18/$I18)","v":9.1},{"$f":"IF(Data!X18=\"\",\"\",Data!X18/$I18)","v":8},{"$f":"IF(Data!Y18=\"\",\"\",Data!Y18/$I18)","v":5.5},{"$f":"IF(Data!Z18=\"\",\"\",Data!Z18/$I18)","v":8.4},{"$f":"IF(Data!AA18=\"\",\"\",Data!AA18/$I18)","v":5.9},{"$f":"IF(Data!AB18=\"\",\"\",Data!AB18/$I18)","v":5},{"$f":"IF(Data!AC18=\"\",\"\",Data!AC18/$I18)","v":9}]
[1,{"$f":"tblIndicators!A16","v":15},{"$f":"tblIndicators!B16","v":0},{"$f":"tblIndicators!D16","v":"EP_20_2"},{"$f":"tblIndicators!E16","v":"EP_20"},{"$f":"tblIndicators!H16","v":"   Logistics performance"},{"$f":"tblIndicators!T16","v":3},{"$f":"tblIndicators!Y16","v":"1.20.2)    Logistics performance"},1,{"$f":"IF(Data!J19=\"\",\"\",Data!J19/$I19)","v":2.56},{"$f":"IF(Data!K19=\"\",\"\",Data!K19/$I19)","v":""},{"$f":"IF(Data!L19=\"\",\"\",Data!L19/$I19)","v":2.74},{"$f":"IF(Data!M19=\"\",\"\",Data!M19/$I19)","v":3.53},{"$f":"IF(Data!N19=\"\",\"\",Data!N19/$I19)","v":3.83},{"$f":"IF(Data!O19=\"\",\"\",Data!O19/$I19)","v":3.08},{"$f":"IF(Data!P19=\"\",\"\",Data!P19/$I19)","v":3.08},{"$f":"IF(Data!Q19=\"\",\"\",Data!Q19/$I19)","v":3.91},{"$f":"IF(Data!R19=\"\",\"\",Data!R19/$I19)","v":2.39},{"$f":"IF(Data!S19=\"\",\"\",Data!S19/$I19)","v":3.59},{"$f":"IF(Data!T19=\"\",\"\",Data!T19/$I19)","v":2.25},{"$f":"IF(Data!U19=\"\",\"\",Data!U19/$I19)","v":2.83},{"$f":"IF(Data!V19=\"\",\"\",Data!V19/$I19)","v":3},{"$f":"IF(Data!W19=\"\",\"\",Data!W19/$I19)","v":4},{"$f":"IF(Data!X19=\"\",\"\",Data!X19/$I19)","v":3.67},{"$f":"IF(Data!Y19=\"\",\"\",Data!Y19/$I19)","v":2.7},{"$f":"IF(Data!Z19=\"\",\"\",Data!Z19/$I19)","v":3.72},{"$f":"IF(Data!AA19=\"\",\"\",Data!AA19/$I19)","v":3.43},{"$f":"IF(Data!AB19=\"\",\"\",Data!AB19/$I19)","v":3.15},{"$f":"IF(Data!AC19=\"\",\"\",Data!AC19/$I19)","v":3.92}]
[1,{"$f":"tblIndicators!A17","v":16},{"$f":"tblIndicators!B17","v":0},{"$f":"tblIndicators!D17","v":"EP_20_3"},{"$f":"tblIndicators!E17","v":"EP_20"},{"$f":"tblIndicators!H17","v":"   Corruption"},{"$f":"tblIndicators!T17","v":3},{"$f":"tblIndicators!Y17","v":"1.20.3)    Corruption"},1,{"$f":"IF(Data!J20=\"\",\"\",Data!J20/$I20)","v":1},{"$f":"IF(Data!K20=\"\",\"\",Data!K20/$I20)","v":3},{"$f":"IF(Data!L20=\"\",\"\",Data!L20/$I20)","v":1},{"$f":"IF(Data!M20=\"\",\"\",Data!M20/$I20)","v":1},{"$f":"IF(Data!N20=\"\",\"\",Data!N20/$I20)","v":4},{"$f":"IF(Data!O20=\"\",\"\",Data!O20/$I20)","v":1.3},{"$f":"IF(Data!P20=\"\",\"\",Data!P20/$I20)","v":1},{"$f":"IF(Data!Q20=\"\",\"\",Data!Q20/$I20)","v":3},{"$f":"IF(Data!R20=\"\",\"\",Data!R20/$I20)","v":1},{"$f":"IF(Data!S20=\"\",\"\",Data!S20/$I20)","v":3},{"$f":"IF(Data!T20=\"\",\"\",Data!T20/$I20)","v":1},{"$f":"IF(Data!U20=\"\",\"\",Data!U20/$I20)","v":1.3},{"$f":"IF(Data!V20=\"\",\"\",Data!V20/$I20)","v":1},{"$f":"IF(Data!W20=\"\",\"\",Data!W20/$I20)","v":5},{"$f":"IF(Data!X20=\"\",\"\",Data!X20/$I20)","v":4},{"$f":"IF(Data!Y20=\"\",\"\",Data!Y20/$I20)","v":2},{"$f":"IF(Data!Z20=\"\",\"\",Data!Z20/$I20)","v":3},{"$f":"IF(Data!AA20=\"\",\"\",Data!AA20/$I20)","v":2},{"$f":"IF(Data!AB20=\"\",\"\",Data!AB20/$I20)","v":1},{"$f":"IF(Data!AC20=\"\",\"\",Data!AC20/$I20)","v":4}]
[1,{"$f":"tblIndicators!A18","v":17},{"$f":"tblIndicators!B18","v":0},{"$f":"tblIndicators!D18","v":"EP_20_4"},{"$f":"tblIndicators!E18","v":"EP_20"},{"$f":"tblIndicators!H18","v":"   Legal system"},{"$f":"tblIndicators!T18","v":3},{"$f":"tblIndicators!Y18","v":"1.20.4)    Legal system"},1,{"$f":"IF(Data!J21=\"\",\"\",Data!J21/$I21)","v":3},{"$f":"IF(Data!K21=\"\",\"\",Data!K21/$I21)","v":1},{"$f":"IF(Data!L21=\"\",\"\",Data!L21/$I21)","v":1},{"$f":"IF(Data!M21=\"\",\"\",Data!M21/$I21)","v":1.3},{"$f":"IF(Data!N21=\"\",\"\",Data!N21/$I21)","v":3.4},{"$f":"IF(Data!O21=\"\",\"\",Data!O21/$I21)","v":3},{"$f":"IF(Data!P21=\"\",\"\",Data!P21/$I21)","v":2},{"$f":"IF(Data!Q21=\"\",\"\",Data!Q21/$I21)","v":4},{"$f":"IF(Data!R21=\"\",\"\",Data!R21/$I21)","v":1},{"$f":"IF(Data!S21=\"\",\"\",Data!S21/$I21)","v":3},{"$f":"IF(Data!T21=\"\",\"\",Data!T21/$I21)","v":1},{"$f":"IF(Data!U21=\"\",\"\",Data!U21/$I21)","v":2},{"$f":"IF(Data!V21=\"\",\"\",Data!V21/$I21)","v":2},{"$f":"IF(Data!W21=\"\",\"\",Data!W21/$I21)","v":4},{"$f":"IF(Data!X21=\"\",\"\",Data!X21/$I21)","v":3},{"$f":"IF(Data!Y21=\"\",\"\",Data!Y21/$I21)","v":3},{"$f":"IF(Data!Z21=\"\",\"\",Data!Z21/$I21)","v":3.4},{"$f":"IF(Data!AA21=\"\",\"\",Data!AA21/$I21)","v":2},{"$f":"IF(Data!AB21=\"\",\"\",Data!AB21/$I21)","v":2},{"$f":"IF(Data!AC21=\"\",\"\",Data!AC21/$I21)","v":4}]
[1,{"$f":"tblIndicators!A19","v":18},{"$f":"tblIndicators!B19","v":0},{"$f":"tblIndicators!D19","v":"EP_21"},{"$f":"tblIndicators!E19","v":"EP"},{"$f":"tblIndicators!H19","v":"Technological innovation"},{"$f":"tblIndicators!T19","v":2},{"$f":"tblIndicators!Y19","v":"1.21) Technological innovation"},1,{"$f":"IF(Data!J22=\"\",\"\",Data!J22/$I22)","v":0.4},{"$f":"IF(Data!K22=\"\",\"\",Data!K22/$I22)","v":0.03},{"$f":"IF(Data!L22=\"\",\"\",Data!L22/$I22)","v":0.05},{"$f":"IF(Data!M22=\"\",\"\",Data!M22/$I22)","v":2},{"$f":"IF(Data!N22=\"\",\"\",Data!N22/$I22)","v":0.8},{"$f":"IF(Data!O22=\"\",\"\",Data!O22/$I22)","v":0.8},{"$f":"IF(Data!P22=\"\",\"\",Data!P22/$I22)","v":0.08},{"$f":"IF(Data!Q22=\"\",\"\",Data!Q22/$I22)","v":3.4},{"$f":"IF(Data!R22=\"\",\"\",Data!R22/$I22)","v":0.04},{"$f":"IF(Data!S22=\"\",\"\",Data!S22/$I22)","v":1.1000000000000001},{"$f":"IF(Data!T22=\"\",\"\",Data!T22/$I22)","v":0.2},{"$f":"IF(Data!U22=\"\",\"\",Data!U22/$I22)","v":0.33},{"$f":"IF(Data!V22=\"\",\"\",Data!V22/$I22)","v":0.11},{"$f":"IF(Data!W22=\"\",\"\",Data!W22/$I22)","v":2.2000000000000002},{"$f":"IF(Data!X22=\"\",\"\",Data!X22/$I22)","v":4.4000000000000004},{"$f":"IF(Data!Y22=\"\",\"\",Data!Y22/$I22)","v":0.2},{"$f":"IF(Data!Z22=\"\",\"\",Data!Z22/$I22)","v":3.2},{"$f":"IF(Data!AA22=\"\",\"\",Data!AA22/$I22)","v":0.3},{"$f":"IF(Data!AB22=\"\",\"\",Data!AB22/$I22)","v":0.2},{"$f":"IF(Data!AC22=\"\",\"\",Data!AC22/$I22)","v":2.8}]
[1,{"$f":"tblIndicators!A20","v":19},{"$f":"tblIndicators!B20","v":0},{"$f":"tblIndicators!D20","v":"EP_22"},{"$f":"tblIndicators!E20","v":"EP"},{"$f":"tblIndicators!H20","v":"Technological infrastructure"},{"$f":"tblIndicators!T20","v":2},{"$f":"tblIndicators!Y20","v":"1.22) Technological infrastructure"},1,{"$f":"IF(Data!J23=\"\",\"\",Data!J23/$I23)","v":2},{"$f":"IF(Data!K23=\"\",\"\",Data!K23/$I23)","v":0},{"$f":"IF(Data!L23=\"\",\"\",Data!L23/$I23)","v":3},{"$f":"IF(Data!M23=\"\",\"\",Data!M23/$I23)","v":2},{"$f":"IF(Data!N23=\"\",\"\",Data!N23/$I23)","v":2},{"$f":"IF(Data!O23=\"\",\"\",Data!O23/$I23)","v":1},{"$f":"IF(Data!P23=\"\",\"\",Data!P23/$I23)","v":3},{"$f":"IF(Data!Q23=\"\",\"\",Data!Q23/$I23)","v":0},{"$f":"IF(Data!R23=\"\",\"\",Data!R23/$I23)","v":3},{"$f":"IF(Data!S23=\"\",\"\",Data!S23/$I23)","v":1},{"$f":"IF(Data!T23=\"\",\"\",Data!T23/$I23)","v":4},{"$f":"IF(Data!U23=\"\",\"\",Data!U23/$I23)","v":3},{"$f":"IF(Data!V23=\"\",\"\",Data!V23/$I23)","v":1},{"$f":"IF(Data!W23=\"\",\"\",Data!W23/$I23)","v":0},{"$f":"IF(Data!X23=\"\",\"\",Data!X23/$I23)","v":0},{"$f":"IF(Data!Y23=\"\",\"\",Data!Y23/$I23)","v":2},{"$f":"IF(Data!Z23=\"\",\"\",Data!Z23/$I23)","v":0},{"$f":"IF(Data!AA23=\"\",\"\",Data!AA23/$I23)","v":2},{"$f":"IF(Data!AB23=\"\",\"\",Data!AB23/$I23)","v":1},{"$f":"IF(Data!AC23=\"\",\"\",Data!AC23/$I23)","v":0}]
[1,{"$f":"tblIndicators!A21","v":20},{"$f":"tblIndicators!B21","v":0},{"$f":"tblIndicators!D21","v":"EP_23"},{"$f":"tblIndicators!E21","v":"EP"},{"$f":"tblIndicators!H21","v":"Growth in labour force"},{"$f":"tblIndicators!T21","v":2},{"$f":"tblIndicators!Y21","v":"1.23) Growth in labour force"},1,{"$f":"IF(Data!J24=\"\",\"\",Data!J24/$I24)","v":0.25900000000000001},{"$f":"IF(Data!K24=\"\",\"\",Data!K24/$I24)","v":-0.03},{"$f":"IF(Data!L24=\"\",\"\",Data!L24/$I24)","v":2.3E-2},{"$f":"IF(Data!M24=\"\",\"\",Data!M24/$I24)","v":-5.7000000000000002E-2},{"$f":"IF(Data!N24=\"\",\"\",Data!N24/$I24)","v":-6.0999999999999999E-2},{"$f":"IF(Data!O24=\"\",\"\",Data!O24/$I24)","v":0.28599999999999998},{"$f":"IF(Data!P24=\"\",\"\",Data!P24/$I24)","v":0.23799999999999999},{"$f":"IF(Data!Q24=\"\",\"\",Data!Q24/$I24)","v":-0.106},{"$f":"IF(Data!R24=\"\",\"\",Data!R24/$I24)","v":6.8000000000000005E-2},{"$f":"IF(Data!S24=\"\",\"\",Data!S24/$I24)","v":0.218},{"$f":"IF(Data!T24=\"\",\"\",Data!T24/$I24)","v":3.3000000000000002E-2},{"$f":"IF(Data!U24=\"\",\"\",Data!U24/$I24)","v":0.45700000000000002},{"$f":"IF(Data!V24=\"\",\"\",Data!V24/$I24)","v":0.34599999999999997},{"$f":"IF(Data!W24=\"\",\"\",Data!W24/$I24)","v":9.1999999999999998E-2},{"$f":"IF(Data!X24=\"\",\"\",Data!X24/$I24)","v":-0.01},{"$f":"IF(Data!Y24=\"\",\"\",Data!Y24/$I24)","v":6.4000000000000001E-2},{"$f":"IF(Data!Z24=\"\",\"\",Data!Z24/$I24)","v":-4.3999999999999997E-2},{"$f":"IF(Data!AA24=\"\",\"\",Data!AA24/$I24)","v":-3.4000000000000002E-2},{"$f":"IF(Data!AB24=\"\",\"\",Data!AB24/$I24)","v":0.10100000000000001},{"$f":"IF(Data!AC24=\"\",\"\",Data!AC24/$I24)","v":0.06}]
[1,{"$f":"tblIndicators!A22","v":21},{"$f":"tblIndicators!B22","v":0},{"$f":"tblIndicators!D22","v":"SP"},{"$f":"tblIndicators!E22","v":"TOTAL"},{"$f":"tblIndicators!H22","v":"Social pillar"},{"$f":"tblIndicators!T22","v":1},{"$f":"tblIndicators!Y22","v":"2) SOCIAL PILLAR"},1,{"$f":"IF(Data!J25=\"\",\"\",Data!J25/$I25)","v":""},{"$f":"IF(Data!K25=\"\",\"\",Data!K25/$I25)","v":""},{"$f":"IF(Data!L25=\"\",\"\",Data!L25/$I25)","v":""},{"$f":"IF(Data!M25=\"\",\"\",Data!M25/$I25)","v":""},{"$f":"IF(Data!N25=\"\",\"\",Data!N25/$I25)","v":""},{"$f":"IF(Data!O25=\"\",\"\",Data!O25/$I25)","v":""},{"$f":"IF(Data!P25=\"\",\"\",Data!P25/$I25)","v":""},{"$f":"IF(Data!Q25=\"\",\"\",Data!Q25/$I25)","v":""},{"$f":"IF(Data!R25=\"\",\"\",Data!R25/$I25)","v":""},{"$f":"IF(Data!S25=\"\",\"\",Data!S25/$I25)","v":""},{"$f":"IF(Data!T25=\"\",\"\",Data!T25/$I25)","v":""},{"$f":"IF(Data!U25=\"\",\"\",Data!U25/$I25)","v":""},{"$f":"IF(Data!V25=\"\",\"\",Data!V25/$I25)","v":""},{"$f":"IF(Data!W25=\"\",\"\",Data!W25/$I25)","v":""},{"$f":"IF(Data!X25=\"\",\"\",Data!X25/$I25)","v":""},{"$f":"IF(Data!Y25=\"\",\"\",Data!Y25/$I25)","v":""},{"$f":"IF(Data!Z25=\"\",\"\",Data!Z25/$I25)","v":""},{"$f":"IF(Data!AA25=\"\",\"\",Data!AA25/$I25)","v":""},{"$f":"IF(Data!AB25=\"\",\"\",Data!AB25/$I25)","v":""},{"$f":"IF(Data!AC25=\"\",\"\",Data!AC25/$I25)","v":""}]
[1,{"$f":"tblIndicators!A23","v":22},{"$f":"tblIndicators!B23","v":0},{"$f":"tblIndicators!D23","v":"SP_10"},{"$f":"tblIndicators!E23","v":"SP"},{"$f":"tblIndicators!H23","v":"Inequality (Gini coefficient)"},{"$f":"tblIndicators!T23","v":2},{"$f":"tblIndicators!Y23","v":"2.1) Inequality (Gini coefficient)"},1,{"$f":"IF(Data!J26=\"\",\"\",Data!J26/$I26)","v":32},{"$f":"IF(Data!K26=\"\",\"\",Data!K26/$I26)","v":40.5},{"$f":"IF(Data!L26=\"\",\"\",Data!L26/$I26)","v":30.76},{"$f":"IF(Data!M26=\"\",\"\",Data!M26/$I26)","v":42.06},{"$f":"IF(Data!N26=\"\",\"\",Data!N26/$I26)","v":53.7},{"$f":"IF(Data!O26=\"\",\"\",Data!O26/$I26)","v":33.9},{"$f":"IF(Data!P26=\"\",\"\",Data!P26/$I26)","v":35.6},{"$f":"IF(Data!Q26=\"\",\"\",Data!Q26/$I26)","v":33.6},{"$f":"IF(Data!R26=\"\",\"\",Data!R26/$I26)","v":37.9},{"$f":"IF(Data!S26=\"\",\"\",Data!S26/$I26)","v":46.3},{"$f":"IF(Data!T26=\"\",\"\",Data!T26/$I26)","v":38},{"$f":"IF(Data!U26=\"\",\"\",Data!U26/$I26)","v":29.6},{"$f":"IF(Data!V26=\"\",\"\",Data!V26/$I26)","v":43},{"$f":"IF(Data!W26=\"\",\"\",Data!W26/$I26)","v":47.8},{"$f":"IF(Data!X26=\"\",\"\",Data!X26/$I26)","v":30.7},{"$f":"IF(Data!Y26=\"\",\"\",Data!Y26/$I26)","v":38.6},{"$f":"IF(Data!Z26=\"\",\"\",Data!Z26/$I26)","v":34.200000000000003},{"$f":"IF(Data!AA26=\"\",\"\",Data!AA26/$I26)","v":39.299999999999997},{"$f":"IF(Data!AB26=\"\",\"\",Data!AB26/$I26)","v":38.700000000000003},{"$f":"IF(Data!AC26=\"\",\"\",Data!AC26/$I26)","v":39}]
[1,{"$f":"tblIndicators!A24","v":23},{"$f":"tblIndicators!B24","v":0},{"$f":"tblIndicators!D24","v":"SP_11"},{"$f":"tblIndicators!E24","v":"SP"},{"$f":"tblIndicators!H24","v":"Educational attainment"},{"$f":"tblIndicators!T24","v":2},{"$f":"tblIndicators!Y24","v":"2.2) Educational attainment"},1,{"$f":"IF(Data!J27=\"\",\"\",Data!J27/$I27)","v":13.227930000000001},{"$f":"IF(Data!K27=\"\",\"\",Data!K27/$I27)","v":25.361820000000002},{"$f":"IF(Data!L27=\"\",\"\",Data!L27/$I27)","v":15.834110000000001},{"$f":"IF(Data!M27=\"\",\"\",Data!M27/$I27)","v":29.696449999999999},{"$f":"IF(Data!N27=\"\",\"\",Data!N27/$I27)","v":66.837040000000002},{"$f":"IF(Data!O27=\"\",\"\",Data!O27/$I27)","v":24.686689999999999},{"$f":"IF(Data!P27=\"\",\"\",Data!P27/$I27)","v":31.512260000000001},{"$f":"IF(Data!Q27=\"\",\"\",Data!Q27/$I27)","v":61.459319999999998},{"$f":"IF(Data!R27=\"\",\"\",Data!R27/$I27)","v":17.697790000000001},{"$f":"IF(Data!S27=\"\",\"\",Data!S27/$I27)","v":37.200229999999998},{"$f":"IF(Data!T27=\"\",\"\",Data!T27/$I27)","v":13.37805},{"$f":"IF(Data!U27=\"\",\"\",Data!U27/$I27)","v":9.8182700000000001},{"$f":"IF(Data!V27=\"\",\"\",Data!V27/$I27)","v":33.842030000000001},{"$f":"IF(Data!W27=\"\",\"\",Data!W27/$I27)","v":90},{"$f":"IF(Data!X27=\"\",\"\",Data!X27/$I27)","v":96.584969999999998},{"$f":"IF(Data!Y27=\"\",\"\",Data!Y27/$I27)","v":18.762899999999998},{"$f":"IF(Data!Z27=\"\",\"\",Data!Z27/$I27)","v":83.877231827680006},{"$f":"IF(Data!AA27=\"\",\"\",Data!AA27/$I27)","v":51.233539999999998},{"$f":"IF(Data!AB27=\"\",\"\",Data!AB27/$I27)","v":24.58324},{"$f":"IF(Data!AC27=\"\",\"\",Data!AC27/$I27)","v":89.082390000000004}]
[1,{"$f":"tblIndicators!A25","v":24},{"$f":"tblIndicators!B25","v":0},{"$f":"tblIndicators!D25","v":"SP_12"},{"$f":"tblIndicators!E25","v":"SP"},{"$f":"tblIndicators!H25","v":"Labour standards"},{"$f":"tblIndicators!T25","v":3},{"$f":"tblIndicators!Y25","v":"2.3) Labour standards"},1,{"$f":"IF(Data!J28=\"\",\"\",Data!J28/$I28)","v":4},{"$f":"IF(Data!K28=\"\",\"\",Data!K28/$I28)","v":1},{"$f":"IF(Data!L28=\"\",\"\",Data!L28/$I28)","v":4},{"$f":"IF(Data!M28=\"\",\"\",Data!M28/$I28)","v":3},{"$f":"IF(Data!N28=\"\",\"\",Data!N28/$I28)","v":1},{"$f":"IF(Data!O28=\"\",\"\",Data!O28/$I28)","v":4},{"$f":"IF(Data!P28=\"\",\"\",Data!P28/$I28)","v":4},{"$f":"IF(Data!Q28=\"\",\"\",Data!Q28/$I28)","v":1},{"$f":"IF(Data!R28=\"\",\"\",Data!R28/$I28)","v":4},{"$f":"IF(Data!S28=\"\",\"\",Data!S28/$I28)","v":2},{"$f":"IF(Data!T28=\"\",\"\",Data!T28/$I28)","v":4},{"$f":"IF(Data!U28=\"\",\"\",Data!U28/$I28)","v":4},{"$f":"IF(Data!V28=\"\",\"\",Data!V28/$I28)","v":4},{"$f":"IF(Data!W28=\"\",\"\",Data!W28/$I28)","v":1},{"$f":"IF(Data!X28=\"\",\"\",Data!X28/$I28)","v":1},{"$f":"IF(Data!Y28=\"\",\"\",Data!Y28/$I28)","v":2},{"$f":"IF(Data!Z28=\"\",\"\",Data!Z28/$I28)","v":1},{"$f":"IF(Data!AA28=\"\",\"\",Data!AA28/$I28)","v":3},{"$f":"IF(Data!AB28=\"\",\"\",Data!AB28/$I28)","v":3},{"$f":"IF(Data!AC28=\"\",\"\",Data!AC28/$I28)","v":1}]
[1,{"$f":"tblIndicators!A26","v":25},{"$f":"tblIndicators!B26","v":0},{"$f":"tblIndicators!D26","v":"SP_13"},{"$f":"tblIndicators!E26","v":"SP"},{"$f":"tblIndicators!H26","v":"Political stability"},{"$f":"tblIndicators!T26","v":3},{"$f":"tblIndicators!Y26","v":"2.4) Political stability"},1,{"$f":"IF(Data!J29=\"\",\"\",Data!J29/$I29)","v":3},{"$f":"IF(Data!K29=\"\",\"\",Data!K29/$I29)","v":0},{"$f":"IF(Data!L29=\"\",\"\",Data!L29/$I29)","v":3},{"$f":"IF(Data!M29=\"\",\"\",Data!M29/$I29)","v":2},{"$f":"IF(Data!N29=\"\",\"\",Data!N29/$I29)","v":2},{"$f":"IF(Data!O29=\"\",\"\",Data!O29/$I29)","v":2},{"$f":"IF(Data!P29=\"\",\"\",Data!P29/$I29)","v":2},{"$f":"IF(Data!Q29=\"\",\"\",Data!Q29/$I29)","v":0},{"$f":"IF(Data!R29=\"\",\"\",Data!R29/$I29)","v":1},{"$f":"IF(Data!S29=\"\",\"\",Data!S29/$I29)","v":1},{"$f":"IF(Data!T29=\"\",\"\",Data!T29/$I29)","v":3},{"$f":"IF(Data!U29=\"\",\"\",Data!U29/$I29)","v":3},{"$f":"IF(Data!V29=\"\",\"\",Data!V29/$I29)","v":3},{"$f":"IF(Data!W29=\"\",\"\",Data!W29/$I29)","v":1},{"$f":"IF(Data!X29=\"\",\"\",Data!X29/$I29)","v":2},{"$f":"IF(Data!Y29=\"\",\"\",Data!Y29/$I29)","v":3},{"$f":"IF(Data!Z29=\"\",\"\",Data!Z29/$I29)","v":2},{"$f":"IF(Data!AA29=\"\",\"\",Data!AA29/$I29)","v":3},{"$f":"IF(Data!AB29=\"\",\"\",Data!AB29/$I29)","v":1},{"$f":"IF(Data!AC29=\"\",\"\",Data!AC29/$I29)","v":0}]
[1,{"$f":"tblIndicators!A27","v":26},{"$f":"tblIndicators!B27","v":0},{"$f":"tblIndicators!D27","v":"ENP"},{"$f":"tblIndicators!E27","v":"TOTAL"},{"$f":"tblIndicators!H27","v":"Environmental pillar"},{"$f":"tblIndicators!T27","v":1},{"$f":"tblIndicators!Y27","v":"3) ENVIRONMENTAL PILLAR"},1,{"$f":"IF(Data!J30=\"\",\"\",Data!J30/$I30)","v":""},{"$f":"IF(Data!K30=\"\",\"\",Data!K30/$I30)","v":""},{"$f":"IF(Data!L30=\"\",\"\",Data!L30/$I30)","v":""},{"$f":"IF(Data!M30=\"\",\"\",Data!M30/$I30)","v":""},{"$f":"IF(Data!N30=\"\",\"\",Data!N30/$I30)","v":""},{"$f":"IF(Data!O30=\"\",\"\",Data!O30/$I30)","v":""},{"$f":"IF(Data!P30=\"\",\"\",Data!P30/$I30)","v":""},{"$f":"IF(Data!Q30=\"\",\"\",Data!Q30/$I30)","v":""},{"$f":"IF(Data!R30=\"\",\"\",Data!R30/$I30)","v":""},{"$f":"IF(Data!S30=\"\",\"\",Data!S30/$I30)","v":""},{"$f":"IF(Data!T30=\"\",\"\",Data!T30/$I30)","v":""},{"$f":"IF(Data!U30=\"\",\"\",Data!U30/$I30)","v":""},{"$f":"IF(Data!V30=\"\",\"\",Data!V30/$I30)","v":""},{"$f":"IF(Data!W30=\"\",\"\",Data!W30/$I30)","v":""},{"$f":"IF(Data!X30=\"\",\"\",Data!X30/$I30)","v":""},{"$f":"IF(Data!Y30=\"\",\"\",Data!Y30/$I30)","v":""},{"$f":"IF(Data!Z30=\"\",\"\",Data!Z30/$I30)","v":""},{"$f":"IF(Data!AA30=\"\",\"\",Data!AA30/$I30)","v":""},{"$f":"IF(Data!AB30=\"\",\"\",Data!AB30/$I30)","v":""},{"$f":"IF(Data!AC30=\"\",\"\",Data!AC30/$I30)","v":""}]
[1,{"$f":"tblIndicators!A28","v":27},{"$f":"tblIndicators!B28","v":0},{"$f":"tblIndicators!D28","v":"ENP_10"},{"$f":"tblIndicators!E28","v":"ENP"},{"$f":"tblIndicators!H28","v":"Air pollution"},{"$f":"tblIndicators!T28","v":2},{"$f":"tblIndicators!Y28","v":"3.1) Air pollution"},1,{"$f":"IF(Data!J31=\"\",\"\",Data!J31/$I31)","v":29.62},{"$f":"IF(Data!K31=\"\",\"\",Data!K31/$I31)","v":9.1999999999999993},{"$f":"IF(Data!L31=\"\",\"\",Data!L31/$I31)","v":9.59},{"$f":"IF(Data!M31=\"\",\"\",Data!M31/$I31)","v":48},{"$f":"IF(Data!N31=\"\",\"\",Data!N31/$I31)","v":15.37},{"$f":"IF(Data!O31=\"\",\"\",Data!O31/$I31)","v":31.98},{"$f":"IF(Data!P31=\"\",\"\",Data!P31/$I31)","v":9.2100000000000009},{"$f":"IF(Data!Q31=\"\",\"\",Data!Q31/$I31)","v":11.69},{"$f":"IF(Data!R31=\"\",\"\",Data!R31/$I31)","v":21.14},{"$f":"IF(Data!S31=\"\",\"\",Data!S31/$I31)","v":10.65},{"$f":"IF(Data!T31=\"\",\"\",Data!T31/$I31)","v":14.12},{"$f":"IF(Data!U31=\"\",\"\",Data!U31/$I31)","v":29.35},{"$f":"IF(Data!V31=\"\",\"\",Data!V31/$I31)","v":6.68},{"$f":"IF(Data!W31=\"\",\"\",Data!W31/$I31)","v":5.16},{"$f":"IF(Data!X31=\"\",\"\",Data!X31/$I31)","v":19.899999999999999},{"$f":"IF(Data!Y31=\"\",\"\",Data!Y31/$I31)","v":9.17},{"$f":"IF(Data!Z31=\"\",\"\",Data!Z31/$I31)","v":14.57},{"$f":"IF(Data!AA31=\"\",\"\",Data!AA31/$I31)","v":14.6},{"$f":"IF(Data!AB31=\"\",\"\",Data!AB31/$I31)","v":17.87},{"$f":"IF(Data!AC31=\"\",\"\",Data!AC31/$I31)","v":7.47}]
[1,{"$f":"tblIndicators!A29","v":28},{"$f":"tblIndicators!B29","v":0},{"$f":"tblIndicators!D29","v":"ENP_11"},{"$f":"tblIndicators!E29","v":"ENP"},{"$f":"tblIndicators!H29","v":"Deforestation"},{"$f":"tblIndicators!T29","v":2},{"$f":"tblIndicators!Y29","v":"3.2) Deforestation"},1,{"$f":"IF(Data!J32=\"\",\"\",Data!J32/$I32)","v":-2.8},{"$f":"IF(Data!K32=\"\",\"\",Data!K32/$I32)","v":-1.5},{"$f":"IF(Data!L32=\"\",\"\",Data!L32/$I32)","v":-13.7},{"$f":"IF(Data!M32=\"\",\"\",Data!M32/$I32)","v":-2.5},{"$f":"IF(Data!N32=\"\",\"\",Data!N32/$I32)","v":0.2},{"$f":"IF(Data!O32=\"\",\"\",Data!O32/$I32)","v":-1.6},{"$f":"IF(Data!P32=\"\",\"\",Data!P32/$I32)","v":-5.5},{"$f":"IF(Data!Q32=\"\",\"\",Data!Q32/$I32)","v":-0.6},{"$f":"IF(Data!R32=\"\",\"\",Data!R32/$I32)","v":-4.3},{"$f":"IF(Data!S32=\"\",\"\",Data!S32/$I32)","v":-7.2},{"$f":"IF(Data!T32=\"\",\"\",Data!T32/$I32)","v":-2.6},{"$f":"IF(Data!U32=\"\",\"\",Data!U32/$I32)","v":-1.1000000000000001},{"$f":"IF(Data!V32=\"\",\"\",Data!V32/$I32)","v":-1.9},{"$f":"IF(Data!W32=\"\",\"\",Data!W32/$I32)","v":0},{"$f":"IF(Data!X32=\"\",\"\",Data!X32/$I32)","v":-1.7},{"$f":"IF(Data!Y32=\"\",\"\",Data!Y32/$I32)","v":-1.7},{"$f":"IF(Data!Z32=\"\",\"\",Data!Z32/$I32)","v":-0.8},{"$f":"IF(Data!AA32=\"\",\"\",Data!AA32/$I32)","v":-2.5},{"$f":"IF(Data!AB32=\"\",\"\",Data!AB32/$I32)","v":-3.6},{"$f":"IF(Data!AC32=\"\",\"\",Data!AC32/$I32)","v":-4.0999999999999996}]
[1,{"$f":"tblIndicators!A30","v":29},{"$f":"tblIndicators!B30","v":0},{"$f":"tblIndicators!D30","v":"ENP_12"},{"$f":"tblIndicators!E30","v":"ENP"},{"$f":"tblIndicators!H30","v":"Water pollution"},{"$f":"tblIndicators!T30","v":2},{"$f":"tblIndicators!Y30","v":"3.3) Water pollution"},1,{"$f":"IF(Data!J33=\"\",\"\",Data!J33/$I33)","v":0},{"$f":"IF(Data!K33=\"\",\"\",Data!K33/$I33)","v":37.840000000000003},{"$f":"IF(Data!L33=\"\",\"\",Data!L33/$I33)","v":0},{"$f":"IF(Data!M33=\"\",\"\",Data!M33/$I33)","v":18.179912237635001},{"$f":"IF(Data!N33=\"\",\"\",Data!N33/$I33)","v":87.786879999999996},{"$f":"IF(Data!O33=\"\",\"\",Data!O33/$I33)","v":10.49},{"$f":"IF(Data!P33=\"\",\"\",Data!P33/$I33)","v":0.02},{"$f":"IF(Data!Q33=\"\",\"\",Data!Q33/$I33)","v":71.260000000000005},{"$f":"IF(Data!R33=\"\",\"\",Data!R33/$I33)","v":0},{"$f":"IF(Data!S33=\"\",\"\",Data!S33/$I33)","v":8.64},{"$f":"IF(Data!T33=\"\",\"\",Data!T33/$I33)","v":0},{"$f":"IF(Data!U33=\"\",\"\",Data!U33/$I33)","v":3.52},{"$f":"IF(Data!V33=\"\",\"\",Data!V33/$I33)","v":0.53},{"$f":"IF(Data!W33=\"\",\"\",Data!W33/$I33)","v":99.65},{"$f":"IF(Data!X33=\"\",\"\",Data!X33/$I33)","v":83.68},{"$f":"IF(Data!Y33=\"\",\"\",Data!Y33/$I33)","v":0},{"$f":"IF(Data!Z33=\"\",\"\",Data!Z33/$I33)","v":4.59},{"$f":"IF(Data!AA33=\"\",\"\",Data!AA33/$I33)","v":16},{"$f":"IF(Data!AB33=\"\",\"\",Data!AB33/$I33)","v":0.14000000000000001},{"$f":"IF(Data!AC33=\"\",\"\",Data!AC33/$I33)","v":63.67}]
[1,{"$f":"tblIndicators!A31","v":30},{"$f":"tblIndicators!B31","v":0},{"$f":"tblIndicators!D31","v":"ENP_13"},{"$f":"tblIndicators!E31","v":"ENP"},{"$f":"tblIndicators!H31","v":"Environmental standards in trade"},{"$f":"tblIndicators!T31","v":3},{"$f":"tblIndicators!Y31","v":"3.4) Environmental standards in trade"},1,{"$f":"IF(Data!J34=\"\",\"\",Data!J34/$I34)","v":3},{"$f":"IF(Data!K34=\"\",\"\",Data!K34/$I34)","v":3},{"$f":"IF(Data!L34=\"\",\"\",Data!L34/$I34)","v":5},{"$f":"IF(Data!M34=\"\",\"\",Data!M34/$I34)","v":7},{"$f":"IF(Data!N34=\"\",\"\",Data!N34/$I34)","v":7},{"$f":"IF(Data!O34=\"\",\"\",Data!O34/$I34)","v":5},{"$f":"IF(Data!P34=\"\",\"\",Data!P34/$I34)","v":5},{"$f":"IF(Data!Q34=\"\",\"\",Data!Q34/$I34)","v":6},{"$f":"IF(Data!R34=\"\",\"\",Data!R34/$I34)","v":4},{"$f":"IF(Data!S34=\"\",\"\",Data!S34/$I34)","v":5},{"$f":"IF(Data!T34=\"\",\"\",Data!T34/$I34)","v":3},{"$f":"IF(Data!U34=\"\",\"\",Data!U34/$I34)","v":5},{"$f":"IF(Data!V34=\"\",\"\",Data!V34/$I34)","v":6},{"$f":"IF(Data!W34=\"\",\"\",Data!W34/$I34)","v":5},{"$f":"IF(Data!X34=\"\",\"\",Data!X34/$I34)","v":6},{"$f":"IF(Data!Y34=\"\",\"\",Data!Y34/$I34)","v":4},{"$f":"IF(Data!Z34=\"\",\"\",Data!Z34/$I34)","v":1},{"$f":"IF(Data!AA34=\"\",\"\",Data!AA34/$I34)","v":5},{"$f":"IF(Data!AB34=\"\",\"\",Data!AB34/$I34)","v":5},{"$f":"IF(Data!AC34=\"\",\"\",Data!AC34/$I34)","v":6}]
[1,{"$f":"tblIndicators!A32","v":31},{"$f":"tblIndicators!B32","v":0},{"$f":"tblIndicators!D32","v":"ENP_14"},{"$f":"tblIndicators!E32","v":"ENP"},{"$f":"tblIndicators!H32","v":"Carbon emissions in trade"},{"$f":"tblIndicators!T32","v":2},{"$f":"tblIndicators!Y32","v":"3.5) Carbon emissions in trade"},1,{"$f":"IF(Data!J35=\"\",\"\",Data!J35/$I35)","v":5.76619E-4},{"$f":"IF(Data!K35=\"\",\"\",Data!K35/$I35)","v":1.9880700000000001E-4},{"$f":"IF(Data!L35=\"\",\"\",Data!L35/$I35)","v":1.5789299999999999E-4},{"$f":"IF(Data!M35=\"\",\"\",Data!M35/$I35)","v":1.2355930000000001E-3},{"$f":"IF(Data!N35=\"\",\"\",Data!N35/$I35)","v":2.0763200000000001E-5},{"$f":"IF(Data!O35=\"\",\"\",Data!O35/$I35)","v":1.267273E-3},{"$f":"IF(Data!P35=\"\",\"\",Data!P35/$I35)","v":7.2207599999999999E-4},{"$f":"IF(Data!Q35=\"\",\"\",Data!Q35/$I35)","v":3.4800800000000002E-4},{"$f":"IF(Data!R35=\"\",\"\",Data!R35/$I35)","v":1.3646099999999999E-4},{"$f":"IF(Data!S35=\"\",\"\",Data!S35/$I35)","v":2.3244800000000001E-4},{"$f":"IF(Data!T35=\"\",\"\",Data!T35/$I35)","v":3.3662399999999999E-4},{"$f":"IF(Data!U35=\"\",\"\",Data!U35/$I35)","v":1.4227549999999999E-3},{"$f":"IF(Data!V35=\"\",\"\",Data!V35/$I35)","v":3.9130700000000003E-4},{"$f":"IF(Data!W35=\"\",\"\",Data!W35/$I35)","v":1.10187E-5},{"$f":"IF(Data!X35=\"\",\"\",Data!X35/$I35)","v":2.3707700000000001E-4},{"$f":"IF(Data!Y35=\"\",\"\",Data!Y35/$I35)","v":3.0448500000000001E-4},{"$f":"IF(Data!Z35=\"\",\"\",Data!Z35/$I35)","v":2.2694999999999999E-4},{"$f":"IF(Data!AA35=\"\",\"\",Data!AA35/$I35)","v":3.1734800000000001E-4},{"$f":"IF(Data!AB35=\"\",\"\",Data!AB35/$I35)","v":4.4651899999999998E-4},{"$f":"IF(Data!AC35=\"\",\"\",Data!AC35/$I35)","v":6.8022000000000004E-4}]
[1,{"$f":"tblIndicators!A33","v":32},{"$f":"tblIndicators!B33","v":0},{"$f":"tblIndicators!D33","v":"ENP_15"},{"$f":"tblIndicators!E33","v":"ENP"},{"$f":"tblIndicators!H33","v":"Share of natural resources in trade"},{"$f":"tblIndicators!T33","v":2},{"$f":"tblIndicators!Y33","v":"3.6) Share of natural resources in trade"},1,{"$f":"IF(Data!J36=\"\",\"\",Data!J36/$I36)","v":7.0791048999999995E-2},{"$f":"IF(Data!K36=\"\",\"\",Data!K36/$I36)","v":0.87965807900000004},{"$f":"IF(Data!L36=\"\",\"\",Data!L36/$I36)","v":0.10548642799999999},{"$f":"IF(Data!M36=\"\",\"\",Data!M36/$I36)","v":6.2638868E-2},{"$f":"IF(Data!N36=\"\",\"\",Data!N36/$I36)","v":8.6433671000000004E-2},{"$f":"IF(Data!O36=\"\",\"\",Data!O36/$I36)","v":0.30399832100000002},{"$f":"IF(Data!P36=\"\",\"\",Data!P36/$I36)","v":0.59944157099999995},{"$f":"IF(Data!Q36=\"\",\"\",Data!Q36/$I36)","v":6.3178454999999994E-2},{"$f":"IF(Data!R36=\"\",\"\",Data!R36/$I36)","v":0.732680149},{"$f":"IF(Data!S36=\"\",\"\",Data!S36/$I36)","v":0.280923861},{"$f":"IF(Data!T36=\"\",\"\",Data!T36/$I36)","v":0.83092470200000002},{"$f":"IF(Data!U36=\"\",\"\",Data!U36/$I36)","v":0.20483538400000001},{"$f":"IF(Data!V36=\"\",\"\",Data!V36/$I36)","v":0.16234657399999999},{"$f":"IF(Data!W36=\"\",\"\",Data!W36/$I36)","v":0.161219523},{"$f":"IF(Data!X36=\"\",\"\",Data!X36/$I36)","v":0.105734249},{"$f":"IF(Data!Y36=\"\",\"\",Data!Y36/$I36)","v":0.28577964300000003},{"$f":"IF(Data!Z36=\"\",\"\",Data!Z36/$I36)","v":9.7734884999999994E-2},{"$f":"IF(Data!AA36=\"\",\"\",Data!AA36/$I36)","v":0.247661981},{"$f":"IF(Data!AB36=\"\",\"\",Data!AB36/$I36)","v":0.36684358099999997},{"$f":"IF(Data!AC36=\"\",\"\",Data!AC36/$I36)","v":0.17641263300000001}]

{"sheet":"iSummary","index":35,"n_rows":31,"n_cols":49,"rows_kept":31,"cut":false,"hidden":true,"merged":[]}
["All tiers",{"$f":"uxb_works!B8","v":1},{"$f":"\"Average: \"&INDEX(luRegions,B2)","v":"Average: <none>"}]
[null,{"$f":"uxb_works!B10","v":1}]
["Rounding",1]
[]
[null,null,null,null,null,null,null,1,null,null,null,null,null,null,null,null,null,null,2,null,null,null,null,null,null,null,null,null,null,3,null,null,null,null,null,null,null,null,null,null,4]
[null,null,null,null,null,null,null,{"$f":"INDEX(tblIndiSets!$B$5:$B$9,H5)","v":1},null,null,null,null,null,{"$f":"INDEX(tblIndiSets!$C$5:$C$9,H5)","v":"OVERALL SCORE"},null,null,null,null,{"$f":"INDEX(tblIndiSets!$B$5:$B$9,S5)","v":2},null,null,null,null,null,{"$f":"INDEX(tblIndiSets!$C$5:$C$9,S5)","v":"1) ECONOMIC PILLAR"},null,null,null,null,{"$f":"INDEX(tblIndiSets!$B$5:$B$9,AD5)","v":21},null,null,null,null,null,{"$f":"INDEX(tblIndiSets!$C$5:$C$9,AD5)","v":"2) SOCIAL PILLAR"},null,null,null,null,{"$f":"INDEX(tblIndiSets!$B$5:$B$9,AO5)","v":26},null,null,null,null,null,{"$f":"INDEX(tblIndiSets!$C$5:$C$9,AO5)","v":"3) ENVIRONMENTAL PILLAR"}]
[null,"IN/OUT Group",null,"IsRegion","ActiveStatus","All Tiers",null,"Score","Rank","LU","RankRounded",null,null,null,null,"Score",null,null,"Score","Rank","LU","RankRounded",null,null,null,null,"Score",null,null,"Score","Rank","LU","RankRounded",null,null,null,null,"Score",null,null,"Score","Rank","LU","RankRounded",null,null,null,null,"Score"]
[{"$f":"tblTerritories!A3","v":1},{"$f":"INDEX(tblTerritories!$R$3:$V$22,$A8,$B$1)","v":1},{"$f":"tblTerritories!E3","v":"Bangladesh"},{"$f":"tblTerritories!D3","v":0},{"$f":"tblTerritories!G3","v":1},{"$f":"VLOOKUP(C8,tblTerritories!$F$3:$L$22,7,FALSE)+10","v":14},null,{"$f":"IF($E8=0,\"\",ROUND(INDEX(aScores,H$6,$A8),$B$3))","v":45.4},{"$f":"IF($E8=0,\"\",RANK(H8,H$8:H$27,0)+COUNTIF(H$8:H8,H8)-1)","v":18},{"$f":"IF(ISERROR(MATCH($A8,I$8:I$27,0)),\"\",MATCH($A8,I$8:I$27,0))","v":14},{"$f":"IF(J8=\"\",\"\",RANK(P8,P$8:P$27))","v":1},{"$f":"IF(J8=\"\",\"\",COUNTIF(P$8:P$27,P8))","v":1},{"$f":"IF(J8=\"\",0,INDEX($E$8:$E$27,J8))","v":1},{"$f":"IF(J8=\"\",\"\",IF(L8>1,CONCATENATE(\"=\",K8),K8))","v":1},{"$f":"IF(J8=\"\",\"\",INDEX($C$8:$C$27,J8))","v":"Singapore"},{"$f":"IF(J8=\"\",\"\",INDEX(H$8:H$27,J8))","v":81},null,null,{"$f":"IF($E8=0,\"\",ROUND(INDEX(aScores,S$6,$A8),$B$3))","v":50.4},{"$f":"IF($E8=0,\"\",RANK(S8,S$8:S$27,0)+COUNTIF(S$8:S8,S8)-1)","v":15},{"$f":"IF(ISERROR(MATCH($A8,T$8:T$27,0)),\"\",MATCH($A8,T$8:T$27,0))","v":14},{"$f":"IF(U8=\"\",\"\",RANK(AA8,AA$8:AA$27))","v":1},{"$f":"IF(U8=\"\",\"\",COUNTIF(AA$8:AA$27,AA8))","v":1},{"$f":"IF(U8=\"\",0,INDEX($E$8:$E$27,U8))","v":1},{"$f":"IF(U8=\"\",\"\",IF(W8>1,CONCATENATE(\"=\",V8),V8))","v":1},{"$f":"IF(U8=\"\",\"\",INDEX($C$8:$C$27,U8))","v":"Singapore"},{"$f":"IF(U8=\"\",\"\",INDEX(S$8:S$27,U8))","v":76.5},null,null,{"$f":"IF($E8=0,\"\",ROUND(INDEX(aScores,AD$6,$A8),$B$3))","v":33.5},{"$f":"IF($E8=0,\"\",RANK(AD8,AD$8:AD$27,0)+COUNTIF(AD$8:AD8,AD8)-1)","v":18},{"$f":"IF(ISERROR(MATCH($A8,AE$8:AE$27,0)),\"\",MATCH($A8,AE$8:AE$27,0))","v":15},{"$f":"IF(AF8=\"\",\"\",RANK(AL8,AL$8:AL$27))","v":1},{"$f":"IF(AF8=\"\",\"\",COUNTIF(AL$8:AL$27,AL8))","v":1},{"$f":"IF(AF8=\"\",0,INDEX($E$8:$E$27,AF8))","v":1},{"$f":"IF(AF8=\"\",\"\",IF(AH8>1,CONCATENATE(\"=\",AG8),AG8))","v":1},{"$f":"IF(AF8=\"\",\"\",INDEX($C$8:$C$27,AF8))","v":"South Korea"},{"$f":"IF(AF8=\"\",\"\",INDEX(AD$8:AD$27,AF8))","v":88.9},null,null,{"$f":"IF($E8=0,\"\",ROUND(INDEX(aScores,AO$6,$A8),$B$3))","v":52.3},{"$f":"IF($E8=0,\"\",RANK(AO8,AO$8:AO$27,0)+COUNTIF(AO$8:AO8,AO8)-1)","v":14},{"$f":"IF(ISERROR(MATCH($A8,AP$8:AP$27,0)),\"\",MATCH($A8,AP$8:AP$27,0))","v":5},{"$f":"IF(AQ8=\"\",\"\",RANK(AW8,AW$8:AW$27))","v":1},{"$f":"IF(AQ8=\"\",\"\",COUNTIF(AW$8:AW$27,AW8))","v":1},{"$f":"IF(AQ8=\"\",0,INDEX($E$8:$E$27,AQ8))","v":1},{"$f":"IF(AQ8=\"\",\"\",IF(AS8>1,CONCATENATE(\"=\",AR8),AR8))","v":1},{"$f":"IF(AQ8=\"\",\"\",INDEX($C$8:$C$27,AQ8))","v":"Hong Kong"},{"$f":"IF(AQ8=\"\",\"\",INDEX(AO$8:AO$27,AQ8))","v":93.4}]
[{"$f":"tblTerritories!A4","v":2},{"$f":"INDEX(tblTerritories!$R$3:$V$22,$A9,$B$1)","v":1},{"$f":"tblTerritories!E4","v":"Brunei"},{"$f":"tblTerritories!D4","v":0},{"$f":"tblTerritories!G4","v":1},{"$f":"VLOOKUP(C9,tblTerritories!$F$3:$L$22,7,FALSE)+10","v":11},null,{"$f":"IF($E9=0,\"\",ROUND(INDEX(aScores,H$6,$A9),$B$3))","v":54.2},{"$f":"IF($E9=0,\"\",RANK(H9,H$8:H$27,0)+COUNTIF(H$8:H9,H9)-1)","v":9},15,2,1,1,{"$f":"IF(J9=\"\",\"\",IF(L9>1,CONCATENATE(\"=\",K9),K9))","v":2},"South Korea",80,null,null,38.5,{"$f":"IF($E9=0,\"\",RANK(S9,S$8:S$27,0)+COUNTIF(S$8:S9,S9)-1)","v":19},5,2,1,1,{"$f":"IF(U9=\"\",\"\",IF(W9>1,CONCATENATE(\"=\",V9),V9))","v":2},"Hong Kong",70.900000000000006,null,null,68.2,{"$f":"IF($E9=0,\"\",RANK(AD9,AD$8:AD$27,0)+COUNTIF(AD$8:AD9,AD9)-1)","v":6},20,2,1,1,{"$f":"IF(AF9=\"\",\"\",IF(AH9>1,CONCATENATE(\"=\",AG9),AG9))","v":2},"USA",88.1,null,null,56.1,{"$f":"IF($E9=0,\"\",RANK(AO9,AO$8:AO$27,0)+COUNTIF(AO$8:AO9,AO9)-1)","v":13},14,2,1,1,{"$f":"IF(AQ9=\"\",\"\",IF(AS9>1,CONCATENATE(\"=\",AR9),AR9))","v":2},"Singapore",92.2]
[{"$f":"tblTerritories!A5","v":3},{"$f":"INDEX(tblTerritories!$R$3:$V$22,$A10,$B$1)","v":1},{"$f":"tblTerritories!E5","v":"Cambodia"},{"$f":"tblTerritories!D5","v":0},{"$f":"tblTerritories!G5","v":1},{"$f":"VLOOKUP(C10,tblTerritories!$F$3:$L$22,7,FALSE)+10","v":14},null,46.8,{"$f":"IF($E10=0,\"\",RANK(H10,H$8:H$27,0)+COUNTIF(H$8:H10,H10)-1)","v":16},8,3,1,1,3,"Japan",78.5,null,null,48.2,{"$f":"IF($E10=0,\"\",RANK(S10,S$8:S$27,0)+COUNTIF(S$8:S10,S10)-1)","v":17},15,3,1,1,3,"South Korea",68.3,null,null,35.5,{"$f":"IF($E10=0,\"\",RANK(AD10,AD$8:AD$27,0)+COUNTIF(AD$8:AD10,AD10)-1)","v":16},8,3,1,1,3,"Japan",85.7,null,null,56.8,{"$f":"IF($E10=0,\"\",RANK(AO10,AO$8:AO$27,0)+COUNTIF(AO$8:AO10,AO10)-1)","v":12},8,3,1,1,3,"Japan",85]
[{"$f":"tblTerritories!A6","v":4},{"$f":"INDEX(tblTerritories!$R$3:$V$22,$A11,$B$1)","v":1},{"$f":"tblTerritories!E6","v":"China"},{"$f":"tblTerritories!D6","v":0},{"$f":"tblTerritories!G6","v":1},{"$f":"VLOOKUP(C11,tblTerritories!$F$3:$L$22,7,FALSE)+10","v":12},null,52.5,{"$f":"IF($E11=0,\"\",RANK(H11,H$8:H$27,0)+COUNTIF(H$8:H11,H11)-1)","v":12},20,4,1,1,4,"USA",76.400000000000006,null,null,64.2,{"$f":"IF($E11=0,\"\",RANK(S11,S$8:S$27,0)+COUNTIF(S$8:S11,S11)-1)","v":8},17,4,1,1,4,"Taiwan",67.2,null,null,41.1,{"$f":"IF($E11=0,\"\",RANK(AD11,AD$8:AD$27,0)+COUNTIF(AD$8:AD11,AD11)-1)","v":12},17,4,1,1,4,"Taiwan",81.599999999999994,null,null,52,{"$f":"IF($E11=0,\"\",RANK(AO11,AO$8:AO$27,0)+COUNTIF(AO$8:AO11,AO11)-1)","v":15},15,4,1,1,4,"South Korea",83]
[{"$f":"tblTerritories!A7","v":5},{"$f":"INDEX(tblTerritories!$R$3:$V$22,$A12,$B$1)","v":1},{"$f":"tblTerritories!E7","v":"Hong Kong"},{"$f":"tblTerritories!D7","v":0},{"$f":"tblTerritories!G7","v":1},{"$f":"VLOOKUP(C12,tblTerritories!$F$3:$L$22,7,FALSE)+10","v":11},null,73.599999999999994,{"$f":"IF($E12=0,\"\",RANK(H12,H$8:H$27,0)+COUNTIF(H$8:H12,H12)-1)","v":5},5,5,1,1,5,"Hong Kong",73.599999999999994,null,null,70.900000000000006,{"$f":"IF($E12=0,\"\",RANK(S12,S$8:S$27,0)+COUNTIF(S$8:S12,S12)-1)","v":2},20,5,1,1,5,"USA",66.099999999999994,null,null,56.4,{"$f":"IF($E12=0,\"\",RANK(AD12,AD$8:AD$27,0)+COUNTIF(AD$8:AD12,AD12)-1)","v":7},14,5,1,1,5,"Singapore",74.2,null,null,93.4,{"$f":"IF($E12=0,\"\",RANK(AO12,AO$8:AO$27,0)+COUNTIF(AO$8:AO12,AO12)-1)","v":1},20,5,1,1,5,"USA",74.900000000000006]
[{"$f":"tblTerritories!A8","v":6},{"$f":"INDEX(tblTerritories!$R$3:$V$22,$A13,$B$1)","v":1},{"$f":"tblTerritories!E8","v":"India"},{"$f":"tblTerritories!D8","v":0},{"$f":"tblTerritories!G8","v":1},{"$f":"VLOOKUP(C13,tblTerritories!$F$3:$L$22,7,FALSE)+10","v":14},null,47.7,{"$f":"IF($E13=0,\"\",RANK(H13,H$8:H$27,0)+COUNTIF(H$8:H13,H13)-1)","v":15},17,6,1,1,6,"Taiwan",69.400000000000006,null,null,56,{"$f":"IF($E13=0,\"\",RANK(S13,S$8:S$27,0)+COUNTIF(S$8:S13,S13)-1)","v":11},8,6,2,1,"=6","Japan",64.8,null,null,39.799999999999997,{"$f":"IF($E13=0,\"\",RANK(AD13,AD$8:AD$27,0)+COUNTIF(AD$8:AD13,AD13)-1)","v":14},2,6,1,1,6,"Brunei",68.2,null,null,47.2,{"$f":"IF($E13=0,\"\",RANK(AO13,AO$8:AO$27,0)+COUNTIF(AO$8:AO13,AO13)-1)","v":19},13,6,1,1,6,"Philippines",71]
[{"$f":"tblTerritories!A9","v":7},{"$f":"INDEX(tblTerritories!$R$3:$V$22,$A14,$B$1)","v":1},{"$f":"tblTerritories!E9","v":"Indonesia"},{"$f":"tblTerritories!D9","v":0},{"$f":"tblTerritories!G9","v":1},{"$f":"VLOOKUP(C14,tblTerritories!$F$3:$L$22,7,FALSE)+10","v":13},null,47.9,{"$f":"IF($E14=0,\"\",RANK(H14,H$8:H$27,0)+COUNTIF(H$8:H14,H14)-1)","v":14},10,7,1,1,7,"Malaysia",59.4,null,null,53.7,{"$f":"IF($E14=0,\"\",RANK(S14,S$8:S$27,0)+COUNTIF(S$8:S14,S14)-1)","v":14},10,6,2,1,"=6","Malaysia",64.8,null,null,40,{"$f":"IF($E14=0,\"\",RANK(AD14,AD$8:AD$27,0)+COUNTIF(AD$8:AD14,AD14)-1)","v":13},5,7,1,1,7,"Hong Kong",56.4,null,null,50,{"$f":"IF($E14=0,\"\",RANK(AO14,AO$8:AO$27,0)+COUNTIF(AO$8:AO14,AO14)-1)","v":16},18,7,1,1,7,"Thailand",66.2]
[{"$f":"tblTerritories!A10","v":8},{"$f":"INDEX(tblTerritories!$R$3:$V$22,$A15,$B$1)","v":1},{"$f":"tblTerritories!E10","v":"Japan"},{"$f":"tblTerritories!D10","v":0},{"$f":"tblTerritories!G10","v":1},{"$f":"VLOOKUP(C15,tblTerritories!$F$3:$L$22,7,FALSE)+10","v":11},null,78.5,{"$f":"IF($E15=0,\"\",RANK(H15,H$8:H$27,0)+COUNTIF(H$8:H15,H15)-1)","v":3},18,8,1,1,8,"Thailand",55.5,null,null,64.8,{"$f":"IF($E15=0,\"\",RANK(S15,S$8:S$27,0)+COUNTIF(S$8:S15,S15)-1)","v":6},4,8,1,1,8,"China",64.2,null,null,85.7,{"$f":"IF($E15=0,\"\",RANK(AD15,AD$8:AD$27,0)+COUNTIF(AD$8:AD15,AD15)-1)","v":3},10,8,1,1,8,"Malaysia",52.2,null,null,85,{"$f":"IF($E15=0,\"\",RANK(AO15,AO$8:AO$27,0)+COUNTIF(AO$8:AO15,AO15)-1)","v":3},16,8,1,1,8,"Sri Lanka",63.1]
[{"$f":"tblTerritories!A11","v":9},{"$f":"INDEX(tblTerritories!$R$3:$V$22,$A16,$B$1)","v":1},{"$f":"tblTerritories!E11","v":"Laos"},{"$f":"tblTerritories!D11","v":0},{"$f":"tblTerritories!G11","v":1},{"$f":"VLOOKUP(C16,tblTerritories!$F$3:$L$22,7,FALSE)+10","v":14},null,45.5,{"$f":"IF($E16=0,\"\",RANK(H16,H$8:H$27,0)+COUNTIF(H$8:H16,H16)-1)","v":17},2,9,2,1,"=9","Brunei",54.2,null,null,49.7,{"$f":"IF($E16=0,\"\",RANK(S16,S$8:S$27,0)+COUNTIF(S$8:S16,S16)-1)","v":16},13,9,1,1,9,"Philippines",57.1,null,null,38.700000000000003,{"$f":"IF($E16=0,\"\",RANK(AD16,AD$8:AD$27,0)+COUNTIF(AD$8:AD16,AD16)-1)","v":15},19,9,1,1,9,"Vietnam",48.1,null,null,48.2,{"$f":"IF($E16=0,\"\",RANK(AO16,AO$8:AO$27,0)+COUNTIF(AO$8:AO16,AO16)-1)","v":17},10,9,1,1,9,"Malaysia",61.1]
[{"$f":"tblTerritories!A12","v":10},{"$f":"INDEX(tblTerritories!$R$3:$V$22,$A17,$B$1)","v":1},{"$f":"tblTerritories!E12","v":"Malaysia"},{"$f":"tblTerritories!D12","v":0},{"$f":"tblTerritories!G12","v":1},{"$f":"VLOOKUP(C17,tblTerritories!$F$3:$L$22,7,FALSE)+10","v":12},null,59.4,{"$f":"IF($E17=0,\"\",RANK(H17,H$8:H$27,0)+COUNTIF(H$8:H17,H17)-1)","v":7},16,9,2,1,{"$f":"IF(J17=\"\",\"\",IF(L17>1,CONCATENATE(\"=\",K17),K17))","v":"=9"},"Sri Lanka",54.2,null,null,64.8,{"$f":"IF($E17=0,\"\",RANK(S17,S$8:S$27,0)+COUNTIF(S$8:S17,S17)-1)","v":7},19,10,1,1,10,"Vietnam",56.4,null,null,52.2,{"$f":"IF($E17=0,\"\",RANK(AD17,AD$8:AD$27,0)+COUNTIF(AD$8:AD17,AD17)-1)","v":8},18,10,1,1,10,"Thailand",45.2,null,null,61.1,{"$f":"IF($E17=0,\"\",RANK(AO17,AO$8:AO$27,0)+COUNTIF(AO$8:AO17,AO17)-1)","v":9},17,10,1,1,10,"Taiwan",59.3]
[{"$f":"tblTerritories!A13","v":11},{"$f":"INDEX(tblTerritories!$R$3:$V$22,$A18,$B$1)","v":1},{"$f":"tblTerritories!E13","v":"Myanmar"},{"$f":"tblTerritories!D13","v":0},{"$f":"tblTerritories!G13","v":1},{"$f":"VLOOKUP(C18,tblTerritories!$F$3:$L$22,7,FALSE)+10","v":14},null,36.1,{"$f":"IF($E18=0,\"\",RANK(H18,H$8:H$27,0)+COUNTIF(H$8:H18,H18)-1)","v":20},19,11,1,1,11,"Vietnam",53.8,null,null,35.1,{"$f":"IF($E18=0,\"\",RANK(S18,S$8:S$27,0)+COUNTIF(S$8:S18,S18)-1)","v":20},6,11,1,1,11,"India",56,null,null,27.3,{"$f":"IF($E18=0,\"\",RANK(AD18,AD$8:AD$27,0)+COUNTIF(AD$8:AD18,AD18)-1)","v":20},16,11,1,1,11,"Sri Lanka",44.9,null,null,45.9,{"$f":"IF($E18=0,\"\",RANK(AO18,AO$8:AO$27,0)+COUNTIF(AO$8:AO18,AO18)-1)","v":20},19,11,1,1,11,"Vietnam",57]
[{"$f":"tblTerritories!A14","v":12},{"$f":"INDEX(tblTerritories!$R$3:$V$22,$A19,$B$1)","v":1},{"$f":"tblTerritories!E14","v":"Pakistan"},{"$f":"tblTerritories!D14","v":0},{"$f":"tblTerritories!G14","v":1},{"$f":"VLOOKUP(C19,tblTerritories!$F$3:$L$22,7,FALSE)+10","v":14},null,41.7,{"$f":"IF($E19=0,\"\",RANK(H19,H$8:H$27,0)+COUNTIF(H$8:H19,H19)-1)","v":19},4,12,1,1,12,"China",52.5,null,null,42.4,{"$f":"IF($E19=0,\"\",RANK(S19,S$8:S$27,0)+COUNTIF(S$8:S19,S19)-1)","v":18},18,12,1,1,12,"Thailand",55,null,null,35,{"$f":"IF($E19=0,\"\",RANK(AD19,AD$8:AD$27,0)+COUNTIF(AD$8:AD19,AD19)-1)","v":17},4,12,1,1,12,"China",41.1,null,null,47.8,{"$f":"IF($E19=0,\"\",RANK(AO19,AO$8:AO$27,0)+COUNTIF(AO$8:AO19,AO19)-1)","v":18},3,12,1,1,12,"Cambodia",56.8]
[{"$f":"tblTerritories!A15","v":13},{"$f":"INDEX(tblTerritories!$R$3:$V$22,$A20,$B$1)","v":1},{"$f":"tblTerritories!E15","v":"Philippines"},{"$f":"tblTerritories!D15","v":0},{"$f":"tblTerritories!G15","v":1},{"$f":"VLOOKUP(C20,tblTerritories!$F$3:$L$22,7,FALSE)+10","v":13},null,52,{"$f":"IF($E20=0,\"\",RANK(H20,H$8:H$27,0)+COUNTIF(H$8:H20,H20)-1)","v":13},13,13,1,1,13,"Philippines",52,null,null,57.1,{"$f":"IF($E20=0,\"\",RANK(S20,S$8:S$27,0)+COUNTIF(S$8:S20,S20)-1)","v":9},16,13,1,1,13,"Sri Lanka",54.5,null,null,28,{"$f":"IF($E20=0,\"\",RANK(AD20,AD$8:AD$27,0)+COUNTIF(AD$8:AD20,AD20)-1)","v":19},7,13,1,1,13,"Indonesia",40,null,null,71,{"$f":"IF($E20=0,\"\",RANK(AO20,AO$8:AO$27,0)+COUNTIF(AO$8:AO20,AO20)-1)","v":6},2,13,1,1,13,"Brunei",56.1]
[{"$f":"tblTerritories!A16","v":14},{"$f":"INDEX(tblTerritories!$R$3:$V$22,$A21,$B$1)","v":1},{"$f":"tblTerritories!E16","v":"Singapore"},{"$f":"tblTerritories!D16","v":0},{"$f":"tblTerritories!G16","v":1},{"$f":"VLOOKUP(C21,tblTerritories!$F$3:$L$22,7,FALSE)+10","v":11},null,81,{"$f":"IF($E21=0,\"\",RANK(H21,H$8:H$27,0)+COUNTIF(H$8:H21,H21)-1)","v":1},7,14,1,1,14,"Indonesia",47.9,null,null,76.5,{"$f":"IF($E21=0,\"\",RANK(S21,S$8:S$27,0)+COUNTIF(S$8:S21,S21)-1)","v":1},7,14,1,1,14,"Indonesia",53.7,null,null,74.2,{"$f":"IF($E21=0,\"\",RANK(AD21,AD$8:AD$27,0)+COUNTIF(AD$8:AD21,AD21)-1)","v":5},6,14,1,1,14,"India",39.799999999999997,null,null,92.2,{"$f":"IF($E21=0,\"\",RANK(AO21,AO$8:AO$27,0)+COUNTIF(AO$8:AO21,AO21)-1)","v":2},1,14,1,1,14,"Bangladesh",52.3]
[{"$f":"tblTerritories!A17","v":15},{"$f":"INDEX(tblTerritories!$R$3:$V$22,$A22,$B$1)","v":1},{"$f":"tblTerritories!E17","v":"South Korea"},{"$f":"tblTerritories!D17","v":0},{"$f":"tblTerritories!G17","v":1},{"$f":"VLOOKUP(C22,tblTerritories!$F$3:$L$22,7,FALSE)+10","v":11},null,80,{"$f":"IF($E22=0,\"\",RANK(H22,H$8:H$27,0)+COUNTIF(H$8:H22,H22)-1)","v":2},6,15,1,1,15,"India",47.7,null,null,68.3,{"$f":"IF($E22=0,\"\",RANK(S22,S$8:S$27,0)+COUNTIF(S$8:S22,S22)-1)","v":3},1,15,1,1,15,"Bangladesh",50.4,null,null,88.9,{"$f":"IF($E22=0,\"\",RANK(AD22,AD$8:AD$27,0)+COUNTIF(AD$8:AD22,AD22)-1)","v":1},9,15,1,1,15,"Laos",38.700000000000003,null,null,83,{"$f":"IF($E22=0,\"\",RANK(AO22,AO$8:AO$27,0)+COUNTIF(AO$8:AO22,AO22)-1)","v":4},4,15,1,1,15,"China",52]
[{"$f":"tblTerritories!A18","v":16},{"$f":"INDEX(tblTerritories!$R$3:$V$22,$A23,$B$1)","v":1},{"$f":"tblTerritories!E18","v":"Sri Lanka"},{"$f":"tblTerritories!D18","v":0},{"$f":"tblTerritories!G18","v":1},{"$f":"VLOOKUP(C23,tblTerritories!$F$3:$L$22,7,FALSE)+10","v":13},null,54.2,{"$f":"IF($E23=0,\"\",RANK(H23,H$8:H$27,0)+COUNTIF(H$8:H23,H23)-1)","v":10},3,16,1,1,16,"Cambodia",46.8,null,null,54.5,{"$f":"IF($E23=0,\"\",RANK(S23,S$8:S$27,0)+COUNTIF(S$8:S23,S23)-1)","v":13},9,16,1,1,16,"Laos",49.7,null,null,44.9,{"$f":"IF($E23=0,\"\",RANK(AD23,AD$8:AD$27,0)+COUNTIF(AD$8:AD23,AD23)-1)","v":11},3,16,1,1,16,"Cambodia",35.5,null,null,63.1,{"$f":"IF($E23=0,\"\",RANK(AO23,AO$8:AO$27,0)+COUNTIF(AO$8:AO23,AO23)-1)","v":8},7,16,1,1,16,"Indonesia",50]
[{"$f":"tblTerritories!A19","v":17},{"$f":"INDEX(tblTerritories!$R$3:$V$22,$A24,$B$1)","v":1},{"$f":"tblTerritories!E19","v":"Taiwan"},{"$f":"tblTerritories!D19","v":0},{"$f":"tblTerritories!G19","v":1},{"$f":"VLOOKUP(C24,tblTerritories!$F$3:$L$22,7,FALSE)+10","v":11},null,69.400000000000006,{"$f":"IF($E24=0,\"\",RANK(H24,H$8:H$27,0)+COUNTIF(H$8:H24,H24)-1)","v":6},9,17,1,1,17,"Laos",45.5,null,null,67.2,{"$f":"IF($E24=0,\"\",RANK(S24,S$8:S$27,0)+COUNTIF(S$8:S24,S24)-1)","v":4},3,17,1,1,17,"Cambodia",48.2,null,null,81.599999999999994,{"$f":"IF($E24=0,\"\",RANK(AD24,AD$8:AD$27,0)+COUNTIF(AD$8:AD24,AD24)-1)","v":4},12,17,1,1,17,"Pakistan",35,null,null,59.3,{"$f":"IF($E24=0,\"\",RANK(AO24,AO$8:AO$27,0)+COUNTIF(AO$8:AO24,AO24)-1)","v":10},9,17,1,1,17,"Laos",48.2]
[{"$f":"tblTerritories!A20","v":18},{"$f":"INDEX(tblTerritories!$R$3:$V$22,$A25,$B$1)","v":1},{"$f":"tblTerritories!E20","v":"Thailand"},{"$f":"tblTerritories!D20","v":0},{"$f":"tblTerritories!G20","v":1},{"$f":"VLOOKUP(C25,tblTerritories!$F$3:$L$22,7,FALSE)+10","v":12},null,55.5,{"$f":"IF($E25=0,\"\",RANK(H25,H$8:H$27,0)+COUNTIF(H$8:H25,H25)-1)","v":8},1,18,1,1,18,"Bangladesh",45.4,null,null,55,{"$f":"IF($E25=0,\"\",RANK(S25,S$8:S$27,0)+COUNTIF(S$8:S25,S25)-1)","v":12},12,18,1,1,18,"Pakistan",42.4,null,null,45.2,{"$f":"IF($E25=0,\"\",RANK(AD25,AD$8:AD$27,0)+COUNTIF(AD$8:AD25,AD25)-1)","v":10},1,18,1,1,18,"Bangladesh",33.5,null,null,66.2,{"$f":"IF($E25=0,\"\",RANK(AO25,AO$8:AO$27,0)+COUNTIF(AO$8:AO25,AO25)-1)","v":7},12,18,1,1,18,"Pakistan",47.8]
[{"$f":"tblTerritories!A21","v":19},{"$f":"INDEX(tblTerritories!$R$3:$V$22,$A26,$B$1)","v":1},{"$f":"tblTerritories!E21","v":"Vietnam"},{"$f":"tblTerritories!D21","v":0},{"$f":"tblTerritories!G21","v":1},{"$f":"VLOOKUP(C26,tblTerritories!$F$3:$L$22,7,FALSE)+10","v":13},null,53.8,{"$f":"IF($E26=0,\"\",RANK(H26,H$8:H$27,0)+COUNTIF(H$8:H26,H26)-1)","v":11},12,19,1,1,19,"Pakistan",41.7,null,null,56.4,{"$f":"IF($E26=0,\"\",RANK(S26,S$8:S$27,0)+COUNTIF(S$8:S26,S26)-1)","v":10},2,19,1,1,19,"Brunei",38.5,null,null,48.1,{"$f":"IF($E26=0,\"\",RANK(AD26,AD$8:AD$27,0)+COUNTIF(AD$8:AD26,AD26)-1)","v":9},13,19,1,1,19,"Philippines",28,null,null,57,{"$f":"IF($E26=0,\"\",RANK(AO26,AO$8:AO$27,0)+COUNTIF(AO$8:AO26,AO26)-1)","v":11},6,19,1,1,19,"India",47.2]
[{"$f":"tblTerritories!A22","v":20},{"$f":"INDEX(tblTerritories!$R$3:$V$22,$A27,$B$1)","v":1},{"$f":"tblTerritories!E22","v":"USA"},{"$f":"tblTerritories!D22","v":0},{"$f":"tblTerritories!G22","v":1},{"$f":"VLOOKUP(C27,tblTerritories!$F$3:$L$22,7,FALSE)+10","v":11},null,76.400000000000006,{"$f":"IF($E27=0,\"\",RANK(H27,H$8:H$27,0)+COUNTIF(H$8:H27,H27)-1)","v":4},11,20,1,1,20,"Myanmar",36.1,null,null,66.099999999999994,{"$f":"IF($E27=0,\"\",RANK(S27,S$8:S$27,0)+COUNTIF(S$8:S27,S27)-1)","v":5},11,20,1,1,20,"Myanmar",35.1,null,null,88.1,{"$f":"IF($E27=0,\"\",RANK(AD27,AD$8:AD$27,0)+COUNTIF(AD$8:AD27,AD27)-1)","v":2},11,20,1,1,20,"Myanmar",27.3,null,null,74.900000000000006,{"$f":"IF($E27=0,\"\",RANK(AO27,AO$8:AO$27,0)+COUNTIF(AO$8:AO27,AO27)-1)","v":5},11,20,1,1,20,"Myanmar",45.9]
[]
[]
[null,{"$f":"SUM(B8:B27)","v":20},null,null,null,{"$f":"C1","v":"Average: <none>"},{"$f":"RANK(H30,H8:H30)","v":8},{"$f":"AVERAGE(H8:H27)","v":57.580000000000005},null,null,null,null,null,null,null,null,null,{"$f":"RANK(S30,S8:S30)","v":10},{"$f":"AVERAGE(S8:S27)","v":56.989999999999995},null,null,null,null,null,null,null,null,null,{"$f":"RANK(AD30,AD8:AD30)","v":8},{"$f":"AVERAGE(AD8:AD27)","v":52.620000000000005},null,null,null,null,null,null,null,null,null,{"$f":"RANK(AO30,AO8:AO30)","v":8},{"$f":"AVERAGE(AO8:AO27)","v":63.125000000000014}]
[null,null,null,null,null,null,{"$f":"G30-1&\" < x < \"&G30","v":"7 < x < 8"},{"$f":"COUNT(H8:H27)","v":20},null,null,null,null,null,null,null,null,null,{"$f":"R30-1&\" < x < \"&R30","v":"9 < x < 10"},{"$f":"COUNT(S8:S27)","v":20},null,null,null,null,null,null,null,null,null,{"$f":"AC30-1&\" < x < \"&AC30","v":"7 < x < 8"},null,null,null,null,null,null,null,null,null,null,{"$f":"AN30-1&\" < x < \"&AN30","v":"7 < x < 8"}]

{"sheet":"Summary","index":36,"n_rows":32,"n_cols":28,"rows_kept":32,"cut":false,"hidden":true,"merged":[[7,24,7,27],[2,4,2,14],[3,4,3,14],[7,3,7,6],[7,10,7,13],[7,17,7,20]]}
[]
[]
[null,null,null,null,"Normalised scores 0-100, where 100 = most favourable conditions"]
[null,null,null,null,"= before the rank indicates a tie in rank with another geography"]
[]
[]
[]
[null,null,null,{"$f":"iSummary!N6","v":"OVERALL SCORE"},null,null,null,null,null,null,{"$f":"iSummary!Y6","v":"1) ECONOMIC PILLAR"},null,null,null,null,null,null,{"$f":"iSummary!AJ6","v":"2) SOCIAL PILLAR"},null,null,null,null,null,null,{"$f":"iSummary!AU6","v":"3) ENVIRONMENTAL PILLAR"}]
[null,{"$f":"iSummary!M8","v":1},{"$f":"IF(G9<=30,0,IF(G9<=50,1,IF(G9<=70,2,3)))","v":3},null,{"$f":"iSummary!N8","v":1},{"$f":"iSummary!O8","v":"Singapore"},{"$f":"iSummary!P8","v":81},null,{"$f":"iSummary!X8","v":1},{"$f":"IF(N9<=30,0,IF(N9<=50,1,IF(N9<=70,2,3)))","v":3},null,{"$f":"iSummary!Y8","v":1},{"$f":"iSummary!Z8","v":"Singapore"},{"$f":"iSummary!AA8","v":76.5},null,{"$f":"iSummary!AI8","v":1},{"$f":"IF(U9<=30,0,IF(U9<=50,1,IF(U9<=70,2,3)))","v":3},null,{"$f":"iSummary!AJ8","v":1},{"$f":"iSummary!AK8","v":"South Korea"},{"$f":"iSummary!AL8","v":88.9},null,{"$f":"iSummary!AT8","v":1},{"$f":"IF(AB9<=30,0,IF(AB9<=50,1,IF(AB9<=70,2,3)))","v":3},null,{"$f":"iSummary!AU8","v":1},{"$f":"iSummary!AV8","v":"Hong Kong"},{"$f":"iSummary!AW8","v":93.4}]
[null,{"$f":"iSummary!M9","v":1},{"$f":"IF(G10<=30,0,IF(G10<=50,1,IF(G10<=70,2,3)))","v":3},null,{"$f":"iSummary!N9","v":2},{"$f":"iSummary!O9","v":"South Korea"},{"$f":"iSummary!P9","v":80},null,{"$f":"iSummary!X9","v":1},{"$f":"IF(N10<=30,0,IF(N10<=50,1,IF(N10<=70,2,3)))","v":3},null,{"$f":"iSummary!Y9","v":2},{"$f":"iSummary!Z9","v":"Hong Kong"},{"$f":"iSummary!AA9","v":70.900000000000006},null,{"$f":"iSummary!AI9","v":1},{"$f":"IF(U10<=30,0,IF(U10<=50,1,IF(U10<=70,2,3)))","v":3},null,{"$f":"iSummary!AJ9","v":2},{"$f":"iSummary!AK9","v":"USA"},{"$f":"iSummary!AL9","v":88.1},null,{"$f":"iSummary!AT9","v":1},{"$f":"IF(AB10<=30,0,IF(AB10<=50,1,IF(AB10<=70,2,3)))","v":3},null,{"$f":"iSummary!AU9","v":2},{"$f":"iSummary!AV9","v":"Singapore"},{"$f":"iSummary!AW9","v":92.2}]
[null,{"$f":"iSummary!M10","v":1},3,null,{"$f":"iSummary!N10","v":3},{"$f":"iSummary!O10","v":"Japan"},{"$f":"iSummary!P10","v":78.5},null,{"$f":"iSummary!X10","v":1},2,null,{"$f":"iSummary!Y10","v":3},{"$f":"iSummary!Z10","v":"South Korea"},{"$f":"iSummary!AA10","v":68.3},null,{"$f":"iSummary!AI10","v":1},3,null,{"$f":"iSummary!AJ10","v":3},{"$f":"iSummary!AK10","v":"Japan"},{"$f":"iSummary!AL10","v":85.7},null,{"$f":"iSummary!AT10","v":1},3,null,{"$f":"iSummary!AU10","v":3},{"$f":"iSummary!AV10","v":"Japan"},{"$f":"iSummary!AW10","v":85}]
[null,{"$f":"iSummary!M11","v":1},3,null,{"$f":"iSummary!N11","v":4},{"$f":"iSummary!O11","v":"USA"},{"$f":"iSummary!P11","v":76.400000000000006},null,{"$f":"iSummary!X11","v":1},2,null,{"$f":"iSummary!Y11","v":4},{"$f":"iSummary!Z11","v":"Taiwan"},{"$f":"iSummary!AA11","v":67.2},null,{"$f":"iSummary!AI11","v":1},3,null,{"$f":"iSummary!AJ11","v":4},{"$f":"iSummary!AK11","v":"Taiwan"},{"$f":"iSummary!AL11","v":81.599999999999994},null,{"$f":"iSummary!AT11","v":1},3,null,{"$f":"iSummary!AU11","v":4},{"$f":"iSummary!AV11","v":"South Korea"},{"$f":"iSummary!AW11","v":83}]
[null,{"$f":"iSummary!M12","v":1},3,null,{"$f":"iSummary!N12","v":5},{"$f":"iSummary!O12","v":"Hong Kong"},{"$f":"iSummary!P12","v":73.599999999999994},null,{"$f":"iSummary!X12","v":1},2,null,{"$f":"iSummary!Y12","v":5},{"$f":"iSummary!Z12","v":"USA"},{"$f":"iSummary!AA12","v":66.099999999999994},null,{"$f":"iSummary!AI12","v":1},3,null,{"$f":"iSummary!AJ12","v":5},{"$f":"iSummary!AK12","v":"Singapore"},{"$f":"iSummary!AL12","v":74.2},null,{"$f":"iSummary!AT12","v":1},3,null,{"$f":"iSummary!AU12","v":5},{"$f":"iSummary!AV12","v":"USA"},{"$f":"iSummary!AW12","v":74.900000000000006}]
[null,{"$f":"iSummary!M13","v":1},2,null,{"$f":"iSummary!N13","v":6},{"$f":"iSummary!O13","v":"Taiwan"},{"$f":"iSummary!P13","v":69.400000000000006},null,{"$f":"iSummary!X13","v":1},2,null,{"$f":"iSummary!Y13","v":"=6"},{"$f":"iSummary!Z13","v":"Japan"},{"$f":"iSummary!AA13","v":64.8},null,{"$f":"iSummary!AI13","v":1},2,null,{"$f":"iSummary!AJ13","v":6},{"$f":"iSummary!AK13","v":"Brunei"},{"$f":"iSummary!AL13","v":68.2},null,{"$f":"iSummary!AT13","v":1},3,null,{"$f":"iSummary!AU13","v":6},{"$f":"iSummary!AV13","v":"Philippines"},{"$f":"iSummary!AW13","v":71}]
[null,{"$f":"iSummary!M14","v":1},2,null,{"$f":"iSummary!N14","v":7},{"$f":"iSummary!O14","v":"Malaysia"},{"$f":"iSummary!P14","v":59.4},null,{"$f":"iSummary!X14","v":1},2,null,{"$f":"iSummary!Y14","v":"=6"},{"$f":"iSummary!Z14","v":"Malaysia"},{"$f":"iSummary!AA14","v":64.8},null,{"$f":"iSummary!AI14","v":1},2,null,{"$f":"iSummary!AJ14","v":7},{"$f":"iSummary!AK14","v":"Hong Kong"},{"$f":"iSummary!AL14","v":56.4},null,{"$f":"iSummary!AT14","v":1},2,null,{"$f":"iSummary!AU14","v":7},{"$f":"iSummary!AV14","v":"Thailand"},{"$f":"iSummary!AW14","v":66.2}]
[null,{"$f":"iSummary!M15","v":1},2,null,{"$f":"iSummary!N15","v":8},{"$f":"iSummary!O15","v":"Thailand"},{"$f":"iSummary!P15","v":55.5},null,{"$f":"iSummary!X15","v":1},2,null,{"$f":"iSummary!Y15","v":8},{"$f":"iSummary!Z15","v":"China"},{"$f":"iSummary!AA15","v":64.2},null,{"$f":"iSummary!AI15","v":1},2,null,{"$f":"iSummary!AJ15","v":8},{"$f":"iSummary!AK15","v":"Malaysia"},{"$f":"iSummary!AL15","v":52.2},null,{"$f":"iSummary!AT15","v":1},2,null,{"$f":"iSummary!AU15","v":8},{"$f":"iSummary!AV15","v":"Sri Lanka"},{"$f":"iSummary!AW15","v":63.1}]
[null,{"$f":"iSummary!M16","v":1},2,null,{"$f":"iSummary!N16","v":"=9"},{"$f":"iSummary!O16","v":"Brunei"},{"$f":"iSummary!P16","v":54.2},null,{"$f":"iSummary!X16","v":1},2,null,{"$f":"iSummary!Y16","v":9},{"$f":"iSummary!Z16","v":"Philippines"},{"$f":"iSummary!AA16","v":57.1},null,{"$f":"iSummary!AI16","v":1},1,null,{"$f":"iSummary!AJ16","v":9},{"$f":"iSummary!AK16","v":"Vietnam"},{"$f":"iSummary!AL16","v":48.1},null,{"$f":"iSummary!AT16","v":1},2,null,{"$f":"iSummary!AU16","v":9},{"$f":"iSummary!AV16","v":"Malaysia"},{"$f":"iSummary!AW16","v":61.1}]
[null,{"$f":"iSummary!M17","v":1},2,null,{"$f":"iSummary!N17","v":"=9"},{"$f":"iSummary!O17","v":"Sri Lanka"},{"$f":"iSummary!P17","v":54.2},null,{"$f":"iSummary!X17","v":1},2,null,{"$f":"iSummary!Y17","v":10},{"$f":"iSummary!Z17","v":"Vietnam"},{"$f":"iSummary!AA17","v":56.4},null,{"$f":"iSummary!AI17","v":1},1,null,{"$f":"iSummary!AJ17","v":10},{"$f":"iSummary!AK17","v":"Thailand"},{"$f":"iSummary!AL17","v":45.2},null,{"$f":"iSummary!AT17","v":1},2,null,{"$f":"iSummary!AU17","v":10},{"$f":"iSummary!AV17","v":"Taiwan"},{"$f":"iSummary!AW17","v":59.3}]
[null,{"$f":"iSummary!M18","v":1},2,null,{"$f":"iSummary!N18","v":11},{"$f":"iSummary!O18","v":"Vietnam"},{"$f":"iSummary!P18","v":53.8},null,{"$f":"iSummary!X18","v":1},2,null,{"$f":"iSummary!Y18","v":11},{"$f":"iSummary!Z18","v":"India"},{"$f":"iSummary!AA18","v":56},null,{"$f":"iSummary!AI18","v":1},1,null,{"$f":"iSummary!AJ18","v":11},{"$f":"iSummary!AK18","v":"Sri Lanka"},{"$f":"iSummary!AL18","v":44.9},null,{"$f":"iSummary!AT18","v":1},2,null,{"$f":"iSummary!AU18","v":11},{"$f":"iSummary!AV18","v":"Vietnam"},{"$f":"iSummary!AW18","v":57}]
[null,{"$f":"iSummary!M19","v":1},2,null,{"$f":"iSummary!N19","v":12},{"$f":"iSummary!O19","v":"China"},{"$f":"iSummary!P19","v":52.5},null,{"$f":"iSummary!X19","v":1},2,null,{"$f":"iSummary!Y19","v":12},{"$f":"iSummary!Z19","v":"Thailand"},{"$f":"iSummary!AA19","v":55},null,{"$f":"iSummary!AI19","v":1},1,null,{"$f":"iSummary!AJ19","v":12},{"$f":"iSummary!AK19","v":"China"},{"$f":"iSummary!AL19","v":41.1},null,{"$f":"iSummary!AT19","v":1},2,null,{"$f":"iSummary!AU19","v":12},{"$f":"iSummary!AV19","v":"Cambodia"},{"$f":"iSummary!AW19","v":56.8}]
[null,{"$f":"iSummary!M20","v":1},2,null,{"$f":"iSummary!N20","v":13},{"$f":"iSummary!O20","v":"Philippines"},{"$f":"iSummary!P20","v":52},null,{"$f":"iSummary!X20","v":1},2,null,{"$f":"iSummary!Y20","v":13},{"$f":"iSummary!Z20","v":"Sri Lanka"},{"$f":"iSummary!AA20","v":54.5},null,{"$f":"iSummary!AI20","v":1},1,null,{"$f":"iSummary!AJ20","v":13},{"$f":"iSummary!AK20","v":"Indonesia"},{"$f":"iSummary!AL20","v":40},null,{"$f":"iSummary!AT20","v":1},2,null,{"$f":"iSummary!AU20","v":13},{"$f":"iSummary!AV20","v":"Brunei"},{"$f":"iSummary!AW20","v":56.1}]
[null,{"$f":"iSummary!M21","v":1},1,null,{"$f":"iSummary!N21","v":14},{"$f":"iSummary!O21","v":"Indonesia"},{"$f":"iSummary!P21","v":47.9},null,{"$f":"iSummary!X21","v":1},2,null,{"$f":"iSummary!Y21","v":14},{"$f":"iSummary!Z21","v":"Indonesia"},{"$f":"iSummary!AA21","v":53.7},null,{"$f":"iSummary!AI21","v":1},1,null,{"$f":"iSummary!AJ21","v":14},{"$f":"iSummary!AK21","v":"India"},{"$f":"iSummary!AL21","v":39.799999999999997},null,{"$f":"iSummary!AT21","v":1},2,null,{"$f":"iSummary!AU21","v":14},{"$f":"iSummary!AV21","v":"Bangladesh"},{"$f":"iSummary!AW21","v":52.3}]
[null,{"$f":"iSummary!M22","v":1},1,null,{"$f":"iSummary!N22","v":15},{"$f":"iSummary!O22","v":"India"},{"$f":"iSummary!P22","v":47.7},null,{"$f":"iSummary!X22","v":1},2,null,{"$f":"iSummary!Y22","v":15},{"$f":"iSummary!Z22","v":"Bangladesh"},{"$f":"iSummary!AA22","v":50.4},null,{"$f":"iSummary!AI22","v":1},1,null,{"$f":"iSummary!AJ22","v":15},{"$f":"iSummary!AK22","v":"Laos"},{"$f":"iSummary!AL22","v":38.700000000000003},null,{"$f":"iSummary!AT22","v":1},2,null,{"$f":"iSummary!AU22","v":15},{"$f":"iSummary!AV22","v":"China"},{"$f":"iSummary!AW22","v":52}]
[null,{"$f":"iSummary!M23","v":1},1,null,{"$f":"iSummary!N23","v":16},{"$f":"iSummary!O23","v":"Cambodia"},{"$f":"iSummary!P23","v":46.8},null,{"$f":"iSummary!X23","v":1},1,null,{"$f":"iSummary!Y23","v":16},{"$f":"iSummary!Z23","v":"Laos"},{"$f":"iSummary!AA23","v":49.7},null,{"$f":"iSummary!AI23","v":1},1,null,{"$f":"iSummary!AJ23","v":16},{"$f":"iSummary!AK23","v":"Cambodia"},{"$f":"iSummary!AL23","v":35.5},null,{"$f":"iSummary!AT23","v":1},1,null,{"$f":"iSummary!AU23","v":16},{"$f":"iSummary!AV23","v":"Indonesia"},{"$f":"iSummary!AW23","v":50}]
[null,{"$f":"iSummary!M24","v":1},1,null,{"$f":"iSummary!N24","v":17},{"$f":"iSummary!O24","v":"Laos"},{"$f":"iSummary!P24","v":45.5},null,{"$f":"iSummary!X24","v":1},1,null,{"$f":"iSummary!Y24","v":17},{"$f":"iSummary!Z24","v":"Cambodia"},{"$f":"iSummary!AA24","v":48.2},null,{"$f":"iSummary!AI24","v":1},1,null,{"$f":"iSummary!AJ24","v":17},{"$f":"iSummary!AK24","v":"Pakistan"},{"$f":"iSummary!AL24","v":35},null,{"$f":"iSummary!AT24","v":1},1,null,{"$f":"iSummary!AU24","v":17},{"$f":"iSummary!AV24","v":"Laos"},{"$f":"iSummary!AW24","v":48.2}]
[null,{"$f":"iSummary!M25","v":1},1,null,{"$f":"iSummary!N25","v":18},{"$f":"iSummary!O25","v":"Bangladesh"},{"$f":"iSummary!P25","v":45.4},null,{"$f":"iSummary!X25","v":1},1,null,{"$f":"iSummary!Y25","v":18},{"$f":"iSummary!Z25","v":"Pakistan"},{"$f":"iSummary!AA25","v":42.4},null,{"$f":"iSummary!AI25","v":1},1,null,{"$f":"iSummary!AJ25","v":18},{"$f":"iSummary!AK25","v":"Bangladesh"},{"$f":"iSummary!AL25","v":33.5},null,{"$f":"iSummary!AT25","v":1},1,null,{"$f":"iSummary!AU25","v":18},{"$f":"iSummary!AV25","v":"Pakistan"},{"$f":"iSummary!AW25","v":47.8}]
[null,{"$f":"iSummary!M26","v":1},1,null,{"$f":"iSummary!N26","v":19},{"$f":"iSummary!O26","v":"Pakistan"},{"$f":"iSummary!P26","v":41.7},null,{"$f":"iSummary!X26","v":1},1,null,{"$f":"iSummary!Y26","v":19},{"$f":"iSummary!Z26","v":"Brunei"},{"$f":"iSummary!AA26","v":38.5},null,{"$f":"iSummary!AI26","v":1},0,null,{"$f":"iSummary!AJ26","v":19},{"$f":"iSummary!AK26","v":"Philippines"},{"$f":"iSummary!AL26","v":28},null,{"$f":"iSummary!AT26","v":1},1,null,{"$f":"iSummary!AU26","v":19},{"$f":"iSummary!AV26","v":"India"},{"$f":"iSummary!AW26","v":47.2}]
[null,{"$f":"iSummary!M27","v":1},1,null,{"$f":"iSummary!N27","v":20},{"$f":"iSummary!O27","v":"Myanmar"},{"$f":"iSummary!P27","v":36.1},null,{"$f":"iSummary!X27","v":1},1,null,{"$f":"iSummary!Y27","v":20},{"$f":"iSummary!Z27","v":"Myanmar"},{"$f":"iSummary!AA27","v":35.1},null,{"$f":"iSummary!AI27","v":1},0,null,{"$f":"iSummary!AJ27","v":20},{"$f":"iSummary!AK27","v":"Myanmar"},{"$f":"iSummary!AL27","v":27.3},null,{"$f":"iSummary!AT27","v":1},1,null,{"$f":"iSummary!AU27","v":20},{"$f":"iSummary!AV27","v":"Myanmar"},{"$f":"iSummary!AW27","v":45.9}]
[]
[null,1,null,null,{"$f":"rScores!W1","v":"Average: All Incomes"},null,{"$f":"rScores!W2","v":57.580000000000005},null,1,null,null,{"$f":"$E$30","v":"Average: All Incomes"},null,{"$f":"rScores!W3","v":56.989999999999995},null,1,null,null,{"$f":"$E$30","v":"Average: All Incomes"},null,{"$f":"rScores!$W22","v":52.620000000000005},null,1,null,null,{"$f":"$E$30","v":"Average: All Incomes"},null,{"$f":"rScores!$W27","v":63.125000000000014}]
[null,1,null,null,{"$f":"\"Average of the \"&iSummary!H31&\" Countries Above - 'x'\"","v":"Average of the 20 Countries Above - 'x'"},null,{"$f":"iSummary!H30","v":57.580000000000005},null,1,null,null,{"$f":"$E$31","v":"Average of the 20 Countries Above - 'x'"},null,{"$f":"iSummary!S30","v":56.989999999999995},null,1,null,null,{"$f":"$E$31","v":"Average of the 20 Countries Above - 'x'"},null,{"$f":"iSummary!AD30","v":52.620000000000005},null,1,null,null,{"$f":"$E$31","v":"Average of the 20 Countries Above - 'x'"},null,{"$f":"iSummary!AO30","v":63.125000000000014}]
[null,1,null,null,"Rank",{"$f":"iSummary!G31","v":"7 < x < 8"},null,null,1,null,null,{"$f":"$E$32","v":"Rank"},{"$f":"iSummary!R31","v":"9 < x < 10"},null,null,1,null,null,{"$f":"$E$32","v":"Rank"},{"$f":"iSummary!AC31","v":"7 < x < 8"},null,null,1,null,null,{"$f":"$E$32","v":"Rank"},{"$f":"iSummary!AN31","v":"7 < x < 8"}]

{"sheet":"iIndiRank","index":37,"n_rows":31,"n_cols":34,"rows_kept":31,"cut":false,"hidden":true,"merged":[]}
[null,null,{"$f":"uxb_works!C13","v":"IS_BG"},{"$f":"uxb_works!D13","v":"Spare1"},{"$f":"uxb_works!E13","v":"INDI_CODE"},{"$f":"uxb_works!F13","v":"PARENT_CODE"},{"$f":"uxb_works!G13","v":"DEPTH"},{"$f":"uxb_works!H13","v":"REF"},{"$f":"uxb_works!I13","v":"NDICATOR_SHORT"},{"$f":"uxb_works!J13","v":"DESCRIPTION"},{"$f":"uxb_works!K13","v":"INDICATOR_UNIT"},{"$f":"uxb_works!L13","v":"Rational"},{"$f":"uxb_works!M13","v":"Scoring Criteria (0-100 or 0-4 etc)"},{"$f":"uxb_works!N13","v":"Year"},{"$f":"uxb_works!O13","v":"Geography"},{"$f":"uxb_works!P13","v":"HIGH=Good"},{"$f":"uxb_works!Q13","v":"Format"},{"$f":"uxb_works!R13","v":"MAIN_SOURCE"},{"$f":"uxb_works!S13","v":"SOURCE_WS_ID"},{"$f":"uxb_works!T13","v":"HIGH_IS"},{"$f":"uxb_works!U13","v":"NORM_ID (1=sumproduct, 2=min max set by data values, 3=min max set by user here)"},{"$f":"uxb_works!V13","v":"Set Min"},{"$f":"uxb_works!W13","v":"Set Max"},{"$f":"uxb_works!X13","v":"WEIGHT_NOM"},{"$f":"uxb_works!Y13","v":"WEIGHT_PERC"},{"$f":"uxb_works!Z13","v":"REF_INDI"},{"$f":"uxb_works!AA13","v":"PARENT"},{"$f":"uxb_works!AB13","v":"Weight_row"}]
[{"$f":"uxb_works!A14","v":"INDI_ID"},{"$f":"uxb_works!B14","v":4},{"$f":"uxb_works!C14","v":0},{"$f":"uxb_works!D14","v":""},{"$f":"uxb_works!E14","v":"EP_11"},{"$f":"uxb_works!F14","v":"EP"},{"$f":"uxb_works!G14","v":2},{"$f":"uxb_works!H14","v":1.1100000000000001},{"$f":"uxb_works!I14","v":"Current account liberalisation"},{"$f":"uxb_works!J14","v":"A measure of a country’s current account liberalisation, with consideration of restrictions in this area; used to capture the ease with which a country trades goods across its border."},{"$f":"uxb_works!K14","v":"1-5 scores"},{"$f":"uxb_works!L14","v":""},{"$f":"uxb_works!M14","v":""},{"$f":"uxb_works!N14","v":2014},{"$f":"uxb_works!O14","v":""},{"$f":"uxb_works!P14","v":"High score = good"},{"$f":"uxb_works!Q14","v":"#0"},{"$f":"uxb_works!R14","v":"EIU"},{"$f":"uxb_works!S14","v":1.1100000000000001},{"$f":"uxb_works!T14","v":0},{"$f":"uxb_works!U14","v":3},{"$f":"uxb_works!V14","v":1},{"$f":"uxb_works!W14","v":5},{"$f":"uxb_works!X14","v":7.1428571428571425E-2},{"$f":"uxb_works!Y14","v":7.1428571428571452E-2},{"$f":"IF(OR(B2=1,G2=1),\"\",uxb_works!Z14)","v":"1.11) Current account liberalisation"},{"$f":"IF(B2=1,F2,IF(G2=1,uxb_works!Z14,uxb_works!AA14))","v":"1) ECONOMIC PILLAR"},{"$f":"uxb_works!AB14","v":8}]
["INDI_IS_NATIONAL",{"$f":"D2","v":""}]
["SHOW_DATA",{"$f":"IF(U2=1,FALSE,TRUE)","v":true},null,{"$f":"uxb_works!A6","v":"CITY_HIGHLIGHT_DD"},{"$f":"uxb_works!B6","v":1},{"$f":"uxb_works!C6","v":"<none>"},null,null,"All Tiers",{"$f":"uxb_works!B8","v":1},null,null,null,null,null,null,null,null,"ALL UNFILTERED DATA POINTS",null,null,null,null,"REGION HIGHLIGHT DATAPOINTS",null,null,"City HIGHLIGHT",null,null,"All Tiers"]
[null,null,null,"IsRegion","Status","ActiveStatus","Score (unrounded)","Rank unrounded","LU","yScatter","RankRounded",null,null,null,"Score",{"$f":"IF($B$4,\"Data\",\"\")","v":"Data"},"Score Display",null,"X","Y",null,"HAS_SUB_INDICATORS",null,null,null,null,null,null,null,null,null,null,null,"Tier Filter"]
[{"$f":"tblTerritories!A3","v":1},{"$f":"tblTerritories!B3","v":"BGD"},{"$f":"tblTerritories!E3","v":"Bangladesh"},{"$f":"tblTerritories!D3","v":0},{"$f":"IF(AND(OR(tblTerritories!$K$5=4,tblTerritories!$K$5=5),$G$2=3),0,IF(AND(OR(tblTerritories!$K$5=2,tblTerritories!$K$5=3),$G$2=3),tblTerritories!G3,IF(AND($G$2=3,tblTerritories!$K$5=1),W6,tblTerritories!G3)))","v":1},{"$f":"tblTerritories!G3","v":1},{"$f":"IF(F6=0,\"\",ROUND(INDEX(aScores,$B$2,$A6),5))","v":75},{"$f":"IF(F6=0,\"\",RANK(G6,G$6:G$25,0)+COUNTIF(G$6:G6,G6)-1)","v":16},{"$f":"IF(ISERROR(MATCH($A6,H$6:H$25,0)),\"\",MATCH($A6,H$6:H$25,0))","v":2},{"$f":"IF(I6=\"\",\"\",1)","v":1},{"$f":"IF(I6=\"\",\"\",RANK(O6,O$6:O$25,0))","v":1},{"$f":"IF(I6=\"\",0,INDEX($F$6:$F$25,I6))","v":1},{"$f":"IF(I6=\"\",\"\",IF(OR(K6=K5,K6=K7),CONCATENATE(\"=\",K6),K6))","v":"=1"},{"$f":"IF(I6=\"\",\"\",INDEX($C$6:$C$25,I6))","v":"Brunei"},{"$f":"IF(I6=\"\",\"\",INDEX(aRoundedScores,$B$2,I6))","v":100},{"$f":"IF(I6=\"\",\"\",IF($B$4=FALSE,\"\",INDEX(aData,$B$2,I6)))","v":5},{"$f":"IF(L6=0,\"\",IF($C$2=1,\"-\",O6))","v":100},null,{"$f":"IF(ISNUMBER(O6),O6,NA())","v":100},{"$f":"1","v":1},null,0,{"$f":"IF(V6=1,tblTerritories!G3,0)","v":0},{"$f":"IF(L6=2,S6,NA())","v":{"$error":"#N/A"}},{"$f":"IF(L6=2,1,NA())","v":{"$error":"#N/A"}},null,{"$f":"IF(L6=3,S6,NA())","v":{"$error":"#N/A"}},{"$f":"IF(L6=3,1,NA())","v":{"$error":"#N/A"}},null,{"$f":"VLOOKUP(C6,tblTerritories!$F$3:$L$22,7,FALSE)+10","v":14},{"$f":"tblTerritories!L3","v":4},{"$f":"IF($G$2=3,IF(OR(AE6=3,AE6=4),0,1),1)","v":1},null,{"$f":"CHOOSE(uxb_works!$B$10,tblTerritories!R3,tblTerritories!S3,tblTerritories!T3,tblTerritories!U3,tblTerritories!V3,tblTerritories!#REF!)","v":1}]
[{"$f":"tblTerritories!A4","v":2},{"$f":"tblTerritories!B4","v":"BRN"},{"$f":"tblTerritories!E4","v":"Brunei"},{"$f":"tblTerritories!D4","v":0},{"$f":"IF(AND(OR(tblTerritories!$K$5=4,tblTerritories!$K$5=5),$G$2=3),0,IF(AND(OR(tblTerritories!$K$5=2,tblTerritories!$K$5=3),$G$2=3),tblTerritories!G4,IF(AND($G$2=3,tblTerritories!$K$5=1),W7,tblTerritories!G4)))","v":1},{"$f":"tblTerritories!G4","v":1},{"$f":"IF(F7=0,\"\",ROUND(INDEX(aScores,$B$2,$A7),5))","v":100},{"$f":"IF(F7=0,\"\",RANK(G7,G$6:G$25,0)+COUNTIF(G$6:G7,G7)-1)","v":1},3,{"$f":"IF(I7=\"\",\"\",1)","v":1},1,1,{"$f":"IF(I7=\"\",\"\",IF(OR(K7=K6,K7=K8),CONCATENATE(\"=\",K7),K7))","v":"=1"},"Cambodia",100,5,{"$f":"IF(L7=0,\"\",IF($C$2=1,\"-\",O7))","v":100},null,{"$f":"IF(ISNUMBER(O7),O7,NA())","v":100},{"$f":"1","v":1},null,0,{"$f":"IF(V7=1,tblTerritories!G4,0)","v":0},{"$f":"IF(L7=2,S7,NA())","v":{"$error":"#N/A"}},{"$f":"IF(L7=2,1,NA())","v":{"$error":"#N/A"}},null,{"$f":"IF(L7=3,S7,NA())","v":{"$error":"#N/A"}},{"$f":"IF(L7=3,1,NA())","v":{"$error":"#N/A"}},null,{"$f":"VLOOKUP(C7,tblTerritories!$F$3:$L$22,7,FALSE)+10","v":11},{"$f":"tblTerritories!L4","v":1},{"$f":"IF($G$2=3,IF(OR(AE7=3,AE7=4),0,1),1)","v":1},null,{"$f":"CHOOSE(uxb_works!$B$10,tblTerritories!R4,tblTerritories!S4,tblTerritories!T4,tblTerritories!U4,tblTerritories!V4,tblTerritories!#REF!)","v":1}]
[{"$f":"tblTerritories!A5","v":3},{"$f":"tblTerritories!B5","v":"KHM"},{"$f":"tblTerritories!E5","v":"Cambodia"},{"$f":"tblTerritories!D5","v":0},{"$f":"IF(AND(OR(tblTerritories!$K$5=4,tblTerritories!$K$5=5),$G$2=3),0,IF(AND(OR(tblTerritories!$K$5=2,tblTerritories!$K$5=3),$G$2=3),tblTerritories!G5,IF(AND($G$2=3,tblTerritories!$K$5=1),W8,tblTerritories!G5)))","v":1},{"$f":"tblTerritories!G5","v":1},100,{"$f":"IF(F8=0,\"\",RANK(G8,G$6:G$25,0)+COUNTIF(G$6:G8,G8)-1)","v":2},5,1,1,1,"=1","Hong Kong",100,5,100,null,100,{"$f":"1","v":1},null,0,{"$f":"IF(V8=1,tblTerritories!G5,0)","v":0},{"$error":"#N/A"},{"$error":"#N/A"},null,{"$error":"#N/A"},{"$error":"#N/A"},null,{"$f":"VLOOKUP(C8,tblTerritories!$F$3:$L$22,7,FALSE)+10","v":14},{"$f":"tblTerritories!L5","v":4},1,null,{"$f":"CHOOSE(uxb_works!$B$10,tblTerritories!R5,tblTerritories!S5,tblTerritories!T5,tblTerritories!U5,tblTerritories!V5,tblTerritories!#REF!)","v":1}]
[{"$f":"tblTerritories!A6","v":4},{"$f":"tblTerritories!B6","v":"CHN"},{"$f":"tblTerritories!E6","v":"China"},{"$f":"tblTerritories!D6","v":0},{"$f":"IF(AND(OR(tblTerritories!$K$5=4,tblTerritories!$K$5=5),$G$2=3),0,IF(AND(OR(tblTerritories!$K$5=2,tblTerritories!$K$5=3),$G$2=3),tblTerritories!G6,IF(AND($G$2=3,tblTerritories!$K$5=1),W9,tblTerritories!G6)))","v":1},{"$f":"tblTerritories!G6","v":1},85,{"$f":"IF(F9=0,\"\",RANK(G9,G$6:G$25,0)+COUNTIF(G$6:G9,G9)-1)","v":13},8,1,1,1,"=1","Japan",100,5,100,null,100,{"$f":"1","v":1},null,0,{"$f":"IF(V9=1,tblTerritories!G6,0)","v":0},{"$error":"#N/A"},{"$error":"#N/A"},null,{"$error":"#N/A"},{"$error":"#N/A"},null,{"$f":"VLOOKUP(C9,tblTerritories!$F$3:$L$22,7,FALSE)+10","v":12},{"$f":"tblTerritories!L6","v":2},1,null,{"$f":"CHOOSE(uxb_works!$B$10,tblTerritories!R6,tblTerritories!S6,tblTerritories!T6,tblTerritories!U6,tblTerritories!V6,tblTerritories!#REF!)","v":1}]
[{"$f":"tblTerritories!A7","v":5},{"$f":"tblTerritories!B7","v":"HKG"},{"$f":"tblTerritories!E7","v":"Hong Kong"},{"$f":"tblTerritories!D7","v":0},{"$f":"IF(AND(OR(tblTerritories!$K$5=4,tblTerritories!$K$5=5),$G$2=3),0,IF(AND(OR(tblTerritories!$K$5=2,tblTerritories!$K$5=3),$G$2=3),tblTerritories!G7,IF(AND($G$2=3,tblTerritories!$K$5=1),W10,tblTerritories!G7)))","v":1},{"$f":"tblTerritories!G7","v":1},100,{"$f":"IF(F10=0,\"\",RANK(G10,G$6:G$25,0)+COUNTIF(G$6:G10,G10)-1)","v":3},9,1,1,1,"=1","Laos",100,5,100,null,100,{"$f":"1","v":1},null,1,{"$f":"IF(V10=1,tblTerritories!G7,0)","v":1},{"$error":"#N/A"},{"$error":"#N/A"},null,{"$error":"#N/A"},{"$error":"#N/A"},null,{"$f":"VLOOKUP(C10,tblTerritories!$F$3:$L$22,7,FALSE)+10","v":11},{"$f":"tblTerritories!L7","v":1},1,null,{"$f":"CHOOSE(uxb_works!$B$10,tblTerritories!R7,tblTerritories!S7,tblTerritories!T7,tblTerritories!U7,tblTerritories!V7,tblTerritories!#REF!)","v":1}]
[{"$f":"tblTerritories!A8","v":6},{"$f":"tblTerritories!B8","v":"IND"},{"$f":"tblTerritories!E8","v":"India"},{"$f":"tblTerritories!D8","v":0},{"$f":"IF(AND(OR(tblTerritories!$K$5=4,tblTerritories!$K$5=5),$G$2=3),0,IF(AND(OR(tblTerritories!$K$5=2,tblTerritories!$K$5=3),$G$2=3),tblTerritories!G8,IF(AND($G$2=3,tblTerritories!$K$5=1),W11,tblTerritories!G8)))","v":1},{"$f":"tblTerritories!G8","v":1},75,{"$f":"IF(F11=0,\"\",RANK(G11,G$6:G$25,0)+COUNTIF(G$6:G11,G11)-1)","v":17},10,1,1,1,"=1","Malaysia",100,5,100,null,100,{"$f":"1","v":1},null,0,{"$f":"IF(V11=1,tblTerritories!G8,0)","v":0},{"$error":"#N/A"},{"$error":"#N/A"},null,{"$error":"#N/A"},{"$error":"#N/A"},null,{"$f":"VLOOKUP(C11,tblTerritories!$F$3:$L$22,7,FALSE)+10","v":14},{"$f":"tblTerritories!L8","v":4},1,null,{"$f":"CHOOSE(uxb_works!$B$10,tblTerritories!R8,tblTerritories!S8,tblTerritories!T8,tblTerritories!U8,tblTerritories!V8,tblTerritories!#REF!)","v":1}]
[{"$f":"tblTerritories!A9","v":7},{"$f":"tblTerritories!B9","v":"IDN"},{"$f":"tblTerritories!E9","v":"Indonesia"},{"$f":"tblTerritories!D9","v":0},{"$f":"IF(AND(OR(tblTerritories!$K$5=4,tblTerritories!$K$5=5),$G$2=3),0,IF(AND(OR(tblTerritories!$K$5=2,tblTerritories!$K$5=3),$G$2=3),tblTerritories!G9,IF(AND($G$2=3,tblTerritories!$K$5=1),W12,tblTerritories!G9)))","v":1},{"$f":"tblTerritories!G9","v":1},75,{"$f":"IF(F12=0,\"\",RANK(G12,G$6:G$25,0)+COUNTIF(G$6:G12,G12)-1)","v":18},14,1,1,1,"=1","Singapore",100,5,100,null,100,{"$f":"1","v":1},null,0,{"$f":"IF(V12=1,tblTerritories!G9,0)","v":0},{"$error":"#N/A"},{"$error":"#N/A"},null,{"$error":"#N/A"},{"$error":"#N/A"},null,{"$f":"VLOOKUP(C12,tblTerritories!$F$3:$L$22,7,FALSE)+10","v":13},{"$f":"tblTerritories!L9","v":3},1,null,{"$f":"CHOOSE(uxb_works!$B$10,tblTerritories!R9,tblTerritories!S9,tblTerritories!T9,tblTerritories!U9,tblTerritories!V9,tblTerritories!#REF!)","v":1}]
[{"$f":"tblTerritories!A10","v":8},{"$f":"tblTerritories!B10","v":"JPN"},{"$f":"tblTerritories!E10","v":"Japan"},{"$f":"tblTerritories!D10","v":0},{"$f":"IF(AND(OR(tblTerritories!$K$5=4,tblTerritories!$K$5=5),$G$2=3),0,IF(AND(OR(tblTerritories!$K$5=2,tblTerritories!$K$5=3),$G$2=3),tblTerritories!G10,IF(AND($G$2=3,tblTerritories!$K$5=1),W13,tblTerritories!G10)))","v":1},{"$f":"tblTerritories!G10","v":1},100,{"$f":"IF(F13=0,\"\",RANK(G13,G$6:G$25,0)+COUNTIF(G$6:G13,G13)-1)","v":4},16,1,1,1,"=1","Sri Lanka",100,5,100,null,100,{"$f":"1","v":1},null,1,{"$f":"IF(V13=1,tblTerritories!G10,0)","v":1},{"$error":"#N/A"},{"$error":"#N/A"},null,{"$error":"#N/A"},{"$error":"#N/A"},null,{"$f":"VLOOKUP(C13,tblTerritories!$F$3:$L$22,7,FALSE)+10","v":11},{"$f":"tblTerritories!L10","v":1},1,null,{"$f":"CHOOSE(uxb_works!$B$10,tblTerritories!R10,tblTerritories!S10,tblTerritories!T10,tblTerritories!U10,tblTerritories!V10,tblTerritories!#REF!)","v":1}]
[{"$f":"tblTerritories!A11","v":9},{"$f":"tblTerritories!B11","v":"LAO"},{"$f":"tblTerritories!E11","v":"Laos"},{"$f":"tblTerritories!D11","v":0},{"$f":"IF(AND(OR(tblTerritories!$K$5=4,tblTerritories!$K$5=5),$G$2=3),0,IF(AND(OR(tblTerritories!$K$5=2,tblTerritories!$K$5=3),$G$2=3),tblTerritories!G11,IF(AND($G$2=3,tblTerritories!$K$5=1),W14,tblTerritories!G11)))","v":1},{"$f":"tblTerritories!G11","v":1},100,{"$f":"IF(F14=0,\"\",RANK(G14,G$6:G$25,0)+COUNTIF(G$6:G14,G14)-1)","v":5},17,1,1,1,"=1","Taiwan",100,5,100,null,100,{"$f":"1","v":1},null,0,{"$f":"IF(V14=1,tblTerritories!G11,0)","v":0},{"$error":"#N/A"},{"$error":"#N/A"},null,{"$error":"#N/A"},{"$error":"#N/A"},null,{"$f":"VLOOKUP(C14,tblTerritories!$F$3:$L$22,7,FALSE)+10","v":14},{"$f":"tblTerritories!L11","v":4},1,null,{"$f":"CHOOSE(uxb_works!$B$10,tblTerritories!R11,tblTerritories!S11,tblTerritories!T11,tblTerritories!U11,tblTerritories!V11,tblTerritories!#REF!)","v":1}]
[{"$f":"tblTerritories!A12","v":10},{"$f":"tblTerritories!B12","v":"MYS"},{"$f":"tblTerritories!E12","v":"Malaysia"},{"$f":"tblTerritories!D12","v":0},{"$f":"IF(AND(OR(tblTerritories!$K$5=4,tblTerritories!$K$5=5),$G$2=3),0,IF(AND(OR(tblTerritories!$K$5=2,tblTerritories!$K$5=3),$G$2=3),tblTerritories!G12,IF(AND($G$2=3,tblTerritories!$K$5=1),W15,tblTerritories!G12)))","v":1},{"$f":"tblTerritories!G12","v":1},100,{"$f":"IF(F15=0,\"\",RANK(G15,G$6:G$25,0)+COUNTIF(G$6:G15,G15)-1)","v":6},18,1,1,1,"=1","Thailand",100,5,100,null,100,{"$f":"1","v":1},null,0,{"$f":"IF(V15=1,tblTerritories!G12,0)","v":0},{"$error":"#N/A"},{"$error":"#N/A"},null,{"$error":"#N/A"},{"$error":"#N/A"},null,{"$f":"VLOOKUP(C15,tblTerritories!$F$3:$L$22,7,FALSE)+10","v":12},{"$f":"tblTerritories!L12","v":2},1,null,{"$f":"CHOOSE(uxb_works!$B$10,tblTerritories!R12,tblTerritories!S12,tblTerritories!T12,tblTerritories!U12,tblTerritories!V12,tblTerritories!#REF!)","v":1}]
[{"$f":"tblTerritories!A13","v":11},{"$f":"tblTerritories!B13","v":"MMR"},{"$f":"tblTerritories!E13","v":"Myanmar"},{"$f":"tblTerritories!D13","v":0},{"$f":"IF(AND(OR(tblTerritories!$K$5=4,tblTerritories!$K$5=5),$G$2=3),0,IF(AND(OR(tblTerritories!$K$5=2,tblTerritories!$K$5=3),$G$2=3),tblTerritories!G13,IF(AND($G$2=3,tblTerritories!$K$5=1),W16,tblTerritories!G13)))","v":1},{"$f":"tblTerritories!G13","v":1},75,{"$f":"IF(F16=0,\"\",RANK(G16,G$6:G$25,0)+COUNTIF(G$6:G16,G16)-1)","v":19},19,1,1,1,"=1","Vietnam",100,5,100,null,100,{"$f":"1","v":1},null,0,{"$f":"IF(V16=1,tblTerritories!G13,0)","v":0},{"$error":"#N/A"},{"$error":"#N/A"},null,{"$error":"#N/A"},{"$error":"#N/A"},null,{"$f":"VLOOKUP(C16,tblTerritories!$F$3:$L$22,7,FALSE)+10","v":14},{"$f":"tblTerritories!L13","v":4},1,null,{"$f":"CHOOSE(uxb_works!$B$10,tblTerritories!R13,tblTerritories!S13,tblTerritories!T13,tblTerritories!U13,tblTerritories!V13,tblTerritories!#REF!)","v":1}]
[{"$f":"tblTerritories!A14","v":12},{"$f":"tblTerritories!B14","v":"PAK"},{"$f":"tblTerritories!E14","v":"Pakistan"},{"$f":"tblTerritories!D14","v":0},{"$f":"IF(AND(OR(tblTerritories!$K$5=4,tblTerritories!$K$5=5),$G$2=3),0,IF(AND(OR(tblTerritories!$K$5=2,tblTerritories!$K$5=3),$G$2=3),tblTerritories!G14,IF(AND($G$2=3,tblTerritories!$K$5=1),W17,tblTerritories!G14)))","v":1},{"$f":"tblTerritories!G14","v":1},50,{"$f":"IF(F17=0,\"\",RANK(G17,G$6:G$25,0)+COUNTIF(G$6:G17,G17)-1)","v":20},20,1,1,1,"=1","USA",100,5,100,null,100,{"$f":"1","v":1},null,0,{"$f":"IF(V17=1,tblTerritories!G14,0)","v":0},{"$error":"#N/A"},{"$error":"#N/A"},null,{"$error":"#N/A"},{"$error":"#N/A"},null,{"$f":"VLOOKUP(C17,tblTerritories!$F$3:$L$22,7,FALSE)+10","v":14},{"$f":"tblTerritories!L14","v":4},1,null,{"$f":"CHOOSE(uxb_works!$B$10,tblTerritories!R14,tblTerritories!S14,tblTerritories!T14,tblTerritories!U14,tblTerritories!V14,tblTerritories!#REF!)","v":1}]
[{"$f":"tblTerritories!A15","v":13},{"$f":"tblTerritories!B15","v":"PHL"},{"$f":"tblTerritories!E15","v":"Philippines"},{"$f":"tblTerritories!D15","v":0},{"$f":"IF(AND(OR(tblTerritories!$K$5=4,tblTerritories!$K$5=5),$G$2=3),0,IF(AND(OR(tblTerritories!$K$5=2,tblTerritories!$K$5=3),$G$2=3),tblTerritories!G15,IF(AND($G$2=3,tblTerritories!$K$5=1),W18,tblTerritories!G15)))","v":1},{"$f":"tblTerritories!G15","v":1},85,{"$f":"IF(F18=0,\"\",RANK(G18,G$6:G$25,0)+COUNTIF(G$6:G18,G18)-1)","v":14},4,1,13,1,"=13","China",85,4.4000000000000004,85,null,85,{"$f":"1","v":1},null,0,{"$f":"IF(V18=1,tblTerritories!G15,0)","v":0},{"$error":"#N/A"},{"$error":"#N/A"},null,{"$error":"#N/A"},{"$error":"#N/A"},null,{"$f":"VLOOKUP(C18,tblTerritories!$F$3:$L$22,7,FALSE)+10","v":13},{"$f":"tblTerritories!L15","v":3},1,null,{"$f":"CHOOSE(uxb_works!$B$10,tblTerritories!R15,tblTerritories!S15,tblTerritories!T15,tblTerritories!U15,tblTerritories!V15,tblTerritories!#REF!)","v":1}]
[{"$f":"tblTerritories!A16","v":14},{"$f":"tblTerritories!B16","v":"SGP"},{"$f":"tblTerritories!E16","v":"Singapore"},{"$f":"tblTerritories!D16","v":0},{"$f":"IF(AND(OR(tblTerritories!$K$5=4,tblTerritories!$K$5=5),$G$2=3),0,IF(AND(OR(tblTerritories!$K$5=2,tblTerritories!$K$5=3),$G$2=3),tblTerritories!G16,IF(AND($G$2=3,tblTerritories!$K$5=1),W19,tblTerritories!G16)))","v":1},{"$f":"tblTerritories!G16","v":1},100,{"$f":"IF(F19=0,\"\",RANK(G19,G$6:G$25,0)+COUNTIF(G$6:G19,G19)-1)","v":7},13,1,13,1,"=13","Philippines",85,4.4000000000000004,85,null,85,{"$f":"1","v":1},null,0,{"$f":"IF(V19=1,tblTerritories!G16,0)","v":0},{"$error":"#N/A"},{"$error":"#N/A"},null,{"$error":"#N/A"},{"$error":"#N/A"},null,{"$f":"VLOOKUP(C19,tblTerritories!$F$3:$L$22,7,FALSE)+10","v":11},{"$f":"tblTerritories!L16","v":1},1,null,{"$f":"CHOOSE(uxb_works!$B$10,tblTerritories!R16,tblTerritories!S16,tblTerritories!T16,tblTerritories!U16,tblTerritories!V16,tblTerritories!#REF!)","v":1}]
[{"$f":"tblTerritories!A17","v":15},{"$f":"tblTerritories!B17","v":"KOR"},{"$f":"tblTerritories!E17","v":"South Korea"},{"$f":"tblTerritories!D17","v":0},{"$f":"IF(AND(OR(tblTerritories!$K$5=4,tblTerritories!$K$5=5),$G$2=3),0,IF(AND(OR(tblTerritories!$K$5=2,tblTerritories!$K$5=3),$G$2=3),tblTerritories!G17,IF(AND($G$2=3,tblTerritories!$K$5=1),W20,tblTerritories!G17)))","v":1},{"$f":"tblTerritories!G17","v":1},85,{"$f":"IF(F20=0,\"\",RANK(G20,G$6:G$25,0)+COUNTIF(G$6:G20,G20)-1)","v":15},15,1,13,1,"=13","South Korea",85,4.4000000000000004,85,null,85,{"$f":"1","v":1},null,0,{"$f":"IF(V20=1,tblTerritories!G17,0)","v":0},{"$error":"#N/A"},{"$error":"#N/A"},null,{"$error":"#N/A"},{"$error":"#N/A"},null,{"$f":"VLOOKUP(C20,tblTerritories!$F$3:$L$22,7,FALSE)+10","v":11},{"$f":"tblTerritories!L17","v":1},1,null,{"$f":"CHOOSE(uxb_works!$B$10,tblTerritories!R17,tblTerritories!S17,tblTerritories!T17,tblTerritories!U17,tblTerritories!V17,tblTerritories!#REF!)","v":1}]
[{"$f":"tblTerritories!A18","v":16},{"$f":"tblTerritories!B18","v":"LKA"},{"$f":"tblTerritories!E18","v":"Sri Lanka"},{"$f":"tblTerritories!D18","v":0},{"$f":"IF(AND(OR(tblTerritories!$K$5=4,tblTerritories!$K$5=5),$G$2=3),0,IF(AND(OR(tblTerritories!$K$5=2,tblTerritories!$K$5=3),$G$2=3),tblTerritories!G18,IF(AND($G$2=3,tblTerritories!$K$5=1),W21,tblTerritories!G18)))","v":1},{"$f":"tblTerritories!G18","v":1},100,{"$f":"IF(F21=0,\"\",RANK(G21,G$6:G$25,0)+COUNTIF(G$6:G21,G21)-1)","v":8},1,1,16,1,"=16","Bangladesh",75,4,75,null,75,{"$f":"1","v":1},null,0,{"$f":"IF(V21=1,tblTerritories!G18,0)","v":0},{"$error":"#N/A"},{"$error":"#N/A"},null,{"$error":"#N/A"},{"$error":"#N/A"},null,{"$f":"VLOOKUP(C21,tblTerritories!$F$3:$L$22,7,FALSE)+10","v":13},{"$f":"tblTerritories!L18","v":3},1,null,{"$f":"CHOOSE(uxb_works!$B$10,tblTerritories!R18,tblTerritories!S18,tblTerritories!T18,tblTerritories!U18,tblTerritories!V18,tblTerritories!#REF!)","v":1}]
[{"$f":"tblTerritories!A19","v":17},{"$f":"tblTerritories!B19","v":"TWN"},{"$f":"tblTerritories!E19","v":"Taiwan"},{"$f":"tblTerritories!D19","v":0},{"$f":"IF(AND(OR(tblTerritories!$K$5=4,tblTerritories!$K$5=5),$G$2=3),0,IF(AND(OR(tblTerritories!$K$5=2,tblTerritories!$K$5=3),$G$2=3),tblTerritories!G19,IF(AND($G$2=3,tblTerritories!$K$5=1),W22,tblTerritories!G19)))","v":1},{"$f":"tblTerritories!G19","v":1},100,{"$f":"IF(F22=0,\"\",RANK(G22,G$6:G$25,0)+COUNTIF(G$6:G22,G22)-1)","v":9},6,1,16,1,"=16","India",75,4,75,null,75,{"$f":"1","v":1},null,0,{"$f":"IF(V22=1,tblTerritories!G19,0)","v":0},{"$error":"#N/A"},{"$error":"#N/A"},null,{"$error":"#N/A"},{"$error":"#N/A"},null,{"$f":"VLOOKUP(C22,tblTerritories!$F$3:$L$22,7,FALSE)+10","v":11},{"$f":"tblTerritories!L19","v":1},1,null,{"$f":"CHOOSE(uxb_works!$B$10,tblTerritories!R19,tblTerritories!S19,tblTerritories!T19,tblTerritories!U19,tblTerritories!V19,tblTerritories!#REF!)","v":1}]
[{"$f":"tblTerritories!A20","v":18},{"$f":"tblTerritories!B20","v":"THA"},{"$f":"tblTerritories!E20","v":"Thailand"},{"$f":"tblTerritories!D20","v":0},{"$f":"IF(AND(OR(tblTerritories!$K$5=4,tblTerritories!$K$5=5),$G$2=3),0,IF(AND(OR(tblTerritories!$K$5=2,tblTerritories!$K$5=3),$G$2=3),tblTerritories!G20,IF(AND($G$2=3,tblTerritories!$K$5=1),W23,tblTerritories!G20)))","v":1},{"$f":"tblTerritories!G20","v":1},100,{"$f":"IF(F23=0,\"\",RANK(G23,G$6:G$25,0)+COUNTIF(G$6:G23,G23)-1)","v":10},7,1,16,1,"=16","Indonesia",75,4,75,null,75,{"$f":"1","v":1},null,0,{"$f":"IF(V23=1,tblTerritories!G20,0)","v":0},{"$error":"#N/A"},{"$error":"#N/A"},null,{"$error":"#N/A"},{"$error":"#N/A"},null,{"$f":"VLOOKUP(C23,tblTerritories!$F$3:$L$22,7,FALSE)+10","v":12},{"$f":"tblTerritories!L20","v":2},1,null,{"$f":"CHOOSE(uxb_works!$B$10,tblTerritories!R20,tblTerritories!S20,tblTerritories!T20,tblTerritories!U20,tblTerritories!V20,tblTerritories!#REF!)","v":1}]
[{"$f":"tblTerritories!A21","v":19},{"$f":"tblTerritories!B21","v":"VNM"},{"$f":"tblTerritories!E21","v":"Vietnam"},{"$f":"tblTerritories!D21","v":0},{"$f":"IF(AND(OR(tblTerritories!$K$5=4,tblTerritories!$K$5=5),$G$2=3),0,IF(AND(OR(tblTerritories!$K$5=2,tblTerritories!$K$5=3),$G$2=3),tblTerritories!G21,IF(AND($G$2=3,tblTerritories!$K$5=1),W24,tblTerritories!G21)))","v":1},{"$f":"tblTerritories!G21","v":1},100,{"$f":"IF(F24=0,\"\",RANK(G24,G$6:G$25,0)+COUNTIF(G$6:G24,G24)-1)","v":11},11,1,16,1,"=16","Myanmar",75,4,75,null,75,{"$f":"1","v":1},null,0,{"$f":"IF(V24=1,tblTerritories!G21,0)","v":0},{"$error":"#N/A"},{"$error":"#N/A"},null,{"$error":"#N/A"},{"$error":"#N/A"},null,{"$f":"VLOOKUP(C24,tblTerritories!$F$3:$L$22,7,FALSE)+10","v":13},{"$f":"tblTerritories!L21","v":3},1,null,{"$f":"CHOOSE(uxb_works!$B$10,tblTerritories!R21,tblTerritories!S21,tblTerritories!T21,tblTerritories!U21,tblTerritories!V21,tblTerritories!#REF!)","v":1}]
[{"$f":"tblTerritories!A22","v":20},{"$f":"tblTerritories!B22","v":"USA"},{"$f":"tblTerritories!E22","v":"USA"},{"$f":"tblTerritories!D22","v":0},{"$f":"IF(AND(OR(tblTerritories!$K$5=4,tblTerritories!$K$5=5),$G$2=3),0,IF(AND(OR(tblTerritories!$K$5=2,tblTerritories!$K$5=3),$G$2=3),tblTerritories!G22,IF(AND($G$2=3,tblTerritories!$K$5=1),W25,tblTerritories!G22)))","v":1},{"$f":"tblTerritories!G22","v":1},{"$f":"IF(F25=0,\"\",ROUND(INDEX(aScores,$B$2,$A25),5))","v":100},{"$f":"IF(F25=0,\"\",RANK(G25,G$6:G$25,0)+COUNTIF(G$6:G25,G25)-1)","v":12},12,{"$f":"IF(I25=\"\",\"\",1)","v":1},20,1,{"$f":"IF(I25=\"\",\"\",IF(OR(K25=K24,K25=K26),CONCATENATE(\"=\",K25),K25))","v":20},"Pakistan",{"$f":"IF(I25=\"\",\"\",INDEX(aRoundedScores,$B$2,I25))","v":50},{"$f":"IF(I25=\"\",\"\",IF($B$4=FALSE,\"\",INDEX(aData,$B$2,I25)))","v":3},{"$f":"IF(L25=0,\"\",IF($C$2=1,\"-\",O25))","v":50},null,{"$f":"IF(ISNUMBER(O25),O25,NA())","v":50},{"$f":"1","v":1},null,0,{"$f":"IF(V25=1,tblTerritories!G22,0)","v":0},{"$f":"IF(L25=2,S25,NA())","v":{"$error":"#N/A"}},{"$f":"IF(L25=2,1,NA())","v":{"$error":"#N/A"}},null,{"$f":"IF(L25=3,S25,NA())","v":{"$error":"#N/A"}},{"$f":"IF(L25=3,1,NA())","v":{"$error":"#N/A"}},null,{"$f":"VLOOKUP(C25,tblTerritories!$F$3:$L$22,7,FALSE)+10","v":11},{"$f":"tblTerritories!L22","v":1},{"$f":"IF($G$2=3,IF(OR(AE25=3,AE25=4),0,1),1)","v":1},null,{"$f":"CHOOSE(uxb_works!$B$10,tblTerritories!R22,tblTerritories!S22,tblTerritories!T22,tblTerritories!U22,tblTerritories!V22,tblTerritories!#REF!)","v":1}]
[]
["Region",{"$f":"INDEX(tblTerritories!O4:O8,uxb_works!B8)","v":"All Incomes"}]
["Average",{"$f":"INDEX(rScores!$W$2:$W$33,B2)","v":90.25}]
[null,null,null,null,null,null,null,null,null,1,null,null,null,null,{"$f":"IF(uxb_works!B6>1,INDEX(G5:G25,uxb_works!B6),NA())","v":{"$error":"#N/A"}}]
[]
[null,null,null,null,null,null,null,null,null,null,null,null,null,null,null,null,null,null,null,null,null,null,null,null,null,null,"Less Than"]

{"sheet":"Indicator_Ranking","index":38,"n_rows":34,"n_cols":12,"rows_kept":34,"cut":false,"hidden":true,"merged":[[12,11,12,15],[10,11,10,15],[14,11,14,15],[16,11,33,15]]}
[]
[]
[null,null,null,{"$f":"iIndiRank!AA2","v":"1) ECONOMIC PILLAR"}]
[null,null,null,{"$f":"iIndiRank!Z2","v":"1.11) Current account liberalisation"}]
[]
[]
[null,null,null,"DISTRIBUTION"]
[null,null,null,null,null,null,null,null,null,null,null,{"$f":"\"Regional Average: \"&iIndiRank!B27","v":"Regional Average: All Incomes"}]
[null,null,null,null,null,null,null,null,null,null,null,{"$f":"iIndiRank!B28","v":90.25}]
[null,null,null,null,null,null,null,null,null,null,null,"Source"]
[null,null,null,null,null,null,null,null,null,null,null,{"$f":"iIndiRank!R2","v":"EIU"}]
[null,null,null,null,null,null,null,null,null,null,null,"Unit"]
[null,null,null,null,null,null,null,null,null,null,null,{"$f":"iIndiRank!K2","v":"1-5 scores"}]
[null,null,null,"Rank","City","Score / 100","Score / 100","Score Visualisation",{"$f":"iIndiRank!P5","v":"Data"},null,null,"Year"]
[null,null,{"$f":"iIndiRank!L6","v":1},{"$f":"iIndiRank!M6","v":"=1"},{"$f":"iIndiRank!N6","v":"Brunei"},{"$f":"iIndiRank!O6","v":100},{"$f":"iIndiRank!Q6","v":100},{"$f":"IF(ISNUMBER(F15),REPT(\"|\",F15/3),\"\")","v":"|||||||||||||||||||||||||||||||||"},{"$f":"TEXT(iIndiRank!P6,iIndiRank!$Q$2)","v":"5"},null,null,{"$f":"iIndiRank!N2","v":2014}]
[null,null,{"$f":"iIndiRank!L7","v":1},{"$f":"iIndiRank!M7","v":"=1"},{"$f":"iIndiRank!N7","v":"Cambodia"},{"$f":"iIndiRank!O7","v":100},{"$f":"iIndiRank!Q7","v":100},{"$f":"IF(ISNUMBER(F16),REPT(\"|\",F16/3),\"\")","v":"|||||||||||||||||||||||||||||||||"},{"$f":"TEXT(iIndiRank!P7,iIndiRank!$Q$2)","v":"5"},null,null,"Description"]
[null,null,{"$f":"iIndiRank!L8","v":1},{"$f":"iIndiRank!M8","v":"=1"},{"$f":"iIndiRank!N8","v":"Hong Kong"},{"$f":"iIndiRank!O8","v":100},{"$f":"iIndiRank!Q8","v":100},"|||||||||||||||||||||||||||||||||",{"$f":"TEXT(iIndiRank!P8,iIndiRank!$Q$2)","v":"5"},null,null,{"$f":"iIndiRank!J2","v":"A measure of a country’s current account liberalisation, with consideration of restrictions in this area; used to capture the ease with which a country trades goods across its border."}]
[null,null,{"$f":"iIndiRank!L9","v":1},{"$f":"iIndiRank!M9","v":"=1"},{"$f":"iIndiRank!N9","v":"Japan"},{"$f":"iIndiRank!O9","v":100},{"$f":"iIndiRank!Q9","v":100},"|||||||||||||||||||||||||||||||||",{"$f":"TEXT(iIndiRank!P9,iIndiRank!$Q$2)","v":"5"}]
[null,null,{"$f":"iIndiRank!L10","v":1},{"$f":"iIndiRank!M10","v":"=1"},{"$f":"iIndiRank!N10","v":"Laos"},{"$f":"iIndiRank!O10","v":100},{"$f":"iIndiRank!Q10","v":100},"|||||||||||||||||||||||||||||||||",{"$f":"TEXT(iIndiRank!P10,iIndiRank!$Q$2)","v":"5"}]
[null,null,{"$f":"iIndiRank!L11","v":1},{"$f":"iIndiRank!M11","v":"=1"},{"$f":"iIndiRank!N11","v":"Malaysia"},{"$f":"iIndiRank!O11","v":100},{"$f":"iIndiRank!Q11","v":100},"|||||||||||||||||||||||||||||||||",{"$f":"TEXT(iIndiRank!P11,iIndiRank!$Q$2)","v":"5"}]
[null,null,{"$f":"iIndiRank!L12","v":1},{"$f":"iIndiRank!M12","v":"=1"},{"$f":"iIndiRank!N12","v":"Singapore"},{"$f":"iIndiRank!O12","v":100},{"$f":"iIndiRank!Q12","v":100},"|||||||||||||||||||||||||||||||||",{"$f":"TEXT(iIndiRank!P12,iIndiRank!$Q$2)","v":"5"}]
[null,null,{"$f":"iIndiRank!L13","v":1},{"$f":"iIndiRank!M13","v":"=1"},{"$f":"iIndiRank!N13","v":"Sri Lanka"},{"$f":"iIndiRank!O13","v":100},{"$f":"iIndiRank!Q13","v":100},"|||||||||||||||||||||||||||||||||",{"$f":"TEXT(iIndiRank!P13,iIndiRank!$Q$2)","v":"5"}]
[null,null,{"$f":"iIndiRank!L14","v":1},{"$f":"iIndiRank!M14","v":"=1"},{"$f":"iIndiRank!N14","v":"Taiwan"},{"$f":"iIndiRank!O14","v":100},{"$f":"iIndiRank!Q14","v":100},"|||||||||||||||||||||||||||||||||",{"$f":"TEXT(iIndiRank!P14,iIndiRank!$Q$2)","v":"5"}]
[null,null,{"$f":"iIndiRank!L15","v":1},{"$f":"iIndiRank!M15","v":"=1"},{"$f":"iIndiRank!N15","v":"Thailand"},{"$f":"iIndiRank!O15","v":100},{"$f":"iIndiRank!Q15","v":100},"|||||||||||||||||||||||||||||||||",{"$f":"TEXT(iIndiRank!P15,iIndiRank!$Q$2)","v":"5"}]
[null,null,{"$f":"iIndiRank!L16","v":1},{"$f":"iIndiRank!M16","v":"=1"},{"$f":"iIndiRank!N16","v":"Vietnam"},{"$f":"iIndiRank!O16","v":100},{"$f":"iIndiRank!Q16","v":100},"|||||||||||||||||||||||||||||||||",{"$f":"TEXT(iIndiRank!P16,iIndiRank!$Q$2)","v":"5"}]
[null,null,{"$f":"iIndiRank!L17","v":1},{"$f":"iIndiRank!M17","v":"=1"},{"$f":"iIndiRank!N17","v":"USA"},{"$f":"iIndiRank!O17","v":100},{"$f":"iIndiRank!Q17","v":100},"|||||||||||||||||||||||||||||||||",{"$f":"TEXT(iIndiRank!P17,iIndiRank!$Q$2)","v":"5"}]
[null,null,{"$f":"iIndiRank!L18","v":1},{"$f":"iIndiRank!M18","v":"=13"},{"$f":"iIndiRank!N18","v":"China"},{"$f":"iIndiRank!O18","v":85},{"$f":"iIndiRank!Q18","v":85},"||||||||||||||||||||||||||||",{"$f":"TEXT(iIndiRank!P18,iIndiRank!$Q$2)","v":"4"}]
[null,null,{"$f":"iIndiRank!L19","v":1},{"$f":"iIndiRank!M19","v":"=13"},{"$f":"iIndiRank!N19","v":"Philippines"},{"$f":"iIndiRank!O19","v":85},{"$f":"iIndiRank!Q19","v":85},"||||||||||||||||||||||||||||",{"$f":"TEXT(iIndiRank!P19,iIndiRank!$Q$2)","v":"4"}]
[null,null,{"$f":"iIndiRank!L20","v":1},{"$f":"iIndiRank!M20","v":"=13"},{"$f":"iIndiRank!N20","v":"South Korea"},{"$f":"iIndiRank!O20","v":85},{"$f":"iIndiRank!Q20","v":85},"||||||||||||||||||||||||||||",{"$f":"TEXT(iIndiRank!P20,iIndiRank!$Q$2)","v":"4"}]
[null,null,{"$f":"iIndiRank!L21","v":1},{"$f":"iIndiRank!M21","v":"=16"},{"$f":"iIndiRank!N21","v":"Bangladesh"},{"$f":"iIndiRank!O21","v":75},{"$f":"iIndiRank!Q21","v":75},"|||||||||||||||||||||||||",{"$f":"TEXT(iIndiRank!P21,iIndiRank!$Q$2)","v":"4"}]
[null,null,{"$f":"iIndiRank!L22","v":1},{"$f":"iIndiRank!M22","v":"=16"},{"$f":"iIndiRank!N22","v":"India"},{"$f":"iIndiRank!O22","v":75},{"$f":"iIndiRank!Q22","v":75},"|||||||||||||||||||||||||",{"$f":"TEXT(iIndiRank!P22,iIndiRank!$Q$2)","v":"4"}]
[null,null,{"$f":"iIndiRank!L23","v":1},{"$f":"iIndiRank!M23","v":"=16"},{"$f":"iIndiRank!N23","v":"Indonesia"},{"$f":"iIndiRank!O23","v":75},{"$f":"iIndiRank!Q23","v":75},"|||||||||||||||||||||||||",{"$f":"TEXT(iIndiRank!P23,iIndiRank!$Q$2)","v":"4"}]
[null,null,{"$f":"iIndiRank!L24","v":1},{"$f":"iIndiRank!M24","v":"=16"},{"$f":"iIndiRank!N24","v":"Myanmar"},{"$f":"iIndiRank!O24","v":75},{"$f":"iIndiRank!Q24","v":75},"|||||||||||||||||||||||||",{"$f":"TEXT(iIndiRank!P24,iIndiRank!$Q$2)","v":"4"}]
[null,null,{"$f":"iIndiRank!L25","v":1},{"$f":"iIndiRank!M25","v":20},{"$f":"iIndiRank!N25","v":"Pakistan"},{"$f":"iIndiRank!O25","v":50},{"$f":"iIndiRank!Q25","v":50},"||||||||||||||||",{"$f":"TEXT(iIndiRank!P25,iIndiRank!$Q$2)","v":"3"}]

{"sheet":"iScatter","index":39,"n_rows":38,"n_cols":27,"rows_kept":38,"cut":false,"hidden":true,"merged":[]}
["INDI_X",{"$f":"uxb_works!B24","v":4},null,null,{"$f":"uxb_works!E24","v":2},{"$f":"uxb_works!I24","v":"1-5 scores"},{"$f":"uxb_works!G24","v":"Current account liberalisation"}]
["INDI_Y",{"$f":"uxb_works!B25","v":1},null,null,{"$f":"uxb_works!E25","v":0},{"$f":"uxb_works!I25","v":"Index score/number"},{"$f":"uxb_works!G25","v":"OVERALL SCORE"}]
["Country_HIGHLIGHT_ID",{"$f":"uxb_works!B7","v":0}]
["SHOW_LABELS",{"$f":"uxb_works!B27","v":false}]
["SHOW_OUTLIERS",{"$f":"uxb_works!B28","v":false}]
[]
[]
["TITLE"]
["X-LABEL",{"$f":"G1","v":"Current account liberalisation"}]
["Y-LABEL",{"$f":"G2","v":"OVERALL SCORE"}]
[]
["SLOPE",{"$f":"SLOPE(H19:H38,G19:G38)","v":0.51570263521389947}]
["INTERCEPT",{"$f":"INTERCEPT(H19:H38,G19:G38)","v":11.040243320757838}]
["CORREL",{"$f":"CORREL(G19:G38,H19:H38)","v":0.52434672826633222}]
["ERROR CORREL",{"$f":"IF(ISERROR(B14),FALSE,TRUE)","v":true}]
[]
[null,null,null,"Raw data",null,"Allowable?","Don't allow blanks or errors",null,null,"Anticipated",null,null,"CountryHighlight",null,null,null,null,null,"Labels",null,null,null,"Base (unhighlighted)",null,null,"Highlighted"]
["Country_ID","Country","STATUS","X","Y",null,"X","Y",null,"Y","Diff",null,null,"CountryID","Label","X","Y",null,"Include?","X","Y",null,"X","Y",null,"X","Y"]
[1,{"$f":"tblTerritories!F3","v":"Bangladesh"},{"$f":"tblTerritories!G3","v":1},{"$f":"IF($C19=0,NA(),INDEX(aScores,$B$1,$A19))","v":75},{"$f":"IF($C19=0,NA(),INDEX(aScores,$B$2,$A19))","v":45.400771594576256},{"$f":"AND(ISNUMBER(D19),ISNUMBER(E19))","v":true},{"$f":"IF($F19,D19,\"\")","v":75},{"$f":"IF($F19,E19,\"\")","v":45.400771594576256},null,{"$f":"IF(G19=\"\",\"\",(G19*$B$12)+$B$13)","v":49.717940961800302},{"$f":"IF(J19=\"\",\"\",H19-J19)","v":-4.3171693672240465},null,null,{"$f":"B3","v":0},{"$f":"IF($B$3=0,\"<none>\",INDEX(luCities,$B$3))","v":"<none>"},{"$f":"IF($B$3=0,NA(),INDEX(G19:G38,$B$3))","v":{"$error":"#N/A"}},{"$f":"IF($B$3=0,NA(),INDEX(H19:H38,$B$3))","v":{"$error":"#N/A"}},null,{"$f":"IF(NOT($B$4),0,IF(OR(A19=$N$19,A19=$N$23,A19=$N$27),0,IF(AND(C19<3,F19),1,0)))","v":0},{"$f":"IF($S19=0,NA(),G19)","v":{"$error":"#N/A"}},{"$error":"#N/A"},null,{"$f":"IF(AND($C19>0,$F19),G19,NA())","v":75},45.400771594576256,null,{"$f":"IF(AND($C19=2,$F19),G19,NA())","v":{"$error":"#N/A"}},{"$error":"#N/A"}]
[2,{"$f":"tblTerritories!F4","v":"Brunei"},{"$f":"tblTerritories!G4","v":1},100,54.246322414278559,{"$f":"AND(ISNUMBER(D20),ISNUMBER(E20))","v":true},{"$f":"IF($F20,D20,\"\")","v":100},{"$f":"IF($F20,E20,\"\")","v":54.246322414278559},null,{"$f":"IF(G20=\"\",\"\",(G20*$B$12)+$B$13)","v":62.610506842147785},{"$f":"IF(J20=\"\",\"\",H20-J20)","v":-8.3641844278692261},null,null,null,null,null,null,null,0,{"$error":"#N/A"},{"$error":"#N/A"},null,100,54.246322414278559,null,{"$error":"#N/A"},{"$error":"#N/A"}]
[3,{"$f":"tblTerritories!F5","v":"Cambodia"},{"$f":"tblTerritories!G5","v":1},100,46.844233464040201,true,100,46.844233464040201,null,62.610506842147785,-15.766273378107584,null,"Max Outlier",null,null,null,null,null,0,{"$error":"#N/A"},{"$error":"#N/A"},null,100,46.844233464040201,null,{"$error":"#N/A"},{"$error":"#N/A"}]
[4,{"$f":"tblTerritories!F6","v":"China"},{"$f":"tblTerritories!G6","v":1},85.000000000000014,52.464737159200332,true,85.000000000000014,52.464737159200332,null,54.874967313939301,-2.4102301547389686,null,"Target","CountryID","Label","X","Y",null,0,{"$error":"#N/A"},{"$error":"#N/A"},null,85.000000000000014,52.464737159200332,null,{"$error":"#N/A"},{"$error":"#N/A"}]
[5,{"$f":"tblTerritories!F7","v":"Hong Kong"},{"$f":"tblTerritories!G7","v":1},100,73.581391302193296,true,100,73.581391302193296,null,62.610506842147785,10.970884460045511,null,{"$f":"MAX(K19:K38)","v":25.162104065053562},{"$f":"IF(B15,IF($B$5,MATCH(M23,K19:K38,0),0),0)","v":0},{"$f":"IF(AND($B$15,$B$5,N23<>N19),INDEX(B19:B38,$N23),NA())","v":{"$error":"#N/A"}},{"$f":"IF(AND($B$15,$B$5,N23<>N19),INDEX(G19:G38,$N23),NA())","v":{"$error":"#N/A"}},{"$f":"IF(AND($B$15,$B$5,N23<>N19),INDEX(H19:H38,$N23),NA())","v":{"$error":"#N/A"}},null,0,{"$error":"#N/A"},{"$error":"#N/A"},null,100,73.581391302193296,null,{"$error":"#N/A"},{"$error":"#N/A"}]
[6,{"$f":"tblTerritories!F8","v":"India"},{"$f":"tblTerritories!G8","v":1},75,47.670755021075209,true,75,47.670755021075209,null,49.717940961800302,-2.0471859407250932,null,null,null,null,null,null,null,0,{"$error":"#N/A"},{"$error":"#N/A"},null,75,47.670755021075209,null,{"$error":"#N/A"},{"$error":"#N/A"}]
[7,{"$f":"tblTerritories!F9","v":"Indonesia"},{"$f":"tblTerritories!G9","v":1},75,47.90837560102819,true,75,47.90837560102819,null,49.717940961800302,-1.8095653607721118,null,"Min Outlier",null,null,null,null,null,0,{"$error":"#N/A"},{"$error":"#N/A"},null,75,47.90837560102819,null,{"$error":"#N/A"},{"$error":"#N/A"}]
[8,{"$f":"tblTerritories!F10","v":"Japan"},{"$f":"tblTerritories!G10","v":1},100,78.50410607235375,true,{"$f":"IF($F26,D26,\"\")","v":100},{"$f":"IF($F26,E26,\"\")","v":78.50410607235375},null,62.610506842147785,15.893599230205965,null,"Target","CountryID","Label","X","Y",null,0,{"$error":"#N/A"},{"$error":"#N/A"},null,100,78.50410607235375,null,{"$error":"#N/A"},{"$error":"#N/A"}]
[9,{"$f":"tblTerritories!F11","v":"Laos"},{"$f":"tblTerritories!G11","v":1},100,45.525621157443105,true,100,45.525621157443105,null,62.610506842147785,-17.08488568470468,null,{"$f":"MIN(K19:K38)","v":-17.08488568470468},{"$f":"IF(B15,IF($B$5,MATCH(M27,K19:K38,0),0),0)","v":0},{"$f":"IF(AND($B$15,$B$5,N27<>N19),INDEX(B19:B38,$N27),NA())","v":{"$error":"#N/A"}},{"$f":"IF(AND($B$5,$B$15,N27<>N19),INDEX(G19:G38,$N27),NA())","v":{"$error":"#N/A"}},{"$f":"IF(AND($B$5,$B$15,N27<>N19),INDEX(H19:H38,$N27),NA())","v":{"$error":"#N/A"}},null,{"$f":"IF(NOT($B$4),0,IF(OR(A27=$N$19,A27=$N$23,A27=$N$27),0,IF(AND(C27<3,F27),1,0)))","v":0},{"$f":"IF($S27=0,NA(),G27)","v":{"$error":"#N/A"}},{"$f":"IF($S27=0,NA(),H27)","v":{"$error":"#N/A"}},null,{"$f":"IF(AND($C27>0,$F27),G27,NA())","v":100},{"$f":"IF(AND($C27>0,$F27),H27,NA())","v":45.525621157443105},null,{"$f":"IF(AND($C27=2,$F27),G27,NA())","v":{"$error":"#N/A"}},{"$f":"IF(AND($C27=2,$F27),H27,NA())","v":{"$error":"#N/A"}}]
[10,{"$f":"tblTerritories!F12","v":"Malaysia"},{"$f":"tblTerritories!G12","v":1},100,59.401181758387139,true,100,59.401181758387139,null,62.610506842147785,-3.2093250837606462,null,null,null,null,null,null,null,0,{"$error":"#N/A"},{"$error":"#N/A"},null,100,59.401181758387139,null,{"$error":"#N/A"},{"$error":"#N/A"}]
[11,{"$f":"tblTerritories!F13","v":"Myanmar"},{"$f":"tblTerritories!G13","v":1},75,36.102523605788384,true,75,36.102523605788384,null,49.717940961800302,-13.615417356011918,null,null,null,null,null,null,null,0,{"$error":"#N/A"},{"$error":"#N/A"},null,75,36.102523605788384,null,{"$error":"#N/A"},{"$error":"#N/A"}]
[12,{"$f":"tblTerritories!F14","v":"Pakistan"},{"$f":"tblTerritories!G14","v":1},50,41.742979007553359,true,50,41.742979007553359,null,36.825375081452812,4.9176039261005471,null,null,null,null,null,null,null,0,{"$error":"#N/A"},{"$error":"#N/A"},null,50,41.742979007553359,null,{"$error":"#N/A"},{"$error":"#N/A"}]
[13,{"$f":"tblTerritories!F15","v":"Philippines"},{"$f":"tblTerritories!G15","v":1},85.000000000000014,52.04664369117809,true,85.000000000000014,52.04664369117809,null,54.874967313939301,-2.8283236227612107,null,null,null,null,null,null,null,0,{"$error":"#N/A"},{"$error":"#N/A"},null,85.000000000000014,52.04664369117809,null,{"$error":"#N/A"},{"$error":"#N/A"}]
[14,{"$f":"tblTerritories!F16","v":"Singapore"},{"$f":"tblTerritories!G16","v":1},100,80.957736329497934,true,100,80.957736329497934,null,62.610506842147785,18.347229487350148,null,null,null,null,null,null,null,0,{"$error":"#N/A"},{"$error":"#N/A"},null,100,80.957736329497934,null,{"$error":"#N/A"},{"$error":"#N/A"}]
[15,{"$f":"tblTerritories!F17","v":"South Korea"},{"$f":"tblTerritories!G17","v":1},85.000000000000014,80.037071378992863,true,85.000000000000014,80.037071378992863,null,54.874967313939301,25.162104065053562,null,null,null,null,null,null,null,0,{"$error":"#N/A"},{"$error":"#N/A"},null,85.000000000000014,80.037071378992863,null,{"$error":"#N/A"},{"$error":"#N/A"}]
[16,{"$f":"tblTerritories!F18","v":"Sri Lanka"},{"$f":"tblTerritories!G18","v":1},100,54.171997951483796,true,100,54.171997951483796,null,62.610506842147785,-8.4385088906639893,null,null,null,null,null,null,null,0,{"$error":"#N/A"},{"$error":"#N/A"},null,100,54.171997951483796,null,{"$error":"#N/A"},{"$error":"#N/A"}]
[17,{"$f":"tblTerritories!F19","v":"Taiwan"},{"$f":"tblTerritories!G19","v":1},100,69.366128353953144,true,100,69.366128353953144,null,62.610506842147785,6.7556215118053586,null,null,null,null,null,null,null,0,{"$error":"#N/A"},{"$error":"#N/A"},null,100,69.366128353953144,null,{"$error":"#N/A"},{"$error":"#N/A"}]
[18,{"$f":"tblTerritories!F20","v":"Thailand"},{"$f":"tblTerritories!G20","v":1},100,55.464409320349823,true,100,55.464409320349823,null,62.610506842147785,-7.1460975217979623,null,null,null,null,null,null,null,0,{"$error":"#N/A"},{"$error":"#N/A"},null,100,55.464409320349823,null,{"$error":"#N/A"},{"$error":"#N/A"}]
[19,{"$f":"tblTerritories!F21","v":"Vietnam"},{"$f":"tblTerritories!G21","v":1},100,53.848572496227035,true,100,53.848572496227035,null,62.610506842147785,-8.7619343459207499,null,null,null,null,null,null,null,0,{"$error":"#N/A"},{"$error":"#N/A"},null,100,53.848572496227035,null,{"$error":"#N/A"},{"$error":"#N/A"}]
[20,{"$f":"tblTerritories!F22","v":"USA"},{"$f":"tblTerritories!G22","v":1},100,76.36256529664476,true,100,76.36256529664476,null,62.610506842147785,13.752058454496975,null,null,null,null,null,null,null,0,{"$error":"#N/A"},{"$error":"#N/A"},null,100,76.36256529664476,null,{"$error":"#N/A"},{"$error":"#N/A"}]

{"sheet":"Scatter","index":40,"n_rows":7,"n_cols":21,"rows_kept":7,"cut":false,"hidden":true,"merged":[[6,2,6,3]]}
[]
[]
[]
[null,{"$f":"iScatter!G1","v":"Current account liberalisation"},null,null,null,null,null,null,null,null,null,null,null,null,null,null,null,null,null,null,{"$f":"iScatter!$G$2","v":"OVERALL SCORE"}]
[null,{"$f":"iScatter!F1","v":"1-5 scores"},null,null,null,null,null,null,null,null,null,null,null,null,null,null,null,null,null,null,{"$f":"iScatter!F2","v":"Index score/number"}]
[]
[null,"CORRELATION(X,Y)",{"$f":"IF(ISERROR(iScatter!B14),\"n/a\",iScatter!B14)","v":0.52434672826633222}]

{"sheet":"iCntPMaps","index":41,"n_rows":25,"n_cols":9,"rows_kept":25,"cut":false,"hidden":true,"merged":[]}
[{"$f":"B1","v":"Country Map or active map showing location for:Bangladesh"},{"$f":"\"Country Map or active map showing location for:\"&C1","v":"Country Map or active map showing location for:Bangladesh"},"Bangladesh"]
[{"$f":"B2","v":"Country Map or active map showing location for:Brunei"},{"$f":"\"Country Map or active map showing location for:\"&C2","v":"Country Map or active map showing location for:Brunei"},"Brunei"]
["Country Map or active map showing location for:Cambodia","Country Map or active map showing location for:Cambodia","Cambodia"]
["Country Map or active map showing location for:China","Country Map or active map showing location for:China","China"]
["Country Map or active map showing location for:Hong Kong","Country Map or active map showing location for:Hong Kong","Hong Kong"]
["Country Map or active map showing location for:India","Country Map or active map showing location for:India","India"]
["Country Map or active map showing location for:Indonesia","Country Map or active map showing location for:Indonesia","Indonesia"]
["Country Map or active map showing location for:Japan","Country Map or active map showing location for:Japan","Japan"]
["Country Map or active map showing location for:Laos","Country Map or active map showing location for:Laos","Laos"]
["Country Map or active map showing location for:Malaysia","Country Map or active map showing location for:Malaysia","Malaysia"]
["Country Map or active map showing location for:Myanmar","Country Map or active map showing location for:Myanmar","Myanmar"]
["Country Map or active map showing location for:Pakistan","Country Map or active map showing location for:Pakistan","Pakistan"]
["Country Map or active map showing location for:Philippines","Country Map or active map showing location for:Philippines","Philippines"]
["Country Map or active map showing location for:Singapore","Country Map or active map showing location for:Singapore","Singapore"]
["Country Map or active map showing location for:South Korea","Country Map or active map showing location for:South Korea","South Korea"]
["Country Map or active map showing location for:Sri Lanka","Country Map or active map showing location for:Sri Lanka","Sri Lanka"]
["Country Map or active map showing location for:Taiwan","Country Map or active map showing location for:Taiwan","Taiwan"]
["Country Map or active map showing location for:Thailand","Country Map or active map showing location for:Thailand","Thailand"]
["Country Map or active map showing location for:Vietnam","Country Map or active map showing location for:Vietnam","Vietnam"]
["Country Map or active map showing location for:USA","Country Map or active map showing location for:USA","USA"]
[]
[]
[]
[]
[null,"Brussels","Frankfurt","Hong Kong","London","Paris","Singapore","Sydney","Toronto"]

{"sheet":"CountryProfile","index":42,"n_rows":92,"n_cols":426,"rows_kept":92,"cut":false,"hidden":true,"merged":[[47,12,47,15],[48,12,48,15],[54,12,54,15],[55,12,55,15],[49,12,49,15],[50,12,50,15],[51,12,51,15],[52,12,52,15],[53,12,53,15],[42,12,42,15],[43,12,43,15],[44,12,44,15],[45,12,45,15],[46,12,46,15],[37,12,37,15],[38,12,38,15],[39,12,39,15],[40,12,40,15],[41,12,41,15],[11,2,11,4],[12,2,12,4],[13,2,13,4],[26,12,26,15],[17,2,17,4],[18,2,18,4],[25,12,25,15],[19,2,19,4],[58,2,59,3],[58,7,59,8],[58,12,59,13],[16,2,16,4],[14,2,14,4],[15,2,15,4],[27,12,27,15],[28,12,28,15],[29,12,29,15],[30,12,30,15],[31,12,31,15],[32,12,32,15],[33,12,33,15],[34,12,34,15],[35,12,35,15],[36,12,36,15]]}
[]
[]
[null,null,{"$f":"UPPER(uxb_works!C19)","v":"CHINA"}]
[null,null,null,{"$f":"iCountryP!H6","v":"Rank / 20"},{"$f":"iCountryP!I6","v":"Score / 100"}]
[null,null,{"$f":"iCountryP!E8","v":"OVERALL SCORE"},{"$f":"iCountryP!H8","v":12},{"$f":"iCountryP!I8","v":52.5}]
[null,null,{"$f":"iCountryP!E9","v":"1) ECONOMIC PILLAR"},{"$f":"iCountryP!H9","v":8},{"$f":"iCountryP!I9","v":64.2},null,null,null,null,null,null,null,null,null,null,null,null,null,null,null,null,null,null,null,null,null,null,null,null,null,null,null,null,null,null,null,null,null,null,null,null,null,null,null,null,null,null,null,null,null,null,null,null,null,null,null,null,null,null,null,null,null,null,null,null,null,null,null,null,null,null,null,null,null,null,null,null,null,null,null,null,null,null,null,null,null,null,null,null,null,null,null,null,null,null,null,null,null,null,null,null,null,null,null,null,null,null,null,null,null,null,null,null,null,null,null,null,null,null,null,null,null,null,null,null,null,null,null,null,null,null,null,null,null,null,null,null,null,null,null,null,null,null,null,null,null,null,null,null,null,null,null,null,null,null,null,null,null,null,null,null,null,null,null,null,null,null,null,null,null,null,null,null,null,null,null,null,null,null,null,null,null,null,null,null,null,null,null,null,null,null,null,null,null,null,null,null,null,null,null,null,null,null,null,null,null,null,null,null,null,null,null,null,null,null,null,null,null,null,null,null,null,null,null,null,null,null,null,null,null,null,null,null,null,null,null,null,null,null,null,null,null,null,null,null,null,null,null,null,null,null,null,null,null,null,null,null,null,null,null,null,null,null,null,null,null,null,null,null,null,null,null,null,null,null,null,null,null,null,null,null,null,null,null,null,null,null,null,null,null,null,null,null,null,null,null,null,null,null,null,null,null,null,null,null,null,null,null,null,null,null,null,null,null,null,null,null,null,null,null,null,null,null,null,null,null,null,null,null,null,null,null,null,null,null,null,null,null,null,null,null,null,null,null,null,null,null,null,null,null,null,null,null,null,null,null,null,null,null,null,null,null,null,null,null,null,null,null,null,null,null,null,null,null,null,null,null,null,null,null,null,null,null,null,null,null,null,null,null,null,null,null,null,null,null,null,null,null,null,null,null,null,null,null,null,null,null,null,null,null,null,null,null,null,null,null,null,null,null,null,null,null,null,null,null,{"$f":"R6","v":0}]
[null,null,{"$f":"iCountryP!E10","v":"2) SOCIAL PILLAR"},{"$f":"iCountryP!H10","v":12},{"$f":"iCountryP!I10","v":41.1},null,null,null,null,null,null,null,null,null,null,null,null,null,null,null,null,null,null,null,null,null,null,null,null,null,null,null,null,null,null,null,null,null,null,null,null,null,null,null,null,null,null,null,null,null,null,null,null,null,null,null,null,null,null,null,null,null,null,null,null,null,null,null,null,null,null,null,null,null,null,null,null,null,null,null,null,null,null,null,null,null,null,null,null,null,null,null,null,null,null,null,null,null,null,null,null,null,null,null,null,null,null,null,null,null,null,null,null,null,null,null,null,null,null,null,null,null,null,null,null,null,null,null,null,null,null,null,null,null,null,null,null,null,null,null,null,null,null,null,null,null,null,null,null,null,null,null,null,null,null,null,null,null,null,null,null,null,null,null,null,null,null,null,null,null,null,null,null,null,null,null,null,null,null,null,null,null,null,null,null,null,null,null,null,null,null,null,null,null,null,null,null,null,null,null,null,null,null,null,null,null,null,null,null,null,null,null,null,null,null,null,null,null,null,null,null,null,null,null,null,null,null,null,null,null,null,null,null,null,null,null,null,null,null,null,null,null,null,null,null,null,null,null,null,null,null,null,null,null,null,null,null,null,null,null,null,null,null,null,null,null,null,null,null,null,null,null,null,null,null,null,null,null,null,null,null,null,null,null,null,null,null,null,null,null,null,null,null,null,null,null,null,null,null,null,null,null,null,null,null,null,null,null,null,null,null,null,null,null,null,null,null,null,null,null,null,null,null,null,null,null,null,null,null,null,null,null,null,null,null,null,null,null,null,null,null,null,null,null,null,null,null,null,null,null,null,null,null,null,null,null,null,null,null,null,null,null,null,null,null,null,null,null,null,null,null,null,null,null,null,null,null,null,null,null,null,null,null,null,null,null,null,null,null,null,null,null,null,null,null,null,null,null,null,null,null,null,null,null,null,null,null,null,null,null,null,null,null,null,null,null,null,null,null,null,null,null,null,null,null,{"$f":"R7","v":0}]
[null,null,{"$f":"iCountryP!E11","v":"3) ENVIRONMENTAL PILLAR"},{"$f":"iCountryP!H11","v":15},{"$f":"iCountryP!I11","v":52},null,null,null,null,null,null,null,null,null,null,null,null,null,null,null,null,null,null,null,null,null,null,null,null,null,null,null,null,null,null,null,null,null,null,null,null,null,null,null,null,null,null,null,null,null,null,null,null,null,null,null,null,null,null,null,null,null,null,null,null,null,null,null,null,null,null,null,null,null,null,null,null,null,null,null,null,null,null,null,null,null,null,null,null,null,null,null,null,null,null,null,null,null,null,null,null,null,null,null,null,null,null,null,null,null,null,null,null,null,null,null,null,null,null,null,null,null,null,null,null,null,null,null,null,null,null,null,null,null,null,null,null,null,null,null,null,null,null,null,null,null,null,null,null,null,null,null,null,null,null,null,null,null,null,null,null,null,null,null,null,null,null,null,null,null,null,null,null,null,null,null,null,null,null,null,null,null,null,null,null,null,null,null,null,null,null,null,null,null,null,null,null,null,null,null,null,null,null,null,null,null,null,null,null,null,null,null,null,null,null,null,null,null,null,null,null,null,null,null,null,null,null,null,null,null,null,null,null,null,null,null,null,null,null,null,null,null,null,null,null,null,null,null,null,null,null,null,null,null,null,null,null,null,null,null,null,null,null,null,null,null,null,null,null,null,null,null,null,null,null,null,null,null,null,null,null,null,null,null,null,null,null,null,null,null,null,null,null,null,null,null,null,null,null,null,null,null,null,null,null,null,null,null,null,null,null,null,null,null,null,null,null,null,null,null,null,null,null,null,null,null,null,null,null,null,null,null,null,null,null,null,null,null,null,null,null,null,null,null,null,null,null,null,null,null,null,null,null,null,null,null,null,null,null,null,null,null,null,null,null,null,null,null,null,null,null,null,null,null,null,null,null,null,null,null,null,null,null,null,null,null,null,null,null,null,null,null,null,null,null,null,null,null,null,null,null,null,null,null,null,null,null,null,null,null,null,null,null,null,null,null,null,null,null,null,null,null,null,null,null,0]
[null,null,null,null,null,null,null,null,null,null,null,null,null,null,null,null,null,null,null,null,null,null,null,null,null,null,null,null,null,null,null,null,null,null,null,null,null,null,null,null,null,null,null,null,null,null,null,null,null,null,null,null,null,null,null,null,null,null,null,null,null,null,null,null,null,null,null,null,null,null,null,null,null,null,null,null,null,null,null,null,null,null,null,null,null,null,null,null,null,null,null,null,null,null,null,null,null,null,null,null,null,null,null,null,null,null,null,null,null,null,null,null,null,null,null,null,null,null,null,null,null,null,null,null,null,null,null,null,null,null,null,null,null,null,null,null,null,null,null,null,null,null,null,null,null,null,null,null,null,null,null,null,null,null,null,null,null,null,null,null,null,null,null,null,null,null,null,null,null,null,null,null,null,null,null,null,null,null,null,null,null,null,null,null,null,null,null,null,null,null,null,null,null,null,null,null,null,null,null,null,null,null,null,null,null,null,null,null,null,null,null,null,null,null,null,null,null,null,null,null,null,null,null,null,null,null,null,null,null,null,null,null,null,null,null,null,null,null,null,null,null,null,null,null,null,null,null,null,null,null,null,null,null,null,null,null,null,null,null,null,null,null,null,null,null,null,null,null,null,null,null,null,null,null,null,null,null,null,null,null,null,null,null,null,null,null,null,null,null,null,null,null,null,null,null,null,null,null,null,null,null,null,null,null,null,null,null,null,null,null,null,null,null,null,null,null,null,null,null,null,null,null,null,null,null,null,null,null,null,null,null,null,null,null,null,null,null,null,null,null,null,null,null,null,null,null,null,null,null,null,null,null,null,null,null,null,null,null,null,null,null,null,null,null,null,null,null,null,null,null,null,null,null,null,null,null,null,null,null,null,null,null,null,null,null,null,null,null,null,null,null,null,null,null,null,null,null,null,null,null,null,null,null,null,null,null,null,null,null,null,null,null,null,null,null,null,null,null,null,null,null,null,null,null,null,0]
[null,null,null,null,null,null,null,null,null,null,null,null,null,null,null,null,null,null,null,null,null,null,null,null,null,null,null,null,null,null,null,null,null,null,null,null,null,null,null,null,null,null,null,null,null,null,null,null,null,null,null,null,null,null,null,null,null,null,null,null,null,null,null,null,null,null,null,null,null,null,null,null,null,null,null,null,null,null,null,null,null,null,null,null,null,null,null,null,null,null,null,null,null,null,null,null,null,null,null,null,null,null,null,null,null,null,null,null,null,null,null,null,null,null,null,null,null,null,null,null,null,null,null,null,null,null,null,null,null,null,null,null,null,null,null,null,null,null,null,null,null,null,null,null,null,null,null,null,null,null,null,null,null,null,null,null,null,null,null,null,null,null,null,null,null,null,null,null,null,null,null,null,null,null,null,null,null,null,null,null,null,null,null,null,null,null,null,null,null,null,null,null,null,null,null,null,null,null,null,null,null,null,null,null,null,null,null,null,null,null,null,null,null,null,null,null,null,null,null,null,null,null,null,null,null,null,null,null,null,null,null,null,null,null,null,null,null,null,null,null,null,null,null,null,null,null,null,null,null,null,null,null,null,null,null,null,null,null,null,null,null,null,null,null,null,null,null,null,null,null,null,null,null,null,null,null,null,null,null,null,null,null,null,null,null,null,null,null,null,null,null,null,null,null,null,null,null,null,null,null,null,null,null,null,null,null,null,null,null,null,null,null,null,null,null,null,null,null,null,null,null,null,null,null,null,null,null,null,null,null,null,null,null,null,null,null,null,null,null,null,null,null,null,null,null,null,null,null,null,null,null,null,null,null,null,null,null,null,null,null,null,null,null,null,null,null,null,null,null,null,null,null,null,null,null,null,null,null,null,null,null,null,null,null,null,null,null,null,null,null,null,null,null,null,null,null,null,null,null,null,null,null,null,null,null,null,null,null,null,null,null,null,null,null,null,null,null,null,null,null,null,null,null,null,null,0]
[null,null,null,null,null,null,null,null,null,null,null,null,null,null,null,null,null,null,null,null,null,null,null,null,null,null,null,null,null,null,null,null,null,null,null,null,null,null,null,null,null,null,null,null,null,null,null,null,null,null,null,null,null,null,null,null,null,null,null,null,null,null,null,null,null,null,null,null,null,null,null,null,null,null,null,null,null,null,null,null,null,null,null,null,null,null,null,null,null,null,null,null,null,null,null,null,null,null,null,null,null,null,null,null,null,null,null,null,null,null,null,null,null,null,null,null,null,null,null,null,null,null,null,null,null,null,null,null,null,null,null,null,null,null,null,null,null,null,null,null,null,null,null,null,null,null,null,null,null,null,null,null,null,null,null,null,null,null,null,null,null,null,null,null,null,null,null,null,null,null,null,null,null,null,null,null,null,null,null,null,null,null,null,null,null,null,null,null,null,null,null,null,null,null,null,null,null,null,null,null,null,null,null,null,null,null,null,null,null,null,null,null,null,null,null,null,null,null,null,null,null,null,null,null,null,null,null,null,null,null,null,null,null,null,null,null,null,null,null,null,null,null,null,null,null,null,null,null,null,null,null,null,null,null,null,null,null,null,null,null,null,null,null,null,null,null,null,null,null,null,null,null,null,null,null,null,null,null,null,null,null,null,null,null,null,null,null,null,null,null,null,null,null,null,null,null,null,null,null,null,null,null,null,null,null,null,null,null,null,null,null,null,null,null,null,null,null,null,null,null,null,null,null,null,null,null,null,null,null,null,null,null,null,null,null,null,null,null,null,null,null,null,null,null,null,null,null,null,null,null,null,null,null,null,null,null,null,null,null,null,null,null,null,null,null,null,null,null,null,null,null,null,null,null,null,null,null,null,null,null,null,null,null,null,null,null,null,null,null,null,null,null,null,null,null,null,null,null,null,null,null,null,null,null,null,null,null,null,null,null,null,null,null,null,null,null,null,null,null,null,null,null,null,null,null,0]
[null,null,null,null,null,null,null,null,null,null,null,null,null,null,null,null,null,null,null,null,null,null,null,null,null,null,null,{"$f":"C12","v":0}]
[null,null,null,null,null,null,null,null,null,null,null,null,null,null,null,null,null,null,null,null,null,null,null,null,null,null,null,{"$f":"C13","v":0}]
[null,null,null,null,null,null,null,null,null,null,null,null,null,null,null,null,null,null,null,null,null,null,null,null,null,null,null,0]
[null,null,null,null,null,null,null,null,null,null,null,null,null,null,null,null,null,null,null,null,null,null,null,null,null,null,null,0]
[null,null,null,null,null,null,null,null,null,null,null,null,null,null,null,null,null,null,null,null,null,null,null,null,null,null,null,0]
[null,null,null,null,null,null,null,null,null,null,null,null,null,null,null,null,null,null,null,null,null,null,null,null,null,null,null,0]
[null,null,null,null,null,null,null,null,null,null,null,null,null,null,null,null,null,null,null,null,null,null,null,null,null,null,null,0]
[null,null,null,null,null,null,null,null,null,null,null,null,null,null,null,null,null,null,null,null,null,null,null,null,null,null,null,{"$f":"H1","v":0}]
[]
[]
[null,null,{"$f":"IF(uxb_works!C21,\"Indicator scores table\",\"Bucketed Scores\")","v":"Indicator scores table"}]
[null,null,"Higher scores = favorable","“=” denotes tied score"]
[null,null,"Indicators",{"$f":"iCountryP!I15","v":"Rank / 20"},{"$f":"iCountryP!J15","v":"Score / 100"},null,null,"Score Visualisation","Data","Date",null,null,"Unit"]
[null,null,{"$f":"iCountryP!E16","v":"OVERALL SCORE"},{"$f":"iCountryP!I16","v":12},{"$f":"iCountryP!J16","v":52.464737159200332},null,null,{"$f":"iCountryP!K16","v":"|||||||||||||||||"},{"$f":"TEXT(iCountryP!M16,iCountryP!O16)","v":""},{"$f":"iCountryP!D16","v":""},null,null,{"$f":"iCountryP!F16","v":"Index score/number"}]
[null,{"$f":"iCountryP!C17","v":1},{"$f":"iCountryP!E17","v":"1) ECONOMIC PILLAR"},{"$f":"iCountryP!I17","v":8},{"$f":"iCountryP!J17","v":64.245896450811856},null,null,{"$f":"iCountryP!K17","v":"|||||||||||||||||||||"},{"$f":"TEXT(iCountryP!M17,iCountryP!O17)","v":""},{"$f":"iCountryP!D17","v":""},null,null,{"$f":"iCountryP!F17","v":"Index score/number"}]
[null,{"$f":"iCountryP!C18","v":2},{"$f":"iCountryP!E18","v":"1.10) Growth in per capita GDP"},{"$f":"iCountryP!I18","v":1},{"$f":"iCountryP!J18","v":100},null,null,{"$f":"iCountryP!K18","v":"|||||||||||||||||||||||||||||||||"},{"$f":"TEXT(iCountryP!M18,iCountryP!O18)","v":"8.0"},{"$f":"iCountryP!D18","v":2014},null,null,{"$f":"iCountryP!F18","v":"percentage growth"}]
[null,{"$f":"iCountryP!C19","v":2},{"$f":"iCountryP!E19","v":"1.11) Current account liberalisation"},{"$f":"iCountryP!I19","v":"=13"},{"$f":"iCountryP!J19","v":85.000000000000014},null,null,{"$f":"iCountryP!K19","v":"||||||||||||||||||||||||||||"},{"$f":"TEXT(iCountryP!M19,iCountryP!O19)","v":"4"},{"$f":"iCountryP!D19","v":2014},null,null,{"$f":"iCountryP!F19","v":"1-5 scores"}]
[null,{"$f":"iCountryP!C20","v":2},{"$f":"iCountryP!E20","v":"1.12) Tariff & non-tariff barriers"},{"$f":"iCountryP!I20","v":"=13"},{"$f":"iCountryP!J20","v":50},null,null,{"$f":"iCountryP!K20","v":"||||||||||||||||"},{"$f":"TEXT(iCountryP!M20,iCountryP!O20)","v":"3"},{"$f":"iCountryP!D20","v":2014},null,null,{"$f":"iCountryP!F20","v":"1-5 scores"}]
[null,{"$f":"iCountryP!C21","v":2},{"$f":"iCountryP!E21","v":"1.13) Exchange rate volatility"},{"$f":"iCountryP!I21","v":"=9"},{"$f":"iCountryP!J21","v":96.575342465753423},null,null,{"$f":"iCountryP!K21","v":"||||||||||||||||||||||||||||||||"},{"$f":"TEXT(iCountryP!M21,iCountryP!O21)","v":"0.02"},{"$f":"iCountryP!D21","v":2014},null,null,{"$f":"iCountryP!F21","v":"trade-weighted standard deviations"}]
[null,{"$f":"iCountryP!C22","v":2},{"$f":"iCountryP!E22","v":"1.14) Financial sector depth"},{"$f":"iCountryP!I22","v":6},{"$f":"iCountryP!J22","v":58.18181818181818},null,null,{"$f":"iCountryP!K22","v":"|||||||||||||||||||"},{"$f":"TEXT(iCountryP!M22,iCountryP!O22)","v":"142"},{"$f":"iCountryP!D22","v":2014},null,null,{"$f":"iCountryP!F22","v":"% of GDP"}]
[null,{"$f":"iCountryP!C23","v":2},{"$f":"iCountryP!E23","v":"1.15) Foreign trade and payments risk"},{"$f":"iCountryP!I23","v":10},{"$f":"iCountryP!J23","v":67.676767676767668},null,null,{"$f":"iCountryP!K23","v":"||||||||||||||||||||||"},{"$f":"TEXT(iCountryP!M23,iCountryP!O23)","v":"33"},{"$f":"iCountryP!D23","v":2014},null,null,{"$f":"iCountryP!F23","v":"1-100 scores"}]
[null,{"$f":"iCountryP!C24","v":2},{"$f":"iCountryP!E24","v":"1.16) Export market concentration"},{"$f":"iCountryP!I24","v":7},{"$f":"iCountryP!J24","v":95.292913788692758},null,null,{"$f":"iCountryP!K24","v":"|||||||||||||||||||||||||||||||"},{"$f":"TEXT(iCountryP!M24,iCountryP!O24)","v":"11.00"},{"$f":"iCountryP!D24","v":2014},null,null,{"$f":"iCountryP!F24","v":"% "}]
[null,{"$f":"iCountryP!C25","v":2},{"$f":"iCountryP!E25","v":"1.17) Export product concentration"},{"$f":"iCountryP!I25","v":3},{"$f":"iCountryP!J25","v":97.415905546892404},null,null,{"$f":"iCountryP!K25","v":"||||||||||||||||||||||||||||||||"},{"$f":"TEXT(iCountryP!M25,iCountryP!O25)","v":"10.6"},{"$f":"iCountryP!D25","v":2014},null,null,{"$f":"iCountryP!F25","v":"%"}]
[null,{"$f":"iCountryP!C26","v":2},{"$f":"iCountryP!E26","v":"1.18) Foreign Direct Investment"},{"$f":"iCountryP!I26","v":6},{"$f":"iCountryP!J26","v":11.546891895841247},null,null,{"$f":"iCountryP!K26","v":"|||"},{"$f":"TEXT(iCountryP!M26,iCountryP!O26)","v":"4.0"},{"$f":"iCountryP!D26","v":2014},null,null,{"$f":"iCountryP!F26","v":"% of GDP"}]
[null,{"$f":"iCountryP!C27","v":2},{"$f":"iCountryP!E27","v":"1.19) Gross fixed capital formation"},{"$f":"iCountryP!I27","v":1},{"$f":"iCountryP!J27","v":100},null,null,{"$f":"iCountryP!K27","v":"|||||||||||||||||||||||||||||||||"},{"$f":"TEXT(iCountryP!M27,iCountryP!O27)","v":"44.46"},{"$f":"iCountryP!D27","v":2014},null,null,{"$f":"iCountryP!F27","v":"% of GDP"}]
[null,{"$f":"iCountryP!C28","v":2},{"$f":"iCountryP!E28","v":"1.20) Trade costs"},{"$f":"iCountryP!I28","v":11},{"$f":"iCountryP!J28","v":33.969444444444449},null,null,{"$f":"iCountryP!K28","v":"|||||||||||"},{"$f":"TEXT(iCountryP!M28,iCountryP!O28)","v":""},{"$f":"iCountryP!D28","v":""},null,null,{"$f":"iCountryP!F28","v":"Index score/number"}]
[null,{"$f":"iCountryP!C29","v":3},{"$f":"iCountryP!E29","v":"1.20.1) Infrastructure"},{"$f":"iCountryP!I29","v":8},{"$f":"iCountryP!J29","v":57.777777777777786},null,null,{"$f":"iCountryP!K29","v":"|||||||||||||||||||"},{"$f":"TEXT(iCountryP!M29,iCountryP!O29)","v":"6.2"},{"$f":"iCountryP!D29","v":2014},null,null,{"$f":"iCountryP!F29","v":"1-10 scores"}]
[null,{"$f":"iCountryP!C30","v":3},{"$f":"iCountryP!E30","v":"1.20.2) Logistics performance"},{"$f":"iCountryP!I30","v":8},{"$f":"iCountryP!J30","v":70.599999999999994},null,null,{"$f":"iCountryP!K30","v":"|||||||||||||||||||||||"},{"$f":"TEXT(iCountryP!M30,iCountryP!O30)","v":"3.53"},{"$f":"iCountryP!D30","v":2014},null,null,{"$f":"iCountryP!F30","v":"0 - 5"}]
[null,{"$f":"iCountryP!C31","v":3},{"$f":"iCountryP!E31","v":"1.20.3) Corruption"},{"$f":"iCountryP!I31","v":"=13"},{"$f":"iCountryP!J31","v":0},null,null,{"$f":"iCountryP!K31","v":""},{"$f":"TEXT(iCountryP!M31,iCountryP!O31)","v":"1"},{"$f":"iCountryP!D31","v":2014},null,null,{"$f":"iCountryP!F31","v":"1-5 scores"}]
[null,{"$f":"iCountryP!C32","v":3},{"$f":"iCountryP!E32","v":"1.20.4) Legal system"},{"$f":"iCountryP!I32","v":16},{"$f":"iCountryP!J32","v":7.5000000000000009},null,null,{"$f":"iCountryP!K32","v":"||"},{"$f":"TEXT(iCountryP!M32,iCountryP!O32)","v":"1"},{"$f":"iCountryP!D32","v":2014},null,null,{"$f":"iCountryP!F32","v":"1-5 scores"}]
[null,{"$f":"iCountryP!C33","v":2},{"$f":"iCountryP!E33","v":"1.21) Technological innovation"},{"$f":"iCountryP!I33","v":6},{"$f":"iCountryP!J33","v":45.080091533180777},null,null,{"$f":"iCountryP!K33","v":"|||||||||||||||"},{"$f":"TEXT(iCountryP!M33,iCountryP!O33)","v":"2.0"},{"$f":"iCountryP!D33","v":2012},null,null,{"$f":"iCountryP!F33","v":"Score"}]
[null,{"$f":"iCountryP!C34","v":2},{"$f":"iCountryP!E34","v":"1.22) Technological infrastructure"},{"$f":"iCountryP!I34","v":"=11"},{"$f":"iCountryP!J34","v":50},null,null,{"$f":"iCountryP!K34","v":"||||||||||||||||"},{"$f":"TEXT(iCountryP!M34,iCountryP!O34)","v":"2"},{"$f":"iCountryP!D34","v":2014},null,null,{"$f":"iCountryP!F34","v":"Score"}]
[null,{"$f":"iCountryP!C35","v":2},{"$f":"iCountryP!E35","v":"1.23) Growth in labour force"},{"$f":"iCountryP!I35","v":18},{"$f":"iCountryP!J35","v":8.7033747779751316},null,null,{"$f":"iCountryP!K35","v":"||"},{"$f":"TEXT(iCountryP!M35,iCountryP!O35)","v":"-0.06"},{"$f":"iCountryP!D35","v":2014},null,null,{"$f":"iCountryP!F35","v":"%"}]
[null,{"$f":"iCountryP!C36","v":1},{"$f":"iCountryP!E36","v":"2) SOCIAL PILLAR"},{"$f":"iCountryP!I36","v":12},{"$f":"iCountryP!J36","v":41.135501681500749},null,null,{"$f":"iCountryP!K36","v":"|||||||||||||"},{"$f":"TEXT(iCountryP!M36,iCountryP!O36)","v":""},{"$f":"iCountryP!D36","v":""},null,null,{"$f":"iCountryP!F36","v":"Index score/number"}]
[null,{"$f":"iCountryP!C37","v":2},{"$f":"iCountryP!E37","v":"2.1) Inequality (Gini coefficient)"},{"$f":"iCountryP!I37","v":16},{"$f":"iCountryP!J37","v":48.298755186721984},null,null,{"$f":"iCountryP!K37","v":"||||||||||||||||"},{"$f":"TEXT(iCountryP!M37,iCountryP!O37)","v":"42.1"},{"$f":"iCountryP!D37","v":2010},null,null,{"$f":"iCountryP!F37","v":"0 to upper bound"}]
[null,{"$f":"iCountryP!C38","v":2},{"$f":"iCountryP!E38","v":"2.2) Educational attainment"},{"$f":"iCountryP!I38","v":11},{"$f":"iCountryP!J38","v":22.909918205947672},null,null,{"$f":"iCountryP!K38","v":"|||||||"},{"$f":"TEXT(iCountryP!M38,iCountryP!O38)","v":"29.7"},{"$f":"iCountryP!D38","v":2013},null,null,{"$f":"iCountryP!F38","v":"0-100 percentage "}]
[null,{"$f":"iCountryP!C39","v":2},{"$f":"iCountryP!E39","v":"2.3) Labour standards"},{"$f":"iCountryP!I39","v":"=10"},{"$f":"iCountryP!J39","v":33.333333333333336},null,null,{"$f":"iCountryP!K39","v":"|||||||||||"},{"$f":"TEXT(iCountryP!M39,iCountryP!O39)","v":"3"},{"$f":"iCountryP!D39","v":2014},null,null,{"$f":"iCountryP!F39","v":"1-4 score "}]
[null,{"$f":"iCountryP!C40","v":2},{"$f":"iCountryP!E40","v":"2.4) Political stability"},{"$f":"iCountryP!I40","v":"=8"},{"$f":"iCountryP!J40","v":60},null,null,{"$f":"iCountryP!K40","v":"||||||||||||||||||||"},{"$f":"TEXT(iCountryP!M40,iCountryP!O40)","v":"2.0"},{"$f":"iCountryP!D40","v":2014},null,null,{"$f":"iCountryP!F40","v":"0-5 score "}]
[null,{"$f":"iCountryP!C41","v":1},{"$f":"iCountryP!E41","v":"3) ENVIRONMENTAL PILLAR"},{"$f":"iCountryP!I41","v":15},{"$f":"iCountryP!J41","v":52.0128133452884},null,null,{"$f":"iCountryP!K41","v":"|||||||||||||||||"},{"$f":"TEXT(iCountryP!M41,iCountryP!O41)","v":""},{"$f":"iCountryP!D41","v":""},null,null,{"$f":"iCountryP!F41","v":"Index score/number"}]
[null,{"$f":"iCountryP!C42","v":2},{"$f":"iCountryP!E42","v":"3.1) Air pollution"},{"$f":"iCountryP!I42","v":20},{"$f":"iCountryP!J42","v":0},null,null,{"$f":"iCountryP!K42","v":""},{"$f":"TEXT(iCountryP!M42,iCountryP!O42)","v":"48.00"},{"$f":"iCountryP!D42","v":2012},null,null,{"$f":"iCountryP!F42","v":"0 to Upper Bound (Population weighted exposure to PM2.5 (micro-grams per cubic meter))"}]
[null,{"$f":"iCountryP!C43","v":2},{"$f":"iCountryP!E43","v":"3.2) Deforestation"},{"$f":"iCountryP!I43","v":"=11"},{"$f":"iCountryP!J43","v":80.57553956834532},null,null,{"$f":"iCountryP!K43","v":"||||||||||||||||||||||||||"},{"$f":"TEXT(iCountryP!M43,iCountryP!O43)","v":"-2.5"},{"$f":"iCountryP!D43","v":2012},null,null,{"$f":"iCountryP!F43","v":"Lower Bound to 0 (percent change) "}]
[null,{"$f":"iCountryP!C44","v":2},{"$f":"iCountryP!E44","v":"3.3) Water pollution"},{"$f":"iCountryP!I44","v":7},{"$f":"iCountryP!J44","v":18.243765416593078},null,null,{"$f":"iCountryP!K44","v":"||||||"},{"$f":"TEXT(iCountryP!M44,iCountryP!O44)","v":"18"},{"$f":"iCountryP!D44","v":2012},null,null,{"$f":"iCountryP!F44","v":"0-100 (% of wastewater treatment)"}]
[null,{"$f":"iCountryP!C45","v":2},{"$f":"iCountryP!E45","v":"3.4) Environmental standards in trade"},{"$f":"iCountryP!I45","v":"=1"},{"$f":"iCountryP!J45","v":100},null,null,{"$f":"iCountryP!K45","v":"|||||||||||||||||||||||||||||||||"},{"$f":"TEXT(iCountryP!M45,iCountryP!O45)","v":"7"},{"$f":"iCountryP!D45","v":2014},null,null,{"$f":"iCountryP!F45","v":"1-7 score "}]
[null,{"$f":"iCountryP!C46","v":2},{"$f":"iCountryP!E46","v":"3.5) Carbon emissions in trade"},{"$f":"iCountryP!I46","v":18},{"$f":"iCountryP!J46","v":13.25757508679205},null,null,{"$f":"iCountryP!K46","v":"||||"},{"$f":"TEXT(iCountryP!M46,iCountryP!O46)","v":"0"},{"$f":"iCountryP!D46","v":2014},null,null,{"$f":"iCountryP!F46","v":"Total of carbon emissions in imports and exports (2004) estimates per country- kilotons C02"}]
[null,{"$f":"iCountryP!C47","v":2},{"$f":"iCountryP!E47","v":"3.6) Share of natural resources in trade"},{"$f":"iCountryP!I47","v":1},{"$f":"iCountryP!J47","v":100},null,null,{"$f":"iCountryP!K47","v":"|||||||||||||||||||||||||||||||||"},{"$f":"TEXT(iCountryP!M47,iCountryP!O47)","v":"0.06"},{"$f":"iCountryP!D47","v":2014},null,null,{"$f":"iCountryP!F47","v":"0-100 percentage"}]
[]
[]
[null,null,{"$f":"iCountryP!U14","v":"Higher Band (scores >=66)"},null,null,null,null,{"$f":"iCountryP!Y14","v":"Modest Band (scores >33-65)"},null,null,null,null,{"$f":"iCountryP!AC14","v":"Lower Band (scores <=33)"}]
[]
[null,{"$f":"iCountryP!T16","v":1},{"$f":"iCountryP!U16","v":"1.10) Growth in per capita GDP"},{"$f":"iCountryP!V16","v":100},null,null,{"$f":"iCountryP!X16","v":1},{"$f":"iCountryP!Y16","v":"1.12) Tariff & non-tariff barriers"},{"$f":"iCountryP!Z16","v":50},null,null,{"$f":"iCountryP!AB16","v":1},{"$f":"iCountryP!AC16","v":"1.18) Foreign Direct Investment"},{"$f":"iCountryP!AD16","v":11.546891895841247}]
[null,{"$f":"iCountryP!T17","v":1},{"$f":"iCountryP!U17","v":"1.11) Current account liberalisation"},{"$f":"iCountryP!V17","v":85.000000000000014},null,null,{"$f":"iCountryP!X17","v":1},{"$f":"iCountryP!Y17","v":"1.14) Financial sector depth"},{"$f":"iCountryP!Z17","v":58.18181818181818},null,null,{"$f":"iCountryP!AB17","v":1},{"$f":"iCountryP!AC17","v":"1.23) Growth in labour force"},{"$f":"iCountryP!AD17","v":8.7033747779751316}]
[null,{"$f":"iCountryP!T18","v":1},{"$f":"iCountryP!U18","v":"1.13) Exchange rate volatility"},{"$f":"iCountryP!V18","v":96.575342465753423},null,null,{"$f":"iCountryP!X18","v":1},{"$f":"iCountryP!Y18","v":"1.20) Trade costs"},{"$f":"iCountryP!Z18","v":33.969444444444449},null,null,{"$f":"iCountryP!AB18","v":1},{"$f":"iCountryP!AC18","v":"2.2) Educational attainment"},{"$f":"iCountryP!AD18","v":22.909918205947672}]
[null,{"$f":"iCountryP!T19","v":1},{"$f":"iCountryP!U19","v":"1.15) Foreign trade and payments risk"},{"$f":"iCountryP!V19","v":67.676767676767668},null,null,{"$f":"iCountryP!X19","v":1},{"$f":"iCountryP!Y19","v":"1.21) Technological innovation"},{"$f":"iCountryP!Z19","v":45.080091533180777},null,null,{"$f":"iCountryP!AB19","v":1},{"$f":"iCountryP!AC19","v":"3.1) Air pollution"},{"$f":"iCountryP!AD19","v":0}]
[null,{"$f":"iCountryP!T20","v":1},{"$f":"iCountryP!U20","v":"1.16) Export market concentration"},{"$f":"iCountryP!V20","v":95.292913788692758},null,null,{"$f":"iCountryP!X20","v":1},{"$f":"iCountryP!Y20","v":"1.22) Technological infrastructure"},{"$f":"iCountryP!Z20","v":50},null,null,{"$f":"iCountryP!AB20","v":1},{"$f":"iCountryP!AC20","v":"3.3) Water pollution"},{"$f":"iCountryP!AD20","v":18.243765416593078}]
[null,{"$f":"iCountryP!T21","v":1},{"$f":"iCountryP!U21","v":"1.17) Export product concentration"},{"$f":"iCountryP!V21","v":97.415905546892404},null,null,{"$f":"iCountryP!X21","v":1},{"$f":"iCountryP!Y21","v":"2.1) Inequality (Gini coefficient)"},{"$f":"iCountryP!Z21","v":48.298755186721984},null,null,{"$f":"iCountryP!AB21","v":1},{"$f":"iCountryP!AC21","v":"3.5) Carbon emissions in trade"},{"$f":"iCountryP!AD21","v":13.25757508679205}]
[null,{"$f":"iCountryP!T22","v":1},{"$f":"iCountryP!U22","v":"1.19) Gross fixed capital formation"},{"$f":"iCountryP!V22","v":100},null,null,{"$f":"iCountryP!X22","v":1},{"$f":"iCountryP!Y22","v":"2.3) Labour standards"},{"$f":"iCountryP!Z22","v":33.333333333333336},null,null,{"$f":"iCountryP!AB22","v":0},{"$f":"iCountryP!AC22","v":""},{"$f":"iCountryP!AD22","v":""}]
[null,{"$f":"iCountryP!T23","v":1},{"$f":"iCountryP!U23","v":"3.2) Deforestation"},{"$f":"iCountryP!V23","v":80.57553956834532},null,null,{"$f":"iCountryP!X23","v":1},{"$f":"iCountryP!Y23","v":"2.4) Political stability"},{"$f":"iCountryP!Z23","v":60},null,null,{"$f":"iCountryP!AB23","v":0},{"$f":"iCountryP!AC23","v":""},{"$f":"iCountryP!AD23","v":""}]
[null,{"$f":"iCountryP!T24","v":1},{"$f":"iCountryP!U24","v":"3.4) Environmental standards in trade"},{"$f":"iCountryP!V24","v":100},null,null,{"$f":"iCountryP!X24","v":0},{"$f":"iCountryP!Y24","v":""},{"$f":"iCountryP!Z24","v":""},null,null,{"$f":"iCountryP!AB24","v":0},{"$f":"iCountryP!AC24","v":""},{"$f":"iCountryP!AD24","v":""}]
[null,{"$f":"iCountryP!T25","v":1},{"$f":"iCountryP!U25","v":"3.6) Share of natural resources in trade"},{"$f":"iCountryP!V25","v":100},null,null,{"$f":"iCountryP!X25","v":0},{"$f":"iCountryP!Y25","v":""},{"$f":"iCountryP!Z25","v":""},null,null,{"$f":"iCountryP!AB25","v":0},{"$f":"iCountryP!AC25","v":""},{"$f":"iCountryP!AD25","v":""}]
[null,{"$f":"iCountryP!T26","v":0},{"$f":"iCountryP!U26","v":""},{"$f":"iCountryP!V26","v":""},null,null,{"$f":"iCountryP!X26","v":0},{"$f":"iCountryP!Y26","v":""},{"$f":"iCountryP!Z26","v":""},null,null,{"$f":"iCountryP!AB26","v":0},{"$f":"iCountryP!AC26","v":""},{"$f":"iCountryP!AD26","v":""}]
[null,{"$f":"iCountryP!T27","v":0},{"$f":"iCountryP!U27","v":""},{"$f":"iCountryP!V27","v":""},null,null,{"$f":"iCountryP!X27","v":0},{"$f":"iCountryP!Y27","v":""},{"$f":"iCountryP!Z27","v":""},null,null,{"$f":"iCountryP!AB27","v":0},{"$f":"iCountryP!AC27","v":""},{"$f":"iCountryP!AD27","v":""}]
[null,{"$f":"iCountryP!T28","v":0},{"$f":"iCountryP!U28","v":""},{"$f":"iCountryP!V28","v":""},null,null,{"$f":"iCountryP!X28","v":0},{"$f":"iCountryP!Y28","v":""},{"$f":"iCountryP!Z28","v":""},null,null,{"$f":"iCountryP!AB28","v":0},{"$f":"iCountryP!AC28","v":""},{"$f":"iCountryP!AD28","v":""}]
[null,{"$f":"iCountryP!T29","v":0},{"$f":"iCountryP!U29","v":""},{"$f":"iCountryP!V29","v":""},null,null,{"$f":"iCountryP!X29","v":0},{"$f":"iCountryP!Y29","v":""},{"$f":"iCountryP!Z29","v":""},null,null,{"$f":"iCountryP!AB29","v":0},{"$f":"iCountryP!AC29","v":""},{"$f":"iCountryP!AD29","v":""}]
[null,{"$f":"iCountryP!T30","v":0},{"$f":"iCountryP!U30","v":""},{"$f":"iCountryP!V30","v":""},null,null,{"$f":"iCountryP!X30","v":0},{"$f":"iCountryP!Y30","v":""},{"$f":"iCountryP!Z30","v":""},null,null,{"$f":"iCountryP!AB30","v":0},{"$f":"iCountryP!AC30","v":""},{"$f":"iCountryP!AD30","v":""}]
[null,{"$f":"iCountryP!T31","v":0},{"$f":"iCountryP!U31","v":""},{"$f":"iCountryP!V31","v":""},null,null,{"$f":"iCountryP!X31","v":0},{"$f":"iCountryP!Y31","v":""},{"$f":"iCountryP!Z31","v":""},null,null,{"$f":"iCountryP!AB31","v":0},{"$f":"iCountryP!AC31","v":""},{"$f":"iCountryP!AD31","v":""}]
[null,{"$f":"iCountryP!T32","v":0},{"$f":"iCountryP!U32","v":""},{"$f":"iCountryP!V32","v":""},null,null,{"$f":"iCountryP!X32","v":0},{"$f":"iCountryP!Y32","v":""},{"$f":"iCountryP!Z32","v":""},null,null,{"$f":"iCountryP!AB32","v":0},{"$f":"iCountryP!AC32","v":""},{"$f":"iCountryP!AD32","v":""}]
[null,{"$f":"iCountryP!T33","v":0},{"$f":"iCountryP!U33","v":""},{"$f":"iCountryP!V33","v":""},null,null,{"$f":"iCountryP!X33","v":0},{"$f":"iCountryP!Y33","v":""},{"$f":"iCountryP!Z33","v":""},null,null,{"$f":"iCountryP!AB33","v":0},{"$f":"iCountryP!AC33","v":""},{"$f":"iCountryP!AD33","v":""}]
[null,{"$f":"iCountryP!T34","v":0},{"$f":"iCountryP!U34","v":""},{"$f":"iCountryP!V34","v":""},null,null,{"$f":"iCountryP!X34","v":0},{"$f":"iCountryP!Y34","v":""},{"$f":"iCountryP!Z34","v":""},null,null,{"$f":"iCountryP!AB34","v":0},{"$f":"iCountryP!AC34","v":""},{"$f":"iCountryP!AD34","v":""}]
[null,{"$f":"iCountryP!T35","v":0},{"$f":"iCountryP!U35","v":""},{"$f":"iCountryP!V35","v":""},null,null,{"$f":"iCountryP!X35","v":0},{"$f":"iCountryP!Y35","v":""},{"$f":"iCountryP!Z35","v":""},null,null,{"$f":"iCountryP!AB35","v":0},{"$f":"iCountryP!AC35","v":""},{"$f":"iCountryP!AD35","v":""}]
[null,{"$f":"iCountryP!T36","v":0},{"$f":"iCountryP!U36","v":""},{"$f":"iCountryP!V36","v":""},null,null,{"$f":"iCountryP!X36","v":0},{"$f":"iCountryP!Y36","v":""},{"$f":"iCountryP!Z36","v":""},null,null,{"$f":"iCountryP!AB36","v":0},{"$f":"iCountryP!AC36","v":""},{"$f":"iCountryP!AD36","v":""}]
[null,{"$f":"iCountryP!T37","v":0},{"$f":"iCountryP!U37","v":""},{"$f":"iCountryP!V37","v":""},null,null,{"$f":"iCountryP!X37","v":0},{"$f":"iCountryP!Y37","v":""},{"$f":"iCountryP!Z37","v":""},null,null,{"$f":"iCountryP!AB37","v":0},{"$f":"iCountryP!AC37","v":""},{"$f":"iCountryP!AD37","v":""}]
[null,{"$f":"iCountryP!T38","v":0},{"$f":"iCountryP!U38","v":""},{"$f":"iCountryP!V38","v":""},null,null,{"$f":"iCountryP!X38","v":0},{"$f":"iCountryP!Y38","v":""},{"$f":"iCountryP!Z38","v":""},null,null,{"$f":"iCountryP!AB38","v":0},{"$f":"iCountryP!AC38","v":""},{"$f":"iCountryP!AD38","v":""}]
[null,{"$f":"iCountryP!T39","v":0},{"$f":"iCountryP!U39","v":""},{"$f":"iCountryP!V39","v":""},null,null,{"$f":"iCountryP!X39","v":0},{"$f":"iCountryP!Y39","v":""},{"$f":"iCountryP!Z39","v":""},null,null,{"$f":"iCountryP!AB39","v":0},{"$f":"iCountryP!AC39","v":""},{"$f":"iCountryP!AD39","v":""}]
[null,{"$f":"iCountryP!T40","v":0},{"$f":"iCountryP!U40","v":""},{"$f":"iCountryP!V40","v":""},null,null,{"$f":"iCountryP!X40","v":0},{"$f":"iCountryP!Y40","v":""},{"$f":"iCountryP!Z40","v":""},null,null,{"$f":"iCountryP!AB40","v":0},{"$f":"iCountryP!AC40","v":""},{"$f":"iCountryP!AD40","v":""}]
[null,{"$f":"iCountryP!T41","v":0},{"$f":"iCountryP!U41","v":""},{"$f":"iCountryP!V41","v":""},null,null,{"$f":"iCountryP!X41","v":0},{"$f":"iCountryP!Y41","v":""},{"$f":"iCountryP!Z41","v":""},null,null,{"$f":"iCountryP!AB41","v":0},{"$f":"iCountryP!AC41","v":""},{"$f":"iCountryP!AD41","v":""}]
[null,{"$f":"iCountryP!T42","v":0},{"$f":"iCountryP!U42","v":""},{"$f":"iCountryP!V42","v":""},null,null,{"$f":"iCountryP!X42","v":0},{"$f":"iCountryP!Y42","v":""},{"$f":"iCountryP!Z42","v":""},null,null,{"$f":"iCountryP!AB42","v":0},{"$f":"iCountryP!AC42","v":""},{"$f":"iCountryP!AD42","v":""}]
[null,{"$f":"iCountryP!T43","v":0},{"$f":"iCountryP!U43","v":""},{"$f":"iCountryP!V43","v":""},null,null,{"$f":"iCountryP!X43","v":0},{"$f":"iCountryP!Y43","v":""},{"$f":"iCountryP!Z43","v":""},null,null,{"$f":"iCountryP!AB43","v":0},{"$f":"iCountryP!AC43","v":""},{"$f":"iCountryP!AD43","v":""}]
[null,{"$f":"iCountryP!T44","v":0},{"$f":"iCountryP!U44","v":""},{"$f":"iCountryP!V44","v":""},null,null,{"$f":"iCountryP!X44","v":0},{"$f":"iCountryP!Y44","v":""},{"$f":"iCountryP!Z44","v":""},null,null,{"$f":"iCountryP!AB44","v":0},{"$f":"iCountryP!AC44","v":""},{"$f":"iCountryP!AD44","v":""}]
[null,{"$f":"iCountryP!T45","v":0},{"$f":"iCountryP!U45","v":""},{"$f":"iCountryP!V45","v":""},null,null,{"$f":"iCountryP!X45","v":0},{"$f":"iCountryP!Y45","v":""},{"$f":"iCountryP!Z45","v":""},null,null,{"$f":"iCountryP!AB45","v":0},{"$f":"iCountryP!AC45","v":""},{"$f":"iCountryP!AD45","v":""}]
[null,{"$f":"iCountryP!T46","v":0},{"$f":"iCountryP!U46","v":""},{"$f":"iCountryP!V46","v":""},null,null,{"$f":"iCountryP!X46","v":0},{"$f":"iCountryP!Y46","v":""},{"$f":"iCountryP!Z46","v":""},null,null,{"$f":"iCountryP!AB46","v":0},{"$f":"iCountryP!AC46","v":""},{"$f":"iCountryP!AD46","v":""}]
[null,{"$f":"iCountryP!T47","v":0},{"$f":"iCountryP!U47","v":""},{"$f":"iCountryP!V47","v":""},null,null,{"$f":"iCountryP!X47","v":0},{"$f":"iCountryP!Y47","v":""},{"$f":"iCountryP!Z47","v":""},null,null,{"$f":"iCountryP!AB47","v":0},{"$f":"iCountryP!AC47","v":""},{"$f":"iCountryP!AD47","v":""}]

{"sheet":"iCountryP","index":43,"n_rows":47,"n_cols":39,"rows_kept":47,"cut":false,"hidden":true,"merged":[]}
["Country_COUNT",{"$f":"uxb_works!B1","v":20}]
[{"$f":"uxb_works!A19","v":"CITY1_ID"},{"$f":"uxb_works!B19","v":4},{"$f":"uxb_works!C19","v":"China"}]
[]
[]
[]
[null,null,null,null,null,null,null,{"$f":"CONCATENATE(\"Rank / \",B1)","v":"Rank / 20"},"Score / 100","Rank","Rank Equality","Average",null,null,null,null,null,null,null,null,null,null,null,null,null,null,null,null,null,null,null,null,null,{"$f":"$C$2","v":"China"},"Average","Highest","Lowest",null,{"$f":"$C$2","v":"China"}]
[]
[{"$f":"tblIndiSets!A5","v":"TOTAL"},{"$f":"tblIndiSets!B5","v":1},null,null,{"$f":"tblIndiSets!C5","v":"OVERALL SCORE"},null,null,{"$f":"IF(K8>1,CONCATENATE(\"=\",J8),J8)","v":12},{"$f":"INDEX(aRoundedScores,B8,$B$2)","v":52.5},{"$f":"RANK(I8,OFFSET(aRoundedScores,B8-1,0,1,$B$1))","v":12},{"$f":"COUNTIF(OFFSET(aRoundedScores,B8-1,0,1,$B$1),I8)","v":1},{"$f":"AVERAGE(OFFSET(aRoundedScores,B8-1,0,1,$B$1))","v":57.580000000000005},null,null,null,{"$f":"U14","v":"Higher Band (scores >=66)"},{"$f":"Y14","v":"Modest Band (scores >33-65)"},{"$f":"AC14","v":"Lower Band (scores <=33)"},null,null,null,null,null,null,null,null,null,null,null,null,null,null,null,{"$f":"INDEX(aScores,$B8,$B$2)","v":52.464737159200332},{"$f":"(AVERAGE(OFFSET(aScores,$B8-1,0,1,$B$1)))","v":57.582406148812268},{"$f":"(MAX(OFFSET(aScores,$B8-1,0,1,$B$1)))","v":80.957736329497934},{"$f":"(MIN(OFFSET(aScores,$B8-1,0,1,$B$1)))","v":36.102523605788384},null,{"$f":"INDEX(aScores,$B8,$B$2)","v":52.464737159200332}]
[{"$f":"tblIndiSets!A6","v":"EP"},{"$f":"tblIndiSets!B6","v":2},null,null,{"$f":"tblIndiSets!C6","v":"1) ECONOMIC PILLAR"},null,null,{"$f":"IF(K9>1,CONCATENATE(\"=\",J9),J9)","v":8},{"$f":"INDEX(aRoundedScores,B9,$B$2)","v":64.2},{"$f":"RANK(I9,OFFSET(aRoundedScores,B9-1,0,1,$B$1))","v":8},{"$f":"COUNTIF(OFFSET(aRoundedScores,B9-1,0,1,$B$1),I9)","v":1},{"$f":"AVERAGE(OFFSET(aRoundedScores,B9-1,0,1,$B$1))","v":56.989999999999995},null,null,null,{"$f":"COUNT(P16:P47)","v":10},{"$f":"COUNT(Q16:Q47)","v":8},{"$f":"COUNT(R16:R47)","v":6},null,null,null,null,null,null,null,null,null,null,null,null,null,null,null,{"$f":"INDEX(aScores,$B9,$B$2)","v":64.245896450811856},{"$f":"(AVERAGE(OFFSET(aScores,$B9-1,0,1,$B$1)))","v":56.993404196474486},{"$f":"(MAX(OFFSET(aScores,$B9-1,0,1,$B$1)))","v":76.456543365773427},{"$f":"(MIN(OFFSET(aScores,$B9-1,0,1,$B$1)))","v":35.133084629486824},null,{"$f":"INDEX(aScores,$B9,$B$2)","v":64.245896450811856}]
[{"$f":"tblIndiSets!A7","v":"SP"},{"$f":"tblIndiSets!B7","v":21},null,null,{"$f":"tblIndiSets!C7","v":"2) SOCIAL PILLAR"},null,null,{"$f":"IF(K10>1,CONCATENATE(\"=\",J10),J10)","v":12},{"$f":"INDEX(aRoundedScores,B10,$B$2)","v":41.1},{"$f":"RANK(I10,OFFSET(aRoundedScores,B10-1,0,1,$B$1))","v":12},{"$f":"COUNTIF(OFFSET(aRoundedScores,B10-1,0,1,$B$1),I10)","v":1},{"$f":"AVERAGE(OFFSET(aRoundedScores,B10-1,0,1,$B$1))","v":52.620000000000005},null,null,null,null,null,null,null,null,null,null,null,null,null,null,null,null,null,null,null,null,null,{"$f":"INDEX(aScores,$B10,$B$2)","v":41.135501681500749},{"$f":"(AVERAGE(OFFSET(aScores,$B10-1,0,1,$B$1)))","v":52.628019426858224},{"$f":"(MAX(OFFSET(aScores,$B10-1,0,1,$B$1)))","v":88.85892116182572},{"$f":"(MIN(OFFSET(aScores,$B10-1,0,1,$B$1)))","v":27.311982802817919},null,{"$f":"INDEX(aScores,$B10,$B$2)","v":41.135501681500749}]
[{"$f":"tblIndiSets!A8","v":"ENP"},{"$f":"tblIndiSets!B8","v":26},null,null,{"$f":"tblIndiSets!C8","v":"3) ENVIRONMENTAL PILLAR"},null,null,{"$f":"IF(K11>1,CONCATENATE(\"=\",J11),J11)","v":15},{"$f":"INDEX(aRoundedScores,B11,$B$2)","v":52},{"$f":"RANK(I11,OFFSET(aRoundedScores,B11-1,0,1,$B$1))","v":15},{"$f":"COUNTIF(OFFSET(aRoundedScores,B11-1,0,1,$B$1),I11)","v":1},{"$f":"AVERAGE(OFFSET(aRoundedScores,B11-1,0,1,$B$1))","v":63.125000000000014},null,null,null,null,null,null,null,null,null,null,null,null,null,null,null,null,null,null,null,null,null,{"$f":"INDEX(aScores,$B11,$B$2)","v":52.0128133452884},{"$f":"(AVERAGE(OFFSET(aScores,$B11-1,0,1,$B$1)))","v":63.125794823104073},{"$f":"(MAX(OFFSET(aScores,$B11-1,0,1,$B$1)))","v":93.443284226012125},{"$f":"(MIN(OFFSET(aScores,$B11-1,0,1,$B$1)))","v":45.862503385060407},null,{"$f":"INDEX(aScores,$B11,$B$2)","v":52.0128133452884}]
[]
[null,null,null,null,null,null,null,null,null,null,null,null,null,null,null,0,{"$f":"2*R13","v":66.666666666666671},{"$f":"100/3","v":33.333333333333336}]
[null,null,null,null,null,null,null,null,null,null,null,null,{"$f":"uxb_works!A16","v":"INDI_OR_SUB_INDI"},{"$f":"uxb_works!B16","v":false},null,3,2,1,null,null,"Higher Band (scores >=66)",null,null,null,"Modest Band (scores >33-65)",null,null,null,"Lower Band (scores <=33)"]
[null,null,null,"Date",null,null,"Rank","Rank equal",{"$f":"CONCATENATE(\"Rank / \",$B$1)","v":"Rank / 20"},"Score / 100",null,null,"Data","Band",null,0,0,0]
[{"$f":"tblIndicators!D2","v":"TOTAL"},{"$f":"tblIndicators!A2","v":1},{"$f":"IF(B16=\"\",0,INDEX(tblIndicators!$F$2:$F$33,$B16))","v":0},{"$f":"IF(INDEX(iDateCollect!$D$4:$W$35,B16,$B$2)=\"\",\"\",INDEX(iDateCollect!$D$4:$W$35,B16,$B$2))","v":""},{"$f":"IF(B16=\"\",\"\",IF(C16>=2,TRIM(INDEX(tblIndicators!$Y$2:$Y$33,iCountryP!$B16)),UPPER(INDEX(tblIndicators!$Y$2:$Y$33,iCountryP!$B16))))","v":"OVERALL SCORE"},{"$f":"IF(B16=\"\",\"\",INDEX(tblIndicators!$J$2:$J$33,iCountryP!$B16))","v":"Index score/number"},{"$f":"IF(B16=\"\",\"\",RANK(J16,OFFSET(aScores,B16-1,0,1,$B$1)))","v":12},{"$f":"IF(B16=\"\",\"\",COUNTIF(OFFSET(aScores,B16-1,0,1,$B$1),J16))","v":1},{"$f":"IF(B16=\"\",\"\",IF(H16>1,CONCATENATE(\"=\",G16),G16))","v":12},{"$f":"IF(B16=\"\",\"\",INDEX(aScores,B16,$B$2))","v":52.464737159200332},{"$f":"IF(B16=\"\",\"\",REPT(\"|\",J16/3))","v":"|||||||||||||||||"},null,{"$f":"IF(B16=\"\",\"\",IF(C16<2,\"\",INDEX(aData,B16,$B$2)))","v":""},{"$f":"IF(B16=\"\",\"\",IF($N$14,IF(C16<3,0,IF(J16>=Q$13,3,IF(J16>=R$13,2,1))),IF(C16<>2,0,IF(J16>=Q$13,3,IF(J16>=R$13,2,1)))))","v":0},{"$f":"tblIndicators!P2","v":"0.0"},{"$f":"P15+MATCH(P$14,OFFSET($N$16:$N$47,P15,0),0)","v":3},{"$f":"Q15+MATCH(Q$14,OFFSET($N$16:$N$47,Q15,0),0)","v":5},{"$f":"R15+MATCH(R$14,OFFSET($N$16:$N$47,R15,0),0)","v":11},null,{"$f":"IF(ISNUMBER(V16),1,0)","v":1},{"$f":"IF(ISNUMBER(P16),INDEX($E$16:$E$47,P16),\"\")","v":"1.10) Growth in per capita GDP"},{"$f":"IF(ISNUMBER(P16),INDEX($J$16:$J$47,P16),\"\")","v":100},null,{"$f":"IF(ISNUMBER(Z16),1,0)","v":1},{"$f":"IF(ISNUMBER(Q16),INDEX($E$16:$E$47,Q16),\"\")","v":"1.12) Tariff & non-tariff barriers"},{"$f":"IF(ISNUMBER(Q16),INDEX($J$16:$J$47,Q16),\"\")","v":50},null,{"$f":"IF(ISNUMBER(AD16),1,0)","v":1},{"$f":"IF(ISNUMBER(R16),INDEX($E$16:$E$47,R16),\"\")","v":"1.18) Foreign Direct Investment"},{"$f":"IF(ISNUMBER(R16),INDEX($J$16:$J$47,R16),\"\")","v":11.546891895841247}]
[{"$f":"tblIndicators!D3","v":"EP"},{"$f":"tblIndicators!A3","v":2},{"$f":"IF(B17=\"\",0,INDEX(tblIndicators!$F$2:$F$33,$B17))","v":1},{"$f":"IF(INDEX(iDateCollect!$D$4:$W$35,B17,$B$2)=\"\",\"\",INDEX(iDateCollect!$D$4:$W$35,B17,$B$2))","v":""},{"$f":"IF(B17=\"\",\"\",IF(C17>=2,TRIM(INDEX(tblIndicators!$Y$2:$Y$33,iCountryP!$B17)),UPPER(INDEX(tblIndicators!$Y$2:$Y$33,iCountryP!$B17))))","v":"1) ECONOMIC PILLAR"},{"$f":"IF(B17=\"\",\"\",INDEX(tblIndicators!$J$2:$J$33,iCountryP!$B17))","v":"Index score/number"},{"$f":"IF(B17=\"\",\"\",RANK(J17,OFFSET(aScores,B17-1,0,1,$B$1)))","v":8},{"$f":"IF(B17=\"\",\"\",COUNTIF(OFFSET(aScores,B17-1,0,1,$B$1),J17))","v":1},{"$f":"IF(B17=\"\",\"\",IF(H17>1,CONCATENATE(\"=\",G17),G17))","v":8},{"$f":"IF(B17=\"\",\"\",INDEX(aScores,B17,$B$2))","v":64.245896450811856},{"$f":"IF(B17=\"\",\"\",REPT(\"|\",J17/3))","v":"|||||||||||||||||||||"},null,"",0,{"$f":"tblIndicators!P3","v":"#0.0"},{"$f":"P16+MATCH(P$14,OFFSET($N$16:$N$47,P16,0),0)","v":4},7,20,null,{"$f":"IF(ISNUMBER(V17),1,0)","v":1},{"$f":"IF(ISNUMBER(P17),INDEX($E$16:$E$47,P17),\"\")","v":"1.11) Current account liberalisation"},{"$f":"IF(ISNUMBER(P17),INDEX($J$16:$J$47,P17),\"\")","v":85.000000000000014},null,{"$f":"IF(ISNUMBER(Z17),1,0)","v":1},{"$f":"IF(ISNUMBER(Q17),INDEX($E$16:$E$47,Q17),\"\")","v":"1.14) Financial sector depth"},{"$f":"IF(ISNUMBER(Q17),INDEX($J$16:$J$47,Q17),\"\")","v":58.18181818181818},null,{"$f":"IF(ISNUMBER(AD17),1,0)","v":1},{"$f":"IF(ISNUMBER(R17),INDEX($E$16:$E$47,R17),\"\")","v":"1.23) Growth in labour force"},{"$f":"IF(ISNUMBER(R17),INDEX($J$16:$J$47,R17),\"\")","v":8.7033747779751316}]
[{"$f":"tblIndicators!D4","v":"EP_10"},{"$f":"tblIndicators!A4","v":3},{"$f":"IF(B18=\"\",0,INDEX(tblIndicators!$F$2:$F$33,$B18))","v":2},{"$f":"IF(INDEX(iDateCollect!$D$4:$W$35,B18,$B$2)=\"\",\"\",INDEX(iDateCollect!$D$4:$W$35,B18,$B$2))","v":2014},{"$f":"IF(B18=\"\",\"\",IF(C18>=2,TRIM(INDEX(tblIndicators!$Y$2:$Y$33,iCountryP!$B18)),UPPER(INDEX(tblIndicators!$Y$2:$Y$33,iCountryP!$B18))))","v":"1.10) Growth in per capita GDP"},{"$f":"IF(B18=\"\",\"\",INDEX(tblIndicators!$J$2:$J$33,iCountryP!$B18))","v":"percentage growth"},{"$f":"IF(B18=\"\",\"\",RANK(J18,OFFSET(aScores,B18-1,0,1,$B$1)))","v":1},{"$f":"IF(B18=\"\",\"\",COUNTIF(OFFSET(aScores,B18-1,0,1,$B$1),J18))","v":1},{"$f":"IF(B18=\"\",\"\",IF(H18>1,CONCATENATE(\"=\",G18),G18))","v":1},{"$f":"IF(B18=\"\",\"\",INDEX(aScores,B18,$B$2))","v":100},{"$f":"IF(B18=\"\",\"\",REPT(\"|\",J18/3))","v":"|||||||||||||||||||||||||||||||||"},null,8,3,{"$f":"tblIndicators!P4","v":"#0.0"},6,13,23,null,1,"1.13) Exchange rate volatility",96.575342465753423,null,1,"1.20) Trade costs",33.969444444444449,null,1,"2.2) Educational attainment",22.909918205947672]
[{"$f":"tblIndicators!D5","v":"EP_11"},{"$f":"tblIndicators!A5","v":4},{"$f":"IF(B19=\"\",0,INDEX(tblIndicators!$F$2:$F$33,$B19))","v":2},{"$f":"IF(INDEX(iDateCollect!$D$4:$W$35,B19,$B$2)=\"\",\"\",INDEX(iDateCollect!$D$4:$W$35,B19,$B$2))","v":2014},{"$f":"IF(B19=\"\",\"\",IF(C19>=2,TRIM(INDEX(tblIndicators!$Y$2:$Y$33,iCountryP!$B19)),UPPER(INDEX(tblIndicators!$Y$2:$Y$33,iCountryP!$B19))))","v":"1.11) Current account liberalisation"},{"$f":"IF(B19=\"\",\"\",INDEX(tblIndicators!$J$2:$J$33,iCountryP!$B19))","v":"1-5 scores"},13,3,"=13",85.000000000000014,"||||||||||||||||||||||||||||",null,4.4000000000000004,3,{"$f":"tblIndicators!P5","v":"#0"},8,18,27,null,1,"1.15) Foreign trade and payments risk",67.676767676767668,null,1,"1.21) Technological innovation",45.080091533180777,null,1,"3.1) Air pollution",0]
[{"$f":"tblIndicators!D6","v":"EP_12"},{"$f":"tblIndicators!A6","v":5},{"$f":"IF(B20=\"\",0,INDEX(tblIndicators!$F$2:$F$33,$B20))","v":2},{"$f":"IF(INDEX(iDateCollect!$D$4:$W$35,B20,$B$2)=\"\",\"\",INDEX(iDateCollect!$D$4:$W$35,B20,$B$2))","v":2014},{"$f":"IF(B20=\"\",\"\",IF(C20>=2,TRIM(INDEX(tblIndicators!$Y$2:$Y$33,iCountryP!$B20)),UPPER(INDEX(tblIndicators!$Y$2:$Y$33,iCountryP!$B20))))","v":"1.12) Tariff & non-tariff barriers"},{"$f":"IF(B20=\"\",\"\",INDEX(tblIndicators!$J$2:$J$33,iCountryP!$B20))","v":"1-5 scores"},13,4,"=13",50,"||||||||||||||||",null,3,2,{"$f":"tblIndicators!P6","v":"#0"},9,19,29,null,1,"1.16) Export market concentration",95.292913788692758,null,1,"1.22) Technological infrastructure",50,null,1,"3.3) Water pollution",18.243765416593078]
[{"$f":"tblIndicators!D7","v":"EP_13"},{"$f":"tblIndicators!A7","v":6},{"$f":"IF(B21=\"\",0,INDEX(tblIndicators!$F$2:$F$33,$B21))","v":2},{"$f":"IF(INDEX(iDateCollect!$D$4:$W$35,B21,$B$2)=\"\",\"\",INDEX(iDateCollect!$D$4:$W$35,B21,$B$2))","v":2014},{"$f":"IF(B21=\"\",\"\",IF(C21>=2,TRIM(INDEX(tblIndicators!$Y$2:$Y$33,iCountryP!$B21)),UPPER(INDEX(tblIndicators!$Y$2:$Y$33,iCountryP!$B21))))","v":"1.13) Exchange rate volatility"},{"$f":"IF(B21=\"\",\"\",INDEX(tblIndicators!$J$2:$J$33,iCountryP!$B21))","v":"trade-weighted standard deviations"},9,4,"=9",96.575342465753423,"||||||||||||||||||||||||||||||||",null,0.02,3,{"$f":"tblIndicators!P7","v":"#0.00"},10,22,31,null,1,"1.17) Export product concentration",97.415905546892404,null,1,"2.1) Inequality (Gini coefficient)",48.298755186721984,null,1,"3.5) Carbon emissions in trade",13.25757508679205]
[{"$f":"tblIndicators!D8","v":"EP_14"},{"$f":"tblIndicators!A8","v":7},{"$f":"IF(B22=\"\",0,INDEX(tblIndicators!$F$2:$F$33,$B22))","v":2},{"$f":"IF(INDEX(iDateCollect!$D$4:$W$35,B22,$B$2)=\"\",\"\",INDEX(iDateCollect!$D$4:$W$35,B22,$B$2))","v":2014},{"$f":"IF(B22=\"\",\"\",IF(C22>=2,TRIM(INDEX(tblIndicators!$Y$2:$Y$33,iCountryP!$B22)),UPPER(INDEX(tblIndicators!$Y$2:$Y$33,iCountryP!$B22))))","v":"1.14) Financial sector depth"},{"$f":"IF(B22=\"\",\"\",INDEX(tblIndicators!$J$2:$J$33,iCountryP!$B22))","v":"% of GDP"},6,1,6,58.18181818181818,"|||||||||||||||||||",null,142,2,{"$f":"tblIndicators!P8","v":"#0"},12,24,{"$error":"#N/A"},null,1,"1.19) Gross fixed capital formation",100,null,1,"2.3) Labour standards",33.333333333333336,null,0,"",""]
[{"$f":"tblIndicators!D9","v":"EP_15"},{"$f":"tblIndicators!A9","v":8},{"$f":"IF(B23=\"\",0,INDEX(tblIndicators!$F$2:$F$33,$B23))","v":2},{"$f":"IF(INDEX(iDateCollect!$D$4:$W$35,B23,$B$2)=\"\",\"\",INDEX(iDateCollect!$D$4:$W$35,B23,$B$2))","v":2014},{"$f":"IF(B23=\"\",\"\",IF(C23>=2,TRIM(INDEX(tblIndicators!$Y$2:$Y$33,iCountryP!$B23)),UPPER(INDEX(tblIndicators!$Y$2:$Y$33,iCountryP!$B23))))","v":"1.15) Foreign trade and payments risk"},{"$f":"IF(B23=\"\",\"\",INDEX(tblIndicators!$J$2:$J$33,iCountryP!$B23))","v":"1-100 scores"},10,1,10,67.676767676767668,"||||||||||||||||||||||",null,33,3,{"$f":"tblIndicators!P9","v":"#0"},28,25,{"$error":"#N/A"},null,1,"3.2) Deforestation",80.57553956834532,null,1,"2.4) Political stability",60,null,0,"",""]
[{"$f":"tblIndicators!D10","v":"EP_16"},{"$f":"tblIndicators!A10","v":9},{"$f":"IF(B24=\"\",0,INDEX(tblIndicators!$F$2:$F$33,$B24))","v":2},{"$f":"IF(INDEX(iDateCollect!$D$4:$W$35,B24,$B$2)=\"\",\"\",INDEX(iDateCollect!$D$4:$W$35,B24,$B$2))","v":2014},{"$f":"IF(B24=\"\",\"\",IF(C24>=2,TRIM(INDEX(tblIndicators!$Y$2:$Y$33,iCountryP!$B24)),UPPER(INDEX(tblIndicators!$Y$2:$Y$33,iCountryP!$B24))))","v":"1.16) Export market concentration"},{"$f":"IF(B24=\"\",\"\",INDEX(tblIndicators!$J$2:$J$33,iCountryP!$B24))","v":"% "},7,1,7,95.292913788692758,"|||||||||||||||||||||||||||||||",null,11,3,{"$f":"tblIndicators!P10","v":"#0.00"},30,{"$error":"#N/A"},{"$error":"#N/A"},null,1,"3.4) Environmental standards in trade",100,null,0,"","",null,0,"",""]
[{"$f":"tblIndicators!D11","v":"EP_17"},{"$f":"tblIndicators!A11","v":10},{"$f":"IF(B25=\"\",0,INDEX(tblIndicators!$F$2:$F$33,$B25))","v":2},{"$f":"IF(INDEX(iDateCollect!$D$4:$W$35,B25,$B$2)=\"\",\"\",INDEX(iDateCollect!$D$4:$W$35,B25,$B$2))","v":2014},{"$f":"IF(B25=\"\",\"\",IF(C25>=2,TRIM(INDEX(tblIndicators!$Y$2:$Y$33,iCountryP!$B25)),UPPER(INDEX(tblIndicators!$Y$2:$Y$33,iCountryP!$B25))))","v":"1.17) Export product concentration"},{"$f":"IF(B25=\"\",\"\",INDEX(tblIndicators!$J$2:$J$33,iCountryP!$B25))","v":"%"},3,1,3,97.415905546892404,"||||||||||||||||||||||||||||||||",null,10.64,3,{"$f":"tblIndicators!P11","v":"#0.0"},32,{"$error":"#N/A"},{"$error":"#N/A"},null,1,"3.6) Share of natural resources in trade",100,null,0,"","",null,0,"",""]
[{"$f":"tblIndicators!D12","v":"EP_18"},{"$f":"tblIndicators!A12","v":11},{"$f":"IF(B26=\"\",0,INDEX(tblIndicators!$F$2:$F$33,$B26))","v":2},{"$f":"IF(INDEX(iDateCollect!$D$4:$W$35,B26,$B$2)=\"\",\"\",INDEX(iDateCollect!$D$4:$W$35,B26,$B$2))","v":2014},{"$f":"IF(B26=\"\",\"\",IF(C26>=2,TRIM(INDEX(tblIndicators!$Y$2:$Y$33,iCountryP!$B26)),UPPER(INDEX(tblIndicators!$Y$2:$Y$33,iCountryP!$B26))))","v":"1.18) Foreign Direct Investment"},{"$f":"IF(B26=\"\",\"\",INDEX(tblIndicators!$J$2:$J$33,iCountryP!$B26))","v":"% of GDP"},6,1,6,11.546891895841247,"|||",null,3.9539999999999997,1,{"$f":"tblIndicators!P12","v":"#0.0"},{"$error":"#N/A"},{"$error":"#N/A"},{"$error":"#N/A"},null,0,"","",null,0,"","",null,0,"",""]
[{"$f":"tblIndicators!D13","v":"EP_19"},{"$f":"tblIndicators!A13","v":12},{"$f":"IF(B27=\"\",0,INDEX(tblIndicators!$F$2:$F$33,$B27))","v":2},{"$f":"IF(INDEX(iDateCollect!$D$4:$W$35,B27,$B$2)=\"\",\"\",INDEX(iDateCollect!$D$4:$W$35,B27,$B$2))","v":2014},{"$f":"IF(B27=\"\",\"\",IF(C27>=2,TRIM(INDEX(tblIndicators!$Y$2:$Y$33,iCountryP!$B27)),UPPER(INDEX(tblIndicators!$Y$2:$Y$33,iCountryP!$B27))))","v":"1.19) Gross fixed capital formation"},{"$f":"IF(B27=\"\",\"\",INDEX(tblIndicators!$J$2:$J$33,iCountryP!$B27))","v":"% of GDP"},1,1,1,100,"|||||||||||||||||||||||||||||||||",null,44.456000000000003,3,{"$f":"tblIndicators!P13","v":"#0.00"},{"$error":"#N/A"},{"$error":"#N/A"},{"$error":"#N/A"},null,0,"","",null,0,"","",null,0,"",""]
[{"$f":"tblIndicators!D14","v":"EP_20"},{"$f":"tblIndicators!A14","v":13},{"$f":"IF(B28=\"\",0,INDEX(tblIndicators!$F$2:$F$33,$B28))","v":2},{"$f":"IF(INDEX(iDateCollect!$D$4:$W$35,B28,$B$2)=\"\",\"\",INDEX(iDateCollect!$D$4:$W$35,B28,$B$2))","v":""},{"$f":"IF(B28=\"\",\"\",IF(C28>=2,TRIM(INDEX(tblIndicators!$Y$2:$Y$33,iCountryP!$B28)),UPPER(INDEX(tblIndicators!$Y$2:$Y$33,iCountryP!$B28))))","v":"1.20) Trade costs"},{"$f":"IF(B28=\"\",\"\",INDEX(tblIndicators!$J$2:$J$33,iCountryP!$B28))","v":"Index score/number"},11,1,11,33.969444444444449,"|||||||||||",null,"",2,{"$f":"tblIndicators!P14","v":"#0.0"},{"$error":"#N/A"},{"$error":"#N/A"},{"$error":"#N/A"},null,0,"","",null,0,"","",null,0,"",""]
[{"$f":"tblIndicators!D15","v":"EP_20_1"},{"$f":"tblIndicators!A15","v":14},{"$f":"IF(B29=\"\",0,INDEX(tblIndicators!$F$2:$F$33,$B29))","v":3},{"$f":"IF(INDEX(iDateCollect!$D$4:$W$35,B29,$B$2)=\"\",\"\",INDEX(iDateCollect!$D$4:$W$35,B29,$B$2))","v":2014},{"$f":"IF(B29=\"\",\"\",IF(C29>=2,TRIM(INDEX(tblIndicators!$Y$2:$Y$33,iCountryP!$B29)),UPPER(INDEX(tblIndicators!$Y$2:$Y$33,iCountryP!$B29))))","v":"1.20.1) Infrastructure"},{"$f":"IF(B29=\"\",\"\",INDEX(tblIndicators!$J$2:$J$33,iCountryP!$B29))","v":"1-10 scores"},8,1,8,57.777777777777786,"|||||||||||||||||||",null,6.2,0,{"$f":"tblIndicators!P15","v":"#0.0"},{"$error":"#N/A"},{"$error":"#N/A"},{"$error":"#N/A"},null,0,"","",null,0,"","",null,0,"",""]
[{"$f":"tblIndicators!D16","v":"EP_20_2"},{"$f":"tblIndicators!A16","v":15},{"$f":"IF(B30=\"\",0,INDEX(tblIndicators!$F$2:$F$33,$B30))","v":3},{"$f":"IF(INDEX(iDateCollect!$D$4:$W$35,B30,$B$2)=\"\",\"\",INDEX(iDateCollect!$D$4:$W$35,B30,$B$2))","v":2014},{"$f":"IF(B30=\"\",\"\",IF(C30>=2,TRIM(INDEX(tblIndicators!$Y$2:$Y$33,iCountryP!$B30)),UPPER(INDEX(tblIndicators!$Y$2:$Y$33,iCountryP!$B30))))","v":"1.20.2) Logistics performance"},{"$f":"IF(B30=\"\",\"\",INDEX(tblIndicators!$J$2:$J$33,iCountryP!$B30))","v":"0 - 5"},8,1,8,70.599999999999994,"|||||||||||||||||||||||",null,3.53,0,{"$f":"tblIndicators!P16","v":"#0.00"},{"$error":"#N/A"},{"$error":"#N/A"},{"$error":"#N/A"},null,0,"","",null,0,"","",null,0,"",""]
[{"$f":"tblIndicators!D17","v":"EP_20_3"},{"$f":"tblIndicators!A17","v":16},{"$f":"IF(B31=\"\",0,INDEX(tblIndicators!$F$2:$F$33,$B31))","v":3},{"$f":"IF(INDEX(iDateCollect!$D$4:$W$35,B31,$B$2)=\"\",\"\",INDEX(iDateCollect!$D$4:$W$35,B31,$B$2))","v":2014},{"$f":"IF(B31=\"\",\"\",IF(C31>=2,TRIM(INDEX(tblIndicators!$Y$2:$Y$33,iCountryP!$B31)),UPPER(INDEX(tblIndicators!$Y$2:$Y$33,iCountryP!$B31))))","v":"1.20.3) Corruption"},{"$f":"IF(B31=\"\",\"\",INDEX(tblIndicators!$J$2:$J$33,iCountryP!$B31))","v":"1-5 scores"},13,8,"=13",0,"",null,1,0,{"$f":"tblIndicators!P17","v":"#0"},{"$error":"#N/A"},{"$error":"#N/A"},{"$error":"#N/A"},null,0,"","",null,0,"","",null,0,"",""]
[{"$f":"tblIndicators!D18","v":"EP_20_4"},{"$f":"tblIndicators!A18","v":17},{"$f":"IF(B32=\"\",0,INDEX(tblIndicators!$F$2:$F$33,$B32))","v":3},{"$f":"IF(INDEX(iDateCollect!$D$4:$W$35,B32,$B$2)=\"\",\"\",INDEX(iDateCollect!$D$4:$W$35,B32,$B$2))","v":2014},{"$f":"IF(B32=\"\",\"\",IF(C32>=2,TRIM(INDEX(tblIndicators!$Y$2:$Y$33,iCountryP!$B32)),UPPER(INDEX(tblIndicators!$Y$2:$Y$33,iCountryP!$B32))))","v":"1.20.4) Legal system"},{"$f":"IF(B32=\"\",\"\",INDEX(tblIndicators!$J$2:$J$33,iCountryP!$B32))","v":"1-5 scores"},16,1,16,7.5000000000000009,"||",null,1.3,0,{"$f":"tblIndicators!P18","v":"#0"},{"$error":"#N/A"},{"$error":"#N/A"},{"$error":"#N/A"},null,0,"","",null,0,"","",null,0,"",""]
[{"$f":"tblIndicators!D19","v":"EP_21"},{"$f":"tblIndicators!A19","v":18},{"$f":"IF(B33=\"\",0,INDEX(tblIndicators!$F$2:$F$33,$B33))","v":2},{"$f":"IF(INDEX(iDateCollect!$D$4:$W$35,B33,$B$2)=\"\",\"\",INDEX(iDateCollect!$D$4:$W$35,B33,$B$2))","v":2012},{"$f":"IF(B33=\"\",\"\",IF(C33>=2,TRIM(INDEX(tblIndicators!$Y$2:$Y$33,iCountryP!$B33)),UPPER(INDEX(tblIndicators!$Y$2:$Y$33,iCountryP!$B33))))","v":"1.21) Technological innovation"},{"$f":"IF(B33=\"\",\"\",INDEX(tblIndicators!$J$2:$J$33,iCountryP!$B33))","v":"Score"},6,1,6,45.080091533180777,"|||||||||||||||",null,2,2,{"$f":"tblIndicators!P19","v":"#0.0"},{"$error":"#N/A"},{"$error":"#N/A"},{"$error":"#N/A"},null,0,"","",null,0,"","",null,0,"",""]
[{"$f":"tblIndicators!D20","v":"EP_22"},{"$f":"tblIndicators!A20","v":19},{"$f":"IF(B34=\"\",0,INDEX(tblIndicators!$F$2:$F$33,$B34))","v":2},{"$f":"IF(INDEX(iDateCollect!$D$4:$W$35,B34,$B$2)=\"\",\"\",INDEX(iDateCollect!$D$4:$W$35,B34,$B$2))","v":2014},{"$f":"IF(B34=\"\",\"\",IF(C34>=2,TRIM(INDEX(tblIndicators!$Y$2:$Y$33,iCountryP!$B34)),UPPER(INDEX(tblIndicators!$Y$2:$Y$33,iCountryP!$B34))))","v":"1.22) Technological infrastructure"},{"$f":"IF(B34=\"\",\"\",INDEX(tblIndicators!$J$2:$J$33,iCountryP!$B34))","v":"Score"},11,5,"=11",50,"||||||||||||||||",null,2,2,{"$f":"tblIndicators!P20","v":"#0"},{"$error":"#N/A"},{"$error":"#N/A"},{"$error":"#N/A"},null,0,"","",null,0,"","",null,0,"",""]
[{"$f":"tblIndicators!D21","v":"EP_23"},{"$f":"tblIndicators!A21","v":20},{"$f":"IF(B35=\"\",0,INDEX(tblIndicators!$F$2:$F$33,$B35))","v":2},{"$f":"IF(INDEX(iDateCollect!$D$4:$W$35,B35,$B$2)=\"\",\"\",INDEX(iDateCollect!$D$4:$W$35,B35,$B$2))","v":2014},{"$f":"IF(B35=\"\",\"\",IF(C35>=2,TRIM(INDEX(tblIndicators!$Y$2:$Y$33,iCountryP!$B35)),UPPER(INDEX(tblIndicators!$Y$2:$Y$33,iCountryP!$B35))))","v":"1.23) Growth in labour force"},{"$f":"IF(B35=\"\",\"\",INDEX(tblIndicators!$J$2:$J$33,iCountryP!$B35))","v":"%"},18,1,18,8.7033747779751316,"||",null,-5.7000000000000002E-2,1,{"$f":"tblIndicators!P21","v":"#0.00"},{"$error":"#N/A"},{"$error":"#N/A"},{"$error":"#N/A"},null,0,"","",null,0,"","",null,0,"",""]
[{"$f":"tblIndicators!D22","v":"SP"},{"$f":"tblIndicators!A22","v":21},{"$f":"IF(B36=\"\",0,INDEX(tblIndicators!$F$2:$F$33,$B36))","v":1},{"$f":"IF(INDEX(iDateCollect!$D$4:$W$35,B36,$B$2)=\"\",\"\",INDEX(iDateCollect!$D$4:$W$35,B36,$B$2))","v":""},{"$f":"IF(B36=\"\",\"\",IF(C36>=2,TRIM(INDEX(tblIndicators!$Y$2:$Y$33,iCountryP!$B36)),UPPER(INDEX(tblIndicators!$Y$2:$Y$33,iCountryP!$B36))))","v":"2) SOCIAL PILLAR"},{"$f":"IF(B36=\"\",\"\",INDEX(tblIndicators!$J$2:$J$33,iCountryP!$B36))","v":"Index score/number"},12,1,12,41.135501681500749,"|||||||||||||",null,"",0,{"$f":"tblIndicators!P22","v":"#0.0"},{"$error":"#N/A"},{"$error":"#N/A"},{"$error":"#N/A"},null,0,"","",null,0,"","",null,0,"",""]
[{"$f":"tblIndicators!D23","v":"SP_10"},{"$f":"tblIndicators!A23","v":22},{"$f":"IF(B37=\"\",0,INDEX(tblIndicators!$F$2:$F$33,$B37))","v":2},{"$f":"IF(INDEX(iDateCollect!$D$4:$W$35,B37,$B$2)=\"\",\"\",INDEX(iDateCollect!$D$4:$W$35,B37,$B$2))","v":2010},{"$f":"IF(B37=\"\",\"\",IF(C37>=2,TRIM(INDEX(tblIndicators!$Y$2:$Y$33,iCountryP!$B37)),UPPER(INDEX(tblIndicators!$Y$2:$Y$33,iCountryP!$B37))))","v":"2.1) Inequality (Gini coefficient)"},{"$f":"IF(B37=\"\",\"\",INDEX(tblIndicators!$J$2:$J$33,iCountryP!$B37))","v":"0 to upper bound"},16,1,16,48.298755186721984,"||||||||||||||||",null,42.06,2,{"$f":"tblIndicators!P23","v":"#0.0"},{"$error":"#N/A"},{"$error":"#N/A"},{"$error":"#N/A"},null,0,"","",null,0,"","",null,0,"",""]
[{"$f":"tblIndicators!D24","v":"SP_11"},{"$f":"tblIndicators!A24","v":23},{"$f":"IF(B38=\"\",0,INDEX(tblIndicators!$F$2:$F$33,$B38))","v":2},{"$f":"IF(INDEX(iDateCollect!$D$4:$W$35,B38,$B$2)=\"\",\"\",INDEX(iDateCollect!$D$4:$W$35,B38,$B$2))","v":2013},{"$f":"IF(B38=\"\",\"\",IF(C38>=2,TRIM(INDEX(tblIndicators!$Y$2:$Y$33,iCountryP!$B38)),UPPER(INDEX(tblIndicators!$Y$2:$Y$33,iCountryP!$B38))))","v":"2.2) Educational attainment"},{"$f":"IF(B38=\"\",\"\",INDEX(tblIndicators!$J$2:$J$33,iCountryP!$B38))","v":"0-100 percentage "},11,1,11,22.909918205947672,"|||||||",null,29.696449999999999,1,{"$f":"tblIndicators!P24","v":"#0.0"},{"$error":"#N/A"},{"$error":"#N/A"},{"$error":"#N/A"},null,0,"","",null,0,"","",null,0,"",""]
[{"$f":"tblIndicators!D25","v":"SP_12"},{"$f":"tblIndicators!A25","v":24},{"$f":"IF(B39=\"\",0,INDEX(tblIndicators!$F$2:$F$33,$B39))","v":2},{"$f":"IF(INDEX(iDateCollect!$D$4:$W$35,B39,$B$2)=\"\",\"\",INDEX(iDateCollect!$D$4:$W$35,B39,$B$2))","v":2014},{"$f":"IF(B39=\"\",\"\",IF(C39>=2,TRIM(INDEX(tblIndicators!$Y$2:$Y$33,iCountryP!$B39)),UPPER(INDEX(tblIndicators!$Y$2:$Y$33,iCountryP!$B39))))","v":"2.3) Labour standards"},{"$f":"IF(B39=\"\",\"\",INDEX(tblIndicators!$J$2:$J$33,iCountryP!$B39))","v":"1-4 score "},10,3,"=10",33.333333333333336,"|||||||||||",null,3,2,{"$f":"tblIndicators!P25","v":"#0"},{"$error":"#N/A"},{"$error":"#N/A"},{"$error":"#N/A"},null,0,"","",null,0,"","",null,0,"",""]
[{"$f":"tblIndicators!D26","v":"SP_13"},{"$f":"tblIndicators!A26","v":25},{"$f":"IF(B40=\"\",0,INDEX(tblIndicators!$F$2:$F$33,$B40))","v":2},{"$f":"IF(INDEX(iDateCollect!$D$4:$W$35,B40,$B$2)=\"\",\"\",INDEX(iDateCollect!$D$4:$W$35,B40,$B$2))","v":2014},{"$f":"IF(B40=\"\",\"\",IF(C40>=2,TRIM(INDEX(tblIndicators!$Y$2:$Y$33,iCountryP!$B40)),UPPER(INDEX(tblIndicators!$Y$2:$Y$33,iCountryP!$B40))))","v":"2.4) Political stability"},{"$f":"IF(B40=\"\",\"\",INDEX(tblIndicators!$J$2:$J$33,iCountryP!$B40))","v":"0-5 score "},8,6,"=8",60,"||||||||||||||||||||",null,2,2,{"$f":"tblIndicators!P26","v":"#0.0"},{"$error":"#N/A"},{"$error":"#N/A"},{"$error":"#N/A"},null,0,"","",null,0,"","",null,0,"",""]
[{"$f":"tblIndicators!D27","v":"ENP"},{"$f":"tblIndicators!A27","v":26},{"$f":"IF(B41=\"\",0,INDEX(tblIndicators!$F$2:$F$33,$B41))","v":1},{"$f":"IF(INDEX(iDateCollect!$D$4:$W$35,B41,$B$2)=\"\",\"\",INDEX(iDateCollect!$D$4:$W$35,B41,$B$2))","v":""},{"$f":"IF(B41=\"\",\"\",IF(C41>=2,TRIM(INDEX(tblIndicators!$Y$2:$Y$33,iCountryP!$B41)),UPPER(INDEX(tblIndicators!$Y$2:$Y$33,iCountryP!$B41))))","v":"3) ENVIRONMENTAL PILLAR"},{"$f":"IF(B41=\"\",\"\",INDEX(tblIndicators!$J$2:$J$33,iCountryP!$B41))","v":"Index score/number"},15,1,15,52.0128133452884,"|||||||||||||||||",null,"",0,{"$f":"tblIndicators!P27","v":"#0.0"},{"$error":"#N/A"},{"$error":"#N/A"},{"$error":"#N/A"},null,0,"","",null,0,"","",null,0,"",""]
[{"$f":"tblIndicators!D28","v":"ENP_10"},{"$f":"tblIndicators!A28","v":27},{"$f":"IF(B42=\"\",0,INDEX(tblIndicators!$F$2:$F$33,$B42))","v":2},{"$f":"IF(INDEX(iDateCollect!$D$4:$W$35,B42,$B$2)=\"\",\"\",INDEX(iDateCollect!$D$4:$W$35,B42,$B$2))","v":2012},{"$f":"IF(B42=\"\",\"\",IF(C42>=2,TRIM(INDEX(tblIndicators!$Y$2:$Y$33,iCountryP!$B42)),UPPER(INDEX(tblIndicators!$Y$2:$Y$33,iCountryP!$B42))))","v":"3.1) Air pollution"},{"$f":"IF(B42=\"\",\"\",INDEX(tblIndicators!$J$2:$J$33,iCountryP!$B42))","v":"0 to Upper Bound (Population weighted exposure to PM2.5 (micro-grams per cubic meter))"},20,1,20,0,"",null,48,1,{"$f":"tblIndicators!P28","v":"#0.00"},{"$error":"#N/A"},{"$error":"#N/A"},{"$error":"#N/A"},null,0,"","",null,0,"","",null,0,"",""]
[{"$f":"tblIndicators!D29","v":"ENP_11"},{"$f":"tblIndicators!A29","v":28},{"$f":"IF(B43=\"\",0,INDEX(tblIndicators!$F$2:$F$33,$B43))","v":2},{"$f":"IF(INDEX(iDateCollect!$D$4:$W$35,B43,$B$2)=\"\",\"\",INDEX(iDateCollect!$D$4:$W$35,B43,$B$2))","v":2012},{"$f":"IF(B43=\"\",\"\",IF(C43>=2,TRIM(INDEX(tblIndicators!$Y$2:$Y$33,iCountryP!$B43)),UPPER(INDEX(tblIndicators!$Y$2:$Y$33,iCountryP!$B43))))","v":"3.2) Deforestation"},{"$f":"IF(B43=\"\",\"\",INDEX(tblIndicators!$J$2:$J$33,iCountryP!$B43))","v":"Lower Bound to 0 (percent change) "},11,2,"=11",80.57553956834532,"||||||||||||||||||||||||||",null,-2.5,3,{"$f":"tblIndicators!P29","v":"#0.0"},{"$error":"#N/A"},{"$error":"#N/A"},{"$error":"#N/A"},null,0,"","",null,0,"","",null,0,"",""]
[{"$f":"tblIndicators!D30","v":"ENP_12"},{"$f":"tblIndicators!A30","v":29},{"$f":"IF(B44=\"\",0,INDEX(tblIndicators!$F$2:$F$33,$B44))","v":2},{"$f":"IF(INDEX(iDateCollect!$D$4:$W$35,B44,$B$2)=\"\",\"\",INDEX(iDateCollect!$D$4:$W$35,B44,$B$2))","v":2012},{"$f":"IF(B44=\"\",\"\",IF(C44>=2,TRIM(INDEX(tblIndicators!$Y$2:$Y$33,iCountryP!$B44)),UPPER(INDEX(tblIndicators!$Y$2:$Y$33,iCountryP!$B44))))","v":"3.3) Water pollution"},{"$f":"IF(B44=\"\",\"\",INDEX(tblIndicators!$J$2:$J$33,iCountryP!$B44))","v":"0-100 (% of wastewater treatment)"},7,1,7,18.243765416593078,"||||||",null,18.179912237635001,1,{"$f":"tblIndicators!P30","v":"#0"},{"$error":"#N/A"},{"$error":"#N/A"},{"$error":"#N/A"},null,0,"","",null,0,"","",null,0,"",""]
[{"$f":"tblIndicators!D31","v":"ENP_13"},{"$f":"tblIndicators!A31","v":30},{"$f":"IF(B45=\"\",0,INDEX(tblIndicators!$F$2:$F$33,$B45))","v":2},{"$f":"IF(INDEX(iDateCollect!$D$4:$W$35,B45,$B$2)=\"\",\"\",INDEX(iDateCollect!$D$4:$W$35,B45,$B$2))","v":2014},{"$f":"IF(B45=\"\",\"\",IF(C45>=2,TRIM(INDEX(tblIndicators!$Y$2:$Y$33,iCountryP!$B45)),UPPER(INDEX(tblIndicators!$Y$2:$Y$33,iCountryP!$B45))))","v":"3.4) Environmental standards in trade"},{"$f":"IF(B45=\"\",\"\",INDEX(tblIndicators!$J$2:$J$33,iCountryP!$B45))","v":"1-7 score "},1,2,"=1",100,"|||||||||||||||||||||||||||||||||",null,7,3,{"$f":"tblIndicators!P31","v":"#0"},{"$error":"#N/A"},{"$error":"#N/A"},{"$error":"#N/A"},null,0,"","",null,0,"","",null,0,"",""]
[{"$f":"tblIndicators!D32","v":"ENP_14"},{"$f":"tblIndicators!A32","v":31},{"$f":"IF(B46=\"\",0,INDEX(tblIndicators!$F$2:$F$33,$B46))","v":2},{"$f":"IF(INDEX(iDateCollect!$D$4:$W$35,B46,$B$2)=\"\",\"\",INDEX(iDateCollect!$D$4:$W$35,B46,$B$2))","v":2014},{"$f":"IF(B46=\"\",\"\",IF(C46>=2,TRIM(INDEX(tblIndicators!$Y$2:$Y$33,iCountryP!$B46)),UPPER(INDEX(tblIndicators!$Y$2:$Y$33,iCountryP!$B46))))","v":"3.5) Carbon emissions in trade"},{"$f":"IF(B46=\"\",\"\",INDEX(tblIndicators!$J$2:$J$33,iCountryP!$B46))","v":"Total of carbon emissions in imports and exports (2004) estimates per country- kilotons C02"},18,1,18,13.25757508679205,"||||",null,1.2355930000000001E-3,1,{"$f":"tblIndicators!P32","v":"#0"},{"$error":"#N/A"},{"$error":"#N/A"},{"$error":"#N/A"},null,0,"","",null,0,"","",null,0,"",""]
[{"$f":"tblIndicators!D33","v":"ENP_15"},{"$f":"tblIndicators!A33","v":32},{"$f":"IF(B47=\"\",0,INDEX(tblIndicators!$F$2:$F$33,$B47))","v":2},{"$f":"IF(INDEX(iDateCollect!$D$4:$W$35,B47,$B$2)=\"\",\"\",INDEX(iDateCollect!$D$4:$W$35,B47,$B$2))","v":2014},{"$f":"IF(B47=\"\",\"\",IF(C47>=2,TRIM(INDEX(tblIndicators!$Y$2:$Y$33,iCountryP!$B47)),UPPER(INDEX(tblIndicators!$Y$2:$Y$33,iCountryP!$B47))))","v":"3.6) Share of natural resources in trade"},{"$f":"IF(B47=\"\",\"\",INDEX(tblIndicators!$J$2:$J$33,iCountryP!$B47))","v":"0-100 percentage"},1,1,1,100,"|||||||||||||||||||||||||||||||||",null,6.2638868E-2,3,{"$f":"tblIndicators!P33","v":"#0.00"},{"$error":"#N/A"},{"$error":"#N/A"},{"$error":"#N/A"},null,0,"","",null,0,"","",null,0,"",""]

{"sheet":"Country_Compare","index":44,"n_rows":39,"n_cols":29,"rows_kept":39,"cut":false,"hidden":true,"merged":[[5,7,5,9],[5,11,5,13]]}
[]
[]
[null,null,null,null,"Select indicator range",null,null,null,null,null,null,null,null,null,"** International cities are not included in the rankings"]
[]
[]
[null,null,null,null,null,null,null,{"$f":"iCC_Overview!C2","v":"China"},null,null,null,{"$f":"iCC_Overview!C3","v":"India"}]
[null,null,null,null,null,null,null,"Score","Data","Rank*",null,"Score","Data","Rank*"]
[null,null,{"$f":"IF(D8=\"\",\"0\",\"1\")","v":"1"},{"$f":"iCountryP!C21","v":2},"OVERALL SCORE",null,null,{"$f":"iCityCompare!D2","v":52.464737159200332},null,{"$f":"iCityCompare!F6","v":"12"},{"$f":"iCityCompare!F2","v":"*"},{"$f":"iCityCompare!D3","v":47.670755021075209},null,{"$f":"iCityCompare!H6","v":"15"},{"$f":"iCityCompare!F3","v":""},null,null,null,null,null,null,null,null,null,null,null,null,null,{"$f":"E8","v":"OVERALL SCORE"}]
[null,null,{"$f":"IF(D9=\"\",\"0\",\"1\")","v":"1"},{"$f":"iCityCompare!P9","v":1},{"$f":"iCityCompare!U9","v":" 1) ECONOMIC PILLAR"},{"$f":"IF($I9>$M9,1,IF($I9<$M9,2,0))","v":2},{"$f":"IF($I9<$M9,1,IF($I9>$M9,2,0))","v":1},{"$f":"iCityCompare!V9","v":64.245896450811856},{"$f":"iCityCompare!Z9","v":8},{"$f":"iCityCompare!AD9","v":"8"},{"$f":"iCityCompare!AG9","v":"*"},{"$f":"iCityCompare!X9","v":56.003674722210675},{"$f":"iCityCompare!AA9","v":11},{"$f":"iCityCompare!AE9","v":"11"},{"$f":"iCityCompare!AH9","v":""},null,null,null,null,null,null,null,null,null,null,null,null,null,{"$f":"E9","v":" 1) ECONOMIC PILLAR"}]
[null,null,"1",{"$f":"iCityCompare!P10","v":2},{"$f":"iCityCompare!U10","v":"  1.10) Growth in per capita GDP"},{"$f":"IF($I10>$M10,1,IF($I10<$M10,2,0))","v":2},{"$f":"IF($I10<$M10,1,IF($I10>$M10,2,0))","v":1},{"$f":"iCityCompare!V10","v":100},{"$f":"iCityCompare!Z10","v":1},{"$f":"iCityCompare!AD10","v":"1"},{"$f":"iCityCompare!AG10","v":"*"},{"$f":"iCityCompare!X10","v":70.404984423676012},{"$f":"iCityCompare!AA10","v":4},{"$f":"iCityCompare!AE10","v":"4"},{"$f":"iCityCompare!AH10","v":""},null,null,null,null,null,null,null,null,null,null,null,null,null,"  1.10) Growth in per capita GDP"]
[null,null,"1",{"$f":"iCityCompare!P11","v":3},{"$f":"iCityCompare!U11","v":"  1.11) Current account liberalisation"},2,1,{"$f":"iCityCompare!V11","v":85.000000000000014},{"$f":"iCityCompare!Z11","v":13},{"$f":"iCityCompare!AD11","v":"=13"},{"$f":"iCityCompare!AG11","v":"*"},{"$f":"iCityCompare!X11","v":75},{"$f":"iCityCompare!AA11","v":16},{"$f":"iCityCompare!AE11","v":"=16"},{"$f":"iCityCompare!AH11","v":""},null,null,null,null,null,null,null,null,null,null,null,null,null,"  1.11) Current account liberalisation"]
[null,null,"1",{"$f":"iCityCompare!P12","v":4},{"$f":"iCityCompare!U12","v":"  1.12) Tariff & non-tariff barriers"},2,1,{"$f":"iCityCompare!V12","v":50},{"$f":"iCityCompare!Z12","v":13},{"$f":"iCityCompare!AD12","v":"=13"},{"$f":"iCityCompare!AG12","v":"*"},{"$f":"iCityCompare!X12","v":25},{"$f":"iCityCompare!AA12","v":18},{"$f":"iCityCompare!AE12","v":"=18"},{"$f":"iCityCompare!AH12","v":""},null,null,null,null,null,null,null,null,null,null,null,null,null,"  1.12) Tariff & non-tariff barriers"]
[null,null,"1",{"$f":"iCityCompare!P13","v":5},{"$f":"iCityCompare!U13","v":"  1.13) Exchange rate volatility"},2,1,{"$f":"iCityCompare!V13","v":96.575342465753423},{"$f":"iCityCompare!Z13","v":9},{"$f":"iCityCompare!AD13","v":"=9"},{"$f":"iCityCompare!AG13","v":"*"},{"$f":"iCityCompare!X13","v":91.780821917808225},{"$f":"iCityCompare!AA13","v":19},{"$f":"iCityCompare!AE13","v":"19"},{"$f":"iCityCompare!AH13","v":""},null,null,null,null,null,null,null,null,null,null,null,null,null,"  1.13) Exchange rate volatility"]
[null,null,"1",{"$f":"iCityCompare!P14","v":6},{"$f":"iCityCompare!U14","v":"  1.14) Financial sector depth"},2,1,{"$f":"iCityCompare!V14","v":58.18181818181818},{"$f":"iCityCompare!Z14","v":6},{"$f":"iCityCompare!AD14","v":"6"},{"$f":"iCityCompare!AG14","v":"*"},{"$f":"iCityCompare!X14","v":16.818181818181817},{"$f":"iCityCompare!AA14","v":12},{"$f":"iCityCompare!AE14","v":"12"},{"$f":"iCityCompare!AH14","v":""},null,null,null,null,null,null,null,null,null,null,null,null,null,"  1.14) Financial sector depth"]
[null,null,"1",{"$f":"iCityCompare!P15","v":7},{"$f":"iCityCompare!U15","v":"  1.15) Foreign trade and payments risk"},2,1,{"$f":"iCityCompare!V15","v":67.676767676767668},{"$f":"iCityCompare!Z15","v":10},{"$f":"iCityCompare!AD15","v":"10"},{"$f":"iCityCompare!AG15","v":"*"},{"$f":"iCityCompare!X15","v":50.505050505050498},{"$f":"iCityCompare!AA15","v":16},{"$f":"iCityCompare!AE15","v":"16"},{"$f":"iCityCompare!AH15","v":""},null,null,null,null,null,null,null,null,null,null,null,null,null,"  1.15) Foreign trade and payments risk"]
[null,null,"1",{"$f":"iCityCompare!P16","v":8},{"$f":"iCityCompare!U16","v":"  1.16) Export market concentration"},1,2,{"$f":"iCityCompare!V16","v":95.292913788692758},{"$f":"iCityCompare!Z16","v":7},{"$f":"iCityCompare!AD16","v":"7"},{"$f":"iCityCompare!AG16","v":""},{"$f":"iCityCompare!X16","v":100},{"$f":"iCityCompare!AA16","v":1},{"$f":"iCityCompare!AE16","v":"1"},{"$f":"iCityCompare!AH16","v":"*"},null,null,null,null,null,null,null,null,null,null,null,null,null,"  1.16) Export market concentration"]
[null,null,"1",{"$f":"iCityCompare!P17","v":9},{"$f":"iCityCompare!U17","v":"  1.17) Export product concentration"},2,1,{"$f":"iCityCompare!V17","v":97.415905546892404},{"$f":"iCityCompare!Z17","v":3},{"$f":"iCityCompare!AD17","v":"3"},{"$f":"iCityCompare!AG17","v":"*"},{"$f":"iCityCompare!X17","v":90.59924259300513},{"$f":"iCityCompare!AA17","v":7},{"$f":"iCityCompare!AE17","v":"=7"},{"$f":"iCityCompare!AH17","v":""},null,null,null,null,null,null,null,null,null,null,null,null,null,"  1.17) Export product concentration"]
[null,null,"1",{"$f":"iCityCompare!P18","v":10},{"$f":"iCityCompare!U18","v":"  1.18) Foreign Direct Investment"},2,1,{"$f":"iCityCompare!V18","v":11.546891895841247},{"$f":"iCityCompare!Z18","v":6},{"$f":"iCityCompare!AD18","v":"6"},{"$f":"iCityCompare!AG18","v":"*"},{"$f":"iCityCompare!X18","v":4.7257211327702606},{"$f":"iCityCompare!AA18","v":11},{"$f":"iCityCompare!AE18","v":"11"},{"$f":"iCityCompare!AH18","v":""},null,null,null,null,null,null,null,null,null,null,null,null,null,"  1.18) Foreign Direct Investment"]
[null,null,"1",{"$f":"iCityCompare!P19","v":11},{"$f":"iCityCompare!U19","v":"  1.19) Gross fixed capital formation"},2,1,{"$f":"iCityCompare!V19","v":100},{"$f":"iCityCompare!Z19","v":1},{"$f":"iCityCompare!AD19","v":"1"},{"$f":"iCityCompare!AG19","v":"*"},{"$f":"iCityCompare!X19","v":56.917530419107685},{"$f":"iCityCompare!AA19","v":4},{"$f":"iCityCompare!AE19","v":"4"},{"$f":"iCityCompare!AH19","v":""},null,null,null,null,null,null,null,null,null,null,null,null,null,"  1.19) Gross fixed capital formation"]
[null,null,"1",{"$f":"iCityCompare!P20","v":12},{"$f":"iCityCompare!U20","v":"  1.20) Trade costs"},1,2,{"$f":"iCityCompare!V20","v":33.969444444444449},{"$f":"iCityCompare!Z20","v":11},{"$f":"iCityCompare!AD20","v":"11"},{"$f":"iCityCompare!AG20","v":""},{"$f":"iCityCompare!X20","v":40.052777777777777},{"$f":"iCityCompare!AA20","v":10},{"$f":"iCityCompare!AE20","v":"10"},{"$f":"iCityCompare!AH20","v":"*"},null,null,null,null,null,null,null,null,null,null,null,null,null,"  1.20) Trade costs"]
[null,null,"1",{"$f":"iCityCompare!P21","v":13},{"$f":"iCityCompare!U21","v":"   1.20.1)    Infrastructure"},2,1,{"$f":"iCityCompare!V21","v":57.777777777777786},{"$f":"iCityCompare!Z21","v":8},{"$f":"iCityCompare!AD21","v":"8"},{"$f":"iCityCompare!AG21","v":"*"},{"$f":"iCityCompare!X21","v":41.111111111111114},{"$f":"iCityCompare!AA21","v":14},{"$f":"iCityCompare!AE21","v":"14"},{"$f":"iCityCompare!AH21","v":""},null,null,null,null,null,null,null,null,null,null,null,null,null,"   1.20.1)    Infrastructure"]
[null,null,"1",{"$f":"iCityCompare!P22","v":14},{"$f":"iCityCompare!U22","v":"   1.20.2)    Logistics performance"},2,1,{"$f":"iCityCompare!V22","v":70.599999999999994},{"$f":"iCityCompare!Z22","v":8},{"$f":"iCityCompare!AD22","v":"8"},{"$f":"iCityCompare!AG22","v":"*"},{"$f":"iCityCompare!X22","v":61.6},{"$f":"iCityCompare!AA22","v":11},{"$f":"iCityCompare!AE22","v":"=11"},{"$f":"iCityCompare!AH22","v":""},null,null,null,null,null,null,null,null,null,null,null,null,null,"   1.20.2)    Logistics performance"]
[null,null,"1",{"$f":"iCityCompare!P23","v":15},{"$f":"iCityCompare!U23","v":"   1.20.3)    Corruption"},1,2,{"$f":"iCityCompare!V23","v":0},{"$f":"iCityCompare!Z23","v":13},{"$f":"iCityCompare!AD23","v":"=13"},{"$f":"iCityCompare!AG23","v":""},{"$f":"iCityCompare!X23","v":7.5000000000000009},{"$f":"iCityCompare!AA23","v":11},{"$f":"iCityCompare!AE23","v":"=11"},{"$f":"iCityCompare!AH23","v":"*"},null,null,null,null,null,null,null,null,null,null,null,null,null,"   1.20.3)    Corruption"]
[null,null,"1",{"$f":"iCityCompare!P24","v":16},{"$f":"iCityCompare!U24","v":"   1.20.4)    Legal system"},1,2,{"$f":"iCityCompare!V24","v":7.5000000000000009},{"$f":"iCityCompare!Z24","v":16},{"$f":"iCityCompare!AD24","v":"16"},{"$f":"iCityCompare!AG24","v":""},{"$f":"iCityCompare!X24","v":50},{"$f":"iCityCompare!AA24","v":6},{"$f":"iCityCompare!AE24","v":"=6"},{"$f":"iCityCompare!AH24","v":"*"},null,null,null,null,null,null,null,null,null,null,null,null,null,"   1.20.4)    Legal system"]
[null,null,"1",{"$f":"iCityCompare!P25","v":17},{"$f":"iCityCompare!U25","v":"  1.21) Technological innovation"},2,1,{"$f":"iCityCompare!V25","v":45.080091533180777},{"$f":"iCityCompare!Z25","v":6},{"$f":"iCityCompare!AD25","v":"6"},{"$f":"iCityCompare!AG25","v":"*"},{"$f":"iCityCompare!X25","v":17.620137299771166},{"$f":"iCityCompare!AA25","v":8},{"$f":"iCityCompare!AE25","v":"=8"},{"$f":"iCityCompare!AH25","v":""}]
[null,null,"1",{"$f":"iCityCompare!P26","v":18},{"$f":"iCityCompare!U26","v":"  1.22) Technological infrastructure"},1,2,{"$f":"iCityCompare!V26","v":50},{"$f":"iCityCompare!Z26","v":11},{"$f":"iCityCompare!AD26","v":"=11"},{"$f":"iCityCompare!AG26","v":""},{"$f":"iCityCompare!X26","v":75},{"$f":"iCityCompare!AA26","v":7},{"$f":"iCityCompare!AE26","v":"=7"},{"$f":"iCityCompare!AH26","v":"*"}]
[null,null,"1",{"$f":"iCityCompare!P27","v":19},{"$f":"iCityCompare!U27","v":"  1.23) Growth in labour force"},1,2,{"$f":"iCityCompare!V27","v":8.7033747779751316},{"$f":"iCityCompare!Z27","v":18},{"$f":"iCityCompare!AD27","v":"18"},{"$f":"iCityCompare!AG27","v":""},{"$f":"iCityCompare!X27","v":69.626998223801053},{"$f":"iCityCompare!AA27","v":3},{"$f":"iCityCompare!AE27","v":"3"},{"$f":"iCityCompare!AH27","v":"*"}]
[null,null,"1",{"$f":"iCityCompare!P28","v":20},{"$f":"iCityCompare!U28","v":" 2) SOCIAL PILLAR"},2,1,{"$f":"iCityCompare!V28","v":41.135501681500749},{"$f":"iCityCompare!Z28","v":12},{"$f":"iCityCompare!AD28","v":"12"},{"$f":"iCityCompare!AG28","v":"*"},{"$f":"iCityCompare!X28","v":39.823441644177827},{"$f":"iCityCompare!AA28","v":14},{"$f":"iCityCompare!AE28","v":"14"},{"$f":"iCityCompare!AH28","v":""}]
[null,null,"1",{"$f":"iCityCompare!P29","v":21},{"$f":"iCityCompare!U29","v":"  2.1) Inequality (Gini coefficient)"},1,2,{"$f":"iCityCompare!V29","v":48.298755186721984},{"$f":"iCityCompare!Z29","v":16},{"$f":"iCityCompare!AD29","v":"16"},{"$f":"iCityCompare!AG29","v":""},{"$f":"iCityCompare!X29","v":82.157676348547739},{"$f":"iCityCompare!AA29","v":6},{"$f":"iCityCompare!AE29","v":"6"},{"$f":"iCityCompare!AH29","v":"*"}]
[null,null,"1",{"$f":"iCityCompare!P30","v":22},{"$f":"iCityCompare!U30","v":"  2.2) Educational attainment"},2,1,{"$f":"iCityCompare!V30","v":22.909918205947672},{"$f":"iCityCompare!Z30","v":11},{"$f":"iCityCompare!AD30","v":"11"},{"$f":"iCityCompare!AG30","v":"*"},{"$f":"iCityCompare!X30","v":17.136090228163567},{"$f":"iCityCompare!AA30","v":13},{"$f":"iCityCompare!AE30","v":"13"},{"$f":"iCityCompare!AH30","v":""}]
[null,null,"1",{"$f":"iCityCompare!P31","v":23},{"$f":"iCityCompare!U31","v":"  2.3) Labour standards"},2,1,{"$f":"iCityCompare!V31","v":33.333333333333336},{"$f":"iCityCompare!Z31","v":10},{"$f":"iCityCompare!AD31","v":"=10"},{"$f":"iCityCompare!AG31","v":"*"},{"$f":"iCityCompare!X31","v":0},{"$f":"iCityCompare!AA31","v":13},{"$f":"iCityCompare!AE31","v":"=13"},{"$f":"iCityCompare!AH31","v":""}]
[null,null,"1",{"$f":"iCityCompare!P32","v":24},{"$f":"iCityCompare!U32","v":"  2.4) Political stability"},0,0,{"$f":"iCityCompare!V32","v":60},{"$f":"iCityCompare!Z32","v":8},{"$f":"iCityCompare!AD32","v":"=8"},{"$f":"iCityCompare!AG32","v":""},{"$f":"iCityCompare!X32","v":60},{"$f":"iCityCompare!AA32","v":8},{"$f":"iCityCompare!AE32","v":"=8"},{"$f":"iCityCompare!AH32","v":""}]
[null,null,"1",{"$f":"iCityCompare!P33","v":25},{"$f":"iCityCompare!U33","v":" 3) ENVIRONMENTAL PILLAR"},2,1,{"$f":"iCityCompare!V33","v":52.0128133452884},{"$f":"iCityCompare!Z33","v":15},{"$f":"iCityCompare!AD33","v":"15"},{"$f":"iCityCompare!AG33","v":"*"},{"$f":"iCityCompare!X33","v":47.185148696837132},{"$f":"iCityCompare!AA33","v":19},{"$f":"iCityCompare!AE33","v":"19"},{"$f":"iCityCompare!AH33","v":""}]
[null,null,"1",{"$f":"iCityCompare!P34","v":26},{"$f":"iCityCompare!U34","v":"  3.1) Air pollution"},1,2,{"$f":"iCityCompare!V34","v":0},{"$f":"iCityCompare!Z34","v":20},{"$f":"iCityCompare!AD34","v":"20"},{"$f":"iCityCompare!AG34","v":""},{"$f":"iCityCompare!X34","v":37.394957983193279},{"$f":"iCityCompare!AA34","v":19},{"$f":"iCityCompare!AE34","v":"19"},{"$f":"iCityCompare!AH34","v":"*"}]
[null,null,"1",{"$f":"iCityCompare!P35","v":27},{"$f":"iCityCompare!U35","v":"  3.2) Deforestation"},1,2,{"$f":"iCityCompare!V35","v":80.57553956834532},{"$f":"iCityCompare!Z35","v":11},{"$f":"iCityCompare!AD35","v":"=11"},{"$f":"iCityCompare!AG35","v":""},{"$f":"iCityCompare!X35","v":87.050359712230218},{"$f":"iCityCompare!AA35","v":7},{"$f":"iCityCompare!AE35","v":"7"},{"$f":"iCityCompare!AH35","v":"*"}]
[null,null,"1",{"$f":"iCityCompare!P36","v":28},{"$f":"iCityCompare!U36","v":"  3.3) Water pollution"},2,1,{"$f":"iCityCompare!V36","v":18.243765416593078},{"$f":"iCityCompare!Z36","v":7},{"$f":"iCityCompare!AD36","v":"7"},{"$f":"iCityCompare!AG36","v":"*"},{"$f":"iCityCompare!X36","v":10.526843953838434},{"$f":"iCityCompare!AA36","v":9},{"$f":"iCityCompare!AE36","v":"9"},{"$f":"iCityCompare!AH36","v":""}]
[null,null,"1",{"$f":"iCityCompare!P37","v":29},{"$f":"iCityCompare!U37","v":"  3.4) Environmental standards in trade"},2,1,{"$f":"iCityCompare!V37","v":100},{"$f":"iCityCompare!Z37","v":1},{"$f":"iCityCompare!AD37","v":"=1"},{"$f":"iCityCompare!AG37","v":"*"},{"$f":"iCityCompare!X37","v":66.666666666666657},{"$f":"iCityCompare!AA37","v":7},{"$f":"iCityCompare!AE37","v":"=7"},{"$f":"iCityCompare!AH37","v":""}]
[null,null,{"$f":"IF(D38=\"\",\"0\",\"1\")","v":"1"},{"$f":"iCityCompare!P38","v":30},{"$f":"iCityCompare!U38","v":"  3.5) Carbon emissions in trade"},2,1,{"$f":"iCityCompare!V38","v":13.25757508679205},{"$f":"iCityCompare!Z38","v":18},{"$f":"iCityCompare!AD38","v":"18"},{"$f":"iCityCompare!AG38","v":"*"},{"$f":"iCityCompare!X38","v":11.013529934733556},{"$f":"iCityCompare!AA38","v":19},{"$f":"iCityCompare!AE38","v":"19"},{"$f":"iCityCompare!AH38","v":""}]
[null,null,"1",{"$f":"iCityCompare!P39","v":31},{"$f":"iCityCompare!U39","v":"  3.6) Share of natural resources in trade"},2,1,{"$f":"iCityCompare!V39","v":100},{"$f":"iCityCompare!Z39","v":1},{"$f":"iCityCompare!AD39","v":"1"},{"$f":"iCityCompare!AG39","v":"*"},{"$f":"iCityCompare!X39","v":70.458533930360673},{"$f":"iCityCompare!AA39","v":15},{"$f":"iCityCompare!AE39","v":"15"},{"$f":"iCityCompare!AH39","v":""}]

{"sheet":"Scores","index":45,"n_rows":39,"n_cols":38,"rows_kept":39,"cut":false,"hidden":true,"merged":[]}
[]
[]
[null,null,null,null,null,null,null,null,null,null,null,null,null,null,null,null,null,null,{"$f":"Data!J3","v":3},{"$f":"Data!K3","v":4},{"$f":"Data!L3","v":5},{"$f":"Data!M3","v":6},{"$f":"Data!N3","v":7},{"$f":"Data!O3","v":8},{"$f":"Data!P3","v":9},{"$f":"Data!Q3","v":10},{"$f":"Data!R3","v":11},{"$f":"Data!S3","v":12},{"$f":"Data!T3","v":13},{"$f":"Data!U3","v":14},{"$f":"Data!V3","v":15},{"$f":"Data!W3","v":16},{"$f":"Data!X3","v":17},{"$f":"Data!Y3","v":18},{"$f":"Data!Z3","v":19},{"$f":"Data!AA3","v":20},{"$f":"Data!AB3","v":21},{"$f":"Data!AC3","v":22}]
[null,{"$f":"tblIndicators!A1","v":"ID"},{"$f":"tblIndicators!B1","v":"IS_BG"},{"$f":"tblIndicators!D1","v":"INDI_CODE"},{"$f":"tblIndicators!E1","v":"PARENT_CODE"},{"$f":"tblIndicators!F1","v":"DEPTH"},{"$f":"tblIndicators!S1","v":"HIGH_IS"},{"$f":"tblIndicators!T1","v":"NORM_ID (1=sumproduct, 2=min max set by data values, 3=min max set by user here)"},{"$f":"tblIndicators!U1","v":"Set Min"},{"$f":"tblIndicators!V1","v":"Set Max"},"MIN","MAX","RANGE","Indicators",{"$f":"\"Weight \"&tblTerritories!$O5","v":"Weight Upper income"},{"$f":"\"Weight \"&tblTerritories!$O6","v":"Weight Lower middle income"},{"$f":"\"Weight \"&tblTerritories!$O7","v":"Weight low income"},{"$f":"\"Weight \"&tblTerritories!$O8","v":"Weight Least developed"},{"$f":"Data!J4","v":"Bangladesh"},{"$f":"Data!K4","v":"Brunei"},{"$f":"Data!L4","v":"Cambodia"},{"$f":"Data!M4","v":"China"},{"$f":"Data!N4","v":"Hong Kong"},{"$f":"Data!O4","v":"India"},{"$f":"Data!P4","v":"Indonesia"},{"$f":"Data!Q4","v":"Japan"},{"$f":"Data!R4","v":"Laos"},{"$f":"Data!S4","v":"Malaysia"},{"$f":"Data!T4","v":"Myanmar"},{"$f":"Data!U4","v":"Pakistan"},{"$f":"Data!V4","v":"Philippines"},{"$f":"Data!W4","v":"Singapore"},{"$f":"Data!X4","v":"South Korea"},{"$f":"Data!Y4","v":"Sri Lanka"},{"$f":"Data!Z4","v":"Taiwan"},{"$f":"Data!AA4","v":"Thailand"},{"$f":"Data!AB4","v":"Vietnam"},{"$f":"Data!AC4","v":"USA"}]
[null,{"$f":"tblIndicators!A2","v":1},{"$f":"tblIndicators!B2","v":0},{"$f":"tblIndicators!D2","v":"TOTAL"},{"$f":"tblIndicators!E2","v":"OVERALL SCORE"},{"$f":"tblIndicators!F2","v":0},{"$f":"tblIndicators!S2","v":""},{"$f":"tblIndicators!T2","v":1},{"$f":"tblIndicators!U2","v":0},{"$f":"tblIndicators!V2","v":0},{"$f":"CHOOSE(H5,\"-\",MIN(Data!J5:AC5),I5)","v":"-"},{"$f":"CHOOSE(H5,\"-\",MAX(Data!J5:AC5),J5)","v":"-"},{"$f":"CHOOSE(H5,\"-\",L5-K5,L5-K5)","v":"-"},{"$f":"tblIndicators!Y2","v":"OVERALL SCORE"},{"$f":"tblIndicators!X2","v":""},null,null,null,{"$f":"IF($H5=0,0,CHOOSE($H5,SUMPRODUCT(CHOOSE(S$39,$O6:$O$36,$P6:$P$36,$Q6:$Q$36,$R6:$R$36)*S6:S$36*($E6:$E$36=$D5)),IF(ISNUMBER(Data!J5),100*ABS($G5-(Data!J5-$K5)/$M5),0),IF(ISNUMBER(Data!J5),100*ABS($G5-(Data!J5-$K5)/$M5),0)))","v":45.400771594576256},{"$f":"IF($H5=0,0,CHOOSE($H5,SUMPRODUCT(CHOOSE(T$39,$O6:$O$36,$P6:$P$36,$Q6:$Q$36,$R6:$R$36)*T6:T$36*($E6:$E$36=$D5)),IF(ISNUMBER(Data!K5),100*ABS($G5-(Data!K5-$K5)/$M5),0),IF(ISNUMBER(Data!K5),100*ABS($G5-(Data!K5-$K5)/$M5),0)))","v":54.246322414278559},{"$f":"IF($H5=0,0,CHOOSE($H5,SUMPRODUCT(CHOOSE(U$39,$O6:$O$36,$P6:$P$36,$Q6:$Q$36,$R6:$R$36)*U6:U$36*($E6:$E$36=$D5)),IF(ISNUMBER(Data!L5),100*ABS($G5-(Data!L5-$K5)/$M5),0),IF(ISNUMBER(Data!L5),100*ABS($G5-(Data!L5-$K5)/$M5),0)))","v":46.844233464040201},{"$f":"IF($H5=0,0,CHOOSE($H5,SUMPRODUCT(CHOOSE(V$39,$O6:$O$36,$P6:$P$36,$Q6:$Q$36,$R6:$R$36)*V6:V$36*($E6:$E$36=$D5)),IF(ISNUMBER(Data!M5),100*ABS($G5-(Data!M5-$K5)/$M5),0),IF(ISNUMBER(Data!M5),100*ABS($G5-(Data!M5-$K5)/$M5),0)))","v":52.464737159200332},{"$f":"IF($H5=0,0,CHOOSE($H5,SUMPRODUCT(CHOOSE(W$39,$O6:$O$36,$P6:$P$36,$Q6:$Q$36,$R6:$R$36)*W6:W$36*($E6:$E$36=$D5)),IF(ISNUMBER(Data!N5),100*ABS($G5-(Data!N5-$K5)/$M5),0),IF(ISNUMBER(Data!N5),100*ABS($G5-(Data!N5-$K5)/$M5),0)))","v":73.581391302193296},{"$f":"IF($H5=0,0,CHOOSE($H5,SUMPRODUCT(CHOOSE(X$39,$O6:$O$36,$P6:$P$36,$Q6:$Q$36,$R6:$R$36)*X6:X$36*($E6:$E$36=$D5)),IF(ISNUMBER(Data!O5),100*ABS($G5-(Data!O5-$K5)/$M5),0),IF(ISNUMBER(Data!O5),100*ABS($G5-(Data!O5-$K5)/$M5),0)))","v":47.670755021075209},{"$f":"IF($H5=0,0,CHOOSE($H5,SUMPRODUCT(CHOOSE(Y$39,$O6:$O$36,$P6:$P$36,$Q6:$Q$36,$R6:$R$36)*Y6:Y$36*($E6:$E$36=$D5)),IF(ISNUMBER(Data!P5),100*ABS($G5-(Data!P5-$K5)/$M5),0),IF(ISNUMBER(Data!P5),100*ABS($G5-(Data!P5-$K5)/$M5),0)))","v":47.90837560102819},{"$f":"IF($H5=0,0,CHOOSE($H5,SUMPRODUCT(CHOOSE(Z$39,$O6:$O$36,$P6:$P$36,$Q6:$Q$36,$R6:$R$36)*Z6:Z$36*($E6:$E$36=$D5)),IF(ISNUMBER(Data!Q5),100*ABS($G5-(Data!Q5-$K5)/$M5),0),IF(ISNUMBER(Data!Q5),100*ABS($G5-(Data!Q5-$K5)/$M5),0)))","v":78.50410607235375},{"$f":"IF($H5=0,0,CHOOSE($H5,SUMPRODUCT(CHOOSE(AA$39,$O6:$O$36,$P6:$P$36,$Q6:$Q$36,$R6:$R$36)*AA6:AA$36*($E6:$E$36=$D5)),IF(ISNUMBER(Data!R5),100*ABS($G5-(Data!R5-$K5)/$M5),0),IF(ISNUMBER(Data!R5),100*ABS($G5-(Data!R5-$K5)/$M5),0)))","v":45.525621157443105},{"$f":"IF($H5=0,0,CHOOSE($H5,SUMPRODUCT(CHOOSE(AB$39,$O6:$O$36,$P6:$P$36,$Q6:$Q$36,$R6:$R$36)*AB6:AB$36*($E6:$E$36=$D5)),IF(ISNUMBER(Data!S5),100*ABS($G5-(Data!S5-$K5)/$M5),0),IF(ISNUMBER(Data!S5),100*ABS($G5-(Data!S5-$K5)/$M5),0)))","v":59.401181758387139},{"$f":"IF($H5=0,0,CHOOSE($H5,SUMPRODUCT(CHOOSE(AC$39,$O6:$O$36,$P6:$P$36,$Q6:$Q$36,$R6:$R$36)*AC6:AC$36*($E6:$E$36=$D5)),IF(ISNUMBER(Data!T5),100*ABS($G5-(Data!T5-$K5)/$M5),0),IF(ISNUMBER(Data!T5),100*ABS($G5-(Data!T5-$K5)/$M5),0)))","v":36.102523605788384},{"$f":"IF($H5=0,0,CHOOSE($H5,SUMPRODUCT(CHOOSE(AD$39,$O6:$O$36,$P6:$P$36,$Q6:$Q$36,$R6:$R$36)*AD6:AD$36*($E6:$E$36=$D5)),IF(ISNUMBER(Data!U5),100*ABS($G5-(Data!U5-$K5)/$M5),0),IF(ISNUMBER(Data!U5),100*ABS($G5-(Data!U5-$K5)/$M5),0)))","v":41.742979007553359},{"$f":"IF($H5=0,0,CHOOSE($H5,SUMPRODUCT(CHOOSE(AE$39,$O6:$O$36,$P6:$P$36,$Q6:$Q$36,$R6:$R$36)*AE6:AE$36*($E6:$E$36=$D5)),IF(ISNUMBER(Data!V5),100*ABS($G5-(Data!V5-$K5)/$M5),0),IF(ISNUMBER(Data!V5),100*ABS($G5-(Data!V5-$K5)/$M5),0)))","v":52.04664369117809},{"$f":"IF($H5=0,0,CHOOSE($H5,SUMPRODUCT(CHOOSE(AF$39,$O6:$O$36,$P6:$P$36,$Q6:$Q$36,$R6:$R$36)*AF6:AF$36*($E6:$E$36=$D5)),IF(ISNUMBER(Data!W5),100*ABS($G5-(Data!W5-$K5)/$M5),0),IF(ISNUMBER(Data!W5),100*ABS($G5-(Data!W5-$K5)/$M5),0)))","v":80.957736329497934},{"$f":"IF($H5=0,0,CHOOSE($H5,SUMPRODUCT(CHOOSE(AG$39,$O6:$O$36,$P6:$P$36,$Q6:$Q$36,$R6:$R$36)*AG6:AG$36*($E6:$E$36=$D5)),IF(ISNUMBER(Data!X5),100*ABS($G5-(Data!X5-$K5)/$M5),0),IF(ISNUMBER(Data!X5),100*ABS($G5-(Data!X5-$K5)/$M5),0)))","v":80.037071378992863},{"$f":"IF($H5=0,0,CHOOSE($H5,SUMPRODUCT(CHOOSE(AH$39,$O6:$O$36,$P6:$P$36,$Q6:$Q$36,$R6:$R$36)*AH6:AH$36*($E6:$E$36=$D5)),IF(ISNUMBER(Data!Y5),100*ABS($G5-(Data!Y5-$K5)/$M5),0),IF(ISNUMBER(Data!Y5),100*ABS($G5-(Data!Y5-$K5)/$M5),0)))","v":54.171997951483796},{"$f":"IF($H5=0,0,CHOOSE($H5,SUMPRODUCT(CHOOSE(AI$39,$O6:$O$36,$P6:$P$36,$Q6:$Q$36,$R6:$R$36)*AI6:AI$36*($E6:$E$36=$D5)),IF(ISNUMBER(Data!Z5),100*ABS($G5-(Data!Z5-$K5)/$M5),0),IF(ISNUMBER(Data!Z5),100*ABS($G5-(Data!Z5-$K5)/$M5),0)))","v":69.366128353953144},{"$f":"IF($H5=0,0,CHOOSE($H5,SUMPRODUCT(CHOOSE(AJ$39,$O6:$O$36,$P6:$P$36,$Q6:$Q$36,$R6:$R$36)*AJ6:AJ$36*($E6:$E$36=$D5)),IF(ISNUMBER(Data!AA5),100*ABS($G5-(Data!AA5-$K5)/$M5),0),IF(ISNUMBER(Data!AA5),100*ABS($G5-(Data!AA5-$K5)/$M5),0)))","v":55.464409320349823},{"$f":"IF($H5=0,0,CHOOSE($H5,SUMPRODUCT(CHOOSE(AK$39,$O6:$O$36,$P6:$P$36,$Q6:$Q$36,$R6:$R$36)*AK6:AK$36*($E6:$E$36=$D5)),IF(ISNUMBER(Data!AB5),100*ABS($G5-(Data!AB5-$K5)/$M5),0),IF(ISNUMBER(Data!AB5),100*ABS($G5-(Data!AB5-$K5)/$M5),0)))","v":53.848572496227035},{"$f":"IF($H5=0,0,CHOOSE($H5,SUMPRODUCT(CHOOSE(AL$39,$O6:$O$36,$P6:$P$36,$Q6:$Q$36,$R6:$R$36)*AL6:AL$36*($E6:$E$36=$D5)),IF(ISNUMBER(Data!AC5),100*ABS($G5-(Data!AC5-$K5)/$M5),0),IF(ISNUMBER(Data!AC5),100*ABS($G5-(Data!AC5-$K5)/$M5),0)))","v":76.36256529664476}]
[null,{"$f":"tblIndicators!A3","v":2},{"$f":"tblIndicators!B3","v":0},{"$f":"tblIndicators!D3","v":"EP"},{"$f":"tblIndicators!E3","v":"TOTAL"},{"$f":"tblIndicators!F3","v":1},{"$f":"tblIndicators!S3","v":""},{"$f":"tblIndicators!T3","v":1},{"$f":"tblIndicators!U3","v":0},{"$f":"tblIndicators!V3","v":0},{"$f":"CHOOSE(H6,\"-\",MIN(Data!J6:AC6),I6)","v":"-"},{"$f":"CHOOSE(H6,\"-\",MAX(Data!J6:AC6),J6)","v":"-"},{"$f":"CHOOSE(H6,\"-\",L6-K6,L6-K6)","v":"-"},{"$f":"tblIndicators!Y3","v":"1) ECONOMIC PILLAR"},{"$f":"tblIndicators!X3","v":0.33333333333333331},{"$f":"tblIndicators!AF3","v":0.33333333333333331},{"$f":"tblIndicators!AI3","v":0.33333333333333331},{"$f":"tblIndicators!AL3","v":0.33333333333333331},{"$f":"IF($H6=0,0,CHOOSE($H6,SUMPRODUCT(CHOOSE(S$39,$O7:$O$36,$P7:$P$36,$Q7:$Q$36,$R7:$R$36)*S7:S$36*($E7:$E$36=$D6)),IF(ISNUMBER(Data!J6),100*ABS($G6-(Data!J6-$K6)/$M6),0),IF(ISNUMBER(Data!J6),100*ABS($G6-(Data!J6-$K6)/$M6),0)))","v":50.444107595168688},{"$f":"IF($H6=0,0,CHOOSE($H6,SUMPRODUCT(CHOOSE(T$39,$O7:$O$36,$P7:$P$36,$Q7:$Q$36,$R7:$R$36)*T7:T$36*($E7:$E$36=$D6)),IF(ISNUMBER(Data!K6),100*ABS($G6-(Data!K6-$K6)/$M6),0),IF(ISNUMBER(Data!K6),100*ABS($G6-(Data!K6-$K6)/$M6),0)))","v":38.510199959455328},{"$f":"IF($H6=0,0,CHOOSE($H6,SUMPRODUCT(CHOOSE(U$39,$O7:$O$36,$P7:$P$36,$Q7:$Q$36,$R7:$R$36)*U7:U$36*($E7:$E$36=$D6)),IF(ISNUMBER(Data!L6),100*ABS($G6-(Data!L6-$K6)/$M6),0),IF(ISNUMBER(Data!L6),100*ABS($G6-(Data!L6-$K6)/$M6),0)))","v":48.223068433764112},{"$f":"IF($H6=0,0,CHOOSE($H6,SUMPRODUCT(CHOOSE(V$39,$O7:$O$36,$P7:$P$36,$Q7:$Q$36,$R7:$R$36)*V7:V$36*($E7:$E$36=$D6)),IF(ISNUMBER(Data!M6),100*ABS($G6-(Data!M6-$K6)/$M6),0),IF(ISNUMBER(Data!M6),100*ABS($G6-(Data!M6-$K6)/$M6),0)))","v":64.245896450811856},{"$f":"IF($H6=0,0,CHOOSE($H6,SUMPRODUCT(CHOOSE(W$39,$O7:$O$36,$P7:$P$36,$Q7:$Q$36,$R7:$R$36)*W7:W$36*($E7:$E$36=$D6)),IF(ISNUMBER(Data!N6),100*ABS($G6-(Data!N6-$K6)/$M6),0),IF(ISNUMBER(Data!N6),100*ABS($G6-(Data!N6-$K6)/$M6),0)))","v":70.872130144939462},{"$f":"IF($H6=0,0,CHOOSE($H6,SUMPRODUCT(CHOOSE(X$39,$O7:$O$36,$P7:$P$36,$Q7:$Q$36,$R7:$R$36)*X7:X$36*($E7:$E$36=$D6)),IF(ISNUMBER(Data!O6),100*ABS($G6-(Data!O6-$K6)/$M6),0),IF(ISNUMBER(Data!O6),100*ABS($G6-(Data!O6-$K6)/$M6),0)))","v":56.003674722210675},{"$f":"IF($H6=0,0,CHOOSE($H6,SUMPRODUCT(CHOOSE(Y$39,$O7:$O$36,$P7:$P$36,$Q7:$Q$36,$R7:$R$36)*Y7:Y$36*($E7:$E$36=$D6)),IF(ISNUMBER(Data!P6),100*ABS($G6-(Data!P6-$K6)/$M6),0),IF(ISNUMBER(Data!P6),100*ABS($G6-(Data!P6-$K6)/$M6),0)))","v":53.672591393049089},{"$f":"IF($H6=0,0,CHOOSE($H6,SUMPRODUCT(CHOOSE(Z$39,$O7:$O$36,$P7:$P$36,$Q7:$Q$36,$R7:$R$36)*Z7:Z$36*($E7:$E$36=$D6)),IF(ISNUMBER(Data!Q6),100*ABS($G6-(Data!Q6-$K6)/$M6),0),IF(ISNUMBER(Data!Q6),100*ABS($G6-(Data!Q6-$K6)/$M6),0)))","v":64.797603072280324},{"$f":"IF($H6=0,0,CHOOSE($H6,SUMPRODUCT(CHOOSE(AA$39,$O7:$O$36,$P7:$P$36,$Q7:$Q$36,$R7:$R$36)*AA7:AA$36*($E7:$E$36=$D6)),IF(ISNUMBER(Data!R6),100*ABS($G6-(Data!R6-$K6)/$M6),0),IF(ISNUMBER(Data!R6),100*ABS($G6-(Data!R6-$K6)/$M6),0)))","v":49.678475880070629},{"$f":"IF($H6=0,0,CHOOSE($H6,SUMPRODUCT(CHOOSE(AB$39,$O7:$O$36,$P7:$P$36,$Q7:$Q$36,$R7:$R$36)*AB7:AB$36*($E7:$E$36=$D6)),IF(ISNUMBER(Data!S6),100*ABS($G6-(Data!S6-$K6)/$M6),0),IF(ISNUMBER(Data!S6),100*ABS($G6-(Data!S6-$K6)/$M6),0)))","v":64.823936668698821},{"$f":"IF($H6=0,0,CHOOSE($H6,SUMPRODUCT(CHOOSE(AC$39,$O7:$O$36,$P7:$P$36,$Q7:$Q$36,$R7:$R$36)*AC7:AC$36*($E7:$E$36=$D6)),IF(ISNUMBER(Data!T6),100*ABS($G6-(Data!T6-$K6)/$M6),0),IF(ISNUMBER(Data!T6),100*ABS($G6-(Data!T6-$K6)/$M6),0)))","v":35.133084629486824},{"$f":"IF($H6=0,0,CHOOSE($H6,SUMPRODUCT(CHOOSE(AD$39,$O7:$O$36,$P7:$P$36,$Q7:$Q$36,$R7:$R$36)*AD7:AD$36*($E7:$E$36=$D6)),IF(ISNUMBER(Data!U6),100*ABS($G6-(Data!U6-$K6)/$M6),0),IF(ISNUMBER(Data!U6),100*ABS($G6-(Data!U6-$K6)/$M6),0)))","v":42.399555826534055},{"$f":"IF($H6=0,0,CHOOSE($H6,SUMPRODUCT(CHOOSE(AE$39,$O7:$O$36,$P7:$P$36,$Q7:$Q$36,$R7:$R$36)*AE7:AE$36*($E7:$E$36=$D6)),IF(ISNUMBER(Data!V6),100*ABS($G6-(Data!V6-$K6)/$M6),0),IF(ISNUMBER(Data!V6),100*ABS($G6-(Data!V6-$K6)/$M6),0)))","v":57.107116970486899},{"$f":"IF($H6=0,0,CHOOSE($H6,SUMPRODUCT(CHOOSE(AF$39,$O7:$O$36,$P7:$P$36,$Q7:$Q$36,$R7:$R$36)*AF7:AF$36*($E7:$E$36=$D6)),IF(ISNUMBER(Data!W6),100*ABS($G6-(Data!W6-$K6)/$M6),0),IF(ISNUMBER(Data!W6),100*ABS($G6-(Data!W6-$K6)/$M6),0)))","v":76.456543365773427},{"$f":"IF($H6=0,0,CHOOSE($H6,SUMPRODUCT(CHOOSE(AG$39,$O7:$O$36,$P7:$P$36,$Q7:$Q$36,$R7:$R$36)*AG7:AG$36*($E7:$E$36=$D6)),IF(ISNUMBER(Data!X6),100*ABS($G6-(Data!X6-$K6)/$M6),0),IF(ISNUMBER(Data!X6),100*ABS($G6-(Data!X6-$K6)/$M6),0)))","v":68.261695045049933},{"$f":"IF($H6=0,0,CHOOSE($H6,SUMPRODUCT(CHOOSE(AH$39,$O7:$O$36,$P7:$P$36,$Q7:$Q$36,$R7:$R$36)*AH7:AH$36*($E7:$E$36=$D6)),IF(ISNUMBER(Data!Y6),100*ABS($G6-(Data!Y6-$K6)/$M6),0),IF(ISNUMBER(Data!Y6),100*ABS($G6-(Data!Y6-$K6)/$M6),0)))","v":54.462996441956847},{"$f":"IF($H6=0,0,CHOOSE($H6,SUMPRODUCT(CHOOSE(AI$39,$O7:$O$36,$P7:$P$36,$Q7:$Q$36,$R7:$R$36)*AI7:AI$36*($E7:$E$36=$D6)),IF(ISNUMBER(Data!Z6),100*ABS($G6-(Data!Z6-$K6)/$M6),0),IF(ISNUMBER(Data!Z6),100*ABS($G6-(Data!Z6-$K6)/$M6),0)))","v":67.222409259592567},{"$f":"IF($H6=0,0,CHOOSE($H6,SUMPRODUCT(CHOOSE(AJ$39,$O7:$O$36,$P7:$P$36,$Q7:$Q$36,$R7:$R$36)*AJ7:AJ$36*($E7:$E$36=$D6)),IF(ISNUMBER(Data!AA6),100*ABS($G6-(Data!AA6-$K6)/$M6),0),IF(ISNUMBER(Data!AA6),100*ABS($G6-(Data!AA6-$K6)/$M6),0)))","v":55.036188707961571},{"$f":"IF($H6=0,0,CHOOSE($H6,SUMPRODUCT(CHOOSE(AK$39,$O7:$O$36,$P7:$P$36,$Q7:$Q$36,$R7:$R$36)*AK7:AK$36*($E7:$E$36=$D6)),IF(ISNUMBER(Data!AB6),100*ABS($G6-(Data!AB6-$K6)/$M6),0),IF(ISNUMBER(Data!AB6),100*ABS($G6-(Data!AB6-$K6)/$M6),0)))","v":56.444927113560077},{"$f":"IF($H6=0,0,CHOOSE($H6,SUMPRODUCT(CHOOSE(AL$39,$O7:$O$36,$P7:$P$36,$Q7:$Q$36,$R7:$R$36)*AL7:AL$36*($E7:$E$36=$D6)),IF(ISNUMBER(Data!AC6),100*ABS($G6-(Data!AC6-$K6)/$M6),0),IF(ISNUMBER(Data!AC6),100*ABS($G6-(Data!AC6-$K6)/$M6),0)))","v":66.071882248638872}]
[null,{"$f":"tblIndicators!A4","v":3},{"$f":"tblIndicators!B4","v":0},{"$f":"tblIndicators!D4","v":"EP_10"},{"$f":"tblIndicators!E4","v":"EP"},{"$f":"tblIndicators!F4","v":2},{"$f":"tblIndicators!S4","v":0},{"$f":"tblIndicators!T4","v":2},{"$f":"tblIndicators!U4","v":0},{"$f":"tblIndicators!V4","v":0},{"$f":"CHOOSE(H7,\"-\",MIN(Data!J7:AC7),I7)","v":-1.63},{"$f":"CHOOSE(H7,\"-\",MAX(Data!J7:AC7),J7)","v":8},{"$f":"CHOOSE(H7,\"-\",L7-K7,L7-K7)","v":9.629999999999999},{"$f":"tblIndicators!Y4","v":"1.10) Growth in per capita GDP"},{"$f":"tblIndicators!X4","v":7.1428571428571452E-2},{"$f":"tblIndicators!AF4","v":7.1428571428571425E-2},{"$f":"tblIndicators!AI4","v":7.1428571428571425E-2},{"$f":"tblIndicators!AL4","v":7.1428571428571425E-2},{"$f":"IF($H7=0,0,CHOOSE($H7,SUMPRODUCT(CHOOSE(S$39,$O8:$O$36,$P8:$P$36,$Q8:$Q$36,$R8:$R$36)*S8:S$36*($E8:$E$36=$D7)),IF(ISNUMBER(Data!J7),100*ABS($G7-(Data!J7-$K7)/$M7),0),IF(ISNUMBER(Data!J7),100*ABS($G7-(Data!J7-$K7)/$M7),0)))","v":67.70508826583594},{"$f":"IF($H7=0,0,CHOOSE($H7,SUMPRODUCT(CHOOSE(T$39,$O8:$O$36,$P8:$P$36,$Q8:$Q$36,$R8:$R$36)*T8:T$36*($E8:$E$36=$D7)),IF(ISNUMBER(Data!K7),100*ABS($G7-(Data!K7-$K7)/$M7),0),IF(ISNUMBER(Data!K7),100*ABS($G7-(Data!K7-$K7)/$M7),0)))","v":0},{"$f":"IF($H7=0,0,CHOOSE($H7,SUMPRODUCT(CHOOSE(U$39,$O8:$O$36,$P8:$P$36,$Q8:$Q$36,$R8:$R$36)*U8:U$36*($E8:$E$36=$D7)),IF(ISNUMBER(Data!L7),100*ABS($G7-(Data!L7-$K7)/$M7),0),IF(ISNUMBER(Data!L7),100*ABS($G7-(Data!L7-$K7)/$M7),0)))","v":69.989615784008322},{"$f":"IF($H7=0,0,CHOOSE($H7,SUMPRODUCT(CHOOSE(V$39,$O8:$O$36,$P8:$P$36,$Q8:$Q$36,$R8:$R$36)*V8:V$36*($E8:$E$36=$D7)),IF(ISNUMBER(Data!M7),100*ABS($G7-(Data!M7-$K7)/$M7),0),IF(ISNUMBER(Data!M7),100*ABS($G7-(Data!M7-$K7)/$M7),0)))","v":100},{"$f":"IF($H7=0,0,CHOOSE($H7,SUMPRODUCT(CHOOSE(W$39,$O8:$O$36,$P8:$P$36,$Q8:$Q$36,$R8:$R$36)*W8:W$36*($E8:$E$36=$D7)),IF(ISNUMBER(Data!N7),100*ABS($G7-(Data!N7-$K7)/$M7),0),IF(ISNUMBER(Data!N7),100*ABS($G7-(Data!N7-$K7)/$M7),0)))","v":48.494288681204573},{"$f":"IF($H7=0,0,CHOOSE($H7,SUMPRODUCT(CHOOSE(X$39,$O8:$O$36,$P8:$P$36,$Q8:$Q$36,$R8:$R$36)*X8:X$36*($E8:$E$36=$D7)),IF(ISNUMBER(Data!O7),100*ABS($G7-(Data!O7-$K7)/$M7),0),IF(ISNUMBER(Data!O7),100*ABS($G7-(Data!O7-$K7)/$M7),0)))","v":70.404984423676012},{"$f":"IF($H7=0,0,CHOOSE($H7,SUMPRODUCT(CHOOSE(Y$39,$O8:$O$36,$P8:$P$36,$Q8:$Q$36,$R8:$R$36)*Y8:Y$36*($E8:$E$36=$D7)),IF(ISNUMBER(Data!P7),100*ABS($G7-(Data!P7-$K7)/$M7),0),IF(ISNUMBER(Data!P7),100*ABS($G7-(Data!P7-$K7)/$M7),0)))","v":66.043613707165122},{"$f":"IF($H7=0,0,CHOOSE($H7,SUMPRODUCT(CHOOSE(Z$39,$O8:$O$36,$P8:$P$36,$Q8:$Q$36,$R8:$R$36)*Z8:Z$36*($E8:$E$36=$D7)),IF(ISNUMBER(Data!Q7),100*ABS($G7-(Data!Q7-$K7)/$M7),0),IF(ISNUMBER(Data!Q7),100*ABS($G7-(Data!Q7-$K7)/$M7),0)))","v":33.437175493250258},{"$f":"IF($H7=0,0,CHOOSE($H7,SUMPRODUCT(CHOOSE(AA$39,$O8:$O$36,$P8:$P$36,$Q8:$Q$36,$R8:$R$36)*AA8:AA$36*($E8:$E$36=$D7)),IF(ISNUMBER(Data!R7),100*ABS($G7-(Data!R7-$K7)/$M7),0),IF(ISNUMBER(Data!R7),100*ABS($G7-(Data!R7-$K7)/$M7),0)))","v":79.646936656282463},{"$f":"IF($H7=0,0,CHOOSE($H7,SUMPRODUCT(CHOOSE(AB$39,$O8:$O$36,$P8:$P$36,$Q8:$Q$36,$R8:$R$36)*AB8:AB$36*($E8:$E$36=$D7)),IF(ISNUMBER(Data!S7),100*ABS($G7-(Data!S7-$K7)/$M7),0),IF(ISNUMBER(Data!S7),100*ABS($G7-(Data!S7-$K7)/$M7),0)))","v":58.878504672897201},{"$f":"IF($H7=0,0,CHOOSE($H7,SUMPRODUCT(CHOOSE(AC$39,$O8:$O$36,$P8:$P$36,$Q8:$Q$36,$R8:$R$36)*AC8:AC$36*($E8:$E$36=$D7)),IF(ISNUMBER(Data!T7),100*ABS($G7-(Data!T7-$K7)/$M7),0),IF(ISNUMBER(Data!T7),100*ABS($G7-(Data!T7-$K7)/$M7),0)))","v":62.201453790238844},{"$f":"IF($H7=0,0,CHOOSE($H7,SUMPRODUCT(CHOOSE(AD$39,$O8:$O$36,$P8:$P$36,$Q8:$Q$36,$R8:$R$36)*AD8:AD$36*($E8:$E$36=$D7)),IF(ISNUMBER(Data!U7),100*ABS($G7-(Data!U7-$K7)/$M7),0),IF(ISNUMBER(Data!U7),100*ABS($G7-(Data!U7-$K7)/$M7),0)))","v":34.060228452751822},{"$f":"IF($H7=0,0,CHOOSE($H7,SUMPRODUCT(CHOOSE(AE$39,$O8:$O$36,$P8:$P$36,$Q8:$Q$36,$R8:$R$36)*AE8:AE$36*($E8:$E$36=$D7)),IF(ISNUMBER(Data!V7),100*ABS($G7-(Data!V7-$K7)/$M7),0),IF(ISNUMBER(Data!V7),100*ABS($G7-(Data!V7-$K7)/$M7),0)))","v":62.824506749740394},{"$f":"IF($H7=0,0,CHOOSE($H7,SUMPRODUCT(CHOOSE(AF$39,$O8:$O$36,$P8:$P$36,$Q8:$Q$36,$R8:$R$36)*AF8:AF$36*($E8:$E$36=$D7)),IF(ISNUMBER(Data!W7),100*ABS($G7-(Data!W7-$K7)/$M7),0),IF(ISNUMBER(Data!W7),100*ABS($G7-(Data!W7-$K7)/$M7),0)))","v":63.65524402907581},{"$f":"IF($H7=0,0,CHOOSE($H7,SUMPRODUCT(CHOOSE(AG$39,$O8:$O$36,$P8:$P$36,$Q8:$Q$36,$R8:$R$36)*AG8:AG$36*($E8:$E$36=$D7)),IF(ISNUMBER(Data!X7),100*ABS($G7-(Data!X7-$K7)/$M7),0),IF(ISNUMBER(Data!X7),100*ABS($G7-(Data!X7-$K7)/$M7),0)))","v":49.740394600207686},{"$f":"IF($H7=0,0,CHOOSE($H7,SUMPRODUCT(CHOOSE(AH$39,$O8:$O$36,$P8:$P$36,$Q8:$Q$36,$R8:$R$36)*AH8:AH$36*($E8:$E$36=$D7)),IF(ISNUMBER(Data!Y7),100*ABS($G7-(Data!Y7-$K7)/$M7),0),IF(ISNUMBER(Data!Y7),100*ABS($G7-(Data!Y7-$K7)/$M7),0)))","v":77.466251298027018},{"$f":"IF($H7=0,0,CHOOSE($H7,SUMPRODUCT(CHOOSE(AI$39,$O8:$O$36,$P8:$P$36,$Q8:$Q$36,$R8:$R$36)*AI8:AI$36*($E8:$E$36=$D7)),IF(ISNUMBER(Data!Z7),100*ABS($G7-(Data!Z7-$K7)/$M7),0),IF(ISNUMBER(Data!Z7),100*ABS($G7-(Data!Z7-$K7)/$M7),0)))","v":60.747663551401878},{"$f":"IF($H7=0,0,CHOOSE($H7,SUMPRODUCT(CHOOSE(AJ$39,$O8:$O$36,$P8:$P$36,$Q8:$Q$36,$R8:$R$36)*AJ8:AJ$36*($E8:$E$36=$D7)),IF(ISNUMBER(Data!AA7),100*ABS($G7-(Data!AA7-$K7)/$M7),0),IF(ISNUMBER(Data!AA7),100*ABS($G7-(Data!AA7-$K7)/$M7),0)))","v":54.101765316718598},{"$f":"IF($H7=0,0,CHOOSE($H7,SUMPRODUCT(CHOOSE(AK$39,$O8:$O$36,$P8:$P$36,$Q8:$Q$36,$R8:$R$36)*AK8:AK$36*($E8:$E$36=$D7)),IF(ISNUMBER(Data!AB7),100*ABS($G7-(Data!AB7-$K7)/$M7),0),IF(ISNUMBER(Data!AB7),100*ABS($G7-(Data!AB7-$K7)/$M7),0)))","v":65.73208722741434},{"$f":"IF($H7=0,0,CHOOSE($H7,SUMPRODUCT(CHOOSE(AL$39,$O8:$O$36,$P8:$P$36,$Q8:$Q$36,$R8:$R$36)*AL8:AL$36*($E8:$E$36=$D7)),IF(ISNUMBER(Data!AC7),100*ABS($G7-(Data!AC7-$K7)/$M7),0),IF(ISNUMBER(Data!AC7),100*ABS($G7-(Data!AC7-$K7)/$M7),0)))","v":30.321910695742471}]
[null,{"$f":"tblIndicators!A5","v":4},{"$f":"tblIndicators!B5","v":0},{"$f":"tblIndicators!D5","v":"EP_11"},{"$f":"tblIndicators!E5","v":"EP"},{"$f":"tblIndicators!F5","v":2},{"$f":"tblIndicators!S5","v":0},{"$f":"tblIndicators!T5","v":3},{"$f":"tblIndicators!U5","v":1},{"$f":"tblIndicators!V5","v":5},{"$f":"CHOOSE(H8,\"-\",MIN(Data!J8:AC8),I8)","v":1},{"$f":"CHOOSE(H8,\"-\",MAX(Data!J8:AC8),J8)","v":5},{"$f":"CHOOSE(H8,\"-\",L8-K8,L8-K8)","v":4},{"$f":"tblIndicators!Y5","v":"1.11) Current account liberalisation"},{"$f":"tblIndicators!X5","v":7.1428571428571452E-2},{"$f":"tblIndicators!AF5","v":7.1428571428571425E-2},{"$f":"tblIndicators!AI5","v":7.1428571428571425E-2},{"$f":"tblIndicators!AL5","v":7.1428571428571425E-2},{"$f":"IF($H8=0,0,CHOOSE($H8,SUMPRODUCT(CHOOSE(S$39,$O9:$O$36,$P9:$P$36,$Q9:$Q$36,$R9:$R$36)*S9:S$36*($E9:$E$36=$D8)),IF(ISNUMBER(Data!J8),100*ABS($G8-(Data!J8-$K8)/$M8),0),IF(ISNUMBER(Data!J8),100*ABS($G8-(Data!J8-$K8)/$M8),0)))","v":75},{"$f":"IF($H8=0,0,CHOOSE($H8,SUMPRODUCT(CHOOSE(T$39,$O9:$O$36,$P9:$P$36,$Q9:$Q$36,$R9:$R$36)*T9:T$36*($E9:$E$36=$D8)),IF(ISNUMBER(Data!K8),100*ABS($G8-(Data!K8-$K8)/$M8),0),IF(ISNUMBER(Data!K8),100*ABS($G8-(Data!K8-$K8)/$M8),0)))","v":100},{"$f":"IF($H8=0,0,CHOOSE($H8,SUMPRODUCT(CHOOSE(U$39,$O9:$O$36,$P9:$P$36,$Q9:$Q$36,$R9:$R$36)*U9:U$36*($E9:$E$36=$D8)),IF(ISNUMBER(Data!L8),100*ABS($G8-(Data!L8-$K8)/$M8),0),IF(ISNUMBER(Data!L8),100*ABS($G8-(Data!L8-$K8)/$M8),0)))","v":100},{"$f":"IF($H8=0,0,CHOOSE($H8,SUMPRODUCT(CHOOSE(V$39,$O9:$O$36,$P9:$P$36,$Q9:$Q$36,$R9:$R$36)*V9:V$36*($E9:$E$36=$D8)),IF(ISNUMBER(Data!M8),100*ABS($G8-(Data!M8-$K8)/$M8),0),IF(ISNUMBER(Data!M8),100*ABS($G8-(Data!M8-$K8)/$M8),0)))","v":85.000000000000014},{"$f":"IF($H8=0,0,CHOOSE($H8,SUMPRODUCT(CHOOSE(W$39,$O9:$O$36,$P9:$P$36,$Q9:$Q$36,$R9:$R$36)*W9:W$36*($E9:$E$36=$D8)),IF(ISNUMBER(Data!N8),100*ABS($G8-(Data!N8-$K8)/$M8),0),IF(ISNUMBER(Data!N8),100*ABS($G8-(Data!N8-$K8)/$M8),0)))","v":100},{"$f":"IF($H8=0,0,CHOOSE($H8,SUMPRODUCT(CHOOSE(X$39,$O9:$O$36,$P9:$P$36,$Q9:$Q$36,$R9:$R$36)*X9:X$36*($E9:$E$36=$D8)),IF(ISNUMBER(Data!O8),100*ABS($G8-(Data!O8-$K8)/$M8),0),IF(ISNUMBER(Data!O8),100*ABS($G8-(Data!O8-$K8)/$M8),0)))","v":75},{"$f":"IF($H8=0,0,CHOOSE($H8,SUMPRODUCT(CHOOSE(Y$39,$O9:$O$36,$P9:$P$36,$Q9:$Q$36,$R9:$R$36)*Y9:Y$36*($E9:$E$36=$D8)),IF(ISNUMBER(Data!P8),100*ABS($G8-(Data!P8-$K8)/$M8),0),IF(ISNUMBER(Data!P8),100*ABS($G8-(Data!P8-$K8)/$M8),0)))","v":75},{"$f":"IF($H8=0,0,CHOOSE($H8,SUMPRODUCT(CHOOSE(Z$39,$O9:$O$36,$P9:$P$36,$Q9:$Q$36,$R9:$R$36)*Z9:Z$36*($E9:$E$36=$D8)),IF(ISNUMBER(Data!Q8),100*ABS($G8-(Data!Q8-$K8)/$M8),0),IF(ISNUMBER(Data!Q8),100*ABS($G8-(Data!Q8-$K8)/$M8),0)))","v":100},{"$f":"IF($H8=0,0,CHOOSE($H8,SUMPRODUCT(CHOOSE(AA$39,$O9:$O$36,$P9:$P$36,$Q9:$Q$36,$R9:$R$36)*AA9:AA$36*($E9:$E$36=$D8)),IF(ISNUMBER(Data!R8),100*ABS($G8-(Data!R8-$K8)/$M8),0),IF(ISNUMBER(Data!R8),100*ABS($G8-(Data!R8-$K8)/$M8),0)))","v":100},{"$f":"IF($H8=0,0,CHOOSE($H8,SUMPRODUCT(CHOOSE(AB$39,$O9:$O$36,$P9:$P$36,$Q9:$Q$36,$R9:$R$36)*AB9:AB$36*($E9:$E$36=$D8)),IF(ISNUMBER(Data!S8),100*ABS($G8-(Data!S8-$K8)/$M8),0),IF(ISNUMBER(Data!S8),100*ABS($G8-(Data!S8-$K8)/$M8),0)))","v":100},{"$f":"IF($H8=0,0,CHOOSE($H8,SUMPRODUCT(CHOOSE(AC$39,$O9:$O$36,$P9:$P$36,$Q9:$Q$36,$R9:$R$36)*AC9:AC$36*($E9:$E$36=$D8)),IF(ISNUMBER(Data!T8),100*ABS($G8-(Data!T8-$K8)/$M8),0),IF(ISNUMBER(Data!T8),100*ABS($G8-(Data!T8-$K8)/$M8),0)))","v":75},{"$f":"IF($H8=0,0,CHOOSE($H8,SUMPRODUCT(CHOOSE(AD$39,$O9:$O$36,$P9:$P$36,$Q9:$Q$36,$R9:$R$36)*AD9:AD$36*($E9:$E$36=$D8)),IF(ISNUMBER(Data!U8),100*ABS($G8-(Data!U8-$K8)/$M8),0),IF(ISNUMBER(Data!U8),100*ABS($G8-(Data!U8-$K8)/$M8),0)))","v":50},{"$f":"IF($H8=0,0,CHOOSE($H8,SUMPRODUCT(CHOOSE(AE$39,$O9:$O$36,$P9:$P$36,$Q9:$Q$36,$R9:$R$36)*AE9:AE$36*($E9:$E$36=$D8)),IF(ISNUMBER(Data!V8),100*ABS($G8-(Data!V8-$K8)/$M8),0),IF(ISNUMBER(Data!V8),100*ABS($G8-(Data!V8-$K8)/$M8),0)))","v":85.000000000000014},{"$f":"IF($H8=0,0,CHOOSE($H8,SUMPRODUCT(CHOOSE(AF$39,$O9:$O$36,$P9:$P$36,$Q9:$Q$36,$R9:$R$36)*AF9:AF$36*($E9:$E$36=$D8)),IF(ISNUMBER(Data!W8),100*ABS($G8-(Data!W8-$K8)/$M8),0),IF(ISNUMBER(Data!W8),100*ABS($G8-(Data!W8-$K8)/$M8),0)))","v":100},{"$f":"IF($H8=0,0,CHOOSE($H8,SUMPRODUCT(CHOOSE(AG$39,$O9:$O$36,$P9:$P$36,$Q9:$Q$36,$R9:$R$36)*AG9:AG$36*($E9:$E$36=$D8)),IF(ISNUMBER(Data!X8),100*ABS($G8-(Data!X8-$K8)/$M8),0),IF(ISNUMBER(Data!X8),100*ABS($G8-(Data!X8-$K8)/$M8),0)))","v":85.000000000000014},{"$f":"IF($H8=0,0,CHOOSE($H8,SUMPRODUCT(CHOOSE(AH$39,$O9:$O$36,$P9:$P$36,$Q9:$Q$36,$R9:$R$36)*AH9:AH$36*($E9:$E$36=$D8)),IF(ISNUMBER(Data!Y8),100*ABS($G8-(Data!Y8-$K8)/$M8),0),IF(ISNUMBER(Data!Y8),100*ABS($G8-(Data!Y8-$K8)/$M8),0)))","v":100},{"$f":"IF($H8=0,0,CHOOSE($H8,SUMPRODUCT(CHOOSE(AI$39,$O9:$O$36,$P9:$P$36,$Q9:$Q$36,$R9:$R$36)*AI9:AI$36*($E9:$E$36=$D8)),IF(ISNUMBER(Data!Z8),100*ABS($G8-(Data!Z8-$K8)/$M8),0),IF(ISNUMBER(Data!Z8),100*ABS($G8-(Data!Z8-$K8)/$M8),0)))","v":100},{"$f":"IF($H8=0,0,CHOOSE($H8,SUMPRODUCT(CHOOSE(AJ$39,$O9:$O$36,$P9:$P$36,$Q9:$Q$36,$R9:$R$36)*AJ9:AJ$36*($E9:$E$36=$D8)),IF(ISNUMBER(Data!AA8),100*ABS($G8-(Data!AA8-$K8)/$M8),0),IF(ISNUMBER(Data!AA8),100*ABS($G8-(Data!AA8-$K8)/$M8),0)))","v":100},{"$f":"IF($H8=0,0,CHOOSE($H8,SUMPRODUCT(CHOOSE(AK$39,$O9:$O$36,$P9:$P$36,$Q9:$Q$36,$R9:$R$36)*AK9:AK$36*($E9:$E$36=$D8)),IF(ISNUMBER(Data!AB8),100*ABS($G8-(Data!AB8-$K8)/$M8),0),IF(ISNUMBER(Data!AB8),100*ABS($G8-(Data!AB8-$K8)/$M8),0)))","v":100},{"$f":"IF($H8=0,0,CHOOSE($H8,SUMPRODUCT(CHOOSE(AL$39,$O9:$O$36,$P9:$P$36,$Q9:$Q$36,$R9:$R$36)*AL9:AL$36*($E9:$E$36=$D8)),IF(ISNUMBER(Data!AC8),100*ABS($G8-(Data!AC8-$K8)/$M8),0),IF(ISNUMBER(Data!AC8),100*ABS($G8-(Data!AC8-$K8)/$M8),0)))","v":100}]
[null,{"$f":"tblIndicators!A6","v":5},{"$f":"tblIndicators!B6","v":0},{"$f":"tblIndicators!D6","v":"EP_12"},{"$f":"tblIndicators!E6","v":"EP"},{"$f":"tblIndicators!F6","v":2},{"$f":"tblIndicators!S6","v":0},{"$f":"tblIndicators!T6","v":3},{"$f":"tblIndicators!U6","v":1},{"$f":"tblIndicators!V6","v":5},{"$f":"CHOOSE(H9,\"-\",MIN(Data!J9:AC9),I9)","v":1},{"$f":"CHOOSE(H9,\"-\",MAX(Data!J9:AC9),J9)","v":5},4,{"$f":"tblIndicators!Y6","v":"1.12) Tariff & non-tariff barriers"},{"$f":"tblIndicators!X6","v":7.1428571428571452E-2},{"$f":"tblIndicators!AF6","v":7.1428571428571425E-2},{"$f":"tblIndicators!AI6","v":7.1428571428571425E-2},{"$f":"tblIndicators!AL6","v":7.1428571428571425E-2},{"$f":"IF($H9=0,0,CHOOSE($H9,SUMPRODUCT(CHOOSE(S$39,$O10:$O$36,$P10:$P$36,$Q10:$Q$36,$R10:$R$36)*S10:S$36*($E10:$E$36=$D9)),IF(ISNUMBER(Data!J9),100*ABS($G9-(Data!J9-$K9)/$M9),0),IF(ISNUMBER(Data!J9),100*ABS($G9-(Data!J9-$K9)/$M9),0)))","v":25},{"$f":"IF($H9=0,0,CHOOSE($H9,SUMPRODUCT(CHOOSE(T$39,$O10:$O$36,$P10:$P$36,$Q10:$Q$36,$R10:$R$36)*T10:T$36*($E10:$E$36=$D9)),IF(ISNUMBER(Data!K9),100*ABS($G9-(Data!K9-$K9)/$M9),0),IF(ISNUMBER(Data!K9),100*ABS($G9-(Data!K9-$K9)/$M9),0)))","v":50},{"$f":"IF($H9=0,0,CHOOSE($H9,SUMPRODUCT(CHOOSE(U$39,$O10:$O$36,$P10:$P$36,$Q10:$Q$36,$R10:$R$36)*U10:U$36*($E10:$E$36=$D9)),IF(ISNUMBER(Data!L9),100*ABS($G9-(Data!L9-$K9)/$M9),0),IF(ISNUMBER(Data!L9),100*ABS($G9-(Data!L9-$K9)/$M9),0)))","v":50},{"$f":"IF($H9=0,0,CHOOSE($H9,SUMPRODUCT(CHOOSE(V$39,$O10:$O$36,$P10:$P$36,$Q10:$Q$36,$R10:$R$36)*V10:V$36*($E10:$E$36=$D9)),IF(ISNUMBER(Data!M9),100*ABS($G9-(Data!M9-$K9)/$M9),0),IF(ISNUMBER(Data!M9),100*ABS($G9-(Data!M9-$K9)/$M9),0)))","v":50},{"$f":"IF($H9=0,0,CHOOSE($H9,SUMPRODUCT(CHOOSE(W$39,$O10:$O$36,$P10:$P$36,$Q10:$Q$36,$R10:$R$36)*W10:W$36*($E10:$E$36=$D9)),IF(ISNUMBER(Data!N9),100*ABS($G9-(Data!N9-$K9)/$M9),0),IF(ISNUMBER(Data!N9),100*ABS($G9-(Data!N9-$K9)/$M9),0)))","v":100},{"$f":"IF($H9=0,0,CHOOSE($H9,SUMPRODUCT(CHOOSE(X$39,$O10:$O$36,$P10:$P$36,$Q10:$Q$36,$R10:$R$36)*X10:X$36*($E10:$E$36=$D9)),IF(ISNUMBER(Data!O9),100*ABS($G9-(Data!O9-$K9)/$M9),0),IF(ISNUMBER(Data!O9),100*ABS($G9-(Data!O9-$K9)/$M9),0)))","v":25},{"$f":"IF($H9=0,0,CHOOSE($H9,SUMPRODUCT(CHOOSE(Y$39,$O10:$O$36,$P10:$P$36,$Q10:$Q$36,$R10:$R$36)*Y10:Y$36*($E10:$E$36=$D9)),IF(ISNUMBER(Data!P9),100*ABS($G9-(Data!P9-$K9)/$M9),0),IF(ISNUMBER(Data!P9),100*ABS($G9-(Data!P9-$K9)/$M9),0)))","v":75},{"$f":"IF($H9=0,0,CHOOSE($H9,SUMPRODUCT(CHOOSE(Z$39,$O10:$O$36,$P10:$P$36,$Q10:$Q$36,$R10:$R$36)*Z10:Z$36*($E10:$E$36=$D9)),IF(ISNUMBER(Data!Q9),100*ABS($G9-(Data!Q9-$K9)/$M9),0),IF(ISNUMBER(Data!Q9),100*ABS($G9-(Data!Q9-$K9)/$M9),0)))","v":75},{"$f":"IF($H9=0,0,CHOOSE($H9,SUMPRODUCT(CHOOSE(AA$39,$O10:$O$36,$P10:$P$36,$Q10:$Q$36,$R10:$R$36)*AA10:AA$36*($E10:$E$36=$D9)),IF(ISNUMBER(Data!R9),100*ABS($G9-(Data!R9-$K9)/$M9),0),IF(ISNUMBER(Data!R9),100*ABS($G9-(Data!R9-$K9)/$M9),0)))","v":75},{"$f":"IF($H9=0,0,CHOOSE($H9,SUMPRODUCT(CHOOSE(AB$39,$O10:$O$36,$P10:$P$36,$Q10:$Q$36,$R10:$R$36)*AB10:AB$36*($E10:$E$36=$D9)),IF(ISNUMBER(Data!S9),100*ABS($G9-(Data!S9-$K9)/$M9),0),IF(ISNUMBER(Data!S9),100*ABS($G9-(Data!S9-$K9)/$M9),0)))","v":75},{"$f":"IF($H9=0,0,CHOOSE($H9,SUMPRODUCT(CHOOSE(AC$39,$O10:$O$36,$P10:$P$36,$Q10:$Q$36,$R10:$R$36)*AC10:AC$36*($E10:$E$36=$D9)),IF(ISNUMBER(Data!T9),100*ABS($G9-(Data!T9-$K9)/$M9),0),IF(ISNUMBER(Data!T9),100*ABS($G9-(Data!T9-$K9)/$M9),0)))","v":75},{"$f":"IF($H9=0,0,CHOOSE($H9,SUMPRODUCT(CHOOSE(AD$39,$O10:$O$36,$P10:$P$36,$Q10:$Q$36,$R10:$R$36)*AD10:AD$36*($E10:$E$36=$D9)),IF(ISNUMBER(Data!U9),100*ABS($G9-(Data!U9-$K9)/$M9),0),IF(ISNUMBER(Data!U9),100*ABS($G9-(Data!U9-$K9)/$M9),0)))","v":25},{"$f":"IF($H9=0,0,CHOOSE($H9,SUMPRODUCT(CHOOSE(AE$39,$O10:$O$36,$P10:$P$36,$Q10:$Q$36,$R10:$R$36)*AE10:AE$36*($E10:$E$36=$D9)),IF(ISNUMBER(Data!V9),100*ABS($G9-(Data!V9-$K9)/$M9),0),IF(ISNUMBER(Data!V9),100*ABS($G9-(Data!V9-$K9)/$M9),0)))","v":75},{"$f":"IF($H9=0,0,CHOOSE($H9,SUMPRODUCT(CHOOSE(AF$39,$O10:$O$36,$P10:$P$36,$Q10:$Q$36,$R10:$R$36)*AF10:AF$36*($E10:$E$36=$D9)),IF(ISNUMBER(Data!W9),100*ABS($G9-(Data!W9-$K9)/$M9),0),IF(ISNUMBER(Data!W9),100*ABS($G9-(Data!W9-$K9)/$M9),0)))","v":100},{"$f":"IF($H9=0,0,CHOOSE($H9,SUMPRODUCT(CHOOSE(AG$39,$O10:$O$36,$P10:$P$36,$Q10:$Q$36,$R10:$R$36)*AG10:AG$36*($E10:$E$36=$D9)),IF(ISNUMBER(Data!X9),100*ABS($G9-(Data!X9-$K9)/$M9),0),IF(ISNUMBER(Data!X9),100*ABS($G9-(Data!X9-$K9)/$M9),0)))","v":75},{"$f":"IF($H9=0,0,CHOOSE($H9,SUMPRODUCT(CHOOSE(AH$39,$O10:$O$36,$P10:$P$36,$Q10:$Q$36,$R10:$R$36)*AH10:AH$36*($E10:$E$36=$D9)),IF(ISNUMBER(Data!Y9),100*ABS($G9-(Data!Y9-$K9)/$M9),0),IF(ISNUMBER(Data!Y9),100*ABS($G9-(Data!Y9-$K9)/$M9),0)))","v":50},{"$f":"IF($H9=0,0,CHOOSE($H9,SUMPRODUCT(CHOOSE(AI$39,$O10:$O$36,$P10:$P$36,$Q10:$Q$36,$R10:$R$36)*AI10:AI$36*($E10:$E$36=$D9)),IF(ISNUMBER(Data!Z9),100*ABS($G9-(Data!Z9-$K9)/$M9),0),IF(ISNUMBER(Data!Z9),100*ABS($G9-(Data!Z9-$K9)/$M9),0)))","v":75},{"$f":"IF($H9=0,0,CHOOSE($H9,SUMPRODUCT(CHOOSE(AJ$39,$O10:$O$36,$P10:$P$36,$Q10:$Q$36,$R10:$R$36)*AJ10:AJ$36*($E10:$E$36=$D9)),IF(ISNUMBER(Data!AA9),100*ABS($G9-(Data!AA9-$K9)/$M9),0),IF(ISNUMBER(Data!AA9),100*ABS($G9-(Data!AA9-$K9)/$M9),0)))","v":60},{"$f":"IF($H9=0,0,CHOOSE($H9,SUMPRODUCT(CHOOSE(AK$39,$O10:$O$36,$P10:$P$36,$Q10:$Q$36,$R10:$R$36)*AK10:AK$36*($E10:$E$36=$D9)),IF(ISNUMBER(Data!AB9),100*ABS($G9-(Data!AB9-$K9)/$M9),0),IF(ISNUMBER(Data!AB9),100*ABS($G9-(Data!AB9-$K9)/$M9),0)))","v":35},{"$f":"IF($H9=0,0,CHOOSE($H9,SUMPRODUCT(CHOOSE(AL$39,$O10:$O$36,$P10:$P$36,$Q10:$Q$36,$R10:$R$36)*AL10:AL$36*($E10:$E$36=$D9)),IF(ISNUMBER(Data!AC9),100*ABS($G9-(Data!AC9-$K9)/$M9),0),IF(ISNUMBER(Data!AC9),100*ABS($G9-(Data!AC9-$K9)/$M9),0)))","v":75}]
[null,{"$f":"tblIndicators!A7","v":6},{"$f":"tblIndicators!B7","v":0},{"$f":"tblIndicators!D7","v":"EP_13"},{"$f":"tblIndicators!E7","v":"EP"},{"$f":"tblIndicators!F7","v":2},{"$f":"tblIndicators!S7","v":1},{"$f":"tblIndicators!T7","v":2},{"$f":"tblIndicators!U7","v":0},{"$f":"tblIndicators!V7","v":0},{"$f":"CHOOSE(H10,\"-\",MIN(Data!J10:AC10),I10)","v":0.01},{"$f":"CHOOSE(H10,\"-\",MAX(Data!J10:AC10),J10)","v":0.30199999999999999},0.29199999999999998,{"$f":"tblIndicators!Y7","v":"1.13) Exchange rate volatility"},{"$f":"tblIndicators!X7","v":7.1428571428571452E-2},{"$f":"tblIndicators!AF7","v":7.1428571428571425E-2},{"$f":"tblIndicators!AI7","v":7.1428571428571425E-2},{"$f":"tblIndicators!AL7","v":7.1428571428571425E-2},{"$f":"IF($H10=0,0,CHOOSE($H10,SUMPRODUCT(CHOOSE(S$39,$O11:$O$36,$P11:$P$36,$Q11:$Q$36,$R11:$R$36)*S11:S$36*($E11:$E$36=$D10)),IF(ISNUMBER(Data!J10),100*ABS($G10-(Data!J10-$K10)/$M10),0),IF(ISNUMBER(Data!J10),100*ABS($G10-(Data!J10-$K10)/$M10),0)))","v":95.890410958904113},{"$f":"IF($H10=0,0,CHOOSE($H10,SUMPRODUCT(CHOOSE(T$39,$O11:$O$36,$P11:$P$36,$Q11:$Q$36,$R11:$R$36)*T11:T$36*($E11:$E$36=$D10)),IF(ISNUMBER(Data!K10),100*ABS($G10-(Data!K10-$K10)/$M10),0),IF(ISNUMBER(Data!K10),100*ABS($G10-(Data!K10-$K10)/$M10),0)))","v":97.260273972602747},{"$f":"IF($H10=0,0,CHOOSE($H10,SUMPRODUCT(CHOOSE(U$39,$O11:$O$36,$P11:$P$36,$Q11:$Q$36,$R11:$R$36)*U11:U$36*($E11:$E$36=$D10)),IF(ISNUMBER(Data!L10),100*ABS($G10-(Data!L10-$K10)/$M10),0),IF(ISNUMBER(Data!L10),100*ABS($G10-(Data!L10-$K10)/$M10),0)))","v":98.630136986301366},{"$f":"IF($H10=0,0,CHOOSE($H10,SUMPRODUCT(CHOOSE(V$39,$O11:$O$36,$P11:$P$36,$Q11:$Q$36,$R11:$R$36)*V11:V$36*($E11:$E$36=$D10)),IF(ISNUMBER(Data!M10),100*ABS($G10-(Data!M10-$K10)/$M10),0),IF(ISNUMBER(Data!M10),100*ABS($G10-(Data!M10-$K10)/$M10),0)))","v":96.575342465753423},{"$f":"IF($H10=0,0,CHOOSE($H10,SUMPRODUCT(CHOOSE(W$39,$O11:$O$36,$P11:$P$36,$Q11:$Q$36,$R11:$R$36)*W11:W$36*($E11:$E$36=$D10)),IF(ISNUMBER(Data!N10),100*ABS($G10-(Data!N10-$K10)/$M10),0),IF(ISNUMBER(Data!N10),100*ABS($G10-(Data!N10-$K10)/$M10),0)))","v":100},{"$f":"IF($H10=0,0,CHOOSE($H10,SUMPRODUCT(CHOOSE(X$39,$O11:$O$36,$P11:$P$36,$Q11:$Q$36,$R11:$R$36)*X11:X$36*($E11:$E$36=$D10)),IF(ISNUMBER(Data!O10),100*ABS($G10-(Data!O10-$K10)/$M10),0),IF(ISNUMBER(Data!O10),100*ABS($G10-(Data!O10-$K10)/$M10),0)))","v":91.780821917808225},{"$f":"IF($H10=0,0,CHOOSE($H10,SUMPRODUCT(CHOOSE(Y$39,$O11:$O$36,$P11:$P$36,$Q11:$Q$36,$R11:$R$36)*Y11:Y$36*($E11:$E$36=$D10)),IF(ISNUMBER(Data!P10),100*ABS($G10-(Data!P10-$K10)/$M10),0),IF(ISNUMBER(Data!P10),100*ABS($G10-(Data!P10-$K10)/$M10),0)))","v":95.205479452054803},{"$f":"IF($H10=0,0,CHOOSE($H10,SUMPRODUCT(CHOOSE(Z$39,$O11:$O$36,$P11:$P$36,$Q11:$Q$36,$R11:$R$36)*Z11:Z$36*($E11:$E$36=$D10)),IF(ISNUMBER(Data!Q10),100*ABS($G10-(Data!Q10-$K10)/$M10),0),IF(ISNUMBER(Data!Q10),100*ABS($G10-(Data!Q10-$K10)/$M10),0)))","v":93.150684931506845},{"$f":"IF($H10=0,0,CHOOSE($H10,SUMPRODUCT(CHOOSE(AA$39,$O11:$O$36,$P11:$P$36,$Q11:$Q$36,$R11:$R$36)*AA11:AA$36*($E11:$E$36=$D10)),IF(ISNUMBER(Data!R10),100*ABS($G10-(Data!R10-$K10)/$M10),0),IF(ISNUMBER(Data!R10),100*ABS($G10-(Data!R10-$K10)/$M10),0)))","v":98.63013698630138},{"$f":"IF($H10=0,0,CHOOSE($H10,SUMPRODUCT(CHOOSE(AB$39,$O11:$O$36,$P11:$P$36,$Q11:$Q$36,$R11:$R$36)*AB11:AB$36*($E11:$E$36=$D10)),IF(ISNUMBER(Data!S10),100*ABS($G10-(Data!S10-$K10)/$M10),0),IF(ISNUMBER(Data!S10),100*ABS($G10-(Data!S10-$K10)/$M10),0)))","v":96.575342465753423},{"$f":"IF($H10=0,0,CHOOSE($H10,SUMPRODUCT(CHOOSE(AC$39,$O11:$O$36,$P11:$P$36,$Q11:$Q$36,$R11:$R$36)*AC11:AC$36*($E11:$E$36=$D10)),IF(ISNUMBER(Data!T10),100*ABS($G10-(Data!T10-$K10)/$M10),0),IF(ISNUMBER(Data!T10),100*ABS($G10-(Data!T10-$K10)/$M10),0)))","v":0},{"$f":"IF($H10=0,0,CHOOSE($H10,SUMPRODUCT(CHOOSE(AD$39,$O11:$O$36,$P11:$P$36,$Q11:$Q$36,$R11:$R$36)*AD11:AD$36*($E11:$E$36=$D10)),IF(ISNUMBER(Data!U10),100*ABS($G10-(Data!U10-$K10)/$M10),0),IF(ISNUMBER(Data!U10),100*ABS($G10-(Data!U10-$K10)/$M10),0)))","v":98.630136986301366},{"$f":"IF($H10=0,0,CHOOSE($H10,SUMPRODUCT(CHOOSE(AE$39,$O11:$O$36,$P11:$P$36,$Q11:$Q$36,$R11:$R$36)*AE11:AE$36*($E11:$E$36=$D10)),IF(ISNUMBER(Data!V10),100*ABS($G10-(Data!V10-$K10)/$M10),0),IF(ISNUMBER(Data!V10),100*ABS($G10-(Data!V10-$K10)/$M10),0)))","v":96.575342465753423},{"$f":"IF($H10=0,0,CHOOSE($H10,SUMPRODUCT(CHOOSE(AF$39,$O11:$O$36,$P11:$P$36,$Q11:$Q$36,$R11:$R$36)*AF11:AF$36*($E11:$E$36=$D10)),IF(ISNUMBER(Data!W10),100*ABS($G10-(Data!W10-$K10)/$M10),0),IF(ISNUMBER(Data!W10),100*ABS($G10-(Data!W10-$K10)/$M10),0)))","v":97.260273972602747},{"$f":"IF($H10=0,0,CHOOSE($H10,SUMPRODUCT(CHOOSE(AG$39,$O11:$O$36,$P11:$P$36,$Q11:$Q$36,$R11:$R$36)*AG11:AG$36*($E11:$E$36=$D10)),IF(ISNUMBER(Data!X10),100*ABS($G10-(Data!X10-$K10)/$M10),0),IF(ISNUMBER(Data!X10),100*ABS($G10-(Data!X10-$K10)/$M10),0)))","v":95.205479452054803},{"$f":"IF($H10=0,0,CHOOSE($H10,SUMPRODUCT(CHOOSE(AH$39,$O11:$O$36,$P11:$P$36,$Q11:$Q$36,$R11:$R$36)*AH11:AH$36*($E11:$E$36=$D10)),IF(ISNUMBER(Data!Y10),100*ABS($G10-(Data!Y10-$K10)/$M10),0),IF(ISNUMBER(Data!Y10),100*ABS($G10-(Data!Y10-$K10)/$M10),0)))","v":96.575342465753423},{"$f":"IF($H10=0,0,CHOOSE($H10,SUMPRODUCT(CHOOSE(AI$39,$O11:$O$36,$P11:$P$36,$Q11:$Q$36,$R11:$R$36)*AI11:AI$36*($E11:$E$36=$D10)),IF(ISNUMBER(Data!Z10),100*ABS($G10-(Data!Z10-$K10)/$M10),0),IF(ISNUMBER(Data!Z10),100*ABS($G10-(Data!Z10-$K10)/$M10),0)))","v":98.630136986301366},{"$f":"IF($H10=0,0,CHOOSE($H10,SUMPRODUCT(CHOOSE(AJ$39,$O11:$O$36,$P11:$P$36,$Q11:$Q$36,$R11:$R$36)*AJ11:AJ$36*($E11:$E$36=$D10)),IF(ISNUMBER(Data!AA10),100*ABS($G10-(Data!AA10-$K10)/$M10),0),IF(ISNUMBER(Data!AA10),100*ABS($G10-(Data!AA10-$K10)/$M10),0)))","v":95.205479452054803},{"$f":"IF($H10=0,0,CHOOSE($H10,SUMPRODUCT(CHOOSE(AK$39,$O11:$O$36,$P11:$P$36,$Q11:$Q$36,$R11:$R$36)*AK11:AK$36*($E11:$E$36=$D10)),IF(ISNUMBER(Data!AB10),100*ABS($G10-(Data!AB10-$K10)/$M10),0),IF(ISNUMBER(Data!AB10),100*ABS($G10-(Data!AB10-$K10)/$M10),0)))","v":97.945205479452056},{"$f":"IF($H10=0,0,CHOOSE($H10,SUMPRODUCT(CHOOSE(AL$39,$O11:$O$36,$P11:$P$36,$Q11:$Q$36,$R11:$R$36)*AL11:AL$36*($E11:$E$36=$D10)),IF(ISNUMBER(Data!AC10),100*ABS($G10-(Data!AC10-$K10)/$M10),0),IF(ISNUMBER(Data!AC10),100*ABS($G10-(Data!AC10-$K10)/$M10),0)))","v":95.890410958904098}]
[null,{"$f":"tblIndicators!A8","v":7},{"$f":"tblIndicators!B8","v":0},{"$f":"tblIndicators!D8","v":"EP_14"},{"$f":"tblIndicators!E8","v":"EP"},{"$f":"tblIndicators!F8","v":2},{"$f":"tblIndicators!S8","v":0},{"$f":"tblIndicators!T8","v":2},{"$f":"tblIndicators!U8","v":0},{"$f":"tblIndicators!V8","v":0},{"$f":"CHOOSE(H11,\"-\",MIN(Data!J11:AC11),I11)","v":14},{"$f":"CHOOSE(H11,\"-\",MAX(Data!J11:AC11),J11)","v":234},220,{"$f":"tblIndicators!Y8","v":"1.14) Financial sector depth"},{"$f":"tblIndicators!X8","v":7.1428571428571452E-2},{"$f":"tblIndicators!AF8","v":7.1428571428571425E-2},{"$f":"tblIndicators!AI8","v":7.1428571428571425E-2},{"$f":"tblIndicators!AL8","v":7.1428571428571425E-2},{"$f":"IF($H11=0,0,CHOOSE($H11,SUMPRODUCT(CHOOSE(S$39,$O12:$O$36,$P12:$P$36,$Q12:$Q$36,$R12:$R$36)*S12:S$36*($E12:$E$36=$D11)),IF(ISNUMBER(Data!J11),100*ABS($G11-(Data!J11-$K11)/$M11),0),IF(ISNUMBER(Data!J11),100*ABS($G11-(Data!J11-$K11)/$M11),0)))","v":12.727272727272727},{"$f":"IF($H11=0,0,CHOOSE($H11,SUMPRODUCT(CHOOSE(T$39,$O12:$O$36,$P12:$P$36,$Q12:$Q$36,$R12:$R$36)*T12:T$36*($E12:$E$36=$D11)),IF(ISNUMBER(Data!K11),100*ABS($G11-(Data!K11-$K11)/$M11),0),IF(ISNUMBER(Data!K11),100*ABS($G11-(Data!K11-$K11)/$M11),0)))","v":8.6363636363636367},{"$f":"IF($H11=0,0,CHOOSE($H11,SUMPRODUCT(CHOOSE(U$39,$O12:$O$36,$P12:$P$36,$Q12:$Q$36,$R12:$R$36)*U12:U$36*($E12:$E$36=$D11)),IF(ISNUMBER(Data!L11),100*ABS($G11-(Data!L11-$K11)/$M11),0),IF(ISNUMBER(Data!L11),100*ABS($G11-(Data!L11-$K11)/$M11),0)))","v":18.181818181818183},{"$f":"IF($H11=0,0,CHOOSE($H11,SUMPRODUCT(CHOOSE(V$39,$O12:$O$36,$P12:$P$36,$Q12:$Q$36,$R12:$R$36)*V12:V$36*($E12:$E$36=$D11)),IF(ISNUMBER(Data!M11),100*ABS($G11-(Data!M11-$K11)/$M11),0),IF(ISNUMBER(Data!M11),100*ABS($G11-(Data!M11-$K11)/$M11),0)))","v":58.18181818181818},{"$f":"IF($H11=0,0,CHOOSE($H11,SUMPRODUCT(CHOOSE(W$39,$O12:$O$36,$P12:$P$36,$Q12:$Q$36,$R12:$R$36)*W12:W$36*($E12:$E$36=$D11)),IF(ISNUMBER(Data!N11),100*ABS($G11-(Data!N11-$K11)/$M11),0),IF(ISNUMBER(Data!N11),100*ABS($G11-(Data!N11-$K11)/$M11),0)))","v":100},{"$f":"IF($H11=0,0,CHOOSE($H11,SUMPRODUCT(CHOOSE(X$39,$O12:$O$36,$P12:$P$36,$Q12:$Q$36,$R12:$R$36)*X12:X$36*($E12:$E$36=$D11)),IF(ISNUMBER(Data!O11),100*ABS($G11-(Data!O11-$K11)/$M11),0),IF(ISNUMBER(Data!O11),100*ABS($G11-(Data!O11-$K11)/$M11),0)))","v":16.818181818181817},{"$f":"IF($H11=0,0,CHOOSE($H11,SUMPRODUCT(CHOOSE(Y$39,$O12:$O$36,$P12:$P$36,$Q12:$Q$36,$R12:$R$36)*Y12:Y$36*($E12:$E$36=$D11)),IF(ISNUMBER(Data!P11),100*ABS($G11-(Data!P11-$K11)/$M11),0),IF(ISNUMBER(Data!P11),100*ABS($G11-(Data!P11-$K11)/$M11),0)))","v":11.818181818181818},{"$f":"IF($H11=0,0,CHOOSE($H11,SUMPRODUCT(CHOOSE(Z$39,$O12:$O$36,$P12:$P$36,$Q12:$Q$36,$R12:$R$36)*Z12:Z$36*($E12:$E$36=$D11)),IF(ISNUMBER(Data!Q11),100*ABS($G11-(Data!Q11-$K11)/$M11),0),IF(ISNUMBER(Data!Q11),100*ABS($G11-(Data!Q11-$K11)/$M11),0)))","v":79.090909090909093},{"$f":"IF($H11=0,0,CHOOSE($H11,SUMPRODUCT(CHOOSE(AA$39,$O12:$O$36,$P12:$P$36,$Q12:$Q$36,$R12:$R$36)*AA12:AA$36*($E12:$E$36=$D11)),IF(ISNUMBER(Data!R11),100*ABS($G11-(Data!R11-$K11)/$M11),0),IF(ISNUMBER(Data!R11),100*ABS($G11-(Data!R11-$K11)/$M11),0)))","v":3.1818181818181817},{"$f":"IF($H11=0,0,CHOOSE($H11,SUMPRODUCT(CHOOSE(AB$39,$O12:$O$36,$P12:$P$36,$Q12:$Q$36,$R12:$R$36)*AB12:AB$36*($E12:$E$36=$D11)),IF(ISNUMBER(Data!S11),100*ABS($G11-(Data!S11-$K11)/$M11),0),IF(ISNUMBER(Data!S11),100*ABS($G11-(Data!S11-$K11)/$M11),0)))","v":50.454545454545453},{"$f":"IF($H11=0,0,CHOOSE($H11,SUMPRODUCT(CHOOSE(AC$39,$O12:$O$36,$P12:$P$36,$Q12:$Q$36,$R12:$R$36)*AC12:AC$36*($E12:$E$36=$D11)),IF(ISNUMBER(Data!T11),100*ABS($G11-(Data!T11-$K11)/$M11),0),IF(ISNUMBER(Data!T11),100*ABS($G11-(Data!T11-$K11)/$M11),0)))","v":0},{"$f":"IF($H11=0,0,CHOOSE($H11,SUMPRODUCT(CHOOSE(AD$39,$O12:$O$36,$P12:$P$36,$Q12:$Q$36,$R12:$R$36)*AD12:AD$36*($E12:$E$36=$D11)),IF(ISNUMBER(Data!U11),100*ABS($G11-(Data!U11-$K11)/$M11),0),IF(ISNUMBER(Data!U11),100*ABS($G11-(Data!U11-$K11)/$M11),0)))","v":0.45454545454545453},{"$f":"IF($H11=0,0,CHOOSE($H11,SUMPRODUCT(CHOOSE(AE$39,$O12:$O$36,$P12:$P$36,$Q12:$Q$36,$R12:$R$36)*AE12:AE$36*($E12:$E$36=$D11)),IF(ISNUMBER(Data!V11),100*ABS($G11-(Data!V11-$K11)/$M11),0),IF(ISNUMBER(Data!V11),100*ABS($G11-(Data!V11-$K11)/$M11),0)))","v":11.363636363636363},{"$f":"IF($H11=0,0,CHOOSE($H11,SUMPRODUCT(CHOOSE(AF$39,$O12:$O$36,$P12:$P$36,$Q12:$Q$36,$R12:$R$36)*AF12:AF$36*($E12:$E$36=$D11)),IF(ISNUMBER(Data!W11),100*ABS($G11-(Data!W11-$K11)/$M11),0),IF(ISNUMBER(Data!W11),100*ABS($G11-(Data!W11-$K11)/$M11),0)))","v":53.181818181818187},{"$f":"IF($H11=0,0,CHOOSE($H11,SUMPRODUCT(CHOOSE(AG$39,$O12:$O$36,$P12:$P$36,$Q12:$Q$36,$R12:$R$36)*AG12:AG$36*($E12:$E$36=$D11)),IF(ISNUMBER(Data!X11),100*ABS($G11-(Data!X11-$K11)/$M11),0),IF(ISNUMBER(Data!X11),100*ABS($G11-(Data!X11-$K11)/$M11),0)))","v":56.36363636363636},{"$f":"IF($H11=0,0,CHOOSE($H11,SUMPRODUCT(CHOOSE(AH$39,$O12:$O$36,$P12:$P$36,$Q12:$Q$36,$R12:$R$36)*AH12:AH$36*($E12:$E$36=$D11)),IF(ISNUMBER(Data!Y11),100*ABS($G11-(Data!Y11-$K11)/$M11),0),IF(ISNUMBER(Data!Y11),100*ABS($G11-(Data!Y11-$K11)/$M11),0)))","v":6.3636363636363633},{"$f":"IF($H11=0,0,CHOOSE($H11,SUMPRODUCT(CHOOSE(AI$39,$O12:$O$36,$P12:$P$36,$Q12:$Q$36,$R12:$R$36)*AI12:AI$36*($E12:$E$36=$D11)),IF(ISNUMBER(Data!Z11),100*ABS($G11-(Data!Z11-$K11)/$M11),0),IF(ISNUMBER(Data!Z11),100*ABS($G11-(Data!Z11-$K11)/$M11),0)))","v":66.181818181818173},{"$f":"IF($H11=0,0,CHOOSE($H11,SUMPRODUCT(CHOOSE(AJ$39,$O12:$O$36,$P12:$P$36,$Q12:$Q$36,$R12:$R$36)*AJ12:AJ$36*($E12:$E$36=$D11)),IF(ISNUMBER(Data!AA11),100*ABS($G11-(Data!AA11-$K11)/$M11),0),IF(ISNUMBER(Data!AA11),100*ABS($G11-(Data!AA11-$K11)/$M11),0)))","v":65.909090909090907},{"$f":"IF($H11=0,0,CHOOSE($H11,SUMPRODUCT(CHOOSE(AK$39,$O12:$O$36,$P12:$P$36,$Q12:$Q$36,$R12:$R$36)*AK12:AK$36*($E12:$E$36=$D11)),IF(ISNUMBER(Data!AB11),100*ABS($G11-(Data!AB11-$K11)/$M11),0),IF(ISNUMBER(Data!AB11),100*ABS($G11-(Data!AB11-$K11)/$M11),0)))","v":39.090909090909093},{"$f":"IF($H11=0,0,CHOOSE($H11,SUMPRODUCT(CHOOSE(AL$39,$O12:$O$36,$P12:$P$36,$Q12:$Q$36,$R12:$R$36)*AL12:AL$36*($E12:$E$36=$D11)),IF(ISNUMBER(Data!AC11),100*ABS($G11-(Data!AC11-$K11)/$M11),0),IF(ISNUMBER(Data!AC11),100*ABS($G11-(Data!AC11-$K11)/$M11),0)))","v":82.727272727272734}]
[null,{"$f":"tblIndicators!A9","v":8},{"$f":"tblIndicators!B9","v":0},{"$f":"tblIndicators!D9","v":"EP_15"},{"$f":"tblIndicators!E9","v":"EP"},{"$f":"tblIndicators!F9","v":2},{"$f":"tblIndicators!S9","v":1},{"$f":"tblIndicators!T9","v":3},{"$f":"tblIndicators!U9","v":1},{"$f":"tblIndicators!V9","v":100},{"$f":"CHOOSE(H12,\"-\",MIN(Data!J12:AC12),I12)","v":1},{"$f":"CHOOSE(H12,\"-\",MAX(Data!J12:AC12),J12)","v":100},99,{"$f":"tblIndicators!Y9","v":"1.15) Foreign trade and payments risk"},{"$f":"tblIndicators!X9","v":7.1428571428571452E-2},{"$f":"tblIndicators!AF9","v":7.1428571428571425E-2},{"$f":"tblIndicators!AI9","v":7.1428571428571425E-2},{"$f":"tblIndicators!AL9","v":7.1428571428571425E-2},{"$f":"IF($H12=0,0,CHOOSE($H12,SUMPRODUCT(CHOOSE(S$39,$O13:$O$36,$P13:$P$36,$Q13:$Q$36,$R13:$R$36)*S13:S$36*($E13:$E$36=$D12)),IF(ISNUMBER(Data!J12),100*ABS($G12-(Data!J12-$K12)/$M12),0),IF(ISNUMBER(Data!J12),100*ABS($G12-(Data!J12-$K12)/$M12),0)))","v":43.43434343434344},{"$f":"IF($H12=0,0,CHOOSE($H12,SUMPRODUCT(CHOOSE(T$39,$O13:$O$36,$P13:$P$36,$Q13:$Q$36,$R13:$R$36)*T13:T$36*($E13:$E$36=$D12)),IF(ISNUMBER(Data!K12),100*ABS($G12-(Data!K12-$K12)/$M12),0),IF(ISNUMBER(Data!K12),100*ABS($G12-(Data!K12-$K12)/$M12),0)))","v":79.797979797979806},{"$f":"IF($H12=0,0,CHOOSE($H12,SUMPRODUCT(CHOOSE(U$39,$O13:$O$36,$P13:$P$36,$Q13:$Q$36,$R13:$R$36)*U13:U$36*($E13:$E$36=$D12)),IF(ISNUMBER(Data!L12),100*ABS($G12-(Data!L12-$K12)/$M12),0),IF(ISNUMBER(Data!L12),100*ABS($G12-(Data!L12-$K12)/$M12),0)))","v":58.585858585858588},{"$f":"IF($H12=0,0,CHOOSE($H12,SUMPRODUCT(CHOOSE(V$39,$O13:$O$36,$P13:$P$36,$Q13:$Q$36,$R13:$R$36)*V13:V$36*($E13:$E$36=$D12)),IF(ISNUMBER(Data!M12),100*ABS($G12-(Data!M12-$K12)/$M12),0),IF(ISNUMBER(Data!M12),100*ABS($G12-(Data!M12-$K12)/$M12),0)))","v":67.676767676767668},{"$f":"IF($H12=0,0,CHOOSE($H12,SUMPRODUCT(CHOOSE(W$39,$O13:$O$36,$P13:$P$36,$Q13:$Q$36,$R13:$R$36)*W13:W$36*($E13:$E$36=$D12)),IF(ISNUMBER(Data!N12),100*ABS($G12-(Data!N12-$K12)/$M12),0),IF(ISNUMBER(Data!N12),100*ABS($G12-(Data!N12-$K12)/$M12),0)))","v":93.939393939393938},{"$f":"IF($H12=0,0,CHOOSE($H12,SUMPRODUCT(CHOOSE(X$39,$O13:$O$36,$P13:$P$36,$Q13:$Q$36,$R13:$R$36)*X13:X$36*($E13:$E$36=$D12)),IF(ISNUMBER(Data!O12),100*ABS($G12-(Data!O12-$K12)/$M12),0),IF(ISNUMBER(Data!O12),100*ABS($G12-(Data!O12-$K12)/$M12),0)))","v":50.505050505050498},{"$f":"IF($H12=0,0,CHOOSE($H12,SUMPRODUCT(CHOOSE(Y$39,$O13:$O$36,$P13:$P$36,$Q13:$Q$36,$R13:$R$36)*Y13:Y$36*($E13:$E$36=$D12)),IF(ISNUMBER(Data!P12),100*ABS($G12-(Data!P12-$K12)/$M12),0),IF(ISNUMBER(Data!P12),100*ABS($G12-(Data!P12-$K12)/$M12),0)))","v":57.575757575757571},{"$f":"IF($H12=0,0,CHOOSE($H12,SUMPRODUCT(CHOOSE(Z$39,$O13:$O$36,$P13:$P$36,$Q13:$Q$36,$R13:$R$36)*Z13:Z$36*($E13:$E$36=$D12)),IF(ISNUMBER(Data!Q12),100*ABS($G12-(Data!Q12-$K12)/$M12),0),IF(ISNUMBER(Data!Q12),100*ABS($G12-(Data!Q12-$K12)/$M12),0)))","v":75.757575757575751},{"$f":"IF($H12=0,0,CHOOSE($H12,SUMPRODUCT(CHOOSE(AA$39,$O13:$O$36,$P13:$P$36,$Q13:$Q$36,$R13:$R$36)*AA13:AA$36*($E13:$E$36=$D12)),IF(ISNUMBER(Data!R12),100*ABS($G12-(Data!R12-$K12)/$M12),0),IF(ISNUMBER(Data!R12),100*ABS($G12-(Data!R12-$K12)/$M12),0)))","v":29.292929292929294},{"$f":"IF($H12=0,0,CHOOSE($H12,SUMPRODUCT(CHOOSE(AB$39,$O13:$O$36,$P13:$P$36,$Q13:$Q$36,$R13:$R$36)*AB13:AB$36*($E13:$E$36=$D12)),IF(ISNUMBER(Data!S12),100*ABS($G12-(Data!S12-$K12)/$M12),0),IF(ISNUMBER(Data!S12),100*ABS($G12-(Data!S12-$K12)/$M12),0)))","v":79.797979797979806},{"$f":"IF($H12=0,0,CHOOSE($H12,SUMPRODUCT(CHOOSE(AC$39,$O13:$O$36,$P13:$P$36,$Q13:$Q$36,$R13:$R$36)*AC13:AC$36*($E13:$E$36=$D12)),IF(ISNUMBER(Data!T12),100*ABS($G12-(Data!T12-$K12)/$M12),0),IF(ISNUMBER(Data!T12),100*ABS($G12-(Data!T12-$K12)/$M12),0)))","v":36.363636363636367},{"$f":"IF($H12=0,0,CHOOSE($H12,SUMPRODUCT(CHOOSE(AD$39,$O13:$O$36,$P13:$P$36,$Q13:$Q$36,$R13:$R$36)*AD13:AD$36*($E13:$E$36=$D12)),IF(ISNUMBER(Data!U12),100*ABS($G12-(Data!U12-$K12)/$M12),0),IF(ISNUMBER(Data!U12),100*ABS($G12-(Data!U12-$K12)/$M12),0)))","v":25.252525252525249},{"$f":"IF($H12=0,0,CHOOSE($H12,SUMPRODUCT(CHOOSE(AE$39,$O13:$O$36,$P13:$P$36,$Q13:$Q$36,$R13:$R$36)*AE13:AE$36*($E13:$E$36=$D12)),IF(ISNUMBER(Data!V12),100*ABS($G12-(Data!V12-$K12)/$M12),0),IF(ISNUMBER(Data!V12),100*ABS($G12-(Data!V12-$K12)/$M12),0)))","v":71.717171717171709},{"$f":"IF($H12=0,0,CHOOSE($H12,SUMPRODUCT(CHOOSE(AF$39,$O13:$O$36,$P13:$P$36,$Q13:$Q$36,$R13:$R$36)*AF13:AF$36*($E13:$E$36=$D12)),IF(ISNUMBER(Data!W12),100*ABS($G12-(Data!W12-$K12)/$M12),0),IF(ISNUMBER(Data!W12),100*ABS($G12-(Data!W12-$K12)/$M12),0)))","v":96.969696969696969},{"$f":"IF($H12=0,0,CHOOSE($H12,SUMPRODUCT(CHOOSE(AG$39,$O13:$O$36,$P13:$P$36,$Q13:$Q$36,$R13:$R$36)*AG13:AG$36*($E13:$E$36=$D12)),IF(ISNUMBER(Data!X12),100*ABS($G12-(Data!X12-$K12)/$M12),0),IF(ISNUMBER(Data!X12),100*ABS($G12-(Data!X12-$K12)/$M12),0)))","v":74.74747474747474},{"$f":"IF($H12=0,0,CHOOSE($H12,SUMPRODUCT(CHOOSE(AH$39,$O13:$O$36,$P13:$P$36,$Q13:$Q$36,$R13:$R$36)*AH13:AH$36*($E13:$E$36=$D12)),IF(ISNUMBER(Data!Y12),100*ABS($G12-(Data!Y12-$K12)/$M12),0),IF(ISNUMBER(Data!Y12),100*ABS($G12-(Data!Y12-$K12)/$M12),0)))","v":64.646464646464636},{"$f":"IF($H12=0,0,CHOOSE($H12,SUMPRODUCT(CHOOSE(AI$39,$O13:$O$36,$P13:$P$36,$Q13:$Q$36,$R13:$R$36)*AI13:AI$36*($E13:$E$36=$D12)),IF(ISNUMBER(Data!Z12),100*ABS($G12-(Data!Z12-$K12)/$M12),0),IF(ISNUMBER(Data!Z12),100*ABS($G12-(Data!Z12-$K12)/$M12),0)))","v":82.828282828282823},{"$f":"IF($H12=0,0,CHOOSE($H12,SUMPRODUCT(CHOOSE(AJ$39,$O13:$O$36,$P13:$P$36,$Q13:$Q$36,$R13:$R$36)*AJ13:AJ$36*($E13:$E$36=$D12)),IF(ISNUMBER(Data!AA12),100*ABS($G12-(Data!AA12-$K12)/$M12),0),IF(ISNUMBER(Data!AA12),100*ABS($G12-(Data!AA12-$K12)/$M12),0)))","v":57.575757575757571},{"$f":"IF($H12=0,0,CHOOSE($H12,SUMPRODUCT(CHOOSE(AK$39,$O13:$O$36,$P13:$P$36,$Q13:$Q$36,$R13:$R$36)*AK13:AK$36*($E13:$E$36=$D12)),IF(ISNUMBER(Data!AB12),100*ABS($G12-(Data!AB12-$K12)/$M12),0),IF(ISNUMBER(Data!AB12),100*ABS($G12-(Data!AB12-$K12)/$M12),0)))","v":51.515151515151516},{"$f":"IF($H12=0,0,CHOOSE($H12,SUMPRODUCT(CHOOSE(AL$39,$O13:$O$36,$P13:$P$36,$Q13:$Q$36,$R13:$R$36)*AL13:AL$36*($E13:$E$36=$D12)),IF(ISNUMBER(Data!AC12),100*ABS($G12-(Data!AC12-$K12)/$M12),0),IF(ISNUMBER(Data!AC12),100*ABS($G12-(Data!AC12-$K12)/$M12),0)))","v":79.797979797979806}]
[null,{"$f":"tblIndicators!A10","v":9},{"$f":"tblIndicators!B10","v":0},{"$f":"tblIndicators!D10","v":"EP_16"},{"$f":"tblIndicators!E10","v":"EP"},{"$f":"tblIndicators!F10","v":2},{"$f":"tblIndicators!S10","v":1},{"$f":"tblIndicators!T10","v":2},{"$f":"tblIndicators!U10","v":0},{"$f":"tblIndicators!V10","v":0},{"$f":"CHOOSE(H13,\"-\",MIN(Data!J13:AC13),I13)","v":8.0559999999999992},{"$f":"CHOOSE(H13,\"-\",MAX(Data!J13:AC13),J13)","v":70.599999999999994},62.543999999999997,{"$f":"tblIndicators!Y10","v":"1.16) Export market concentration"},{"$f":"tblIndicators!X10","v":7.1428571428571452E-2},{"$f":"tblIndicators!AF10","v":7.1428571428571425E-2},{"$f":"tblIndicators!AI10","v":7.1428571428571425E-2},{"$f":"tblIndicators!AL10","v":7.1428571428571425E-2},{"$f":"IF($H13=0,0,CHOOSE($H13,SUMPRODUCT(CHOOSE(S$39,$O14:$O$36,$P14:$P$36,$Q14:$Q$36,$R14:$R$36)*S14:S$36*($E14:$E$36=$D13)),IF(ISNUMBER(Data!J13),100*ABS($G13-(Data!J13-$K13)/$M13),0),IF(ISNUMBER(Data!J13),100*ABS($G13-(Data!J13-$K13)/$M13),0)))","v":96.319391148631368},{"$f":"IF($H13=0,0,CHOOSE($H13,SUMPRODUCT(CHOOSE(T$39,$O14:$O$36,$P14:$P$36,$Q14:$Q$36,$R14:$R$36)*T14:T$36*($E14:$E$36=$D13)),IF(ISNUMBER(Data!K13),100*ABS($G13-(Data!K13-$K13)/$M13),0),IF(ISNUMBER(Data!K13),100*ABS($G13-(Data!K13-$K13)/$M13),0)))","v":0},{"$f":"IF($H13=0,0,CHOOSE($H13,SUMPRODUCT(CHOOSE(U$39,$O14:$O$36,$P14:$P$36,$Q14:$Q$36,$R14:$R$36)*U14:U$36*($E14:$E$36=$D13)),IF(ISNUMBER(Data!L13),100*ABS($G13-(Data!L13-$K13)/$M13),0),IF(ISNUMBER(Data!L13),100*ABS($G13-(Data!L13-$K13)/$M13),0)))","v":94.052187260168836},{"$f":"IF($H13=0,0,CHOOSE($H13,SUMPRODUCT(CHOOSE(V$39,$O14:$O$36,$P14:$P$36,$Q14:$Q$36,$R14:$R$36)*V14:V$36*($E14:$E$36=$D13)),IF(ISNUMBER(Data!M13),100*ABS($G13-(Data!M13-$K13)/$M13),0),IF(ISNUMBER(Data!M13),100*ABS($G13-(Data!M13-$K13)/$M13),0)))","v":95.292913788692758},{"$f":"IF($H13=0,0,CHOOSE($H13,SUMPRODUCT(CHOOSE(W$39,$O14:$O$36,$P14:$P$36,$Q14:$Q$36,$R14:$R$36)*W14:W$36*($E14:$E$36=$D13)),IF(ISNUMBER(Data!N13),100*ABS($G13-(Data!N13-$K13)/$M13),0),IF(ISNUMBER(Data!N13),100*ABS($G13-(Data!N13-$K13)/$M13),0)))","v":84.970580711179338},{"$f":"IF($H13=0,0,CHOOSE($H13,SUMPRODUCT(CHOOSE(X$39,$O14:$O$36,$P14:$P$36,$Q14:$Q$36,$R14:$R$36)*X14:X$36*($E14:$E$36=$D13)),IF(ISNUMBER(Data!O13),100*ABS($G13-(Data!O13-$K13)/$M13),0),IF(ISNUMBER(Data!O13),100*ABS($G13-(Data!O13-$K13)/$M13),0)))","v":100},{"$f":"IF($H13=0,0,CHOOSE($H13,SUMPRODUCT(CHOOSE(Y$39,$O14:$O$36,$P14:$P$36,$Q14:$Q$36,$R14:$R$36)*Y14:Y$36*($E14:$E$36=$D13)),IF(ISNUMBER(Data!P13),100*ABS($G13-(Data!P13-$K13)/$M13),0),IF(ISNUMBER(Data!P13),100*ABS($G13-(Data!P13-$K13)/$M13),0)))","v":95.248145305704782},{"$f":"IF($H13=0,0,CHOOSE($H13,SUMPRODUCT(CHOOSE(Z$39,$O14:$O$36,$P14:$P$36,$Q14:$Q$36,$R14:$R$36)*Z14:Z$36*($E14:$E$36=$D13)),IF(ISNUMBER(Data!Q13),100*ABS($G13-(Data!Q13-$K13)/$M13),0),IF(ISNUMBER(Data!Q13),100*ABS($G13-(Data!Q13-$K13)/$M13),0)))","v":93.223970324891269},{"$f":"IF($H13=0,0,CHOOSE($H13,SUMPRODUCT(CHOOSE(AA$39,$O14:$O$36,$P14:$P$36,$Q14:$Q$36,$R14:$R$36)*AA14:AA$36*($E14:$E$36=$D13)),IF(ISNUMBER(Data!R13),100*ABS($G13-(Data!R13-$K13)/$M13),0),IF(ISNUMBER(Data!R13),100*ABS($G13-(Data!R13-$K13)/$M13),0)))","v":83.720260936300832},{"$f":"IF($H13=0,0,CHOOSE($H13,SUMPRODUCT(CHOOSE(AB$39,$O14:$O$36,$P14:$P$36,$Q14:$Q$36,$R14:$R$36)*AB14:AB$36*($E14:$E$36=$D13)),IF(ISNUMBER(Data!S13),100*ABS($G13-(Data!S13-$K13)/$M13),0),IF(ISNUMBER(Data!S13),100*ABS($G13-(Data!S13-$K13)/$M13),0)))","v":94.451905858275779},{"$f":"IF($H13=0,0,CHOOSE($H13,SUMPRODUCT(CHOOSE(AC$39,$O14:$O$36,$P14:$P$36,$Q14:$Q$36,$R14:$R$36)*AC14:AC$36*($E14:$E$36=$D13)),IF(ISNUMBER(Data!T13),100*ABS($G13-(Data!T13-$K13)/$M13),0),IF(ISNUMBER(Data!T13),100*ABS($G13-(Data!T13-$K13)/$M13),0)))","v":81.318751598874385},{"$f":"IF($H13=0,0,CHOOSE($H13,SUMPRODUCT(CHOOSE(AD$39,$O14:$O$36,$P14:$P$36,$Q14:$Q$36,$R14:$R$36)*AD14:AD$36*($E14:$E$36=$D13)),IF(ISNUMBER(Data!U13),100*ABS($G13-(Data!U13-$K13)/$M13),0),IF(ISNUMBER(Data!U13),100*ABS($G13-(Data!U13-$K13)/$M13),0)))","v":96.357764134049631},{"$f":"IF($H13=0,0,CHOOSE($H13,SUMPRODUCT(CHOOSE(AE$39,$O14:$O$36,$P14:$P$36,$Q14:$Q$36,$R14:$R$36)*AE14:AE$36*($E14:$E$36=$D13)),IF(ISNUMBER(Data!V13),100*ABS($G13-(Data!V13-$K13)/$M13),0),IF(ISNUMBER(Data!V13),100*ABS($G13-(Data!V13-$K13)/$M13),0)))","v":91.378869276029675},{"$f":"IF($H13=0,0,CHOOSE($H13,SUMPRODUCT(CHOOSE(AF$39,$O14:$O$36,$P14:$P$36,$Q14:$Q$36,$R14:$R$36)*AF14:AF$36*($E14:$E$36=$D13)),IF(ISNUMBER(Data!W13),100*ABS($G13-(Data!W13-$K13)/$M13),0),IF(ISNUMBER(Data!W13),100*ABS($G13-(Data!W13-$K13)/$M13),0)))","v":96.8406242005628},{"$f":"IF($H13=0,0,CHOOSE($H13,SUMPRODUCT(CHOOSE(AG$39,$O14:$O$36,$P14:$P$36,$Q14:$Q$36,$R14:$R$36)*AG14:AG$36*($E14:$E$36=$D13)),IF(ISNUMBER(Data!X13),100*ABS($G13-(Data!X13-$K13)/$M13),0),IF(ISNUMBER(Data!X13),100*ABS($G13-(Data!X13-$K13)/$M13),0)))","v":93.773983115886423},{"$f":"IF($H13=0,0,CHOOSE($H13,SUMPRODUCT(CHOOSE(AH$39,$O14:$O$36,$P14:$P$36,$Q14:$Q$36,$R14:$R$36)*AH14:AH$36*($E14:$E$36=$D13)),IF(ISNUMBER(Data!Y13),100*ABS($G13-(Data!Y13-$K13)/$M13),0),IF(ISNUMBER(Data!Y13),100*ABS($G13-(Data!Y13-$K13)/$M13),0)))","v":96.552826809925804},{"$f":"IF($H13=0,0,CHOOSE($H13,SUMPRODUCT(CHOOSE(AI$39,$O14:$O$36,$P14:$P$36,$Q14:$Q$36,$R14:$R$36)*AI14:AI$36*($E14:$E$36=$D13)),IF(ISNUMBER(Data!Z13),100*ABS($G13-(Data!Z13-$K13)/$M13),0),IF(ISNUMBER(Data!Z13),100*ABS($G13-(Data!Z13-$K13)/$M13),0)))","v":88.520081862368897},{"$f":"IF($H13=0,0,CHOOSE($H13,SUMPRODUCT(CHOOSE(AJ$39,$O14:$O$36,$P14:$P$36,$Q14:$Q$36,$R14:$R$36)*AJ14:AJ$36*($E14:$E$36=$D13)),IF(ISNUMBER(Data!AA13),100*ABS($G13-(Data!AA13-$K13)/$M13),0),IF(ISNUMBER(Data!AA13),100*ABS($G13-(Data!AA13-$K13)/$M13),0)))","v":97.937452033768224},{"$f":"IF($H13=0,0,CHOOSE($H13,SUMPRODUCT(CHOOSE(AK$39,$O14:$O$36,$P14:$P$36,$Q14:$Q$36,$R14:$R$36)*AK14:AK$36*($E14:$E$36=$D13)),IF(ISNUMBER(Data!AB13),100*ABS($G13-(Data!AB13-$K13)/$M13),0),IF(ISNUMBER(Data!AB13),100*ABS($G13-(Data!AB13-$K13)/$M13),0)))","v":94.455103607060636},{"$f":"IF($H13=0,0,CHOOSE($H13,SUMPRODUCT(CHOOSE(AL$39,$O14:$O$36,$P14:$P$36,$Q14:$Q$36,$R14:$R$36)*AL14:AL$36*($E14:$E$36=$D13)),IF(ISNUMBER(Data!AC13),100*ABS($G13-(Data!AC13-$K13)/$M13),0),IF(ISNUMBER(Data!AC13),100*ABS($G13-(Data!AC13-$K13)/$M13),0)))","v":95.014709644410331}]
[null,{"$f":"tblIndicators!A11","v":10},{"$f":"tblIndicators!B11","v":0},{"$f":"tblIndicators!D11","v":"EP_17"},{"$f":"tblIndicators!E11","v":"EP"},{"$f":"tblIndicators!F11","v":2},{"$f":"tblIndicators!S11","v":1},{"$f":"tblIndicators!T11","v":2},{"$f":"tblIndicators!U11","v":0},{"$f":"tblIndicators!V11","v":0},{"$f":"CHOOSE(H14,\"-\",MIN(Data!J14:AC14),I14)","v":8.32},{"$f":"CHOOSE(H14,\"-\",MAX(Data!J14:AC14),J14)","v":98.1},89.78,{"$f":"tblIndicators!Y11","v":"1.17) Export product concentration"},{"$f":"tblIndicators!X11","v":7.1428571428571452E-2},{"$f":"tblIndicators!AF11","v":7.1428571428571425E-2},{"$f":"tblIndicators!AI11","v":7.1428571428571425E-2},{"$f":"tblIndicators!AL11","v":7.1428571428571425E-2},{"$f":"IF($H14=0,0,CHOOSE($H14,SUMPRODUCT(CHOOSE(S$39,$O15:$O$36,$P15:$P$36,$Q15:$Q$36,$R15:$R$36)*S15:S$36*($E15:$E$36=$D14)),IF(ISNUMBER(Data!J14),100*ABS($G14-(Data!J14-$K14)/$M14),0),IF(ISNUMBER(Data!J14),100*ABS($G14-(Data!J14-$K14)/$M14),0)))","v":88.304744932056138},{"$f":"IF($H14=0,0,CHOOSE($H14,SUMPRODUCT(CHOOSE(T$39,$O15:$O$36,$P15:$P$36,$Q15:$Q$36,$R15:$R$36)*T15:T$36*($E15:$E$36=$D14)),IF(ISNUMBER(Data!K14),100*ABS($G14-(Data!K14-$K14)/$M14),0),IF(ISNUMBER(Data!K14),100*ABS($G14-(Data!K14-$K14)/$M14),0)))","v":0},{"$f":"IF($H14=0,0,CHOOSE($H14,SUMPRODUCT(CHOOSE(U$39,$O15:$O$36,$P15:$P$36,$Q15:$Q$36,$R15:$R$36)*U15:U$36*($E15:$E$36=$D14)),IF(ISNUMBER(Data!L14),100*ABS($G14-(Data!L14-$K14)/$M14),0),IF(ISNUMBER(Data!L14),100*ABS($G14-(Data!L14-$K14)/$M14),0)))","v":81.710848741367798},{"$f":"IF($H14=0,0,CHOOSE($H14,SUMPRODUCT(CHOOSE(V$39,$O15:$O$36,$P15:$P$36,$Q15:$Q$36,$R15:$R$36)*V15:V$36*($E15:$E$36=$D14)),IF(ISNUMBER(Data!M14),100*ABS($G14-(Data!M14-$K14)/$M14),0),IF(ISNUMBER(Data!M14),100*ABS($G14-(Data!M14-$K14)/$M14),0)))","v":97.415905546892404},{"$f":"IF($H14=0,0,CHOOSE($H14,SUMPRODUCT(CHOOSE(W$39,$O15:$O$36,$P15:$P$36,$Q15:$Q$36,$R15:$R$36)*W15:W$36*($E15:$E$36=$D14)),IF(ISNUMBER(Data!N14),100*ABS($G14-(Data!N14-$K14)/$M14),0),IF(ISNUMBER(Data!N14),100*ABS($G14-(Data!N14-$K14)/$M14),0)))","v":82.000445533526403},{"$f":"IF($H14=0,0,CHOOSE($H14,SUMPRODUCT(CHOOSE(X$39,$O15:$O$36,$P15:$P$36,$Q15:$Q$36,$R15:$R$36)*X15:X$36*($E15:$E$36=$D14)),IF(ISNUMBER(Data!O14),100*ABS($G14-(Data!O14-$K14)/$M14),0),IF(ISNUMBER(Data!O14),100*ABS($G14-(Data!O14-$K14)/$M14),0)))","v":90.59924259300513},{"$f":"IF($H14=0,0,CHOOSE($H14,SUMPRODUCT(CHOOSE(Y$39,$O15:$O$36,$P15:$P$36,$Q15:$Q$36,$R15:$R$36)*Y15:Y$36*($E15:$E$36=$D14)),IF(ISNUMBER(Data!P14),100*ABS($G14-(Data!P14-$K14)/$M14),0),IF(ISNUMBER(Data!P14),100*ABS($G14-(Data!P14-$K14)/$M14),0)))","v":88.750278458454005},{"$f":"IF($H14=0,0,CHOOSE($H14,SUMPRODUCT(CHOOSE(Z$39,$O15:$O$36,$P15:$P$36,$Q15:$Q$36,$R15:$R$36)*Z15:Z$36*($E15:$E$36=$D14)),IF(ISNUMBER(Data!Q14),100*ABS($G14-(Data!Q14-$K14)/$M14),0),IF(ISNUMBER(Data!Q14),100*ABS($G14-(Data!Q14-$K14)/$M14),0)))","v":83.247939407440413},{"$f":"IF($H14=0,0,CHOOSE($H14,SUMPRODUCT(CHOOSE(AA$39,$O15:$O$36,$P15:$P$36,$Q15:$Q$36,$R15:$R$36)*AA15:AA$36*($E15:$E$36=$D14)),IF(ISNUMBER(Data!R14),100*ABS($G14-(Data!R14-$K14)/$M14),0),IF(ISNUMBER(Data!R14),100*ABS($G14-(Data!R14-$K14)/$M14),0)))","v":95.789708175540213},{"$f":"IF($H14=0,0,CHOOSE($H14,SUMPRODUCT(CHOOSE(AB$39,$O15:$O$36,$P15:$P$36,$Q15:$Q$36,$R15:$R$36)*AB15:AB$36*($E15:$E$36=$D14)),IF(ISNUMBER(Data!S14),100*ABS($G14-(Data!S14-$K14)/$M14),0),IF(ISNUMBER(Data!S14),100*ABS($G14-(Data!S14-$K14)/$M14),0)))","v":88.3938516373357},{"$f":"IF($H14=0,0,CHOOSE($H14,SUMPRODUCT(CHOOSE(AC$39,$O15:$O$36,$P15:$P$36,$Q15:$Q$36,$R15:$R$36)*AC15:AC$36*($E15:$E$36=$D14)),IF(ISNUMBER(Data!T14),100*ABS($G14-(Data!T14-$K14)/$M14),0),IF(ISNUMBER(Data!T14),100*ABS($G14-(Data!T14-$K14)/$M14),0)))","v":92.648696814435283},{"$f":"IF($H14=0,0,CHOOSE($H14,SUMPRODUCT(CHOOSE(AD$39,$O15:$O$36,$P15:$P$36,$Q15:$Q$36,$R15:$R$36)*AD15:AD$36*($E15:$E$36=$D14)),IF(ISNUMBER(Data!U14),100*ABS($G14-(Data!U14-$K14)/$M14),0),IF(ISNUMBER(Data!U14),100*ABS($G14-(Data!U14-$K14)/$M14),0)))","v":99.108932947204281},{"$f":"IF($H14=0,0,CHOOSE($H14,SUMPRODUCT(CHOOSE(AE$39,$O15:$O$36,$P15:$P$36,$Q15:$Q$36,$R15:$R$36)*AE15:AE$36*($E15:$E$36=$D14)),IF(ISNUMBER(Data!V14),100*ABS($G14-(Data!V14-$K14)/$M14),0),IF(ISNUMBER(Data!V14),100*ABS($G14-(Data!V14-$K14)/$M14),0)))","v":90.554689240365335},{"$f":"IF($H14=0,0,CHOOSE($H14,SUMPRODUCT(CHOOSE(AF$39,$O15:$O$36,$P15:$P$36,$Q15:$Q$36,$R15:$R$36)*AF15:AF$36*($E15:$E$36=$D14)),IF(ISNUMBER(Data!W14),100*ABS($G14-(Data!W14-$K14)/$M14),0),IF(ISNUMBER(Data!W14),100*ABS($G14-(Data!W14-$K14)/$M14),0)))","v":90.220539095566949},{"$f":"IF($H14=0,0,CHOOSE($H14,SUMPRODUCT(CHOOSE(AG$39,$O15:$O$36,$P15:$P$36,$Q15:$Q$36,$R15:$R$36)*AG15:AG$36*($E15:$E$36=$D14)),IF(ISNUMBER(Data!X14),100*ABS($G14-(Data!X14-$K14)/$M14),0),IF(ISNUMBER(Data!X14),100*ABS($G14-(Data!X14-$K14)/$M14),0)))","v":84.673646691913561},{"$f":"IF($H14=0,0,CHOOSE($H14,SUMPRODUCT(CHOOSE(AH$39,$O15:$O$36,$P15:$P$36,$Q15:$Q$36,$R15:$R$36)*AH15:AH$36*($E15:$E$36=$D14)),IF(ISNUMBER(Data!Y14),100*ABS($G14-(Data!Y14-$K14)/$M14),0),IF(ISNUMBER(Data!Y14),100*ABS($G14-(Data!Y14-$K14)/$M14),0)))","v":91.445756293161054},{"$f":"IF($H14=0,0,CHOOSE($H14,SUMPRODUCT(CHOOSE(AI$39,$O15:$O$36,$P15:$P$36,$Q15:$Q$36,$R15:$R$36)*AI15:AI$36*($E15:$E$36=$D14)),IF(ISNUMBER(Data!Z14),100*ABS($G14-(Data!Z14-$K14)/$M14),0),IF(ISNUMBER(Data!Z14),100*ABS($G14-(Data!Z14-$K14)/$M14),0)))","v":88.126531521496986},{"$f":"IF($H14=0,0,CHOOSE($H14,SUMPRODUCT(CHOOSE(AJ$39,$O15:$O$36,$P15:$P$36,$Q15:$Q$36,$R15:$R$36)*AJ15:AJ$36*($E15:$E$36=$D14)),IF(ISNUMBER(Data!AA14),100*ABS($G14-(Data!AA14-$K14)/$M14),0),IF(ISNUMBER(Data!AA14),100*ABS($G14-(Data!AA14-$K14)/$M14),0)))","v":81.421251949209179},{"$f":"IF($H14=0,0,CHOOSE($H14,SUMPRODUCT(CHOOSE(AK$39,$O15:$O$36,$P15:$P$36,$Q15:$Q$36,$R15:$R$36)*AK15:AK$36*($E15:$E$36=$D14)),IF(ISNUMBER(Data!AB14),100*ABS($G14-(Data!AB14-$K14)/$M14),0),IF(ISNUMBER(Data!AB14),100*ABS($G14-(Data!AB14-$K14)/$M14),0)))","v":100},{"$f":"IF($H14=0,0,CHOOSE($H14,SUMPRODUCT(CHOOSE(AL$39,$O15:$O$36,$P15:$P$36,$Q15:$Q$36,$R15:$R$36)*AL15:AL$36*($E15:$E$36=$D14)),IF(ISNUMBER(Data!AC14),100*ABS($G14-(Data!AC14-$K14)/$M14),0),IF(ISNUMBER(Data!AC14),100*ABS($G14-(Data!AC14-$K14)/$M14),0)))","v":84.896413455112494}]
[null,{"$f":"tblIndicators!A12","v":11},{"$f":"tblIndicators!B12","v":0},{"$f":"tblIndicators!D12","v":"EP_18"},{"$f":"tblIndicators!E12","v":"EP"},{"$f":"tblIndicators!F12","v":2},{"$f":"tblIndicators!S12","v":0},{"$f":"tblIndicators!T12","v":2},{"$f":"tblIndicators!U12","v":0},{"$f":"tblIndicators!V12","v":0},{"$f":"CHOOSE(H15,\"-\",MIN(Data!J15:AC15),I15)","v":3.0000000000000001E-3},{"$f":"CHOOSE(H15,\"-\",MAX(Data!J15:AC15),J15)","v":34.22},34.216999999999999,{"$f":"tblIndicators!Y12","v":"1.18) Foreign Direct Investment"},{"$f":"tblIndicators!X12","v":7.1428571428571452E-2},{"$f":"tblIndicators!AF12","v":7.1428571428571425E-2},{"$f":"tblIndicators!AI12","v":7.1428571428571425E-2},{"$f":"tblIndicators!AL12","v":7.1428571428571425E-2},{"$f":"IF($H15=0,0,CHOOSE($H15,SUMPRODUCT(CHOOSE(S$39,$O16:$O$36,$P16:$P$36,$Q16:$Q$36,$R16:$R$36)*S16:S$36*($E16:$E$36=$D15)),IF(ISNUMBER(Data!J15),100*ABS($G15-(Data!J15-$K15)/$M15),0),IF(ISNUMBER(Data!J15),100*ABS($G15-(Data!J15-$K15)/$M15),0)))","v":2.6799544086272911},{"$f":"IF($H15=0,0,CHOOSE($H15,SUMPRODUCT(CHOOSE(T$39,$O16:$O$36,$P16:$P$36,$Q16:$Q$36,$R16:$R$36)*T16:T$36*($E16:$E$36=$D15)),IF(ISNUMBER(Data!K15),100*ABS($G15-(Data!K15-$K15)/$M15),0),IF(ISNUMBER(Data!K15),100*ABS($G15-(Data!K15-$K15)/$M15),0)))","v":0},{"$f":"IF($H15=0,0,CHOOSE($H15,SUMPRODUCT(CHOOSE(U$39,$O16:$O$36,$P16:$P$36,$Q16:$Q$36,$R16:$R$36)*U16:U$36*($E16:$E$36=$D15)),IF(ISNUMBER(Data!L15),100*ABS($G15-(Data!L15-$K15)/$M15),0),IF(ISNUMBER(Data!L15),100*ABS($G15-(Data!L15-$K15)/$M15),0)))","v":22.535581728380631},{"$f":"IF($H15=0,0,CHOOSE($H15,SUMPRODUCT(CHOOSE(V$39,$O16:$O$36,$P16:$P$36,$Q16:$Q$36,$R16:$R$36)*V16:V$36*($E16:$E$36=$D15)),IF(ISNUMBER(Data!M15),100*ABS($G15-(Data!M15-$K15)/$M15),0),IF(ISNUMBER(Data!M15),100*ABS($G15-(Data!M15-$K15)/$M15),0)))","v":11.546891895841247},{"$f":"IF($H15=0,0,CHOOSE($H15,SUMPRODUCT(CHOOSE(W$39,$O16:$O$36,$P16:$P$36,$Q16:$Q$36,$R16:$R$36)*W16:W$36*($E16:$E$36=$D15)),IF(ISNUMBER(Data!N15),100*ABS($G15-(Data!N15-$K15)/$M15),0),IF(ISNUMBER(Data!N15),100*ABS($G15-(Data!N15-$K15)/$M15),0)))","v":100},{"$f":"IF($H15=0,0,CHOOSE($H15,SUMPRODUCT(CHOOSE(X$39,$O16:$O$36,$P16:$P$36,$Q16:$Q$36,$R16:$R$36)*X16:X$36*($E16:$E$36=$D15)),IF(ISNUMBER(Data!O15),100*ABS($G15-(Data!O15-$K15)/$M15),0),IF(ISNUMBER(Data!O15),100*ABS($G15-(Data!O15-$K15)/$M15),0)))","v":4.7257211327702606},{"$f":"IF($H15=0,0,CHOOSE($H15,SUMPRODUCT(CHOOSE(Y$39,$O16:$O$36,$P16:$P$36,$Q16:$Q$36,$R16:$R$36)*Y16:Y$36*($E16:$E$36=$D15)),IF(ISNUMBER(Data!P15),100*ABS($G15-(Data!P15-$K15)/$M15),0),IF(ISNUMBER(Data!P15),100*ABS($G15-(Data!P15-$K15)/$M15),0)))","v":6.8883888125785431},{"$f":"IF($H15=0,0,CHOOSE($H15,SUMPRODUCT(CHOOSE(Z$39,$O16:$O$36,$P16:$P$36,$Q16:$Q$36,$R16:$R$36)*Z16:Z$36*($E16:$E$36=$D15)),IF(ISNUMBER(Data!Q15),100*ABS($G15-(Data!Q15-$K15)/$M15),0),IF(ISNUMBER(Data!Q15),100*ABS($G15-(Data!Q15-$K15)/$M15),0)))","v":0.28348481748838295},{"$f":"IF($H15=0,0,CHOOSE($H15,SUMPRODUCT(CHOOSE(AA$39,$O16:$O$36,$P16:$P$36,$Q16:$Q$36,$R16:$R$36)*AA16:AA$36*($E16:$E$36=$D15)),IF(ISNUMBER(Data!R15),100*ABS($G15-(Data!R15-$K15)/$M15),0),IF(ISNUMBER(Data!R15),100*ABS($G15-(Data!R15-$K15)/$M15),0)))","v":10.629219393868544},{"$f":"IF($H15=0,0,CHOOSE($H15,SUMPRODUCT(CHOOSE(AB$39,$O16:$O$36,$P16:$P$36,$Q16:$Q$36,$R16:$R$36)*AB16:AB$36*($E16:$E$36=$D15)),IF(ISNUMBER(Data!S15),100*ABS($G15-(Data!S15-$K15)/$M15),0),IF(ISNUMBER(Data!S15),100*ABS($G15-(Data!S15-$K15)/$M15),0)))","v":11.33062512786042},{"$f":"IF($H15=0,0,CHOOSE($H15,SUMPRODUCT(CHOOSE(AC$39,$O16:$O$36,$P16:$P$36,$Q16:$Q$36,$R16:$R$36)*AC16:AC$36*($E16:$E$36=$D15)),IF(ISNUMBER(Data!T15),100*ABS($G15-(Data!T15-$K15)/$M15),0),IF(ISNUMBER(Data!T15),100*ABS($G15-(Data!T15-$K15)/$M15),0)))","v":14.837653797819797},{"$f":"IF($H15=0,0,CHOOSE($H15,SUMPRODUCT(CHOOSE(AD$39,$O16:$O$36,$P16:$P$36,$Q16:$Q$36,$R16:$R$36)*AD16:AD$36*($E16:$E$36=$D15)),IF(ISNUMBER(Data!U15),100*ABS($G15-(Data!U15-$K15)/$M15),0),IF(ISNUMBER(Data!U15),100*ABS($G15-(Data!U15-$K15)/$M15),0)))","v":1.9785486746354153},{"$f":"IF($H15=0,0,CHOOSE($H15,SUMPRODUCT(CHOOSE(AE$39,$O16:$O$36,$P16:$P$36,$Q16:$Q$36,$R16:$R$36)*AE16:AE$36*($E16:$E$36=$D15)),IF(ISNUMBER(Data!V15),100*ABS($G15-(Data!V15-$K15)/$M15),0),IF(ISNUMBER(Data!V15),100*ABS($G15-(Data!V15-$K15)/$M15),0)))","v":3.6736125317824477},{"$f":"IF($H15=0,0,CHOOSE($H15,SUMPRODUCT(CHOOSE(AF$39,$O16:$O$36,$P16:$P$36,$Q16:$Q$36,$R16:$R$36)*AF16:AF$36*($E16:$E$36=$D15)),IF(ISNUMBER(Data!W15),100*ABS($G15-(Data!W15-$K15)/$M15),0),IF(ISNUMBER(Data!W15),100*ABS($G15-(Data!W15-$K15)/$M15),0)))","v":60.487476985124353},{"$f":"IF($H15=0,0,CHOOSE($H15,SUMPRODUCT(CHOOSE(AG$39,$O16:$O$36,$P16:$P$36,$Q16:$Q$36,$R16:$R$36)*AG16:AG$36*($E16:$E$36=$D15)),IF(ISNUMBER(Data!X15),100*ABS($G15-(Data!X15-$K15)/$M15),0),IF(ISNUMBER(Data!X15),100*ABS($G15-(Data!X15-$K15)/$M15),0)))","v":2.4461524972966657},{"$f":"IF($H15=0,0,CHOOSE($H15,SUMPRODUCT(CHOOSE(AH$39,$O16:$O$36,$P16:$P$36,$Q16:$Q$36,$R16:$R$36)*AH16:AH$36*($E16:$E$36=$D15)),IF(ISNUMBER(Data!Y15),100*ABS($G15-(Data!Y15-$K15)/$M15),0),IF(ISNUMBER(Data!Y15),100*ABS($G15-(Data!Y15-$K15)/$M15),0)))","v":4.0243153987783851},{"$f":"IF($H15=0,0,CHOOSE($H15,SUMPRODUCT(CHOOSE(AI$39,$O16:$O$36,$P16:$P$36,$Q16:$Q$36,$R16:$R$36)*AI16:AI$36*($E16:$E$36=$D15)),IF(ISNUMBER(Data!Z15),100*ABS($G15-(Data!Z15-$K15)/$M15),0),IF(ISNUMBER(Data!Z15),100*ABS($G15-(Data!Z15-$K15)/$M15),0)))","v":1.1602419849782273},{"$f":"IF($H15=0,0,CHOOSE($H15,SUMPRODUCT(CHOOSE(AJ$39,$O16:$O$36,$P16:$P$36,$Q16:$Q$36,$R16:$R$36)*AJ16:AJ$36*($E16:$E$36=$D15)),IF(ISNUMBER(Data!AA15),100*ABS($G15-(Data!AA15-$K15)/$M15),0),IF(ISNUMBER(Data!AA15),100*ABS($G15-(Data!AA15-$K15)/$M15),0)))","v":7.6482450244030744},{"$f":"IF($H15=0,0,CHOOSE($H15,SUMPRODUCT(CHOOSE(AK$39,$O16:$O$36,$P16:$P$36,$Q16:$Q$36,$R16:$R$36)*AK16:AK$36*($E16:$E$36=$D15)),IF(ISNUMBER(Data!AB15),100*ABS($G15-(Data!AB15-$K15)/$M15),0),IF(ISNUMBER(Data!AB15),100*ABS($G15-(Data!AB15-$K15)/$M15),0)))","v":16.474267177134173},{"$f":"IF($H15=0,0,CHOOSE($H15,SUMPRODUCT(CHOOSE(AL$39,$O16:$O$36,$P16:$P$36,$Q16:$Q$36,$R16:$R$36)*AL16:AL$36*($E16:$E$36=$D15)),IF(ISNUMBER(Data!AC15),100*ABS($G15-(Data!AC15-$K15)/$M15),0),IF(ISNUMBER(Data!AC15),100*ABS($G15-(Data!AC15-$K15)/$M15),0)))","v":4.2581173101090108}]
[null,{"$f":"tblIndicators!A13","v":12},{"$f":"tblIndicators!B13","v":0},{"$f":"tblIndicators!D13","v":"EP_19"},{"$f":"tblIndicators!E13","v":"EP"},{"$f":"tblIndicators!F13","v":2},{"$f":"tblIndicators!S13","v":0},{"$f":"tblIndicators!T13","v":2},{"$f":"tblIndicators!U13","v":0},{"$f":"tblIndicators!V13","v":0},{"$f":"CHOOSE(H16,\"-\",MIN(Data!J16:AC16),I16)","v":13.39},{"$f":"CHOOSE(H16,\"-\",MAX(Data!J16:AC16),J16)","v":44.456000000000003},31.066000000000003,{"$f":"tblIndicators!Y13","v":"1.19) Gross fixed capital formation"},{"$f":"tblIndicators!X13","v":7.1428571428571452E-2},{"$f":"tblIndicators!AF13","v":7.1428571428571425E-2},{"$f":"tblIndicators!AI13","v":7.1428571428571425E-2},{"$f":"tblIndicators!AL13","v":7.1428571428571425E-2},{"$f":"IF($H16=0,0,CHOOSE($H16,SUMPRODUCT(CHOOSE(S$39,$O17:$O$36,$P17:$P$36,$Q17:$Q$36,$R17:$R$36)*S17:S$36*($E17:$E$36=$D16)),IF(ISNUMBER(Data!J16),100*ABS($G16-(Data!J16-$K16)/$M16),0),IF(ISNUMBER(Data!J16),100*ABS($G16-(Data!J16-$K16)/$M16),0)))","v":46.391553466812596},{"$f":"IF($H16=0,0,CHOOSE($H16,SUMPRODUCT(CHOOSE(T$39,$O17:$O$36,$P17:$P$36,$Q17:$Q$36,$R17:$R$36)*T17:T$36*($E17:$E$36=$D16)),IF(ISNUMBER(Data!K16),100*ABS($G16-(Data!K16-$K16)/$M16),0),IF(ISNUMBER(Data!K16),100*ABS($G16-(Data!K16-$K16)/$M16),0)))","v":70.417820124895385},{"$f":"IF($H16=0,0,CHOOSE($H16,SUMPRODUCT(CHOOSE(U$39,$O17:$O$36,$P17:$P$36,$Q17:$Q$36,$R17:$R$36)*U17:U$36*($E17:$E$36=$D16)),IF(ISNUMBER(Data!L16),100*ABS($G16-(Data!L16-$K16)/$M16),0),IF(ISNUMBER(Data!L16),100*ABS($G16-(Data!L16-$K16)/$M16),0)))","v":12.335028648683439},{"$f":"IF($H16=0,0,CHOOSE($H16,SUMPRODUCT(CHOOSE(V$39,$O17:$O$36,$P17:$P$36,$Q17:$Q$36,$R17:$R$36)*V17:V$36*($E17:$E$36=$D16)),IF(ISNUMBER(Data!M16),100*ABS($G16-(Data!M16-$K16)/$M16),0),IF(ISNUMBER(Data!M16),100*ABS($G16-(Data!M16-$K16)/$M16),0)))","v":100},{"$f":"IF($H16=0,0,CHOOSE($H16,SUMPRODUCT(CHOOSE(W$39,$O17:$O$36,$P17:$P$36,$Q17:$Q$36,$R17:$R$36)*W17:W$36*($E17:$E$36=$D16)),IF(ISNUMBER(Data!N16),100*ABS($G16-(Data!N16-$K16)/$M16),0),IF(ISNUMBER(Data!N16),100*ABS($G16-(Data!N16-$K16)/$M16),0)))","v":33.180969548702762},{"$f":"IF($H16=0,0,CHOOSE($H16,SUMPRODUCT(CHOOSE(X$39,$O17:$O$36,$P17:$P$36,$Q17:$Q$36,$R17:$R$36)*X17:X$36*($E17:$E$36=$D16)),IF(ISNUMBER(Data!O16),100*ABS($G16-(Data!O16-$K16)/$M16),0),IF(ISNUMBER(Data!O16),100*ABS($G16-(Data!O16-$K16)/$M16),0)))","v":56.917530419107685},{"$f":"IF($H16=0,0,CHOOSE($H16,SUMPRODUCT(CHOOSE(Y$39,$O17:$O$36,$P17:$P$36,$Q17:$Q$36,$R17:$R$36)*Y17:Y$36*($E17:$E$36=$D16)),IF(ISNUMBER(Data!P16),100*ABS($G16-(Data!P16-$K16)/$M16),0),IF(ISNUMBER(Data!P16),100*ABS($G16-(Data!P16-$K16)/$M16),0)))","v":59.602137384922415},{"$f":"IF($H16=0,0,CHOOSE($H16,SUMPRODUCT(CHOOSE(Z$39,$O17:$O$36,$P17:$P$36,$Q17:$Q$36,$R17:$R$36)*Z17:Z$36*($E17:$E$36=$D16)),IF(ISNUMBER(Data!Q16),100*ABS($G16-(Data!Q16-$K16)/$M16),0),IF(ISNUMBER(Data!Q16),100*ABS($G16-(Data!Q16-$K16)/$M16),0)))","v":24.946887272259062},{"$f":"IF($H16=0,0,CHOOSE($H16,SUMPRODUCT(CHOOSE(AA$39,$O17:$O$36,$P17:$P$36,$Q17:$Q$36,$R17:$R$36)*AA17:AA$36*($E17:$E$36=$D16)),IF(ISNUMBER(Data!R16),100*ABS($G16-(Data!R16-$K16)/$M16),0),IF(ISNUMBER(Data!R16),100*ABS($G16-(Data!R16-$K16)/$M16),0)))","v":47.634069400630906},{"$f":"IF($H16=0,0,CHOOSE($H16,SUMPRODUCT(CHOOSE(AB$39,$O17:$O$36,$P17:$P$36,$Q17:$Q$36,$R17:$R$36)*AB17:AB$36*($E17:$E$36=$D16)),IF(ISNUMBER(Data!S16),100*ABS($G16-(Data!S16-$K16)/$M16),0),IF(ISNUMBER(Data!S16),100*ABS($G16-(Data!S16-$K16)/$M16),0)))","v":35.723942573874986},{"$f":"IF($H16=0,0,CHOOSE($H16,SUMPRODUCT(CHOOSE(AC$39,$O17:$O$36,$P17:$P$36,$Q17:$Q$36,$R17:$R$36)*AC17:AC$36*($E17:$E$36=$D16)),IF(ISNUMBER(Data!T16),100*ABS($G16-(Data!T16-$K16)/$M16),0),IF(ISNUMBER(Data!T16),100*ABS($G16-(Data!T16-$K16)/$M16),0)))","v":12.071074486576954},{"$f":"IF($H16=0,0,CHOOSE($H16,SUMPRODUCT(CHOOSE(AD$39,$O17:$O$36,$P17:$P$36,$Q17:$Q$36,$R17:$R$36)*AD17:AD$36*($E17:$E$36=$D16)),IF(ISNUMBER(Data!U16),100*ABS($G16-(Data!U16-$K16)/$M16),0),IF(ISNUMBER(Data!U16),100*ABS($G16-(Data!U16-$K16)/$M16),0)))","v":0},{"$f":"IF($H16=0,0,CHOOSE($H16,SUMPRODUCT(CHOOSE(AE$39,$O17:$O$36,$P17:$P$36,$Q17:$Q$36,$R17:$R$36)*AE17:AE$36*($E17:$E$36=$D16)),IF(ISNUMBER(Data!V16),100*ABS($G16-(Data!V16-$K16)/$M16),0),IF(ISNUMBER(Data!V16),100*ABS($G16-(Data!V16-$K16)/$M16),0)))","v":21.380287130625117},{"$f":"IF($H16=0,0,CHOOSE($H16,SUMPRODUCT(CHOOSE(AF$39,$O17:$O$36,$P17:$P$36,$Q17:$Q$36,$R17:$R$36)*AF17:AF$36*($E17:$E$36=$D16)),IF(ISNUMBER(Data!W16),100*ABS($G16-(Data!W16-$K16)/$M16),0),IF(ISNUMBER(Data!W16),100*ABS($G16-(Data!W16-$K16)/$M16),0)))","v":40.700444215541097},{"$f":"IF($H16=0,0,CHOOSE($H16,SUMPRODUCT(CHOOSE(AG$39,$O17:$O$36,$P17:$P$36,$Q17:$Q$36,$R17:$R$36)*AG17:AG$36*($E17:$E$36=$D16)),IF(ISNUMBER(Data!X16),100*ABS($G16-(Data!X16-$K16)/$M16),0),IF(ISNUMBER(Data!X16),100*ABS($G16-(Data!X16-$K16)/$M16),0)))","v":52.617008948689879},{"$f":"IF($H16=0,0,CHOOSE($H16,SUMPRODUCT(CHOOSE(AH$39,$O17:$O$36,$P17:$P$36,$Q17:$Q$36,$R17:$R$36)*AH17:AH$36*($E17:$E$36=$D16)),IF(ISNUMBER(Data!Y16),100*ABS($G16-(Data!Y16-$K16)/$M16),0),IF(ISNUMBER(Data!Y16),100*ABS($G16-(Data!Y16-$K16)/$M16),0)))","v":46.571814845812149},{"$f":"IF($H16=0,0,CHOOSE($H16,SUMPRODUCT(CHOOSE(AI$39,$O17:$O$36,$P17:$P$36,$Q17:$Q$36,$R17:$R$36)*AI17:AI$36*($E17:$E$36=$D16)),IF(ISNUMBER(Data!Z16),100*ABS($G16-(Data!Z16-$K16)/$M16),0),IF(ISNUMBER(Data!Z16),100*ABS($G16-(Data!Z16-$K16)/$M16),0)))","v":29.710938002961434},{"$f":"IF($H16=0,0,CHOOSE($H16,SUMPRODUCT(CHOOSE(AJ$39,$O17:$O$36,$P17:$P$36,$Q17:$Q$36,$R17:$R$36)*AJ17:AJ$36*($E17:$E$36=$D16)),IF(ISNUMBER(Data!AA16),100*ABS($G16-(Data!AA16-$K16)/$M16),0),IF(ISNUMBER(Data!AA16),100*ABS($G16-(Data!AA16-$K16)/$M16),0)))","v":38.479366510010941},{"$f":"IF($H16=0,0,CHOOSE($H16,SUMPRODUCT(CHOOSE(AK$39,$O17:$O$36,$P17:$P$36,$Q17:$Q$36,$R17:$R$36)*AK17:AK$36*($E17:$E$36=$D16)),IF(ISNUMBER(Data!AB16),100*ABS($G16-(Data!AB16-$K16)/$M16),0),IF(ISNUMBER(Data!AB16),100*ABS($G16-(Data!AB16-$K16)/$M16),0)))","v":41.24766625893259},{"$f":"IF($H16=0,0,CHOOSE($H16,SUMPRODUCT(CHOOSE(AL$39,$O17:$O$36,$P17:$P$36,$Q17:$Q$36,$R17:$R$36)*AL17:AL$36*($E17:$E$36=$D16)),IF(ISNUMBER(Data!AC16),100*ABS($G16-(Data!AC16-$K16)/$M16),0),IF(ISNUMBER(Data!AC16),100*ABS($G16-(Data!AC16-$K16)/$M16),0)))","v":4.9056846713448694}]
[null,{"$f":"tblIndicators!A14","v":13},{"$f":"tblIndicators!B14","v":0},{"$f":"tblIndicators!D14","v":"EP_20"},{"$f":"tblIndicators!E14","v":"EP"},{"$f":"tblIndicators!F14","v":2},{"$f":"tblIndicators!S14","v":""},{"$f":"tblIndicators!T14","v":1},{"$f":"tblIndicators!U14","v":0},{"$f":"tblIndicators!V14","v":0},{"$f":"CHOOSE(H17,\"-\",MIN(Data!J17:AC17),I17)","v":"-"},{"$f":"CHOOSE(H17,\"-\",MAX(Data!J17:AC17),J17)","v":"-"},"-",{"$f":"tblIndicators!Y14","v":"1.20) Trade costs"},{"$f":"tblIndicators!X14","v":7.1428571428571452E-2},{"$f":"tblIndicators!AF14","v":7.1428571428571425E-2},{"$f":"tblIndicators!AI14","v":7.1428571428571425E-2},{"$f":"tblIndicators!AL14","v":7.1428571428571425E-2},{"$f":"IF($H17=0,0,CHOOSE($H17,SUMPRODUCT(CHOOSE(S$39,$O18:$O$36,$P18:$P$36,$Q18:$Q$36,$R18:$R$36)*S18:S$36*($E18:$E$36=$D17)),IF(ISNUMBER(Data!J17),100*ABS($G17-(Data!J17-$K17)/$M17),0),IF(ISNUMBER(Data!J17),100*ABS($G17-(Data!J17-$K17)/$M17),0)))","v":29.466666666666669},{"$f":"IF($H17=0,0,CHOOSE($H17,SUMPRODUCT(CHOOSE(T$39,$O18:$O$36,$P18:$P$36,$Q18:$Q$36,$R18:$R$36)*T18:T$36*($E18:$E$36=$D17)),IF(ISNUMBER(Data!K17),100*ABS($G17-(Data!K17-$K17)/$M17),0),IF(ISNUMBER(Data!K17),100*ABS($G17-(Data!K17-$K17)/$M17),0)))","v":19.53125},{"$f":"IF($H17=0,0,CHOOSE($H17,SUMPRODUCT(CHOOSE(U$39,$O18:$O$36,$P18:$P$36,$Q18:$Q$36,$R18:$R$36)*U18:U$36*($E18:$E$36=$D17)),IF(ISNUMBER(Data!L17),100*ABS($G17-(Data!L17-$K17)/$M17),0),IF(ISNUMBER(Data!L17),100*ABS($G17-(Data!L17-$K17)/$M17),0)))","v":20.731250000000003},{"$f":"IF($H17=0,0,CHOOSE($H17,SUMPRODUCT(CHOOSE(V$39,$O18:$O$36,$P18:$P$36,$Q18:$Q$36,$R18:$R$36)*V18:V$36*($E18:$E$36=$D17)),IF(ISNUMBER(Data!M17),100*ABS($G17-(Data!M17-$K17)/$M17),0),IF(ISNUMBER(Data!M17),100*ABS($G17-(Data!M17-$K17)/$M17),0)))","v":33.969444444444449},{"$f":"IF($H17=0,0,CHOOSE($H17,SUMPRODUCT(CHOOSE(W$39,$O18:$O$36,$P18:$P$36,$Q18:$Q$36,$R18:$R$36)*W18:W$36*($E18:$E$36=$D17)),IF(ISNUMBER(Data!N17),100*ABS($G17-(Data!N17-$K17)/$M17),0),IF(ISNUMBER(Data!N17),100*ABS($G17-(Data!N17-$K17)/$M17),0)))","v":74.011111111111106},{"$f":"IF($H17=0,0,CHOOSE($H17,SUMPRODUCT(CHOOSE(X$39,$O18:$O$36,$P18:$P$36,$Q18:$Q$36,$R18:$R$36)*X18:X$36*($E18:$E$36=$D17)),IF(ISNUMBER(Data!O17),100*ABS($G17-(Data!O17-$K17)/$M17),0),IF(ISNUMBER(Data!O17),100*ABS($G17-(Data!O17-$K17)/$M17),0)))","v":40.052777777777777},{"$f":"IF($H17=0,0,CHOOSE($H17,SUMPRODUCT(CHOOSE(Y$39,$O18:$O$36,$P18:$P$36,$Q18:$Q$36,$R18:$R$36)*Y18:Y$36*($E18:$E$36=$D17)),IF(ISNUMBER(Data!P17),100*ABS($G17-(Data!P17-$K17)/$M17),0),IF(ISNUMBER(Data!P17),100*ABS($G17-(Data!P17-$K17)/$M17),0)))","v":33.038888888888891},{"$f":"IF($H17=0,0,CHOOSE($H17,SUMPRODUCT(CHOOSE(Z$39,$O18:$O$36,$P18:$P$36,$Q18:$Q$36,$R18:$R$36)*Z18:Z$36*($E18:$E$36=$D17)),IF(ISNUMBER(Data!Q17),100*ABS($G17-(Data!Q17-$K17)/$M17),0),IF(ISNUMBER(Data!Q17),100*ABS($G17-(Data!Q17-$K17)/$M17),0)))","v":71.911111111111111},{"$f":"IF($H17=0,0,CHOOSE($H17,SUMPRODUCT(CHOOSE(AA$39,$O18:$O$36,$P18:$P$36,$Q18:$Q$36,$R18:$R$36)*AA18:AA$36*($E18:$E$36=$D17)),IF(ISNUMBER(Data!R17),100*ABS($G17-(Data!R17-$K17)/$M17),0),IF(ISNUMBER(Data!R17),100*ABS($G17-(Data!R17-$K17)/$M17),0)))","v":15.83888888888889},{"$f":"IF($H17=0,0,CHOOSE($H17,SUMPRODUCT(CHOOSE(AB$39,$O18:$O$36,$P18:$P$36,$Q18:$Q$36,$R18:$R$36)*AB18:AB$36*($E18:$E$36=$D17)),IF(ISNUMBER(Data!S17),100*ABS($G17-(Data!S17-$K17)/$M17),0),IF(ISNUMBER(Data!S17),100*ABS($G17-(Data!S17-$K17)/$M17),0)))","v":59.894444444444446},{"$f":"IF($H17=0,0,CHOOSE($H17,SUMPRODUCT(CHOOSE(AC$39,$O18:$O$36,$P18:$P$36,$Q18:$Q$36,$R18:$R$36)*AC18:AC$36*($E18:$E$36=$D17)),IF(ISNUMBER(Data!T17),100*ABS($G17-(Data!T17-$K17)/$M17),0),IF(ISNUMBER(Data!T17),100*ABS($G17-(Data!T17-$K17)/$M17),0)))","v":13.842592591666666},{"$f":"IF($H17=0,0,CHOOSE($H17,SUMPRODUCT(CHOOSE(AD$39,$O18:$O$36,$P18:$P$36,$Q18:$Q$36,$R18:$R$36)*AD18:AD$36*($E18:$E$36=$D17)),IF(ISNUMBER(Data!U17),100*ABS($G17-(Data!U17-$K17)/$M17),0),IF(ISNUMBER(Data!U17),100*ABS($G17-(Data!U17-$K17)/$M17),0)))","v":30.886111111111113},{"$f":"IF($H17=0,0,CHOOSE($H17,SUMPRODUCT(CHOOSE(AE$39,$O18:$O$36,$P18:$P$36,$Q18:$Q$36,$R18:$R$36)*AE18:AE$36*($E18:$E$36=$D17)),IF(ISNUMBER(Data!V17),100*ABS($G17-(Data!V17-$K17)/$M17),0),IF(ISNUMBER(Data!V17),100*ABS($G17-(Data!V17-$K17)/$M17),0)))","v":32.916666666666664},{"$f":"IF($H17=0,0,CHOOSE($H17,SUMPRODUCT(CHOOSE(AF$39,$O18:$O$36,$P18:$P$36,$Q18:$Q$36,$R18:$R$36)*AF18:AF$36*($E18:$E$36=$D17)),IF(ISNUMBER(Data!W17),100*ABS($G17-(Data!W17-$K17)/$M17),0),IF(ISNUMBER(Data!W17),100*ABS($G17-(Data!W17-$K17)/$M17),0)))","v":86.25},{"$f":"IF($H17=0,0,CHOOSE($H17,SUMPRODUCT(CHOOSE(AG$39,$O18:$O$36,$P18:$P$36,$Q18:$Q$36,$R18:$R$36)*AG18:AG$36*($E18:$E$36=$D17)),IF(ISNUMBER(Data!X17),100*ABS($G17-(Data!X17-$K17)/$M17),0),IF(ISNUMBER(Data!X17),100*ABS($G17-(Data!X17-$K17)/$M17),0)))","v":69.044444444444451},{"$f":"IF($H17=0,0,CHOOSE($H17,SUMPRODUCT(CHOOSE(AH$39,$O18:$O$36,$P18:$P$36,$Q18:$Q$36,$R18:$R$36)*AH18:AH$36*($E18:$E$36=$D17)),IF(ISNUMBER(Data!Y17),100*ABS($G17-(Data!Y17-$K17)/$M17),0),IF(ISNUMBER(Data!Y17),100*ABS($G17-(Data!Y17-$K17)/$M17),0)))","v":44.75},{"$f":"IF($H17=0,0,CHOOSE($H17,SUMPRODUCT(CHOOSE(AI$39,$O18:$O$36,$P18:$P$36,$Q18:$Q$36,$R18:$R$36)*AI18:AI$36*($E18:$E$36=$D17)),IF(ISNUMBER(Data!Z17),100*ABS($G17-(Data!Z17-$K17)/$M17),0),IF(ISNUMBER(Data!Z17),100*ABS($G17-(Data!Z17-$K17)/$M17),0)))","v":66.655555555555566},{"$f":"IF($H17=0,0,CHOOSE($H17,SUMPRODUCT(CHOOSE(AJ$39,$O18:$O$36,$P18:$P$36,$Q18:$Q$36,$R18:$R$36)*AJ18:AJ$36*($E18:$E$36=$D17)),IF(ISNUMBER(Data!AA17),100*ABS($G17-(Data!AA17-$K17)/$M17),0),IF(ISNUMBER(Data!AA17),100*ABS($G17-(Data!AA17-$K17)/$M17),0)))","v":43.261111111111113},{"$f":"IF($H17=0,0,CHOOSE($H17,SUMPRODUCT(CHOOSE(AK$39,$O18:$O$36,$P18:$P$36,$Q18:$Q$36,$R18:$R$36)*AK18:AK$36*($E18:$E$36=$D17)),IF(ISNUMBER(Data!AB17),100*ABS($G17-(Data!AB17-$K17)/$M17),0),IF(ISNUMBER(Data!AB17),100*ABS($G17-(Data!AB17-$K17)/$M17),0)))","v":33.111111111111114},{"$f":"IF($H17=0,0,CHOOSE($H17,SUMPRODUCT(CHOOSE(AL$39,$O18:$O$36,$P18:$P$36,$Q18:$Q$36,$R18:$R$36)*AL18:AL$36*($E18:$E$36=$D17)),IF(ISNUMBER(Data!AC17),100*ABS($G17-(Data!AC17-$K17)/$M17),0),IF(ISNUMBER(Data!AC17),100*ABS($G17-(Data!AC17-$K17)/$M17),0)))","v":79.322222222222223}]
[null,{"$f":"tblIndicators!A15","v":14},{"$f":"tblIndicators!B15","v":0},{"$f":"tblIndicators!D15","v":"EP_20_1"},{"$f":"tblIndicators!E15","v":"EP_20"},{"$f":"tblIndicators!F15","v":3},{"$f":"tblIndicators!S15","v":0},{"$f":"tblIndicators!T15","v":3},{"$f":"tblIndicators!U15","v":1},{"$f":"tblIndicators!V15","v":10},{"$f":"CHOOSE(H18,\"-\",MIN(Data!J18:AC18),I18)","v":1},{"$f":"CHOOSE(H18,\"-\",MAX(Data!J18:AC18),J18)","v":10},9,{"$f":"tblIndicators!Y15","v":"1.20.1)    Infrastructure"},{"$f":"tblIndicators!X15","v":0.25},{"$f":"tblIndicators!AF15","v":0.25},{"$f":"tblIndicators!AI15","v":0.25},{"$f":"tblIndicators!AL15","v":0.25},{"$f":"IF($H18=0,0,CHOOSE($H18,SUMPRODUCT(CHOOSE(S$39,$O19:$O$36,$P19:$P$36,$Q19:$Q$36,$R19:$R$36)*S19:S$36*($E19:$E$36=$D18)),IF(ISNUMBER(Data!J18),100*ABS($G18-(Data!J18-$K18)/$M18),0),IF(ISNUMBER(Data!J18),100*ABS($G18-(Data!J18-$K18)/$M18),0)))","v":16.666666666666664},{"$f":"IF($H18=0,0,CHOOSE($H18,SUMPRODUCT(CHOOSE(T$39,$O19:$O$36,$P19:$P$36,$Q19:$Q$36,$R19:$R$36)*T19:T$36*($E19:$E$36=$D18)),IF(ISNUMBER(Data!K18),100*ABS($G18-(Data!K18-$K18)/$M18),0),IF(ISNUMBER(Data!K18),100*ABS($G18-(Data!K18-$K18)/$M18),0)))","v":28.125},{"$f":"IF($H18=0,0,CHOOSE($H18,SUMPRODUCT(CHOOSE(U$39,$O19:$O$36,$P19:$P$36,$Q19:$Q$36,$R19:$R$36)*U19:U$36*($E19:$E$36=$D18)),IF(ISNUMBER(Data!L18),100*ABS($G18-(Data!L18-$K18)/$M18),0),IF(ISNUMBER(Data!L18),100*ABS($G18-(Data!L18-$K18)/$M18),0)))","v":28.125},{"$f":"IF($H18=0,0,CHOOSE($H18,SUMPRODUCT(CHOOSE(V$39,$O19:$O$36,$P19:$P$36,$Q19:$Q$36,$R19:$R$36)*V19:V$36*($E19:$E$36=$D18)),IF(ISNUMBER(Data!M18),100*ABS($G18-(Data!M18-$K18)/$M18),0),IF(ISNUMBER(Data!M18),100*ABS($G18-(Data!M18-$K18)/$M18),0)))","v":57.777777777777786},{"$f":"IF($H18=0,0,CHOOSE($H18,SUMPRODUCT(CHOOSE(W$39,$O19:$O$36,$P19:$P$36,$Q19:$Q$36,$R19:$R$36)*W19:W$36*($E19:$E$36=$D18)),IF(ISNUMBER(Data!N18),100*ABS($G18-(Data!N18-$K18)/$M18),0),IF(ISNUMBER(Data!N18),100*ABS($G18-(Data!N18-$K18)/$M18),0)))","v":84.444444444444443},{"$f":"IF($H18=0,0,CHOOSE($H18,SUMPRODUCT(CHOOSE(X$39,$O19:$O$36,$P19:$P$36,$Q19:$Q$36,$R19:$R$36)*X19:X$36*($E19:$E$36=$D18)),IF(ISNUMBER(Data!O18),100*ABS($G18-(Data!O18-$K18)/$M18),0),IF(ISNUMBER(Data!O18),100*ABS($G18-(Data!O18-$K18)/$M18),0)))","v":41.111111111111114},{"$f":"IF($H18=0,0,CHOOSE($H18,SUMPRODUCT(CHOOSE(Y$39,$O19:$O$36,$P19:$P$36,$Q19:$Q$36,$R19:$R$36)*Y19:Y$36*($E19:$E$36=$D18)),IF(ISNUMBER(Data!P18),100*ABS($G18-(Data!P18-$K18)/$M18),0),IF(ISNUMBER(Data!P18),100*ABS($G18-(Data!P18-$K18)/$M18),0)))","v":45.55555555555555},{"$f":"IF($H18=0,0,CHOOSE($H18,SUMPRODUCT(CHOOSE(Z$39,$O19:$O$36,$P19:$P$36,$Q19:$Q$36,$R19:$R$36)*Z19:Z$36*($E19:$E$36=$D18)),IF(ISNUMBER(Data!Q18),100*ABS($G18-(Data!Q18-$K18)/$M18),0),IF(ISNUMBER(Data!Q18),100*ABS($G18-(Data!Q18-$K18)/$M18),0)))","v":84.444444444444443},{"$f":"IF($H18=0,0,CHOOSE($H18,SUMPRODUCT(CHOOSE(AA$39,$O19:$O$36,$P19:$P$36,$Q19:$Q$36,$R19:$R$36)*AA19:AA$36*($E19:$E$36=$D18)),IF(ISNUMBER(Data!R18),100*ABS($G18-(Data!R18-$K18)/$M18),0),IF(ISNUMBER(Data!R18),100*ABS($G18-(Data!R18-$K18)/$M18),0)))","v":15.555555555555555},{"$f":"IF($H18=0,0,CHOOSE($H18,SUMPRODUCT(CHOOSE(AB$39,$O19:$O$36,$P19:$P$36,$Q19:$Q$36,$R19:$R$36)*AB19:AB$36*($E19:$E$36=$D18)),IF(ISNUMBER(Data!S18),100*ABS($G18-(Data!S18-$K18)/$M18),0),IF(ISNUMBER(Data!S18),100*ABS($G18-(Data!S18-$K18)/$M18),0)))","v":67.777777777777771},{"$f":"IF($H18=0,0,CHOOSE($H18,SUMPRODUCT(CHOOSE(AC$39,$O19:$O$36,$P19:$P$36,$Q19:$Q$36,$R19:$R$36)*AC19:AC$36*($E19:$E$36=$D18)),IF(ISNUMBER(Data!T18),100*ABS($G18-(Data!T18-$K18)/$M18),0),IF(ISNUMBER(Data!T18),100*ABS($G18-(Data!T18-$K18)/$M18),0)))","v":10.370370366666666},{"$f":"IF($H18=0,0,CHOOSE($H18,SUMPRODUCT(CHOOSE(AD$39,$O19:$O$36,$P19:$P$36,$Q19:$Q$36,$R19:$R$36)*AD19:AD$36*($E19:$E$36=$D18)),IF(ISNUMBER(Data!U18),100*ABS($G18-(Data!U18-$K18)/$M18),0),IF(ISNUMBER(Data!U18),100*ABS($G18-(Data!U18-$K18)/$M18),0)))","v":34.444444444444436},{"$f":"IF($H18=0,0,CHOOSE($H18,SUMPRODUCT(CHOOSE(AE$39,$O19:$O$36,$P19:$P$36,$Q19:$Q$36,$R19:$R$36)*AE19:AE$36*($E19:$E$36=$D18)),IF(ISNUMBER(Data!V18),100*ABS($G18-(Data!V18-$K18)/$M18),0),IF(ISNUMBER(Data!V18),100*ABS($G18-(Data!V18-$K18)/$M18),0)))","v":46.666666666666664},{"$f":"IF($H18=0,0,CHOOSE($H18,SUMPRODUCT(CHOOSE(AF$39,$O19:$O$36,$P19:$P$36,$Q19:$Q$36,$R19:$R$36)*AF19:AF$36*($E19:$E$36=$D18)),IF(ISNUMBER(Data!W18),100*ABS($G18-(Data!W18-$K18)/$M18),0),IF(ISNUMBER(Data!W18),100*ABS($G18-(Data!W18-$K18)/$M18),0)))","v":89.999999999999986},{"$f":"IF($H18=0,0,CHOOSE($H18,SUMPRODUCT(CHOOSE(AG$39,$O19:$O$36,$P19:$P$36,$Q19:$Q$36,$R19:$R$36)*AG19:AG$36*($E19:$E$36=$D18)),IF(ISNUMBER(Data!X18),100*ABS($G18-(Data!X18-$K18)/$M18),0),IF(ISNUMBER(Data!X18),100*ABS($G18-(Data!X18-$K18)/$M18),0)))","v":77.777777777777786},{"$f":"IF($H18=0,0,CHOOSE($H18,SUMPRODUCT(CHOOSE(AH$39,$O19:$O$36,$P19:$P$36,$Q19:$Q$36,$R19:$R$36)*AH19:AH$36*($E19:$E$36=$D18)),IF(ISNUMBER(Data!Y18),100*ABS($G18-(Data!Y18-$K18)/$M18),0),IF(ISNUMBER(Data!Y18),100*ABS($G18-(Data!Y18-$K18)/$M18),0)))","v":50},{"$f":"IF($H18=0,0,CHOOSE($H18,SUMPRODUCT(CHOOSE(AI$39,$O19:$O$36,$P19:$P$36,$Q19:$Q$36,$R19:$R$36)*AI19:AI$36*($E19:$E$36=$D18)),IF(ISNUMBER(Data!Z18),100*ABS($G18-(Data!Z18-$K18)/$M18),0),IF(ISNUMBER(Data!Z18),100*ABS($G18-(Data!Z18-$K18)/$M18),0)))","v":82.222222222222229},{"$f":"IF($H18=0,0,CHOOSE($H18,SUMPRODUCT(CHOOSE(AJ$39,$O19:$O$36,$P19:$P$36,$Q19:$Q$36,$R19:$R$36)*AJ19:AJ$36*($E19:$E$36=$D18)),IF(ISNUMBER(Data!AA18),100*ABS($G18-(Data!AA18-$K18)/$M18),0),IF(ISNUMBER(Data!AA18),100*ABS($G18-(Data!AA18-$K18)/$M18),0)))","v":54.44444444444445},{"$f":"IF($H18=0,0,CHOOSE($H18,SUMPRODUCT(CHOOSE(AK$39,$O19:$O$36,$P19:$P$36,$Q19:$Q$36,$R19:$R$36)*AK19:AK$36*($E19:$E$36=$D18)),IF(ISNUMBER(Data!AB18),100*ABS($G18-(Data!AB18-$K18)/$M18),0),IF(ISNUMBER(Data!AB18),100*ABS($G18-(Data!AB18-$K18)/$M18),0)))","v":44.444444444444443},{"$f":"IF($H18=0,0,CHOOSE($H18,SUMPRODUCT(CHOOSE(AL$39,$O19:$O$36,$P19:$P$36,$Q19:$Q$36,$R19:$R$36)*AL19:AL$36*($E19:$E$36=$D18)),IF(ISNUMBER(Data!AC18),100*ABS($G18-(Data!AC18-$K18)/$M18),0),IF(ISNUMBER(Data!AC18),100*ABS($G18-(Data!AC18-$K18)/$M18),0)))","v":88.888888888888886}]
[null,{"$f":"tblIndicators!A16","v":15},{"$f":"tblIndicators!B16","v":0},{"$f":"tblIndicators!D16","v":"EP_20_2"},{"$f":"tblIndicators!E16","v":"EP_20"},{"$f":"tblIndicators!F16","v":3},{"$f":"tblIndicators!S16","v":0},{"$f":"tblIndicators!T16","v":3},{"$f":"tblIndicators!U16","v":0},{"$f":"tblIndicators!V16","v":5},{"$f":"CHOOSE(H19,\"-\",MIN(Data!J19:AC19),I19)","v":0},{"$f":"CHOOSE(H19,\"-\",MAX(Data!J19:AC19),J19)","v":5},5,{"$f":"tblIndicators!Y16","v":"1.20.2)    Logistics performance"},{"$f":"tblIndicators!X16","v":0.25},{"$f":"tblIndicators!AF16","v":0.25},{"$f":"tblIndicators!AI16","v":0.25},{"$f":"tblIndicators!AL16","v":0.25},{"$f":"IF($H19=0,0,CHOOSE($H19,SUMPRODUCT(CHOOSE(S$39,$O20:$O$36,$P20:$P$36,$Q20:$Q$36,$R20:$R$36)*S20:S$36*($E20:$E$36=$D19)),IF(ISNUMBER(Data!J19),100*ABS($G19-(Data!J19-$K19)/$M19),0),IF(ISNUMBER(Data!J19),100*ABS($G19-(Data!J19-$K19)/$M19),0)))","v":51.2},{"$f":"IF($H19=0,0,CHOOSE($H19,SUMPRODUCT(CHOOSE(T$39,$O20:$O$36,$P20:$P$36,$Q20:$Q$36,$R20:$R$36)*T20:T$36*($E20:$E$36=$D19)),IF(ISNUMBER(Data!K19),100*ABS($G19-(Data!K19-$K19)/$M19),0),IF(ISNUMBER(Data!K19),100*ABS($G19-(Data!K19-$K19)/$M19),0)))","v":0},{"$f":"IF($H19=0,0,CHOOSE($H19,SUMPRODUCT(CHOOSE(U$39,$O20:$O$36,$P20:$P$36,$Q20:$Q$36,$R20:$R$36)*U20:U$36*($E20:$E$36=$D19)),IF(ISNUMBER(Data!L19),100*ABS($G19-(Data!L19-$K19)/$M19),0),IF(ISNUMBER(Data!L19),100*ABS($G19-(Data!L19-$K19)/$M19),0)))","v":54.800000000000004},{"$f":"IF($H19=0,0,CHOOSE($H19,SUMPRODUCT(CHOOSE(V$39,$O20:$O$36,$P20:$P$36,$Q20:$Q$36,$R20:$R$36)*V20:V$36*($E20:$E$36=$D19)),IF(ISNUMBER(Data!M19),100*ABS($G19-(Data!M19-$K19)/$M19),0),IF(ISNUMBER(Data!M19),100*ABS($G19-(Data!M19-$K19)/$M19),0)))","v":70.599999999999994},{"$f":"IF($H19=0,0,CHOOSE($H19,SUMPRODUCT(CHOOSE(W$39,$O20:$O$36,$P20:$P$36,$Q20:$Q$36,$R20:$R$36)*W20:W$36*($E20:$E$36=$D19)),IF(ISNUMBER(Data!N19),100*ABS($G19-(Data!N19-$K19)/$M19),0),IF(ISNUMBER(Data!N19),100*ABS($G19-(Data!N19-$K19)/$M19),0)))","v":76.599999999999994},{"$f":"IF($H19=0,0,CHOOSE($H19,SUMPRODUCT(CHOOSE(X$39,$O20:$O$36,$P20:$P$36,$Q20:$Q$36,$R20:$R$36)*X20:X$36*($E20:$E$36=$D19)),IF(ISNUMBER(Data!O19),100*ABS($G19-(Data!O19-$K19)/$M19),0),IF(ISNUMBER(Data!O19),100*ABS($G19-(Data!O19-$K19)/$M19),0)))","v":61.6},{"$f":"IF($H19=0,0,CHOOSE($H19,SUMPRODUCT(CHOOSE(Y$39,$O20:$O$36,$P20:$P$36,$Q20:$Q$36,$R20:$R$36)*Y20:Y$36*($E20:$E$36=$D19)),IF(ISNUMBER(Data!P19),100*ABS($G19-(Data!P19-$K19)/$M19),0),IF(ISNUMBER(Data!P19),100*ABS($G19-(Data!P19-$K19)/$M19),0)))","v":61.6},{"$f":"IF($H19=0,0,CHOOSE($H19,SUMPRODUCT(CHOOSE(Z$39,$O20:$O$36,$P20:$P$36,$Q20:$Q$36,$R20:$R$36)*Z20:Z$36*($E20:$E$36=$D19)),IF(ISNUMBER(Data!Q19),100*ABS($G19-(Data!Q19-$K19)/$M19),0),IF(ISNUMBER(Data!Q19),100*ABS($G19-(Data!Q19-$K19)/$M19),0)))","v":78.2},{"$f":"IF($H19=0,0,CHOOSE($H19,SUMPRODUCT(CHOOSE(AA$39,$O20:$O$36,$P20:$P$36,$Q20:$Q$36,$R20:$R$36)*AA20:AA$36*($E20:$E$36=$D19)),IF(ISNUMBER(Data!R19),100*ABS($G19-(Data!R19-$K19)/$M19),0),IF(ISNUMBER(Data!R19),100*ABS($G19-(Data!R19-$K19)/$M19),0)))","v":47.800000000000004},{"$f":"IF($H19=0,0,CHOOSE($H19,SUMPRODUCT(CHOOSE(AB$39,$O20:$O$36,$P20:$P$36,$Q20:$Q$36,$R20:$R$36)*AB20:AB$36*($E20:$E$36=$D19)),IF(ISNUMBER(Data!S19),100*ABS($G19-(Data!S19-$K19)/$M19),0),IF(ISNUMBER(Data!S19),100*ABS($G19-(Data!S19-$K19)/$M19),0)))","v":71.8},{"$f":"IF($H19=0,0,CHOOSE($H19,SUMPRODUCT(CHOOSE(AC$39,$O20:$O$36,$P20:$P$36,$Q20:$Q$36,$R20:$R$36)*AC20:AC$36*($E20:$E$36=$D19)),IF(ISNUMBER(Data!T19),100*ABS($G19-(Data!T19-$K19)/$M19),0),IF(ISNUMBER(Data!T19),100*ABS($G19-(Data!T19-$K19)/$M19),0)))","v":45},{"$f":"IF($H19=0,0,CHOOSE($H19,SUMPRODUCT(CHOOSE(AD$39,$O20:$O$36,$P20:$P$36,$Q20:$Q$36,$R20:$R$36)*AD20:AD$36*($E20:$E$36=$D19)),IF(ISNUMBER(Data!U19),100*ABS($G19-(Data!U19-$K19)/$M19),0),IF(ISNUMBER(Data!U19),100*ABS($G19-(Data!U19-$K19)/$M19),0)))","v":56.600000000000009},{"$f":"IF($H19=0,0,CHOOSE($H19,SUMPRODUCT(CHOOSE(AE$39,$O20:$O$36,$P20:$P$36,$Q20:$Q$36,$R20:$R$36)*AE20:AE$36*($E20:$E$36=$D19)),IF(ISNUMBER(Data!V19),100*ABS($G19-(Data!V19-$K19)/$M19),0),IF(ISNUMBER(Data!V19),100*ABS($G19-(Data!V19-$K19)/$M19),0)))","v":60},{"$f":"IF($H19=0,0,CHOOSE($H19,SUMPRODUCT(CHOOSE(AF$39,$O20:$O$36,$P20:$P$36,$Q20:$Q$36,$R20:$R$36)*AF20:AF$36*($E20:$E$36=$D19)),IF(ISNUMBER(Data!W19),100*ABS($G19-(Data!W19-$K19)/$M19),0),IF(ISNUMBER(Data!W19),100*ABS($G19-(Data!W19-$K19)/$M19),0)))","v":80},{"$f":"IF($H19=0,0,CHOOSE($H19,SUMPRODUCT(CHOOSE(AG$39,$O20:$O$36,$P20:$P$36,$Q20:$Q$36,$R20:$R$36)*AG20:AG$36*($E20:$E$36=$D19)),IF(ISNUMBER(Data!X19),100*ABS($G19-(Data!X19-$K19)/$M19),0),IF(ISNUMBER(Data!X19),100*ABS($G19-(Data!X19-$K19)/$M19),0)))","v":73.400000000000006},{"$f":"IF($H19=0,0,CHOOSE($H19,SUMPRODUCT(CHOOSE(AH$39,$O20:$O$36,$P20:$P$36,$Q20:$Q$36,$R20:$R$36)*AH20:AH$36*($E20:$E$36=$D19)),IF(ISNUMBER(Data!Y19),100*ABS($G19-(Data!Y19-$K19)/$M19),0),IF(ISNUMBER(Data!Y19),100*ABS($G19-(Data!Y19-$K19)/$M19),0)))","v":54},{"$f":"IF($H19=0,0,CHOOSE($H19,SUMPRODUCT(CHOOSE(AI$39,$O20:$O$36,$P20:$P$36,$Q20:$Q$36,$R20:$R$36)*AI20:AI$36*($E20:$E$36=$D19)),IF(ISNUMBER(Data!Z19),100*ABS($G19-(Data!Z19-$K19)/$M19),0),IF(ISNUMBER(Data!Z19),100*ABS($G19-(Data!Z19-$K19)/$M19),0)))","v":74.400000000000006},{"$f":"IF($H19=0,0,CHOOSE($H19,SUMPRODUCT(CHOOSE(AJ$39,$O20:$O$36,$P20:$P$36,$Q20:$Q$36,$R20:$R$36)*AJ20:AJ$36*($E20:$E$36=$D19)),IF(ISNUMBER(Data!AA19),100*ABS($G19-(Data!AA19-$K19)/$M19),0),IF(ISNUMBER(Data!AA19),100*ABS($G19-(Data!AA19-$K19)/$M19),0)))","v":68.600000000000009},{"$f":"IF($H19=0,0,CHOOSE($H19,SUMPRODUCT(CHOOSE(AK$39,$O20:$O$36,$P20:$P$36,$Q20:$Q$36,$R20:$R$36)*AK20:AK$36*($E20:$E$36=$D19)),IF(ISNUMBER(Data!AB19),100*ABS($G19-(Data!AB19-$K19)/$M19),0),IF(ISNUMBER(Data!AB19),100*ABS($G19-(Data!AB19-$K19)/$M19),0)))","v":63},{"$f":"IF($H19=0,0,CHOOSE($H19,SUMPRODUCT(CHOOSE(AL$39,$O20:$O$36,$P20:$P$36,$Q20:$Q$36,$R20:$R$36)*AL20:AL$36*($E20:$E$36=$D19)),IF(ISNUMBER(Data!AC19),100*ABS($G19-(Data!AC19-$K19)/$M19),0),IF(ISNUMBER(Data!AC19),100*ABS($G19-(Data!AC19-$K19)/$M19),0)))","v":78.400000000000006}]
[null,{"$f":"tblIndicators!A17","v":16},{"$f":"tblIndicators!B17","v":0},{"$f":"tblIndicators!D17","v":"EP_20_3"},{"$f":"tblIndicators!E17","v":"EP_20"},{"$f":"tblIndicators!F17","v":3},{"$f":"tblIndicators!S17","v":0},{"$f":"tblIndicators!T17","v":3},{"$f":"tblIndicators!U17","v":1},{"$f":"tblIndicators!V17","v":5},{"$f":"CHOOSE(H20,\"-\",MIN(Data!J20:AC20),I20)","v":1},{"$f":"CHOOSE(H20,\"-\",MAX(Data!J20:AC20),J20)","v":5},4,{"$f":"tblIndicators!Y17","v":"1.20.3)    Corruption"},{"$f":"tblIndicators!X17","v":0.25},{"$f":"tblIndicators!AF17","v":0.25},{"$f":"tblIndicators!AI17","v":0.25},{"$f":"tblIndicators!AL17","v":0.25},{"$f":"IF($H20=0,0,CHOOSE($H20,SUMPRODUCT(CHOOSE(S$39,$O21:$O$36,$P21:$P$36,$Q21:$Q$36,$R21:$R$36)*S21:S$36*($E21:$E$36=$D20)),IF(ISNUMBER(Data!J20),100*ABS($G20-(Data!J20-$K20)/$M20),0),IF(ISNUMBER(Data!J20),100*ABS($G20-(Data!J20-$K20)/$M20),0)))","v":0},{"$f":"IF($H20=0,0,CHOOSE($H20,SUMPRODUCT(CHOOSE(T$39,$O21:$O$36,$P21:$P$36,$Q21:$Q$36,$R21:$R$36)*T21:T$36*($E21:$E$36=$D20)),IF(ISNUMBER(Data!K20),100*ABS($G20-(Data!K20-$K20)/$M20),0),IF(ISNUMBER(Data!K20),100*ABS($G20-(Data!K20-$K20)/$M20),0)))","v":50},{"$f":"IF($H20=0,0,CHOOSE($H20,SUMPRODUCT(CHOOSE(U$39,$O21:$O$36,$P21:$P$36,$Q21:$Q$36,$R21:$R$36)*U21:U$36*($E21:$E$36=$D20)),IF(ISNUMBER(Data!L20),100*ABS($G20-(Data!L20-$K20)/$M20),0),IF(ISNUMBER(Data!L20),100*ABS($G20-(Data!L20-$K20)/$M20),0)))","v":0},{"$f":"IF($H20=0,0,CHOOSE($H20,SUMPRODUCT(CHOOSE(V$39,$O21:$O$36,$P21:$P$36,$Q21:$Q$36,$R21:$R$36)*V21:V$36*($E21:$E$36=$D20)),IF(ISNUMBER(Data!M20),100*ABS($G20-(Data!M20-$K20)/$M20),0),IF(ISNUMBER(Data!M20),100*ABS($G20-(Data!M20-$K20)/$M20),0)))","v":0},{"$f":"IF($H20=0,0,CHOOSE($H20,SUMPRODUCT(CHOOSE(W$39,$O21:$O$36,$P21:$P$36,$Q21:$Q$36,$R21:$R$36)*W21:W$36*($E21:$E$36=$D20)),IF(ISNUMBER(Data!N20),100*ABS($G20-(Data!N20-$K20)/$M20),0),IF(ISNUMBER(Data!N20),100*ABS($G20-(Data!N20-$K20)/$M20),0)))","v":75},{"$f":"IF($H20=0,0,CHOOSE($H20,SUMPRODUCT(CHOOSE(X$39,$O21:$O$36,$P21:$P$36,$Q21:$Q$36,$R21:$R$36)*X21:X$36*($E21:$E$36=$D20)),IF(ISNUMBER(Data!O20),100*ABS($G20-(Data!O20-$K20)/$M20),0),IF(ISNUMBER(Data!O20),100*ABS($G20-(Data!O20-$K20)/$M20),0)))","v":7.5000000000000009},{"$f":"IF($H20=0,0,CHOOSE($H20,SUMPRODUCT(CHOOSE(Y$39,$O21:$O$36,$P21:$P$36,$Q21:$Q$36,$R21:$R$36)*Y21:Y$36*($E21:$E$36=$D20)),IF(ISNUMBER(Data!P20),100*ABS($G20-(Data!P20-$K20)/$M20),0),IF(ISNUMBER(Data!P20),100*ABS($G20-(Data!P20-$K20)/$M20),0)))","v":0},{"$f":"IF($H20=0,0,CHOOSE($H20,SUMPRODUCT(CHOOSE(Z$39,$O21:$O$36,$P21:$P$36,$Q21:$Q$36,$R21:$R$36)*Z21:Z$36*($E21:$E$36=$D20)),IF(ISNUMBER(Data!Q20),100*ABS($G20-(Data!Q20-$K20)/$M20),0),IF(ISNUMBER(Data!Q20),100*ABS($G20-(Data!Q20-$K20)/$M20),0)))","v":50},{"$f":"IF($H20=0,0,CHOOSE($H20,SUMPRODUCT(CHOOSE(AA$39,$O21:$O$36,$P21:$P$36,$Q21:$Q$36,$R21:$R$36)*AA21:AA$36*($E21:$E$36=$D20)),IF(ISNUMBER(Data!R20),100*ABS($G20-(Data!R20-$K20)/$M20),0),IF(ISNUMBER(Data!R20),100*ABS($G20-(Data!R20-$K20)/$M20),0)))","v":0},{"$f":"IF($H20=0,0,CHOOSE($H20,SUMPRODUCT(CHOOSE(AB$39,$O21:$O$36,$P21:$P$36,$Q21:$Q$36,$R21:$R$36)*AB21:AB$36*($E21:$E$36=$D20)),IF(ISNUMBER(Data!S20),100*ABS($G20-(Data!S20-$K20)/$M20),0),IF(ISNUMBER(Data!S20),100*ABS($G20-(Data!S20-$K20)/$M20),0)))","v":50},{"$f":"IF($H20=0,0,CHOOSE($H20,SUMPRODUCT(CHOOSE(AC$39,$O21:$O$36,$P21:$P$36,$Q21:$Q$36,$R21:$R$36)*AC21:AC$36*($E21:$E$36=$D20)),IF(ISNUMBER(Data!T20),100*ABS($G20-(Data!T20-$K20)/$M20),0),IF(ISNUMBER(Data!T20),100*ABS($G20-(Data!T20-$K20)/$M20),0)))","v":0},{"$f":"IF($H20=0,0,CHOOSE($H20,SUMPRODUCT(CHOOSE(AD$39,$O21:$O$36,$P21:$P$36,$Q21:$Q$36,$R21:$R$36)*AD21:AD$36*($E21:$E$36=$D20)),IF(ISNUMBER(Data!U20),100*ABS($G20-(Data!U20-$K20)/$M20),0),IF(ISNUMBER(Data!U20),100*ABS($G20-(Data!U20-$K20)/$M20),0)))","v":7.5000000000000009},{"$f":"IF($H20=0,0,CHOOSE($H20,SUMPRODUCT(CHOOSE(AE$39,$O21:$O$36,$P21:$P$36,$Q21:$Q$36,$R21:$R$36)*AE21:AE$36*($E21:$E$36=$D20)),IF(ISNUMBER(Data!V20),100*ABS($G20-(Data!V20-$K20)/$M20),0),IF(ISNUMBER(Data!V20),100*ABS($G20-(Data!V20-$K20)/$M20),0)))","v":0},{"$f":"IF($H20=0,0,CHOOSE($H20,SUMPRODUCT(CHOOSE(AF$39,$O21:$O$36,$P21:$P$36,$Q21:$Q$36,$R21:$R$36)*AF21:AF$36*($E21:$E$36=$D20)),IF(ISNUMBER(Data!W20),100*ABS($G20-(Data!W20-$K20)/$M20),0),IF(ISNUMBER(Data!W20),100*ABS($G20-(Data!W20-$K20)/$M20),0)))","v":100},{"$f":"IF($H20=0,0,CHOOSE($H20,SUMPRODUCT(CHOOSE(AG$39,$O21:$O$36,$P21:$P$36,$Q21:$Q$36,$R21:$R$36)*AG21:AG$36*($E21:$E$36=$D20)),IF(ISNUMBER(Data!X20),100*ABS($G20-(Data!X20-$K20)/$M20),0),IF(ISNUMBER(Data!X20),100*ABS($G20-(Data!X20-$K20)/$M20),0)))","v":75},{"$f":"IF($H20=0,0,CHOOSE($H20,SUMPRODUCT(CHOOSE(AH$39,$O21:$O$36,$P21:$P$36,$Q21:$Q$36,$R21:$R$36)*AH21:AH$36*($E21:$E$36=$D20)),IF(ISNUMBER(Data!Y20),100*ABS($G20-(Data!Y20-$K20)/$M20),0),IF(ISNUMBER(Data!Y20),100*ABS($G20-(Data!Y20-$K20)/$M20),0)))","v":25},{"$f":"IF($H20=0,0,CHOOSE($H20,SUMPRODUCT(CHOOSE(AI$39,$O21:$O$36,$P21:$P$36,$Q21:$Q$36,$R21:$R$36)*AI21:AI$36*($E21:$E$36=$D20)),IF(ISNUMBER(Data!Z20),100*ABS($G20-(Data!Z20-$K20)/$M20),0),IF(ISNUMBER(Data!Z20),100*ABS($G20-(Data!Z20-$K20)/$M20),0)))","v":50},{"$f":"IF($H20=0,0,CHOOSE($H20,SUMPRODUCT(CHOOSE(AJ$39,$O21:$O$36,$P21:$P$36,$Q21:$Q$36,$R21:$R$36)*AJ21:AJ$36*($E21:$E$36=$D20)),IF(ISNUMBER(Data!AA20),100*ABS($G20-(Data!AA20-$K20)/$M20),0),IF(ISNUMBER(Data!AA20),100*ABS($G20-(Data!AA20-$K20)/$M20),0)))","v":25},{"$f":"IF($H20=0,0,CHOOSE($H20,SUMPRODUCT(CHOOSE(AK$39,$O21:$O$36,$P21:$P$36,$Q21:$Q$36,$R21:$R$36)*AK21:AK$36*($E21:$E$36=$D20)),IF(ISNUMBER(Data!AB20),100*ABS($G20-(Data!AB20-$K20)/$M20),0),IF(ISNUMBER(Data!AB20),100*ABS($G20-(Data!AB20-$K20)/$M20),0)))","v":0},{"$f":"IF($H20=0,0,CHOOSE($H20,SUMPRODUCT(CHOOSE(AL$39,$O21:$O$36,$P21:$P$36,$Q21:$Q$36,$R21:$R$36)*AL21:AL$36*($E21:$E$36=$D20)),IF(ISNUMBER(Data!AC20),100*ABS($G20-(Data!AC20-$K20)/$M20),0),IF(ISNUMBER(Data!AC20),100*ABS($G20-(Data!AC20-$K20)/$M20),0)))","v":75}]
[null,{"$f":"tblIndicators!A18","v":17},{"$f":"tblIndicators!B18","v":0},{"$f":"tblIndicators!D18","v":"EP_20_4"},{"$f":"tblIndicators!E18","v":"EP_20"},{"$f":"tblIndicators!F18","v":3},{"$f":"tblIndicators!S18","v":0},{"$f":"tblIndicators!T18","v":3},{"$f":"tblIndicators!U18","v":1},{"$f":"tblIndicators!V18","v":5},{"$f":"CHOOSE(H21,\"-\",MIN(Data!J21:AC21),I21)","v":1},{"$f":"CHOOSE(H21,\"-\",MAX(Data!J21:AC21),J21)","v":5},4,{"$f":"tblIndicators!Y18","v":"1.20.4)    Legal system"},{"$f":"tblIndicators!X18","v":0.25},{"$f":"tblIndicators!AF18","v":0.25},{"$f":"tblIndicators!AI18","v":0.25},{"$f":"tblIndicators!AL18","v":0.25},{"$f":"IF($H21=0,0,CHOOSE($H21,SUMPRODUCT(CHOOSE(S$39,$O22:$O$36,$P22:$P$36,$Q22:$Q$36,$R22:$R$36)*S22:S$36*($E22:$E$36=$D21)),IF(ISNUMBER(Data!J21),100*ABS($G21-(Data!J21-$K21)/$M21),0),IF(ISNUMBER(Data!J21),100*ABS($G21-(Data!J21-$K21)/$M21),0)))","v":50},{"$f":"IF($H21=0,0,CHOOSE($H21,SUMPRODUCT(CHOOSE(T$39,$O22:$O$36,$P22:$P$36,$Q22:$Q$36,$R22:$R$36)*T22:T$36*($E22:$E$36=$D21)),IF(ISNUMBER(Data!K21),100*ABS($G21-(Data!K21-$K21)/$M21),0),IF(ISNUMBER(Data!K21),100*ABS($G21-(Data!K21-$K21)/$M21),0)))","v":0},{"$f":"IF($H21=0,0,CHOOSE($H21,SUMPRODUCT(CHOOSE(U$39,$O22:$O$36,$P22:$P$36,$Q22:$Q$36,$R22:$R$36)*U22:U$36*($E22:$E$36=$D21)),IF(ISNUMBER(Data!L21),100*ABS($G21-(Data!L21-$K21)/$M21),0),IF(ISNUMBER(Data!L21),100*ABS($G21-(Data!L21-$K21)/$M21),0)))","v":0},{"$f":"IF($H21=0,0,CHOOSE($H21,SUMPRODUCT(CHOOSE(V$39,$O22:$O$36,$P22:$P$36,$Q22:$Q$36,$R22:$R$36)*V22:V$36*($E22:$E$36=$D21)),IF(ISNUMBER(Data!M21),100*ABS($G21-(Data!M21-$K21)/$M21),0),IF(ISNUMBER(Data!M21),100*ABS($G21-(Data!M21-$K21)/$M21),0)))","v":7.5000000000000009},{"$f":"IF($H21=0,0,CHOOSE($H21,SUMPRODUCT(CHOOSE(W$39,$O22:$O$36,$P22:$P$36,$Q22:$Q$36,$R22:$R$36)*W22:W$36*($E22:$E$36=$D21)),IF(ISNUMBER(Data!N21),100*ABS($G21-(Data!N21-$K21)/$M21),0),IF(ISNUMBER(Data!N21),100*ABS($G21-(Data!N21-$K21)/$M21),0)))","v":60},{"$f":"IF($H21=0,0,CHOOSE($H21,SUMPRODUCT(CHOOSE(X$39,$O22:$O$36,$P22:$P$36,$Q22:$Q$36,$R22:$R$36)*X22:X$36*($E22:$E$36=$D21)),IF(ISNUMBER(Data!O21),100*ABS($G21-(Data!O21-$K21)/$M21),0),IF(ISNUMBER(Data!O21),100*ABS($G21-(Data!O21-$K21)/$M21),0)))","v":50},{"$f":"IF($H21=0,0,CHOOSE($H21,SUMPRODUCT(CHOOSE(Y$39,$O22:$O$36,$P22:$P$36,$Q22:$Q$36,$R22:$R$36)*Y22:Y$36*($E22:$E$36=$D21)),IF(ISNUMBER(Data!P21),100*ABS($G21-(Data!P21-$K21)/$M21),0),IF(ISNUMBER(Data!P21),100*ABS($G21-(Data!P21-$K21)/$M21),0)))","v":25},{"$f":"IF($H21=0,0,CHOOSE($H21,SUMPRODUCT(CHOOSE(Z$39,$O22:$O$36,$P22:$P$36,$Q22:$Q$36,$R22:$R$36)*Z22:Z$36*($E22:$E$36=$D21)),IF(ISNUMBER(Data!Q21),100*ABS($G21-(Data!Q21-$K21)/$M21),0),IF(ISNUMBER(Data!Q21),100*ABS($G21-(Data!Q21-$K21)/$M21),0)))","v":75},{"$f":"IF($H21=0,0,CHOOSE($H21,SUMPRODUCT(CHOOSE(AA$39,$O22:$O$36,$P22:$P$36,$Q22:$Q$36,$R22:$R$36)*AA22:AA$36*($E22:$E$36=$D21)),IF(ISNUMBER(Data!R21),100*ABS($G21-(Data!R21-$K21)/$M21),0),IF(ISNUMBER(Data!R21),100*ABS($G21-(Data!R21-$K21)/$M21),0)))","v":0},{"$f":"IF($H21=0,0,CHOOSE($H21,SUMPRODUCT(CHOOSE(AB$39,$O22:$O$36,$P22:$P$36,$Q22:$Q$36,$R22:$R$36)*AB22:AB$36*($E22:$E$36=$D21)),IF(ISNUMBER(Data!S21),100*ABS($G21-(Data!S21-$K21)/$M21),0),IF(ISNUMBER(Data!S21),100*ABS($G21-(Data!S21-$K21)/$M21),0)))","v":50},{"$f":"IF($H21=0,0,CHOOSE($H21,SUMPRODUCT(CHOOSE(AC$39,$O22:$O$36,$P22:$P$36,$Q22:$Q$36,$R22:$R$36)*AC22:AC$36*($E22:$E$36=$D21)),IF(ISNUMBER(Data!T21),100*ABS($G21-(Data!T21-$K21)/$M21),0),IF(ISNUMBER(Data!T21),100*ABS($G21-(Data!T21-$K21)/$M21),0)))","v":0},{"$f":"IF($H21=0,0,CHOOSE($H21,SUMPRODUCT(CHOOSE(AD$39,$O22:$O$36,$P22:$P$36,$Q22:$Q$36,$R22:$R$36)*AD22:AD$36*($E22:$E$36=$D21)),IF(ISNUMBER(Data!U21),100*ABS($G21-(Data!U21-$K21)/$M21),0),IF(ISNUMBER(Data!U21),100*ABS($G21-(Data!U21-$K21)/$M21),0)))","v":25},{"$f":"IF($H21=0,0,CHOOSE($H21,SUMPRODUCT(CHOOSE(AE$39,$O22:$O$36,$P22:$P$36,$Q22:$Q$36,$R22:$R$36)*AE22:AE$36*($E22:$E$36=$D21)),IF(ISNUMBER(Data!V21),100*ABS($G21-(Data!V21-$K21)/$M21),0),IF(ISNUMBER(Data!V21),100*ABS($G21-(Data!V21-$K21)/$M21),0)))","v":25},{"$f":"IF($H21=0,0,CHOOSE($H21,SUMPRODUCT(CHOOSE(AF$39,$O22:$O$36,$P22:$P$36,$Q22:$Q$36,$R22:$R$36)*AF22:AF$36*($E22:$E$36=$D21)),IF(ISNUMBER(Data!W21),100*ABS($G21-(Data!W21-$K21)/$M21),0),IF(ISNUMBER(Data!W21),100*ABS($G21-(Data!W21-$K21)/$M21),0)))","v":75},{"$f":"IF($H21=0,0,CHOOSE($H21,SUMPRODUCT(CHOOSE(AG$39,$O22:$O$36,$P22:$P$36,$Q22:$Q$36,$R22:$R$36)*AG22:AG$36*($E22:$E$36=$D21)),IF(ISNUMBER(Data!X21),100*ABS($G21-(Data!X21-$K21)/$M21),0),IF(ISNUMBER(Data!X21),100*ABS($G21-(Data!X21-$K21)/$M21),0)))","v":50},{"$f":"IF($H21=0,0,CHOOSE($H21,SUMPRODUCT(CHOOSE(AH$39,$O22:$O$36,$P22:$P$36,$Q22:$Q$36,$R22:$R$36)*AH22:AH$36*($E22:$E$36=$D21)),IF(ISNUMBER(Data!Y21),100*ABS($G21-(Data!Y21-$K21)/$M21),0),IF(ISNUMBER(Data!Y21),100*ABS($G21-(Data!Y21-$K21)/$M21),0)))","v":50},{"$f":"IF($H21=0,0,CHOOSE($H21,SUMPRODUCT(CHOOSE(AI$39,$O22:$O$36,$P22:$P$36,$Q22:$Q$36,$R22:$R$36)*AI22:AI$36*($E22:$E$36=$D21)),IF(ISNUMBER(Data!Z21),100*ABS($G21-(Data!Z21-$K21)/$M21),0),IF(ISNUMBER(Data!Z21),100*ABS($G21-(Data!Z21-$K21)/$M21),0)))","v":60},{"$f":"IF($H21=0,0,CHOOSE($H21,SUMPRODUCT(CHOOSE(AJ$39,$O22:$O$36,$P22:$P$36,$Q22:$Q$36,$R22:$R$36)*AJ22:AJ$36*($E22:$E$36=$D21)),IF(ISNUMBER(Data!AA21),100*ABS($G21-(Data!AA21-$K21)/$M21),0),IF(ISNUMBER(Data!AA21),100*ABS($G21-(Data!AA21-$K21)/$M21),0)))","v":25},{"$f":"IF($H21=0,0,CHOOSE($H21,SUMPRODUCT(CHOOSE(AK$39,$O22:$O$36,$P22:$P$36,$Q22:$Q$36,$R22:$R$36)*AK22:AK$36*($E22:$E$36=$D21)),IF(ISNUMBER(Data!AB21),100*ABS($G21-(Data!AB21-$K21)/$M21),0),IF(ISNUMBER(Data!AB21),100*ABS($G21-(Data!AB21-$K21)/$M21),0)))","v":25},{"$f":"IF($H21=0,0,CHOOSE($H21,SUMPRODUCT(CHOOSE(AL$39,$O22:$O$36,$P22:$P$36,$Q22:$Q$36,$R22:$R$36)*AL22:AL$36*($E22:$E$36=$D21)),IF(ISNUMBER(Data!AC21),100*ABS($G21-(Data!AC21-$K21)/$M21),0),IF(ISNUMBER(Data!AC21),100*ABS($G21-(Data!AC21-$K21)/$M21),0)))","v":75}]
[null,{"$f":"tblIndicators!A19","v":18},{"$f":"tblIndicators!B19","v":0},{"$f":"tblIndicators!D19","v":"EP_21"},{"$f":"tblIndicators!E19","v":"EP"},{"$f":"tblIndicators!F19","v":2},{"$f":"tblIndicators!S19","v":0},{"$f":"tblIndicators!T19","v":2},{"$f":"tblIndicators!U19","v":0},{"$f":"tblIndicators!V19","v":0},{"$f":"CHOOSE(H22,\"-\",MIN(Data!J22:AC22),I22)","v":0.03},{"$f":"CHOOSE(H22,\"-\",MAX(Data!J22:AC22),J22)","v":4.4000000000000004},4.37,{"$f":"tblIndicators!Y19","v":"1.21) Technological innovation"},{"$f":"tblIndicators!X19","v":7.1428571428571452E-2},{"$f":"tblIndicators!AF19","v":7.1428571428571425E-2},{"$f":"tblIndicators!AI19","v":7.1428571428571425E-2},{"$f":"tblIndicators!AL19","v":7.1428571428571425E-2},{"$f":"IF($H22=0,0,CHOOSE($H22,SUMPRODUCT(CHOOSE(S$39,$O23:$O$36,$P23:$P$36,$Q23:$Q$36,$R23:$R$36)*S23:S$36*($E23:$E$36=$D22)),IF(ISNUMBER(Data!J22),100*ABS($G22-(Data!J22-$K22)/$M22),0),IF(ISNUMBER(Data!J22),100*ABS($G22-(Data!J22-$K22)/$M22),0)))","v":8.4668192219679632},{"$f":"IF($H22=0,0,CHOOSE($H22,SUMPRODUCT(CHOOSE(T$39,$O23:$O$36,$P23:$P$36,$Q23:$Q$36,$R23:$R$36)*T23:T$36*($E23:$E$36=$D22)),IF(ISNUMBER(Data!K22),100*ABS($G22-(Data!K22-$K22)/$M22),0),IF(ISNUMBER(Data!K22),100*ABS($G22-(Data!K22-$K22)/$M22),0)))","v":0},{"$f":"IF($H22=0,0,CHOOSE($H22,SUMPRODUCT(CHOOSE(U$39,$O23:$O$36,$P23:$P$36,$Q23:$Q$36,$R23:$R$36)*U23:U$36*($E23:$E$36=$D22)),IF(ISNUMBER(Data!L22),100*ABS($G22-(Data!L22-$K22)/$M22),0),IF(ISNUMBER(Data!L22),100*ABS($G22-(Data!L22-$K22)/$M22),0)))","v":0.45766590389016026},{"$f":"IF($H22=0,0,CHOOSE($H22,SUMPRODUCT(CHOOSE(V$39,$O23:$O$36,$P23:$P$36,$Q23:$Q$36,$R23:$R$36)*V23:V$36*($E23:$E$36=$D22)),IF(ISNUMBER(Data!M22),100*ABS($G22-(Data!M22-$K22)/$M22),0),IF(ISNUMBER(Data!M22),100*ABS($G22-(Data!M22-$K22)/$M22),0)))","v":45.080091533180777},{"$f":"IF($H22=0,0,CHOOSE($H22,SUMPRODUCT(CHOOSE(W$39,$O23:$O$36,$P23:$P$36,$Q23:$Q$36,$R23:$R$36)*W23:W$36*($E23:$E$36=$D22)),IF(ISNUMBER(Data!N22),100*ABS($G22-(Data!N22-$K22)/$M22),0),IF(ISNUMBER(Data!N22),100*ABS($G22-(Data!N22-$K22)/$M22),0)))","v":17.620137299771166},{"$f":"IF($H22=0,0,CHOOSE($H22,SUMPRODUCT(CHOOSE(X$39,$O23:$O$36,$P23:$P$36,$Q23:$Q$36,$R23:$R$36)*X23:X$36*($E23:$E$36=$D22)),IF(ISNUMBER(Data!O22),100*ABS($G22-(Data!O22-$K22)/$M22),0),IF(ISNUMBER(Data!O22),100*ABS($G22-(Data!O22-$K22)/$M22),0)))","v":17.620137299771166},{"$f":"IF($H22=0,0,CHOOSE($H22,SUMPRODUCT(CHOOSE(Y$39,$O23:$O$36,$P23:$P$36,$Q23:$Q$36,$R23:$R$36)*Y23:Y$36*($E23:$E$36=$D22)),IF(ISNUMBER(Data!P22),100*ABS($G22-(Data!P22-$K22)/$M22),0),IF(ISNUMBER(Data!P22),100*ABS($G22-(Data!P22-$K22)/$M22),0)))","v":1.1441647597254003},{"$f":"IF($H22=0,0,CHOOSE($H22,SUMPRODUCT(CHOOSE(Z$39,$O23:$O$36,$P23:$P$36,$Q23:$Q$36,$R23:$R$36)*Z23:Z$36*($E23:$E$36=$D22)),IF(ISNUMBER(Data!Q22),100*ABS($G22-(Data!Q22-$K22)/$M22),0),IF(ISNUMBER(Data!Q22),100*ABS($G22-(Data!Q22-$K22)/$M22),0)))","v":77.116704805491992},{"$f":"IF($H22=0,0,CHOOSE($H22,SUMPRODUCT(CHOOSE(AA$39,$O23:$O$36,$P23:$P$36,$Q23:$Q$36,$R23:$R$36)*AA23:AA$36*($E23:$E$36=$D22)),IF(ISNUMBER(Data!R22),100*ABS($G22-(Data!R22-$K22)/$M22),0),IF(ISNUMBER(Data!R22),100*ABS($G22-(Data!R22-$K22)/$M22),0)))","v":0.22883295194508013},{"$f":"IF($H22=0,0,CHOOSE($H22,SUMPRODUCT(CHOOSE(AB$39,$O23:$O$36,$P23:$P$36,$Q23:$Q$36,$R23:$R$36)*AB23:AB$36*($E23:$E$36=$D22)),IF(ISNUMBER(Data!S22),100*ABS($G22-(Data!S22-$K22)/$M22),0),IF(ISNUMBER(Data!S22),100*ABS($G22-(Data!S22-$K22)/$M22),0)))","v":24.48512585812357},{"$f":"IF($H22=0,0,CHOOSE($H22,SUMPRODUCT(CHOOSE(AC$39,$O23:$O$36,$P23:$P$36,$Q23:$Q$36,$R23:$R$36)*AC23:AC$36*($E23:$E$36=$D22)),IF(ISNUMBER(Data!T22),100*ABS($G22-(Data!T22-$K22)/$M22),0),IF(ISNUMBER(Data!T22),100*ABS($G22-(Data!T22-$K22)/$M22),0)))","v":3.8901601830663615},{"$f":"IF($H22=0,0,CHOOSE($H22,SUMPRODUCT(CHOOSE(AD$39,$O23:$O$36,$P23:$P$36,$Q23:$Q$36,$R23:$R$36)*AD23:AD$36*($E23:$E$36=$D22)),IF(ISNUMBER(Data!U22),100*ABS($G22-(Data!U22-$K22)/$M22),0),IF(ISNUMBER(Data!U22),100*ABS($G22-(Data!U22-$K22)/$M22),0)))","v":6.8649885583524046},{"$f":"IF($H22=0,0,CHOOSE($H22,SUMPRODUCT(CHOOSE(AE$39,$O23:$O$36,$P23:$P$36,$Q23:$Q$36,$R23:$R$36)*AE23:AE$36*($E23:$E$36=$D22)),IF(ISNUMBER(Data!V22),100*ABS($G22-(Data!V22-$K22)/$M22),0),IF(ISNUMBER(Data!V22),100*ABS($G22-(Data!V22-$K22)/$M22),0)))","v":1.8306636155606408},{"$f":"IF($H22=0,0,CHOOSE($H22,SUMPRODUCT(CHOOSE(AF$39,$O23:$O$36,$P23:$P$36,$Q23:$Q$36,$R23:$R$36)*AF23:AF$36*($E23:$E$36=$D22)),IF(ISNUMBER(Data!W22),100*ABS($G22-(Data!W22-$K22)/$M22),0),IF(ISNUMBER(Data!W22),100*ABS($G22-(Data!W22-$K22)/$M22),0)))","v":49.656750572082387},{"$f":"IF($H22=0,0,CHOOSE($H22,SUMPRODUCT(CHOOSE(AG$39,$O23:$O$36,$P23:$P$36,$Q23:$Q$36,$R23:$R$36)*AG23:AG$36*($E23:$E$36=$D22)),IF(ISNUMBER(Data!X22),100*ABS($G22-(Data!X22-$K22)/$M22),0),IF(ISNUMBER(Data!X22),100*ABS($G22-(Data!X22-$K22)/$M22),0)))","v":100},{"$f":"IF($H22=0,0,CHOOSE($H22,SUMPRODUCT(CHOOSE(AH$39,$O23:$O$36,$P23:$P$36,$Q23:$Q$36,$R23:$R$36)*AH23:AH$36*($E23:$E$36=$D22)),IF(ISNUMBER(Data!Y22),100*ABS($G22-(Data!Y22-$K22)/$M22),0),IF(ISNUMBER(Data!Y22),100*ABS($G22-(Data!Y22-$K22)/$M22),0)))","v":3.8901601830663615},{"$f":"IF($H22=0,0,CHOOSE($H22,SUMPRODUCT(CHOOSE(AI$39,$O23:$O$36,$P23:$P$36,$Q23:$Q$36,$R23:$R$36)*AI23:AI$36*($E23:$E$36=$D22)),IF(ISNUMBER(Data!Z22),100*ABS($G22-(Data!Z22-$K22)/$M22),0),IF(ISNUMBER(Data!Z22),100*ABS($G22-(Data!Z22-$K22)/$M22),0)))","v":72.540045766590396},{"$f":"IF($H22=0,0,CHOOSE($H22,SUMPRODUCT(CHOOSE(AJ$39,$O23:$O$36,$P23:$P$36,$Q23:$Q$36,$R23:$R$36)*AJ23:AJ$36*($E23:$E$36=$D22)),IF(ISNUMBER(Data!AA22),100*ABS($G22-(Data!AA22-$K22)/$M22),0),IF(ISNUMBER(Data!AA22),100*ABS($G22-(Data!AA22-$K22)/$M22),0)))","v":6.1784897025171626},{"$f":"IF($H22=0,0,CHOOSE($H22,SUMPRODUCT(CHOOSE(AK$39,$O23:$O$36,$P23:$P$36,$Q23:$Q$36,$R23:$R$36)*AK23:AK$36*($E23:$E$36=$D22)),IF(ISNUMBER(Data!AB22),100*ABS($G22-(Data!AB22-$K22)/$M22),0),IF(ISNUMBER(Data!AB22),100*ABS($G22-(Data!AB22-$K22)/$M22),0)))","v":3.8901601830663615},{"$f":"IF($H22=0,0,CHOOSE($H22,SUMPRODUCT(CHOOSE(AL$39,$O23:$O$36,$P23:$P$36,$Q23:$Q$36,$R23:$R$36)*AL23:AL$36*($E23:$E$36=$D22)),IF(ISNUMBER(Data!AC22),100*ABS($G22-(Data!AC22-$K22)/$M22),0),IF(ISNUMBER(Data!AC22),100*ABS($G22-(Data!AC22-$K22)/$M22),0)))","v":63.386727688787182}]
[null,{"$f":"tblIndicators!A20","v":19},{"$f":"tblIndicators!B20","v":0},{"$f":"tblIndicators!D20","v":"EP_22"},{"$f":"tblIndicators!E20","v":"EP"},{"$f":"tblIndicators!F20","v":2},{"$f":"tblIndicators!S20","v":1},{"$f":"tblIndicators!T20","v":2},{"$f":"tblIndicators!U20","v":0},{"$f":"tblIndicators!V20","v":0},{"$f":"CHOOSE(H23,\"-\",MIN(Data!J23:AC23),I23)","v":0},{"$f":"CHOOSE(H23,\"-\",MAX(Data!J23:AC23),J23)","v":4},4,{"$f":"tblIndicators!Y20","v":"1.22) Technological infrastructure"},{"$f":"tblIndicators!X20","v":7.1428571428571452E-2},{"$f":"tblIndicators!AF20","v":7.1428571428571425E-2},{"$f":"tblIndicators!AI20","v":7.1428571428571425E-2},{"$f":"tblIndicators!AL20","v":7.1428571428571425E-2},{"$f":"IF($H23=0,0,CHOOSE($H23,SUMPRODUCT(CHOOSE(S$39,$O24:$O$36,$P24:$P$36,$Q24:$Q$36,$R24:$R$36)*S24:S$36*($E24:$E$36=$D23)),IF(ISNUMBER(Data!J23),100*ABS($G23-(Data!J23-$K23)/$M23),0),IF(ISNUMBER(Data!J23),100*ABS($G23-(Data!J23-$K23)/$M23),0)))","v":50},{"$f":"IF($H23=0,0,CHOOSE($H23,SUMPRODUCT(CHOOSE(T$39,$O24:$O$36,$P24:$P$36,$Q24:$Q$36,$R24:$R$36)*T24:T$36*($E24:$E$36=$D23)),IF(ISNUMBER(Data!K23),100*ABS($G23-(Data!K23-$K23)/$M23),0),IF(ISNUMBER(Data!K23),100*ABS($G23-(Data!K23-$K23)/$M23),0)))","v":100},{"$f":"IF($H23=0,0,CHOOSE($H23,SUMPRODUCT(CHOOSE(U$39,$O24:$O$36,$P24:$P$36,$Q24:$Q$36,$R24:$R$36)*U24:U$36*($E24:$E$36=$D23)),IF(ISNUMBER(Data!L23),100*ABS($G23-(Data!L23-$K23)/$M23),0),IF(ISNUMBER(Data!L23),100*ABS($G23-(Data!L23-$K23)/$M23),0)))","v":25},{"$f":"IF($H23=0,0,CHOOSE($H23,SUMPRODUCT(CHOOSE(V$39,$O24:$O$36,$P24:$P$36,$Q24:$Q$36,$R24:$R$36)*V24:V$36*($E24:$E$36=$D23)),IF(ISNUMBER(Data!M23),100*ABS($G23-(Data!M23-$K23)/$M23),0),IF(ISNUMBER(Data!M23),100*ABS($G23-(Data!M23-$K23)/$M23),0)))","v":50},{"$f":"IF($H23=0,0,CHOOSE($H23,SUMPRODUCT(CHOOSE(W$39,$O24:$O$36,$P24:$P$36,$Q24:$Q$36,$R24:$R$36)*W24:W$36*($E24:$E$36=$D23)),IF(ISNUMBER(Data!N23),100*ABS($G23-(Data!N23-$K23)/$M23),0),IF(ISNUMBER(Data!N23),100*ABS($G23-(Data!N23-$K23)/$M23),0)))","v":50},{"$f":"IF($H23=0,0,CHOOSE($H23,SUMPRODUCT(CHOOSE(X$39,$O24:$O$36,$P24:$P$36,$Q24:$Q$36,$R24:$R$36)*X24:X$36*($E24:$E$36=$D23)),IF(ISNUMBER(Data!O23),100*ABS($G23-(Data!O23-$K23)/$M23),0),IF(ISNUMBER(Data!O23),100*ABS($G23-(Data!O23-$K23)/$M23),0)))","v":75},{"$f":"IF($H23=0,0,CHOOSE($H23,SUMPRODUCT(CHOOSE(Y$39,$O24:$O$36,$P24:$P$36,$Q24:$Q$36,$R24:$R$36)*Y24:Y$36*($E24:$E$36=$D23)),IF(ISNUMBER(Data!P23),100*ABS($G23-(Data!P23-$K23)/$M23),0),IF(ISNUMBER(Data!P23),100*ABS($G23-(Data!P23-$K23)/$M23),0)))","v":25},{"$f":"IF($H23=0,0,CHOOSE($H23,SUMPRODUCT(CHOOSE(Z$39,$O24:$O$36,$P24:$P$36,$Q24:$Q$36,$R24:$R$36)*Z24:Z$36*($E24:$E$36=$D23)),IF(ISNUMBER(Data!Q23),100*ABS($G23-(Data!Q23-$K23)/$M23),0),IF(ISNUMBER(Data!Q23),100*ABS($G23-(Data!Q23-$K23)/$M23),0)))","v":100},{"$f":"IF($H23=0,0,CHOOSE($H23,SUMPRODUCT(CHOOSE(AA$39,$O24:$O$36,$P24:$P$36,$Q24:$Q$36,$R24:$R$36)*AA24:AA$36*($E24:$E$36=$D23)),IF(ISNUMBER(Data!R23),100*ABS($G23-(Data!R23-$K23)/$M23),0),IF(ISNUMBER(Data!R23),100*ABS($G23-(Data!R23-$K23)/$M23),0)))","v":25},{"$f":"IF($H23=0,0,CHOOSE($H23,SUMPRODUCT(CHOOSE(AB$39,$O24:$O$36,$P24:$P$36,$Q24:$Q$36,$R24:$R$36)*AB24:AB$36*($E24:$E$36=$D23)),IF(ISNUMBER(Data!S23),100*ABS($G23-(Data!S23-$K23)/$M23),0),IF(ISNUMBER(Data!S23),100*ABS($G23-(Data!S23-$K23)/$M23),0)))","v":75},{"$f":"IF($H23=0,0,CHOOSE($H23,SUMPRODUCT(CHOOSE(AC$39,$O24:$O$36,$P24:$P$36,$Q24:$Q$36,$R24:$R$36)*AC24:AC$36*($E24:$E$36=$D23)),IF(ISNUMBER(Data!T23),100*ABS($G23-(Data!T23-$K23)/$M23),0),IF(ISNUMBER(Data!T23),100*ABS($G23-(Data!T23-$K23)/$M23),0)))","v":0},{"$f":"IF($H23=0,0,CHOOSE($H23,SUMPRODUCT(CHOOSE(AD$39,$O24:$O$36,$P24:$P$36,$Q24:$Q$36,$R24:$R$36)*AD24:AD$36*($E24:$E$36=$D23)),IF(ISNUMBER(Data!U23),100*ABS($G23-(Data!U23-$K23)/$M23),0),IF(ISNUMBER(Data!U23),100*ABS($G23-(Data!U23-$K23)/$M23),0)))","v":25},{"$f":"IF($H23=0,0,CHOOSE($H23,SUMPRODUCT(CHOOSE(AE$39,$O24:$O$36,$P24:$P$36,$Q24:$Q$36,$R24:$R$36)*AE24:AE$36*($E24:$E$36=$D23)),IF(ISNUMBER(Data!V23),100*ABS($G23-(Data!V23-$K23)/$M23),0),IF(ISNUMBER(Data!V23),100*ABS($G23-(Data!V23-$K23)/$M23),0)))","v":75},{"$f":"IF($H23=0,0,CHOOSE($H23,SUMPRODUCT(CHOOSE(AF$39,$O24:$O$36,$P24:$P$36,$Q24:$Q$36,$R24:$R$36)*AF24:AF$36*($E24:$E$36=$D23)),IF(ISNUMBER(Data!W23),100*ABS($G23-(Data!W23-$K23)/$M23),0),IF(ISNUMBER(Data!W23),100*ABS($G23-(Data!W23-$K23)/$M23),0)))","v":100},{"$f":"IF($H23=0,0,CHOOSE($H23,SUMPRODUCT(CHOOSE(AG$39,$O24:$O$36,$P24:$P$36,$Q24:$Q$36,$R24:$R$36)*AG24:AG$36*($E24:$E$36=$D23)),IF(ISNUMBER(Data!X23),100*ABS($G23-(Data!X23-$K23)/$M23),0),IF(ISNUMBER(Data!X23),100*ABS($G23-(Data!X23-$K23)/$M23),0)))","v":100},{"$f":"IF($H23=0,0,CHOOSE($H23,SUMPRODUCT(CHOOSE(AH$39,$O24:$O$36,$P24:$P$36,$Q24:$Q$36,$R24:$R$36)*AH24:AH$36*($E24:$E$36=$D23)),IF(ISNUMBER(Data!Y23),100*ABS($G23-(Data!Y23-$K23)/$M23),0),IF(ISNUMBER(Data!Y23),100*ABS($G23-(Data!Y23-$K23)/$M23),0)))","v":50},{"$f":"IF($H23=0,0,CHOOSE($H23,SUMPRODUCT(CHOOSE(AI$39,$O24:$O$36,$P24:$P$36,$Q24:$Q$36,$R24:$R$36)*AI24:AI$36*($E24:$E$36=$D23)),IF(ISNUMBER(Data!Z23),100*ABS($G23-(Data!Z23-$K23)/$M23),0),IF(ISNUMBER(Data!Z23),100*ABS($G23-(Data!Z23-$K23)/$M23),0)))","v":100},{"$f":"IF($H23=0,0,CHOOSE($H23,SUMPRODUCT(CHOOSE(AJ$39,$O24:$O$36,$P24:$P$36,$Q24:$Q$36,$R24:$R$36)*AJ24:AJ$36*($E24:$E$36=$D23)),IF(ISNUMBER(Data!AA23),100*ABS($G23-(Data!AA23-$K23)/$M23),0),IF(ISNUMBER(Data!AA23),100*ABS($G23-(Data!AA23-$K23)/$M23),0)))","v":50},{"$f":"IF($H23=0,0,CHOOSE($H23,SUMPRODUCT(CHOOSE(AK$39,$O24:$O$36,$P24:$P$36,$Q24:$Q$36,$R24:$R$36)*AK24:AK$36*($E24:$E$36=$D23)),IF(ISNUMBER(Data!AB23),100*ABS($G23-(Data!AB23-$K23)/$M23),0),IF(ISNUMBER(Data!AB23),100*ABS($G23-(Data!AB23-$K23)/$M23),0)))","v":75},{"$f":"IF($H23=0,0,CHOOSE($H23,SUMPRODUCT(CHOOSE(AL$39,$O24:$O$36,$P24:$P$36,$Q24:$Q$36,$R24:$R$36)*AL24:AL$36*($E24:$E$36=$D23)),IF(ISNUMBER(Data!AC23),100*ABS($G23-(Data!AC23-$K23)/$M23),0),IF(ISNUMBER(Data!AC23),100*ABS($G23-(Data!AC23-$K23)/$M23),0)))","v":100}]
[null,{"$f":"tblIndicators!A21","v":20},{"$f":"tblIndicators!B21","v":0},{"$f":"tblIndicators!D21","v":"EP_23"},{"$f":"tblIndicators!E21","v":"EP"},{"$f":"tblIndicators!F21","v":2},{"$f":"tblIndicators!S21","v":0},{"$f":"tblIndicators!T21","v":2},{"$f":"tblIndicators!U21","v":0},{"$f":"tblIndicators!V21","v":0},{"$f":"CHOOSE(H24,\"-\",MIN(Data!J24:AC24),I24)","v":-0.106},{"$f":"CHOOSE(H24,\"-\",MAX(Data!J24:AC24),J24)","v":0.45700000000000002},0.56300000000000006,{"$f":"tblIndicators!Y21","v":"1.23) Growth in labour force"},{"$f":"tblIndicators!X21","v":7.1428571428571452E-2},{"$f":"tblIndicators!AF21","v":7.1428571428571425E-2},{"$f":"tblIndicators!AI21","v":7.1428571428571425E-2},{"$f":"tblIndicators!AL21","v":7.1428571428571425E-2},{"$f":"IF($H24=0,0,CHOOSE($H24,SUMPRODUCT(CHOOSE(S$39,$O25:$O$36,$P25:$P$36,$Q25:$Q$36,$R25:$R$36)*S25:S$36*($E25:$E$36=$D24)),IF(ISNUMBER(Data!J24),100*ABS($G24-(Data!J24-$K24)/$M24),0),IF(ISNUMBER(Data!J24),100*ABS($G24-(Data!J24-$K24)/$M24),0)))","v":64.831261101243328},{"$f":"IF($H24=0,0,CHOOSE($H24,SUMPRODUCT(CHOOSE(T$39,$O25:$O$36,$P25:$P$36,$Q25:$Q$36,$R25:$R$36)*T25:T$36*($E25:$E$36=$D24)),IF(ISNUMBER(Data!K24),100*ABS($G24-(Data!K24-$K24)/$M24),0),IF(ISNUMBER(Data!K24),100*ABS($G24-(Data!K24-$K24)/$M24),0)))","v":13.49911190053286},{"$f":"IF($H24=0,0,CHOOSE($H24,SUMPRODUCT(CHOOSE(U$39,$O25:$O$36,$P25:$P$36,$Q25:$Q$36,$R25:$R$36)*U25:U$36*($E25:$E$36=$D24)),IF(ISNUMBER(Data!L24),100*ABS($G24-(Data!L24-$K24)/$M24),0),IF(ISNUMBER(Data!L24),100*ABS($G24-(Data!L24-$K24)/$M24),0)))","v":22.912966252220247},{"$f":"IF($H24=0,0,CHOOSE($H24,SUMPRODUCT(CHOOSE(V$39,$O25:$O$36,$P25:$P$36,$Q25:$Q$36,$R25:$R$36)*V25:V$36*($E25:$E$36=$D24)),IF(ISNUMBER(Data!M24),100*ABS($G24-(Data!M24-$K24)/$M24),0),IF(ISNUMBER(Data!M24),100*ABS($G24-(Data!M24-$K24)/$M24),0)))","v":8.7033747779751316},{"$f":"IF($H24=0,0,CHOOSE($H24,SUMPRODUCT(CHOOSE(W$39,$O25:$O$36,$P25:$P$36,$Q25:$Q$36,$R25:$R$36)*W25:W$36*($E25:$E$36=$D24)),IF(ISNUMBER(Data!N24),100*ABS($G24-(Data!N24-$K24)/$M24),0),IF(ISNUMBER(Data!N24),100*ABS($G24-(Data!N24-$K24)/$M24),0)))","v":7.9928952042628758},{"$f":"IF($H24=0,0,CHOOSE($H24,SUMPRODUCT(CHOOSE(X$39,$O25:$O$36,$P25:$P$36,$Q25:$Q$36,$R25:$R$36)*X25:X$36*($E25:$E$36=$D24)),IF(ISNUMBER(Data!O24),100*ABS($G24-(Data!O24-$K24)/$M24),0),IF(ISNUMBER(Data!O24),100*ABS($G24-(Data!O24-$K24)/$M24),0)))","v":69.626998223801053},{"$f":"IF($H24=0,0,CHOOSE($H24,SUMPRODUCT(CHOOSE(Y$39,$O25:$O$36,$P25:$P$36,$Q25:$Q$36,$R25:$R$36)*Y25:Y$36*($E25:$E$36=$D24)),IF(ISNUMBER(Data!P24),100*ABS($G24-(Data!P24-$K24)/$M24),0),IF(ISNUMBER(Data!P24),100*ABS($G24-(Data!P24-$K24)/$M24),0)))","v":61.101243339253983},{"$f":"IF($H24=0,0,CHOOSE($H24,SUMPRODUCT(CHOOSE(Z$39,$O25:$O$36,$P25:$P$36,$Q25:$Q$36,$R25:$R$36)*Z25:Z$36*($E25:$E$36=$D24)),IF(ISNUMBER(Data!Q24),100*ABS($G24-(Data!Q24-$K24)/$M24),0),IF(ISNUMBER(Data!Q24),100*ABS($G24-(Data!Q24-$K24)/$M24),0)))","v":0},{"$f":"IF($H24=0,0,CHOOSE($H24,SUMPRODUCT(CHOOSE(AA$39,$O25:$O$36,$P25:$P$36,$Q25:$Q$36,$R25:$R$36)*AA25:AA$36*($E25:$E$36=$D24)),IF(ISNUMBER(Data!R24),100*ABS($G24-(Data!R24-$K24)/$M24),0),IF(ISNUMBER(Data!R24),100*ABS($G24-(Data!R24-$K24)/$M24),0)))","v":30.90586145648312},{"$f":"IF($H24=0,0,CHOOSE($H24,SUMPRODUCT(CHOOSE(AB$39,$O25:$O$36,$P25:$P$36,$Q25:$Q$36,$R25:$R$36)*AB25:AB$36*($E25:$E$36=$D24)),IF(ISNUMBER(Data!S24),100*ABS($G24-(Data!S24-$K24)/$M24),0),IF(ISNUMBER(Data!S24),100*ABS($G24-(Data!S24-$K24)/$M24),0)))","v":57.548845470692712},{"$f":"IF($H24=0,0,CHOOSE($H24,SUMPRODUCT(CHOOSE(AC$39,$O25:$O$36,$P25:$P$36,$Q25:$Q$36,$R25:$R$36)*AC25:AC$36*($E25:$E$36=$D24)),IF(ISNUMBER(Data!T24),100*ABS($G24-(Data!T24-$K24)/$M24),0),IF(ISNUMBER(Data!T24),100*ABS($G24-(Data!T24-$K24)/$M24),0)))","v":24.68916518650089},{"$f":"IF($H24=0,0,CHOOSE($H24,SUMPRODUCT(CHOOSE(AD$39,$O25:$O$36,$P25:$P$36,$Q25:$Q$36,$R25:$R$36)*AD25:AD$36*($E25:$E$36=$D24)),IF(ISNUMBER(Data!U24),100*ABS($G24-(Data!U24-$K24)/$M24),0),IF(ISNUMBER(Data!U24),100*ABS($G24-(Data!U24-$K24)/$M24),0)))","v":100},{"$f":"IF($H24=0,0,CHOOSE($H24,SUMPRODUCT(CHOOSE(AE$39,$O25:$O$36,$P25:$P$36,$Q25:$Q$36,$R25:$R$36)*AE25:AE$36*($E25:$E$36=$D24)),IF(ISNUMBER(Data!V24),100*ABS($G24-(Data!V24-$K24)/$M24),0),IF(ISNUMBER(Data!V24),100*ABS($G24-(Data!V24-$K24)/$M24),0)))","v":80.284191829484882},{"$f":"IF($H24=0,0,CHOOSE($H24,SUMPRODUCT(CHOOSE(AF$39,$O25:$O$36,$P25:$P$36,$Q25:$Q$36,$R25:$R$36)*AF25:AF$36*($E25:$E$36=$D24)),IF(ISNUMBER(Data!W24),100*ABS($G24-(Data!W24-$K24)/$M24),0),IF(ISNUMBER(Data!W24),100*ABS($G24-(Data!W24-$K24)/$M24),0)))","v":35.168738898756658},{"$f":"IF($H24=0,0,CHOOSE($H24,SUMPRODUCT(CHOOSE(AG$39,$O25:$O$36,$P25:$P$36,$Q25:$Q$36,$R25:$R$36)*AG25:AG$36*($E25:$E$36=$D24)),IF(ISNUMBER(Data!X24),100*ABS($G24-(Data!X24-$K24)/$M24),0),IF(ISNUMBER(Data!X24),100*ABS($G24-(Data!X24-$K24)/$M24),0)))","v":17.051509769094135},{"$f":"IF($H24=0,0,CHOOSE($H24,SUMPRODUCT(CHOOSE(AH$39,$O25:$O$36,$P25:$P$36,$Q25:$Q$36,$R25:$R$36)*AH25:AH$36*($E25:$E$36=$D24)),IF(ISNUMBER(Data!Y24),100*ABS($G24-(Data!Y24-$K24)/$M24),0),IF(ISNUMBER(Data!Y24),100*ABS($G24-(Data!Y24-$K24)/$M24),0)))","v":30.195381882770867},{"$f":"IF($H24=0,0,CHOOSE($H24,SUMPRODUCT(CHOOSE(AI$39,$O25:$O$36,$P25:$P$36,$Q25:$Q$36,$R25:$R$36)*AI25:AI$36*($E25:$E$36=$D24)),IF(ISNUMBER(Data!Z24),100*ABS($G24-(Data!Z24-$K24)/$M24),0),IF(ISNUMBER(Data!Z24),100*ABS($G24-(Data!Z24-$K24)/$M24),0)))","v":11.012433392539963},{"$f":"IF($H24=0,0,CHOOSE($H24,SUMPRODUCT(CHOOSE(AJ$39,$O25:$O$36,$P25:$P$36,$Q25:$Q$36,$R25:$R$36)*AJ25:AJ$36*($E25:$E$36=$D24)),IF(ISNUMBER(Data!AA24),100*ABS($G24-(Data!AA24-$K24)/$M24),0),IF(ISNUMBER(Data!AA24),100*ABS($G24-(Data!AA24-$K24)/$M24),0)))","v":12.788632326820601},{"$f":"IF($H24=0,0,CHOOSE($H24,SUMPRODUCT(CHOOSE(AK$39,$O25:$O$36,$P25:$P$36,$Q25:$Q$36,$R25:$R$36)*AK25:AK$36*($E25:$E$36=$D24)),IF(ISNUMBER(Data!AB24),100*ABS($G24-(Data!AB24-$K24)/$M24),0),IF(ISNUMBER(Data!AB24),100*ABS($G24-(Data!AB24-$K24)/$M24),0)))","v":36.767317939609235},{"$f":"IF($H24=0,0,CHOOSE($H24,SUMPRODUCT(CHOOSE(AL$39,$O25:$O$36,$P25:$P$36,$Q25:$Q$36,$R25:$R$36)*AL25:AL$36*($E25:$E$36=$D24)),IF(ISNUMBER(Data!AC24),100*ABS($G24-(Data!AC24-$K24)/$M24),0),IF(ISNUMBER(Data!AC24),100*ABS($G24-(Data!AC24-$K24)/$M24),0)))","v":29.484902309058608}]
[null,{"$f":"tblIndicators!A22","v":21},{"$f":"tblIndicators!B22","v":0},{"$f":"tblIndicators!D22","v":"SP"},{"$f":"tblIndicators!E22","v":"TOTAL"},{"$f":"tblIndicators!F22","v":1},{"$f":"tblIndicators!S22","v":""},{"$f":"tblIndicators!T22","v":1},{"$f":"tblIndicators!U22","v":0},{"$f":"tblIndicators!V22","v":0},{"$f":"CHOOSE(H25,\"-\",MIN(Data!J25:AC25),I25)","v":"-"},{"$f":"CHOOSE(H25,\"-\",MAX(Data!J25:AC25),J25)","v":"-"},"-",{"$f":"tblIndicators!Y22","v":"2) SOCIAL PILLAR"},{"$f":"tblIndicators!X22","v":0.33333333333333331},{"$f":"tblIndicators!AF22","v":0.33333333333333331},{"$f":"tblIndicators!AI22","v":0.33333333333333331},{"$f":"tblIndicators!AL22","v":0.33333333333333331},{"$f":"IF($H25=0,0,CHOOSE($H25,SUMPRODUCT(CHOOSE(S$39,$O26:$O$36,$P26:$P$36,$Q26:$Q$36,$R26:$R$36)*S26:S$36*($E26:$E$36=$D25)),IF(ISNUMBER(Data!J25),100*ABS($G25-(Data!J25-$K25)/$M25),0),IF(ISNUMBER(Data!J25),100*ABS($G25-(Data!J25-$K25)/$M25),0)))","v":33.492795271712247},{"$f":"IF($H25=0,0,CHOOSE($H25,SUMPRODUCT(CHOOSE(T$39,$O26:$O$36,$P26:$P$36,$Q26:$Q$36,$R26:$R$36)*T26:T$36*($E26:$E$36=$D25)),IF(ISNUMBER(Data!K25),100*ABS($G25-(Data!K25-$K25)/$M25),0),IF(ISNUMBER(Data!K25),100*ABS($G25-(Data!K25-$K25)/$M25),0)))","v":68.171493127416269},{"$f":"IF($H25=0,0,CHOOSE($H25,SUMPRODUCT(CHOOSE(U$39,$O26:$O$36,$P26:$P$36,$Q26:$Q$36,$R26:$R$36)*U26:U$36*($E26:$E$36=$D25)),IF(ISNUMBER(Data!L25),100*ABS($G25-(Data!L25-$K25)/$M25),0),IF(ISNUMBER(Data!L25),100*ABS($G25-(Data!L25-$K25)/$M25),0)))","v":35.530018287653391},{"$f":"IF($H25=0,0,CHOOSE($H25,SUMPRODUCT(CHOOSE(V$39,$O26:$O$36,$P26:$P$36,$Q26:$Q$36,$R26:$R$36)*V26:V$36*($E26:$E$36=$D25)),IF(ISNUMBER(Data!M25),100*ABS($G25-(Data!M25-$K25)/$M25),0),IF(ISNUMBER(Data!M25),100*ABS($G25-(Data!M25-$K25)/$M25),0)))","v":41.135501681500749},{"$f":"IF($H25=0,0,CHOOSE($H25,SUMPRODUCT(CHOOSE(W$39,$O26:$O$36,$P26:$P$36,$Q26:$Q$36,$R26:$R$36)*W26:W$36*($E26:$E$36=$D25)),IF(ISNUMBER(Data!N25),100*ABS($G25-(Data!N25-$K25)/$M25),0),IF(ISNUMBER(Data!N25),100*ABS($G25-(Data!N25-$K25)/$M25),0)))","v":56.428759535628302},{"$f":"IF($H25=0,0,CHOOSE($H25,SUMPRODUCT(CHOOSE(X$39,$O26:$O$36,$P26:$P$36,$Q26:$Q$36,$R26:$R$36)*X26:X$36*($E26:$E$36=$D25)),IF(ISNUMBER(Data!O25),100*ABS($G25-(Data!O25-$K25)/$M25),0),IF(ISNUMBER(Data!O25),100*ABS($G25-(Data!O25-$K25)/$M25),0)))","v":39.823441644177827},{"$f":"IF($H25=0,0,CHOOSE($H25,SUMPRODUCT(CHOOSE(Y$39,$O26:$O$36,$P26:$P$36,$Q26:$Q$36,$R26:$R$36)*Y26:Y$36*($E26:$E$36=$D25)),IF(ISNUMBER(Data!P25),100*ABS($G25-(Data!P25-$K25)/$M25),0),IF(ISNUMBER(Data!P25),100*ABS($G25-(Data!P25-$K25)/$M25),0)))","v":40.026600628526694},{"$f":"IF($H25=0,0,CHOOSE($H25,SUMPRODUCT(CHOOSE(Z$39,$O26:$O$36,$P26:$P$36,$Q26:$Q$36,$R26:$R$36)*Z26:Z$36*($E26:$E$36=$D25)),IF(ISNUMBER(Data!Q25),100*ABS($G25-(Data!Q25-$K25)/$M25),0),IF(ISNUMBER(Data!Q25),100*ABS($G25-(Data!Q25-$K25)/$M25),0)))","v":85.729905011601502},{"$f":"IF($H25=0,0,CHOOSE($H25,SUMPRODUCT(CHOOSE(AA$39,$O26:$O$36,$P26:$P$36,$Q26:$Q$36,$R26:$R$36)*AA26:AA$36*($E26:$E$36=$D25)),IF(ISNUMBER(Data!R25),100*ABS($G25-(Data!R25-$K25)/$M25),0),IF(ISNUMBER(Data!R25),100*ABS($G25-(Data!R25-$K25)/$M25),0)))","v":38.660359484433641},{"$f":"IF($H25=0,0,CHOOSE($H25,SUMPRODUCT(CHOOSE(AB$39,$O26:$O$36,$P26:$P$36,$Q26:$Q$36,$R26:$R$36)*AB26:AB$36*($E26:$E$36=$D25)),IF(ISNUMBER(Data!S25),100*ABS($G25-(Data!S25-$K25)/$M25),0),IF(ISNUMBER(Data!S25),100*ABS($G25-(Data!S25-$K25)/$M25),0)))","v":52.232551176913923},{"$f":"IF($H25=0,0,CHOOSE($H25,SUMPRODUCT(CHOOSE(AC$39,$O26:$O$36,$P26:$P$36,$Q26:$Q$36,$R26:$R$36)*AC26:AC$36*($E26:$E$36=$D25)),IF(ISNUMBER(Data!T25),100*ABS($G25-(Data!T25-$K25)/$M25),0),IF(ISNUMBER(Data!T25),100*ABS($G25-(Data!T25-$K25)/$M25),0)))","v":27.311982802817919},{"$f":"IF($H25=0,0,CHOOSE($H25,SUMPRODUCT(CHOOSE(AD$39,$O26:$O$36,$P26:$P$36,$Q26:$Q$36,$R26:$R$36)*AD26:AD$36*($E26:$E$36=$D25)),IF(ISNUMBER(Data!U25),100*ABS($G25-(Data!U25-$K25)/$M25),0),IF(ISNUMBER(Data!U25),100*ABS($G25-(Data!U25-$K25)/$M25),0)))","v":35},{"$f":"IF($H25=0,0,CHOOSE($H25,SUMPRODUCT(CHOOSE(AE$39,$O26:$O$36,$P26:$P$36,$Q26:$Q$36,$R26:$R$36)*AE26:AE$36*($E26:$E$36=$D25)),IF(ISNUMBER(Data!V25),100*ABS($G25-(Data!V25-$K25)/$M25),0),IF(ISNUMBER(Data!V25),100*ABS($G25-(Data!V25-$K25)/$M25),0)))","v":28.021526313895968},{"$f":"IF($H25=0,0,CHOOSE($H25,SUMPRODUCT(CHOOSE(AF$39,$O26:$O$36,$P26:$P$36,$Q26:$Q$36,$R26:$R$36)*AF26:AF$36*($E26:$E$36=$D25)),IF(ISNUMBER(Data!W25),100*ABS($G25-(Data!W25-$K25)/$M25),0),IF(ISNUMBER(Data!W25),100*ABS($G25-(Data!W25-$K25)/$M25),0)))","v":74.223011319135878},{"$f":"IF($H25=0,0,CHOOSE($H25,SUMPRODUCT(CHOOSE(AG$39,$O26:$O$36,$P26:$P$36,$Q26:$Q$36,$R26:$R$36)*AG26:AG$36*($E26:$E$36=$D25)),IF(ISNUMBER(Data!X25),100*ABS($G25-(Data!X25-$K25)/$M25),0),IF(ISNUMBER(Data!X25),100*ABS($G25-(Data!X25-$K25)/$M25),0)))","v":88.85892116182572},{"$f":"IF($H25=0,0,CHOOSE($H25,SUMPRODUCT(CHOOSE(AH$39,$O26:$O$36,$P26:$P$36,$Q26:$Q$36,$R26:$R$36)*AH26:AH$36*($E26:$E$36=$D25)),IF(ISNUMBER(Data!Y25),100*ABS($G25-(Data!Y25-$K25)/$M25),0),IF(ISNUMBER(Data!Y25),100*ABS($G25-(Data!Y25-$K25)/$M25),0)))","v":44.907774120710442},{"$f":"IF($H25=0,0,CHOOSE($H25,SUMPRODUCT(CHOOSE(AI$39,$O26:$O$36,$P26:$P$36,$Q26:$Q$36,$R26:$R$36)*AI26:AI$36*($E26:$E$36=$D25)),IF(ISNUMBER(Data!Z25),100*ABS($G25-(Data!Z25-$K25)/$M25),0),IF(ISNUMBER(Data!Z25),100*ABS($G25-(Data!Z25-$K25)/$M25),0)))","v":81.566748242558987},{"$f":"IF($H25=0,0,CHOOSE($H25,SUMPRODUCT(CHOOSE(AJ$39,$O26:$O$36,$P26:$P$36,$Q26:$Q$36,$R26:$R$36)*AJ26:AJ$36*($E26:$E$36=$D25)),IF(ISNUMBER(Data!AA25),100*ABS($G25-(Data!AA25-$K25)/$M25),0),IF(ISNUMBER(Data!AA25),100*ABS($G25-(Data!AA25-$K25)/$M25),0)))","v":45.204031803916543},{"$f":"IF($H25=0,0,CHOOSE($H25,SUMPRODUCT(CHOOSE(AK$39,$O26:$O$36,$P26:$P$36,$Q26:$Q$36,$R26:$R$36)*AK26:AK$36*($E26:$E$36=$D25)),IF(ISNUMBER(Data!AB25),100*ABS($G25-(Data!AB25-$K25)/$M25),0),IF(ISNUMBER(Data!AB25),100*ABS($G25-(Data!AB25-$K25)/$M25),0)))","v":48.14771492341378},{"$f":"IF($H25=0,0,CHOOSE($H25,SUMPRODUCT(CHOOSE(AL$39,$O26:$O$36,$P26:$P$36,$Q26:$Q$36,$R26:$R$36)*AL26:AL$36*($E26:$E$36=$D25)),IF(ISNUMBER(Data!AC25),100*ABS($G25-(Data!AC25-$K25)/$M25),0),IF(ISNUMBER(Data!AC25),100*ABS($G25-(Data!AC25-$K25)/$M25),0)))","v":88.087251999324536}]
[null,{"$f":"tblIndicators!A23","v":22},{"$f":"tblIndicators!B23","v":0},{"$f":"tblIndicators!D23","v":"SP_10"},{"$f":"tblIndicators!E23","v":"SP"},{"$f":"tblIndicators!F23","v":2},{"$f":"tblIndicators!S23","v":1},{"$f":"tblIndicators!T23","v":2},{"$f":"tblIndicators!U23","v":0},{"$f":"tblIndicators!V23","v":0},{"$f":"CHOOSE(H26,\"-\",MIN(Data!J26:AC26),I26)","v":29.6},{"$f":"CHOOSE(H26,\"-\",MAX(Data!J26:AC26),J26)","v":53.7},24.1,{"$f":"tblIndicators!Y23","v":"2.1) Inequality (Gini coefficient)"},{"$f":"tblIndicators!X23","v":0.25},{"$f":"tblIndicators!AF23","v":0.25},{"$f":"tblIndicators!AI23","v":0.25},{"$f":"tblIndicators!AL23","v":0.25},{"$f":"IF($H26=0,0,CHOOSE($H26,SUMPRODUCT(CHOOSE(S$39,$O27:$O$36,$P27:$P$36,$Q27:$Q$36,$R27:$R$36)*S27:S$36*($E27:$E$36=$D26)),IF(ISNUMBER(Data!J26),100*ABS($G26-(Data!J26-$K26)/$M26),0),IF(ISNUMBER(Data!J26),100*ABS($G26-(Data!J26-$K26)/$M26),0)))","v":90.041493775933617},{"$f":"IF($H26=0,0,CHOOSE($H26,SUMPRODUCT(CHOOSE(T$39,$O27:$O$36,$P27:$P$36,$Q27:$Q$36,$R27:$R$36)*T27:T$36*($E27:$E$36=$D26)),IF(ISNUMBER(Data!K26),100*ABS($G26-(Data!K26-$K26)/$M26),0),IF(ISNUMBER(Data!K26),100*ABS($G26-(Data!K26-$K26)/$M26),0)))","v":54.77178423236515},{"$f":"IF($H26=0,0,CHOOSE($H26,SUMPRODUCT(CHOOSE(U$39,$O27:$O$36,$P27:$P$36,$Q27:$Q$36,$R27:$R$36)*U27:U$36*($E27:$E$36=$D26)),IF(ISNUMBER(Data!L26),100*ABS($G26-(Data!L26-$K26)/$M26),0),IF(ISNUMBER(Data!L26),100*ABS($G26-(Data!L26-$K26)/$M26),0)))","v":95.186721991701233},{"$f":"IF($H26=0,0,CHOOSE($H26,SUMPRODUCT(CHOOSE(V$39,$O27:$O$36,$P27:$P$36,$Q27:$Q$36,$R27:$R$36)*V27:V$36*($E27:$E$36=$D26)),IF(ISNUMBER(Data!M26),100*ABS($G26-(Data!M26-$K26)/$M26),0),IF(ISNUMBER(Data!M26),100*ABS($G26-(Data!M26-$K26)/$M26),0)))","v":48.298755186721984},{"$f":"IF($H26=0,0,CHOOSE($H26,SUMPRODUCT(CHOOSE(W$39,$O27:$O$36,$P27:$P$36,$Q27:$Q$36,$R27:$R$36)*W27:W$36*($E27:$E$36=$D26)),IF(ISNUMBER(Data!N26),100*ABS($G26-(Data!N26-$K26)/$M26),0),IF(ISNUMBER(Data!N26),100*ABS($G26-(Data!N26-$K26)/$M26),0)))","v":0},{"$f":"IF($H26=0,0,CHOOSE($H26,SUMPRODUCT(CHOOSE(X$39,$O27:$O$36,$P27:$P$36,$Q27:$Q$36,$R27:$R$36)*X27:X$36*($E27:$E$36=$D26)),IF(ISNUMBER(Data!O26),100*ABS($G26-(Data!O26-$K26)/$M26),0),IF(ISNUMBER(Data!O26),100*ABS($G26-(Data!O26-$K26)/$M26),0)))","v":82.157676348547739},{"$f":"IF($H26=0,0,CHOOSE($H26,SUMPRODUCT(CHOOSE(Y$39,$O27:$O$36,$P27:$P$36,$Q27:$Q$36,$R27:$R$36)*Y27:Y$36*($E27:$E$36=$D26)),IF(ISNUMBER(Data!P26),100*ABS($G26-(Data!P26-$K26)/$M26),0),IF(ISNUMBER(Data!P26),100*ABS($G26-(Data!P26-$K26)/$M26),0)))","v":75.103734439834028},{"$f":"IF($H26=0,0,CHOOSE($H26,SUMPRODUCT(CHOOSE(Z$39,$O27:$O$36,$P27:$P$36,$Q27:$Q$36,$R27:$R$36)*Z27:Z$36*($E27:$E$36=$D26)),IF(ISNUMBER(Data!Q26),100*ABS($G26-(Data!Q26-$K26)/$M26),0),IF(ISNUMBER(Data!Q26),100*ABS($G26-(Data!Q26-$K26)/$M26),0)))","v":83.402489626556019},{"$f":"IF($H26=0,0,CHOOSE($H26,SUMPRODUCT(CHOOSE(AA$39,$O27:$O$36,$P27:$P$36,$Q27:$Q$36,$R27:$R$36)*AA27:AA$36*($E27:$E$36=$D26)),IF(ISNUMBER(Data!R26),100*ABS($G26-(Data!R26-$K26)/$M26),0),IF(ISNUMBER(Data!R26),100*ABS($G26-(Data!R26-$K26)/$M26),0)))","v":65.560165975103743},{"$f":"IF($H26=0,0,CHOOSE($H26,SUMPRODUCT(CHOOSE(AB$39,$O27:$O$36,$P27:$P$36,$Q27:$Q$36,$R27:$R$36)*AB27:AB$36*($E27:$E$36=$D26)),IF(ISNUMBER(Data!S26),100*ABS($G26-(Data!S26-$K26)/$M26),0),IF(ISNUMBER(Data!S26),100*ABS($G26-(Data!S26-$K26)/$M26),0)))","v":30.705394190871395},{"$f":"IF($H26=0,0,CHOOSE($H26,SUMPRODUCT(CHOOSE(AC$39,$O27:$O$36,$P27:$P$36,$Q27:$Q$36,$R27:$R$36)*AC27:AC$36*($E27:$E$36=$D26)),IF(ISNUMBER(Data!T26),100*ABS($G26-(Data!T26-$K26)/$M26),0),IF(ISNUMBER(Data!T26),100*ABS($G26-(Data!T26-$K26)/$M26),0)))","v":65.145228215767645},{"$f":"IF($H26=0,0,CHOOSE($H26,SUMPRODUCT(CHOOSE(AD$39,$O27:$O$36,$P27:$P$36,$Q27:$Q$36,$R27:$R$36)*AD27:AD$36*($E27:$E$36=$D26)),IF(ISNUMBER(Data!U26),100*ABS($G26-(Data!U26-$K26)/$M26),0),IF(ISNUMBER(Data!U26),100*ABS($G26-(Data!U26-$K26)/$M26),0)))","v":100},{"$f":"IF($H26=0,0,CHOOSE($H26,SUMPRODUCT(CHOOSE(AE$39,$O27:$O$36,$P27:$P$36,$Q27:$Q$36,$R27:$R$36)*AE27:AE$36*($E27:$E$36=$D26)),IF(ISNUMBER(Data!V26),100*ABS($G26-(Data!V26-$K26)/$M26),0),IF(ISNUMBER(Data!V26),100*ABS($G26-(Data!V26-$K26)/$M26),0)))","v":44.398340248962661},{"$f":"IF($H26=0,0,CHOOSE($H26,SUMPRODUCT(CHOOSE(AF$39,$O27:$O$36,$P27:$P$36,$Q27:$Q$36,$R27:$R$36)*AF27:AF$36*($E27:$E$36=$D26)),IF(ISNUMBER(Data!W26),100*ABS($G26-(Data!W26-$K26)/$M26),0),IF(ISNUMBER(Data!W26),100*ABS($G26-(Data!W26-$K26)/$M26),0)))","v":24.481327800829899},{"$f":"IF($H26=0,0,CHOOSE($H26,SUMPRODUCT(CHOOSE(AG$39,$O27:$O$36,$P27:$P$36,$Q27:$Q$36,$R27:$R$36)*AG27:AG$36*($E27:$E$36=$D26)),IF(ISNUMBER(Data!X26),100*ABS($G26-(Data!X26-$K26)/$M26),0),IF(ISNUMBER(Data!X26),100*ABS($G26-(Data!X26-$K26)/$M26),0)))","v":95.435684647302907},{"$f":"IF($H26=0,0,CHOOSE($H26,SUMPRODUCT(CHOOSE(AH$39,$O27:$O$36,$P27:$P$36,$Q27:$Q$36,$R27:$R$36)*AH27:AH$36*($E27:$E$36=$D26)),IF(ISNUMBER(Data!Y26),100*ABS($G26-(Data!Y26-$K26)/$M26),0),IF(ISNUMBER(Data!Y26),100*ABS($G26-(Data!Y26-$K26)/$M26),0)))","v":62.655601659751035},{"$f":"IF($H26=0,0,CHOOSE($H26,SUMPRODUCT(CHOOSE(AI$39,$O27:$O$36,$P27:$P$36,$Q27:$Q$36,$R27:$R$36)*AI27:AI$36*($E27:$E$36=$D26)),IF(ISNUMBER(Data!Z26),100*ABS($G26-(Data!Z26-$K26)/$M26),0),IF(ISNUMBER(Data!Z26),100*ABS($G26-(Data!Z26-$K26)/$M26),0)))","v":80.912863070539416},{"$f":"IF($H26=0,0,CHOOSE($H26,SUMPRODUCT(CHOOSE(AJ$39,$O27:$O$36,$P27:$P$36,$Q27:$Q$36,$R27:$R$36)*AJ27:AJ$36*($E27:$E$36=$D26)),IF(ISNUMBER(Data!AA26),100*ABS($G26-(Data!AA26-$K26)/$M26),0),IF(ISNUMBER(Data!AA26),100*ABS($G26-(Data!AA26-$K26)/$M26),0)))","v":59.751037344398362},{"$f":"IF($H26=0,0,CHOOSE($H26,SUMPRODUCT(CHOOSE(AK$39,$O27:$O$36,$P27:$P$36,$Q27:$Q$36,$R27:$R$36)*AK27:AK$36*($E27:$E$36=$D26)),IF(ISNUMBER(Data!AB26),100*ABS($G26-(Data!AB26-$K26)/$M26),0),IF(ISNUMBER(Data!AB26),100*ABS($G26-(Data!AB26-$K26)/$M26),0)))","v":62.240663900414937},{"$f":"IF($H26=0,0,CHOOSE($H26,SUMPRODUCT(CHOOSE(AL$39,$O27:$O$36,$P27:$P$36,$Q27:$Q$36,$R27:$R$36)*AL27:AL$36*($E27:$E$36=$D26)),IF(ISNUMBER(Data!AC26),100*ABS($G26-(Data!AC26-$K26)/$M26),0),IF(ISNUMBER(Data!AC26),100*ABS($G26-(Data!AC26-$K26)/$M26),0)))","v":60.995850622406643}]
[null,{"$f":"tblIndicators!A24","v":23},{"$f":"tblIndicators!B24","v":0},{"$f":"tblIndicators!D24","v":"SP_11"},{"$f":"tblIndicators!E24","v":"SP"},{"$f":"tblIndicators!F24","v":2},{"$f":"tblIndicators!S24","v":0},{"$f":"tblIndicators!T24","v":2},{"$f":"tblIndicators!U24","v":0},{"$f":"tblIndicators!V24","v":0},{"$f":"CHOOSE(H27,\"-\",MIN(Data!J27:AC27),I27)","v":9.8182700000000001},{"$f":"CHOOSE(H27,\"-\",MAX(Data!J27:AC27),J27)","v":96.584969999999998},86.7667,{"$f":"tblIndicators!Y24","v":"2.2) Educational attainment"},{"$f":"tblIndicators!X24","v":0.25},{"$f":"tblIndicators!AF24","v":0.25},{"$f":"tblIndicators!AI24","v":0.25},{"$f":"tblIndicators!AL24","v":0.25},{"$f":"IF($H27=0,0,CHOOSE($H27,SUMPRODUCT(CHOOSE(S$39,$O28:$O$36,$P28:$P$36,$Q28:$Q$36,$R28:$R$36)*S28:S$36*($E28:$E$36=$D27)),IF(ISNUMBER(Data!J27),100*ABS($G27-(Data!J27-$K27)/$M27),0),IF(ISNUMBER(Data!J27),100*ABS($G27-(Data!J27-$K27)/$M27),0)))","v":3.9296873109153632},{"$f":"IF($H27=0,0,CHOOSE($H27,SUMPRODUCT(CHOOSE(T$39,$O28:$O$36,$P28:$P$36,$Q28:$Q$36,$R28:$R$36)*T28:T$36*($E28:$E$36=$D27)),IF(ISNUMBER(Data!K27),100*ABS($G27-(Data!K27-$K27)/$M27),0),IF(ISNUMBER(Data!K27),100*ABS($G27-(Data!K27-$K27)/$M27),0)))","v":17.914188277299932},{"$f":"IF($H27=0,0,CHOOSE($H27,SUMPRODUCT(CHOOSE(U$39,$O28:$O$36,$P28:$P$36,$Q28:$Q$36,$R28:$R$36)*U28:U$36*($E28:$E$36=$D27)),IF(ISNUMBER(Data!L27),100*ABS($G27-(Data!L27-$K27)/$M27),0),IF(ISNUMBER(Data!L27),100*ABS($G27-(Data!L27-$K27)/$M27),0)))","v":6.9333511589123482},{"$f":"IF($H27=0,0,CHOOSE($H27,SUMPRODUCT(CHOOSE(V$39,$O28:$O$36,$P28:$P$36,$Q28:$Q$36,$R28:$R$36)*V28:V$36*($E28:$E$36=$D27)),IF(ISNUMBER(Data!M27),100*ABS($G27-(Data!M27-$K27)/$M27),0),IF(ISNUMBER(Data!M27),100*ABS($G27-(Data!M27-$K27)/$M27),0)))","v":22.909918205947672},{"$f":"IF($H27=0,0,CHOOSE($H27,SUMPRODUCT(CHOOSE(W$39,$O28:$O$36,$P28:$P$36,$Q28:$Q$36,$R28:$R$36)*W28:W$36*($E28:$E$36=$D27)),IF(ISNUMBER(Data!N27),100*ABS($G27-(Data!N27-$K27)/$M27),0),IF(ISNUMBER(Data!N27),100*ABS($G27-(Data!N27-$K27)/$M27),0)))","v":65.715038142513208},{"$f":"IF($H27=0,0,CHOOSE($H27,SUMPRODUCT(CHOOSE(X$39,$O28:$O$36,$P28:$P$36,$Q28:$Q$36,$R28:$R$36)*X28:X$36*($E28:$E$36=$D27)),IF(ISNUMBER(Data!O27),100*ABS($G27-(Data!O27-$K27)/$M27),0),IF(ISNUMBER(Data!O27),100*ABS($G27-(Data!O27-$K27)/$M27),0)))","v":17.136090228163567},{"$f":"IF($H27=0,0,CHOOSE($H27,SUMPRODUCT(CHOOSE(Y$39,$O28:$O$36,$P28:$P$36,$Q28:$Q$36,$R28:$R$36)*Y28:Y$36*($E28:$E$36=$D27)),IF(ISNUMBER(Data!P27),100*ABS($G27-(Data!P27-$K27)/$M27),0),IF(ISNUMBER(Data!P27),100*ABS($G27-(Data!P27-$K27)/$M27),0)))","v":25.002668074272734},{"$f":"IF($H27=0,0,CHOOSE($H27,SUMPRODUCT(CHOOSE(Z$39,$O28:$O$36,$P28:$P$36,$Q28:$Q$36,$R28:$R$36)*Z28:Z$36*($E28:$E$36=$D27)),IF(ISNUMBER(Data!Q27),100*ABS($G27-(Data!Q27-$K27)/$M27),0),IF(ISNUMBER(Data!Q27),100*ABS($G27-(Data!Q27-$K27)/$M27),0)))","v":59.517130419850005},{"$f":"IF($H27=0,0,CHOOSE($H27,SUMPRODUCT(CHOOSE(AA$39,$O28:$O$36,$P28:$P$36,$Q28:$Q$36,$R28:$R$36)*AA28:AA$36*($E28:$E$36=$D27)),IF(ISNUMBER(Data!R27),100*ABS($G27-(Data!R27-$K27)/$M27),0),IF(ISNUMBER(Data!R27),100*ABS($G27-(Data!R27-$K27)/$M27),0)))","v":9.0812719626308276},{"$f":"IF($H27=0,0,CHOOSE($H27,SUMPRODUCT(CHOOSE(AB$39,$O28:$O$36,$P28:$P$36,$Q28:$Q$36,$R28:$R$36)*AB28:AB$36*($E28:$E$36=$D27)),IF(ISNUMBER(Data!S27),100*ABS($G27-(Data!S27-$K27)/$M27),0),IF(ISNUMBER(Data!S27),100*ABS($G27-(Data!S27-$K27)/$M27),0)))","v":31.558143850117617},{"$f":"IF($H27=0,0,CHOOSE($H27,SUMPRODUCT(CHOOSE(AC$39,$O28:$O$36,$P28:$P$36,$Q28:$Q$36,$R28:$R$36)*AC28:AC$36*($E28:$E$36=$D27)),IF(ISNUMBER(Data!T27),100*ABS($G27-(Data!T27-$K27)/$M27),0),IF(ISNUMBER(Data!T27),100*ABS($G27-(Data!T27-$K27)/$M27),0)))","v":4.1027029955040355},{"$f":"IF($H27=0,0,CHOOSE($H27,SUMPRODUCT(CHOOSE(AD$39,$O28:$O$36,$P28:$P$36,$Q28:$Q$36,$R28:$R$36)*AD28:AD$36*($E28:$E$36=$D27)),IF(ISNUMBER(Data!U27),100*ABS($G27-(Data!U27-$K27)/$M27),0),IF(ISNUMBER(Data!U27),100*ABS($G27-(Data!U27-$K27)/$M27),0)))","v":0},{"$f":"IF($H27=0,0,CHOOSE($H27,SUMPRODUCT(CHOOSE(AE$39,$O28:$O$36,$P28:$P$36,$Q28:$Q$36,$R28:$R$36)*AE28:AE$36*($E28:$E$36=$D27)),IF(ISNUMBER(Data!V27),100*ABS($G27-(Data!V27-$K27)/$M27),0),IF(ISNUMBER(Data!V27),100*ABS($G27-(Data!V27-$K27)/$M27),0)))","v":27.687765006621206},{"$f":"IF($H27=0,0,CHOOSE($H27,SUMPRODUCT(CHOOSE(AF$39,$O28:$O$36,$P28:$P$36,$Q28:$Q$36,$R28:$R$36)*AF28:AF$36*($E28:$E$36=$D27)),IF(ISNUMBER(Data!W27),100*ABS($G27-(Data!W27-$K27)/$M27),0),IF(ISNUMBER(Data!W27),100*ABS($G27-(Data!W27-$K27)/$M27),0)))","v":92.410717475713611},{"$f":"IF($H27=0,0,CHOOSE($H27,SUMPRODUCT(CHOOSE(AG$39,$O28:$O$36,$P28:$P$36,$Q28:$Q$36,$R28:$R$36)*AG28:AG$36*($E28:$E$36=$D27)),IF(ISNUMBER(Data!X27),100*ABS($G27-(Data!X27-$K27)/$M27),0),IF(ISNUMBER(Data!X27),100*ABS($G27-(Data!X27-$K27)/$M27),0)))","v":100},{"$f":"IF($H27=0,0,CHOOSE($H27,SUMPRODUCT(CHOOSE(AH$39,$O28:$O$36,$P28:$P$36,$Q28:$Q$36,$R28:$R$36)*AH28:AH$36*($E28:$E$36=$D27)),IF(ISNUMBER(Data!Y27),100*ABS($G27-(Data!Y27-$K27)/$M27),0),IF(ISNUMBER(Data!Y27),100*ABS($G27-(Data!Y27-$K27)/$M27),0)))","v":10.308828156424065},{"$f":"IF($H27=0,0,CHOOSE($H27,SUMPRODUCT(CHOOSE(AI$39,$O28:$O$36,$P28:$P$36,$Q28:$Q$36,$R28:$R$36)*AI28:AI$36*($E28:$E$36=$D27)),IF(ISNUMBER(Data!Z27),100*ABS($G27-(Data!Z27-$K27)/$M27),0),IF(ISNUMBER(Data!Z27),100*ABS($G27-(Data!Z27-$K27)/$M27),0)))","v":85.354129899696545},{"$f":"IF($H27=0,0,CHOOSE($H27,SUMPRODUCT(CHOOSE(AJ$39,$O28:$O$36,$P28:$P$36,$Q28:$Q$36,$R28:$R$36)*AJ28:AJ$36*($E28:$E$36=$D27)),IF(ISNUMBER(Data!AA27),100*ABS($G27-(Data!AA27-$K27)/$M27),0),IF(ISNUMBER(Data!AA27),100*ABS($G27-(Data!AA27-$K27)/$M27),0)))","v":47.73175653793448},{"$f":"IF($H27=0,0,CHOOSE($H27,SUMPRODUCT(CHOOSE(AK$39,$O28:$O$36,$P28:$P$36,$Q28:$Q$36,$R28:$R$36)*AK28:AK$36*($E28:$E$36=$D27)),IF(ISNUMBER(Data!AB27),100*ABS($G27-(Data!AB27-$K27)/$M27),0),IF(ISNUMBER(Data!AB27),100*ABS($G27-(Data!AB27-$K27)/$M27),0)))","v":17.016862459906854},{"$f":"IF($H27=0,0,CHOOSE($H27,SUMPRODUCT(CHOOSE(AL$39,$O28:$O$36,$P28:$P$36,$Q28:$Q$36,$R28:$R$36)*AL28:AL$36*($E28:$E$36=$D27)),IF(ISNUMBER(Data!AC27),100*ABS($G27-(Data!AC27-$K27)/$M27),0),IF(ISNUMBER(Data!AC27),100*ABS($G27-(Data!AC27-$K27)/$M27),0)))","v":91.353157374891524}]
[null,{"$f":"tblIndicators!A25","v":24},{"$f":"tblIndicators!B25","v":0},{"$f":"tblIndicators!D25","v":"SP_12"},{"$f":"tblIndicators!E25","v":"SP"},{"$f":"tblIndicators!F25","v":2},{"$f":"tblIndicators!S25","v":1},{"$f":"tblIndicators!T25","v":3},{"$f":"tblIndicators!U25","v":1},{"$f":"tblIndicators!V25","v":4},{"$f":"CHOOSE(H28,\"-\",MIN(Data!J28:AC28),I28)","v":1},{"$f":"CHOOSE(H28,\"-\",MAX(Data!J28:AC28),J28)","v":4},3,{"$f":"tblIndicators!Y25","v":"2.3) Labour standards"},{"$f":"tblIndicators!X25","v":0.25},{"$f":"tblIndicators!AF25","v":0.25},{"$f":"tblIndicators!AI25","v":0.25},{"$f":"tblIndicators!AL25","v":0.25},{"$f":"IF($H28=0,0,CHOOSE($H28,SUMPRODUCT(CHOOSE(S$39,$O29:$O$36,$P29:$P$36,$Q29:$Q$36,$R29:$R$36)*S29:S$36*($E29:$E$36=$D28)),IF(ISNUMBER(Data!J28),100*ABS($G28-(Data!J28-$K28)/$M28),0),IF(ISNUMBER(Data!J28),100*ABS($G28-(Data!J28-$K28)/$M28),0)))","v":0},{"$f":"IF($H28=0,0,CHOOSE($H28,SUMPRODUCT(CHOOSE(T$39,$O29:$O$36,$P29:$P$36,$Q29:$Q$36,$R29:$R$36)*T29:T$36*($E29:$E$36=$D28)),IF(ISNUMBER(Data!K28),100*ABS($G28-(Data!K28-$K28)/$M28),0),IF(ISNUMBER(Data!K28),100*ABS($G28-(Data!K28-$K28)/$M28),0)))","v":100},{"$f":"IF($H28=0,0,CHOOSE($H28,SUMPRODUCT(CHOOSE(U$39,$O29:$O$36,$P29:$P$36,$Q29:$Q$36,$R29:$R$36)*U29:U$36*($E29:$E$36=$D28)),IF(ISNUMBER(Data!L28),100*ABS($G28-(Data!L28-$K28)/$M28),0),IF(ISNUMBER(Data!L28),100*ABS($G28-(Data!L28-$K28)/$M28),0)))","v":0},{"$f":"IF($H28=0,0,CHOOSE($H28,SUMPRODUCT(CHOOSE(V$39,$O29:$O$36,$P29:$P$36,$Q29:$Q$36,$R29:$R$36)*V29:V$36*($E29:$E$36=$D28)),IF(ISNUMBER(Data!M28),100*ABS($G28-(Data!M28-$K28)/$M28),0),IF(ISNUMBER(Data!M28),100*ABS($G28-(Data!M28-$K28)/$M28),0)))","v":33.333333333333336},{"$f":"IF($H28=0,0,CHOOSE($H28,SUMPRODUCT(CHOOSE(W$39,$O29:$O$36,$P29:$P$36,$Q29:$Q$36,$R29:$R$36)*W29:W$36*($E29:$E$36=$D28)),IF(ISNUMBER(Data!N28),100*ABS($G28-(Data!N28-$K28)/$M28),0),IF(ISNUMBER(Data!N28),100*ABS($G28-(Data!N28-$K28)/$M28),0)))","v":100},{"$f":"IF($H28=0,0,CHOOSE($H28,SUMPRODUCT(CHOOSE(X$39,$O29:$O$36,$P29:$P$36,$Q29:$Q$36,$R29:$R$36)*X29:X$36*($E29:$E$36=$D28)),IF(ISNUMBER(Data!O28),100*ABS($G28-(Data!O28-$K28)/$M28),0),IF(ISNUMBER(Data!O28),100*ABS($G28-(Data!O28-$K28)/$M28),0)))","v":0},{"$f":"IF($H28=0,0,CHOOSE($H28,SUMPRODUCT(CHOOSE(Y$39,$O29:$O$36,$P29:$P$36,$Q29:$Q$36,$R29:$R$36)*Y29:Y$36*($E29:$E$36=$D28)),IF(ISNUMBER(Data!P28),100*ABS($G28-(Data!P28-$K28)/$M28),0),IF(ISNUMBER(Data!P28),100*ABS($G28-(Data!P28-$K28)/$M28),0)))","v":0},{"$f":"IF($H28=0,0,CHOOSE($H28,SUMPRODUCT(CHOOSE(Z$39,$O29:$O$36,$P29:$P$36,$Q29:$Q$36,$R29:$R$36)*Z29:Z$36*($E29:$E$36=$D28)),IF(ISNUMBER(Data!Q28),100*ABS($G28-(Data!Q28-$K28)/$M28),0),IF(ISNUMBER(Data!Q28),100*ABS($G28-(Data!Q28-$K28)/$M28),0)))","v":100},{"$f":"IF($H28=0,0,CHOOSE($H28,SUMPRODUCT(CHOOSE(AA$39,$O29:$O$36,$P29:$P$36,$Q29:$Q$36,$R29:$R$36)*AA29:AA$36*($E29:$E$36=$D28)),IF(ISNUMBER(Data!R28),100*ABS($G28-(Data!R28-$K28)/$M28),0),IF(ISNUMBER(Data!R28),100*ABS($G28-(Data!R28-$K28)/$M28),0)))","v":0},{"$f":"IF($H28=0,0,CHOOSE($H28,SUMPRODUCT(CHOOSE(AB$39,$O29:$O$36,$P29:$P$36,$Q29:$Q$36,$R29:$R$36)*AB29:AB$36*($E29:$E$36=$D28)),IF(ISNUMBER(Data!S28),100*ABS($G28-(Data!S28-$K28)/$M28),0),IF(ISNUMBER(Data!S28),100*ABS($G28-(Data!S28-$K28)/$M28),0)))","v":66.666666666666671},{"$f":"IF($H28=0,0,CHOOSE($H28,SUMPRODUCT(CHOOSE(AC$39,$O29:$O$36,$P29:$P$36,$Q29:$Q$36,$R29:$R$36)*AC29:AC$36*($E29:$E$36=$D28)),IF(ISNUMBER(Data!T28),100*ABS($G28-(Data!T28-$K28)/$M28),0),IF(ISNUMBER(Data!T28),100*ABS($G28-(Data!T28-$K28)/$M28),0)))","v":0},{"$f":"IF($H28=0,0,CHOOSE($H28,SUMPRODUCT(CHOOSE(AD$39,$O29:$O$36,$P29:$P$36,$Q29:$Q$36,$R29:$R$36)*AD29:AD$36*($E29:$E$36=$D28)),IF(ISNUMBER(Data!U28),100*ABS($G28-(Data!U28-$K28)/$M28),0),IF(ISNUMBER(Data!U28),100*ABS($G28-(Data!U28-$K28)/$M28),0)))","v":0},{"$f":"IF($H28=0,0,CHOOSE($H28,SUMPRODUCT(CHOOSE(AE$39,$O29:$O$36,$P29:$P$36,$Q29:$Q$36,$R29:$R$36)*AE29:AE$36*($E29:$E$36=$D28)),IF(ISNUMBER(Data!V28),100*ABS($G28-(Data!V28-$K28)/$M28),0),IF(ISNUMBER(Data!V28),100*ABS($G28-(Data!V28-$K28)/$M28),0)))","v":0},{"$f":"IF($H28=0,0,CHOOSE($H28,SUMPRODUCT(CHOOSE(AF$39,$O29:$O$36,$P29:$P$36,$Q29:$Q$36,$R29:$R$36)*AF29:AF$36*($E29:$E$36=$D28)),IF(ISNUMBER(Data!W28),100*ABS($G28-(Data!W28-$K28)/$M28),0),IF(ISNUMBER(Data!W28),100*ABS($G28-(Data!W28-$K28)/$M28),0)))","v":100},{"$f":"IF($H28=0,0,CHOOSE($H28,SUMPRODUCT(CHOOSE(AG$39,$O29:$O$36,$P29:$P$36,$Q29:$Q$36,$R29:$R$36)*AG29:AG$36*($E29:$E$36=$D28)),IF(ISNUMBER(Data!X28),100*ABS($G28-(Data!X28-$K28)/$M28),0),IF(ISNUMBER(Data!X28),100*ABS($G28-(Data!X28-$K28)/$M28),0)))","v":100},{"$f":"IF($H28=0,0,CHOOSE($H28,SUMPRODUCT(CHOOSE(AH$39,$O29:$O$36,$P29:$P$36,$Q29:$Q$36,$R29:$R$36)*AH29:AH$36*($E29:$E$36=$D28)),IF(ISNUMBER(Data!Y28),100*ABS($G28-(Data!Y28-$K28)/$M28),0),IF(ISNUMBER(Data!Y28),100*ABS($G28-(Data!Y28-$K28)/$M28),0)))","v":66.666666666666671},{"$f":"IF($H28=0,0,CHOOSE($H28,SUMPRODUCT(CHOOSE(AI$39,$O29:$O$36,$P29:$P$36,$Q29:$Q$36,$R29:$R$36)*AI29:AI$36*($E29:$E$36=$D28)),IF(ISNUMBER(Data!Z28),100*ABS($G28-(Data!Z28-$K28)/$M28),0),IF(ISNUMBER(Data!Z28),100*ABS($G28-(Data!Z28-$K28)/$M28),0)))","v":100},{"$f":"IF($H28=0,0,CHOOSE($H28,SUMPRODUCT(CHOOSE(AJ$39,$O29:$O$36,$P29:$P$36,$Q29:$Q$36,$R29:$R$36)*AJ29:AJ$36*($E29:$E$36=$D28)),IF(ISNUMBER(Data!AA28),100*ABS($G28-(Data!AA28-$K28)/$M28),0),IF(ISNUMBER(Data!AA28),100*ABS($G28-(Data!AA28-$K28)/$M28),0)))","v":33.333333333333336},{"$f":"IF($H28=0,0,CHOOSE($H28,SUMPRODUCT(CHOOSE(AK$39,$O29:$O$36,$P29:$P$36,$Q29:$Q$36,$R29:$R$36)*AK29:AK$36*($E29:$E$36=$D28)),IF(ISNUMBER(Data!AB28),100*ABS($G28-(Data!AB28-$K28)/$M28),0),IF(ISNUMBER(Data!AB28),100*ABS($G28-(Data!AB28-$K28)/$M28),0)))","v":33.333333333333336},{"$f":"IF($H28=0,0,CHOOSE($H28,SUMPRODUCT(CHOOSE(AL$39,$O29:$O$36,$P29:$P$36,$Q29:$Q$36,$R29:$R$36)*AL29:AL$36*($E29:$E$36=$D28)),IF(ISNUMBER(Data!AC28),100*ABS($G28-(Data!AC28-$K28)/$M28),0),IF(ISNUMBER(Data!AC28),100*ABS($G28-(Data!AC28-$K28)/$M28),0)))","v":100}]
[null,{"$f":"tblIndicators!A26","v":25},{"$f":"tblIndicators!B26","v":0},{"$f":"tblIndicators!D26","v":"SP_13"},{"$f":"tblIndicators!E26","v":"SP"},{"$f":"tblIndicators!F26","v":2},{"$f":"tblIndicators!S26","v":1},{"$f":"tblIndicators!T26","v":3},{"$f":"tblIndicators!U26","v":0},{"$f":"tblIndicators!V26","v":5},{"$f":"CHOOSE(H29,\"-\",MIN(Data!J29:AC29),I29)","v":0},{"$f":"CHOOSE(H29,\"-\",MAX(Data!J29:AC29),J29)","v":5},5,{"$f":"tblIndicators!Y26","v":"2.4) Political stability"},{"$f":"tblIndicators!X26","v":0.25},{"$f":"tblIndicators!AF26","v":0.25},{"$f":"tblIndicators!AI26","v":0.25},{"$f":"tblIndicators!AL26","v":0.25},{"$f":"IF($H29=0,0,CHOOSE($H29,SUMPRODUCT(CHOOSE(S$39,$O30:$O$36,$P30:$P$36,$Q30:$Q$36,$R30:$R$36)*S30:S$36*($E30:$E$36=$D29)),IF(ISNUMBER(Data!J29),100*ABS($G29-(Data!J29-$K29)/$M29),0),IF(ISNUMBER(Data!J29),100*ABS($G29-(Data!J29-$K29)/$M29),0)))","v":40},{"$f":"IF($H29=0,0,CHOOSE($H29,SUMPRODUCT(CHOOSE(T$39,$O30:$O$36,$P30:$P$36,$Q30:$Q$36,$R30:$R$36)*T30:T$36*($E30:$E$36=$D29)),IF(ISNUMBER(Data!K29),100*ABS($G29-(Data!K29-$K29)/$M29),0),IF(ISNUMBER(Data!K29),100*ABS($G29-(Data!K29-$K29)/$M29),0)))","v":100},{"$f":"IF($H29=0,0,CHOOSE($H29,SUMPRODUCT(CHOOSE(U$39,$O30:$O$36,$P30:$P$36,$Q30:$Q$36,$R30:$R$36)*U30:U$36*($E30:$E$36=$D29)),IF(ISNUMBER(Data!L29),100*ABS($G29-(Data!L29-$K29)/$M29),0),IF(ISNUMBER(Data!L29),100*ABS($G29-(Data!L29-$K29)/$M29),0)))","v":40},{"$f":"IF($H29=0,0,CHOOSE($H29,SUMPRODUCT(CHOOSE(V$39,$O30:$O$36,$P30:$P$36,$Q30:$Q$36,$R30:$R$36)*V30:V$36*($E30:$E$36=$D29)),IF(ISNUMBER(Data!M29),100*ABS($G29-(Data!M29-$K29)/$M29),0),IF(ISNUMBER(Data!M29),100*ABS($G29-(Data!M29-$K29)/$M29),0)))","v":60},{"$f":"IF($H29=0,0,CHOOSE($H29,SUMPRODUCT(CHOOSE(W$39,$O30:$O$36,$P30:$P$36,$Q30:$Q$36,$R30:$R$36)*W30:W$36*($E30:$E$36=$D29)),IF(ISNUMBER(Data!N29),100*ABS($G29-(Data!N29-$K29)/$M29),0),IF(ISNUMBER(Data!N29),100*ABS($G29-(Data!N29-$K29)/$M29),0)))","v":60},{"$f":"IF($H29=0,0,CHOOSE($H29,SUMPRODUCT(CHOOSE(X$39,$O30:$O$36,$P30:$P$36,$Q30:$Q$36,$R30:$R$36)*X30:X$36*($E30:$E$36=$D29)),IF(ISNUMBER(Data!O29),100*ABS($G29-(Data!O29-$K29)/$M29),0),IF(ISNUMBER(Data!O29),100*ABS($G29-(Data!O29-$K29)/$M29),0)))","v":60},{"$f":"IF($H29=0,0,CHOOSE($H29,SUMPRODUCT(CHOOSE(Y$39,$O30:$O$36,$P30:$P$36,$Q30:$Q$36,$R30:$R$36)*Y30:Y$36*($E30:$E$36=$D29)),IF(ISNUMBER(Data!P29),100*ABS($G29-(Data!P29-$K29)/$M29),0),IF(ISNUMBER(Data!P29),100*ABS($G29-(Data!P29-$K29)/$M29),0)))","v":60},{"$f":"IF($H29=0,0,CHOOSE($H29,SUMPRODUCT(CHOOSE(Z$39,$O30:$O$36,$P30:$P$36,$Q30:$Q$36,$R30:$R$36)*Z30:Z$36*($E30:$E$36=$D29)),IF(ISNUMBER(Data!Q29),100*ABS($G29-(Data!Q29-$K29)/$M29),0),IF(ISNUMBER(Data!Q29),100*ABS($G29-(Data!Q29-$K29)/$M29),0)))","v":100},{"$f":"IF($H29=0,0,CHOOSE($H29,SUMPRODUCT(CHOOSE(AA$39,$O30:$O$36,$P30:$P$36,$Q30:$Q$36,$R30:$R$36)*AA30:AA$36*($E30:$E$36=$D29)),IF(ISNUMBER(Data!R29),100*ABS($G29-(Data!R29-$K29)/$M29),0),IF(ISNUMBER(Data!R29),100*ABS($G29-(Data!R29-$K29)/$M29),0)))","v":80},{"$f":"IF($H29=0,0,CHOOSE($H29,SUMPRODUCT(CHOOSE(AB$39,$O30:$O$36,$P30:$P$36,$Q30:$Q$36,$R30:$R$36)*AB30:AB$36*($E30:$E$36=$D29)),IF(ISNUMBER(Data!S29),100*ABS($G29-(Data!S29-$K29)/$M29),0),IF(ISNUMBER(Data!S29),100*ABS($G29-(Data!S29-$K29)/$M29),0)))","v":80},{"$f":"IF($H29=0,0,CHOOSE($H29,SUMPRODUCT(CHOOSE(AC$39,$O30:$O$36,$P30:$P$36,$Q30:$Q$36,$R30:$R$36)*AC30:AC$36*($E30:$E$36=$D29)),IF(ISNUMBER(Data!T29),100*ABS($G29-(Data!T29-$K29)/$M29),0),IF(ISNUMBER(Data!T29),100*ABS($G29-(Data!T29-$K29)/$M29),0)))","v":40},{"$f":"IF($H29=0,0,CHOOSE($H29,SUMPRODUCT(CHOOSE(AD$39,$O30:$O$36,$P30:$P$36,$Q30:$Q$36,$R30:$R$36)*AD30:AD$36*($E30:$E$36=$D29)),IF(ISNUMBER(Data!U29),100*ABS($G29-(Data!U29-$K29)/$M29),0),IF(ISNUMBER(Data!U29),100*ABS($G29-(Data!U29-$K29)/$M29),0)))","v":40},{"$f":"IF($H29=0,0,CHOOSE($H29,SUMPRODUCT(CHOOSE(AE$39,$O30:$O$36,$P30:$P$36,$Q30:$Q$36,$R30:$R$36)*AE30:AE$36*($E30:$E$36=$D29)),IF(ISNUMBER(Data!V29),100*ABS($G29-(Data!V29-$K29)/$M29),0),IF(ISNUMBER(Data!V29),100*ABS($G29-(Data!V29-$K29)/$M29),0)))","v":40},{"$f":"IF($H29=0,0,CHOOSE($H29,SUMPRODUCT(CHOOSE(AF$39,$O30:$O$36,$P30:$P$36,$Q30:$Q$36,$R30:$R$36)*AF30:AF$36*($E30:$E$36=$D29)),IF(ISNUMBER(Data!W29),100*ABS($G29-(Data!W29-$K29)/$M29),0),IF(ISNUMBER(Data!W29),100*ABS($G29-(Data!W29-$K29)/$M29),0)))","v":80},{"$f":"IF($H29=0,0,CHOOSE($H29,SUMPRODUCT(CHOOSE(AG$39,$O30:$O$36,$P30:$P$36,$Q30:$Q$36,$R30:$R$36)*AG30:AG$36*($E30:$E$36=$D29)),IF(ISNUMBER(Data!X29),100*ABS($G29-(Data!X29-$K29)/$M29),0),IF(ISNUMBER(Data!X29),100*ABS($G29-(Data!X29-$K29)/$M29),0)))","v":60},{"$f":"IF($H29=0,0,CHOOSE($H29,SUMPRODUCT(CHOOSE(AH$39,$O30:$O$36,$P30:$P$36,$Q30:$Q$36,$R30:$R$36)*AH30:AH$36*($E30:$E$36=$D29)),IF(ISNUMBER(Data!Y29),100*ABS($G29-(Data!Y29-$K29)/$M29),0),IF(ISNUMBER(Data!Y29),100*ABS($G29-(Data!Y29-$K29)/$M29),0)))","v":40},{"$f":"IF($H29=0,0,CHOOSE($H29,SUMPRODUCT(CHOOSE(AI$39,$O30:$O$36,$P30:$P$36,$Q30:$Q$36,$R30:$R$36)*AI30:AI$36*($E30:$E$36=$D29)),IF(ISNUMBER(Data!Z29),100*ABS($G29-(Data!Z29-$K29)/$M29),0),IF(ISNUMBER(Data!Z29),100*ABS($G29-(Data!Z29-$K29)/$M29),0)))","v":60},{"$f":"IF($H29=0,0,CHOOSE($H29,SUMPRODUCT(CHOOSE(AJ$39,$O30:$O$36,$P30:$P$36,$Q30:$Q$36,$R30:$R$36)*AJ30:AJ$36*($E30:$E$36=$D29)),IF(ISNUMBER(Data!AA29),100*ABS($G29-(Data!AA29-$K29)/$M29),0),IF(ISNUMBER(Data!AA29),100*ABS($G29-(Data!AA29-$K29)/$M29),0)))","v":40},{"$f":"IF($H29=0,0,CHOOSE($H29,SUMPRODUCT(CHOOSE(AK$39,$O30:$O$36,$P30:$P$36,$Q30:$Q$36,$R30:$R$36)*AK30:AK$36*($E30:$E$36=$D29)),IF(ISNUMBER(Data!AB29),100*ABS($G29-(Data!AB29-$K29)/$M29),0),IF(ISNUMBER(Data!AB29),100*ABS($G29-(Data!AB29-$K29)/$M29),0)))","v":80},{"$f":"IF($H29=0,0,CHOOSE($H29,SUMPRODUCT(CHOOSE(AL$39,$O30:$O$36,$P30:$P$36,$Q30:$Q$36,$R30:$R$36)*AL30:AL$36*($E30:$E$36=$D29)),IF(ISNUMBER(Data!AC29),100*ABS($G29-(Data!AC29-$K29)/$M29),0),IF(ISNUMBER(Data!AC29),100*ABS($G29-(Data!AC29-$K29)/$M29),0)))","v":100}]
[null,{"$f":"tblIndicators!A27","v":26},{"$f":"tblIndicators!B27","v":0},{"$f":"tblIndicators!D27","v":"ENP"},{"$f":"tblIndicators!E27","v":"TOTAL"},{"$f":"tblIndicators!F27","v":1},{"$f":"tblIndicators!S27","v":""},{"$f":"tblIndicators!T27","v":1},{"$f":"tblIndicators!U27","v":0},{"$f":"tblIndicators!V27","v":0},{"$f":"CHOOSE(H30,\"-\",MIN(Data!J30:AC30),I30)","v":"-"},{"$f":"CHOOSE(H30,\"-\",MAX(Data!J30:AC30),J30)","v":"-"},"-",{"$f":"tblIndicators!Y27","v":"3) ENVIRONMENTAL PILLAR"},{"$f":"tblIndicators!X27","v":0.33333333333333331},{"$f":"tblIndicators!AF27","v":0.33333333333333331},{"$f":"tblIndicators!AI27","v":0.33333333333333331},{"$f":"tblIndicators!AL27","v":0.33333333333333331},{"$f":"IF($H30=0,0,CHOOSE($H30,SUMPRODUCT(CHOOSE(S$39,$O31:$O$36,$P31:$P$36,$Q31:$Q$36,$R31:$R$36)*S31:S$36*($E31:$E$36=$D30)),IF(ISNUMBER(Data!J30),100*ABS($G30-(Data!J30-$K30)/$M30),0),IF(ISNUMBER(Data!J30),100*ABS($G30-(Data!J30-$K30)/$M30),0)))","v":52.265411916847839},{"$f":"IF($H30=0,0,CHOOSE($H30,SUMPRODUCT(CHOOSE(T$39,$O31:$O$36,$P31:$P$36,$Q31:$Q$36,$R31:$R$36)*T31:T$36*($E31:$E$36=$D30)),IF(ISNUMBER(Data!K30),100*ABS($G30-(Data!K30-$K30)/$M30),0),IF(ISNUMBER(Data!K30),100*ABS($G30-(Data!K30-$K30)/$M30),0)))","v":56.05727415596408},{"$f":"IF($H30=0,0,CHOOSE($H30,SUMPRODUCT(CHOOSE(U$39,$O31:$O$36,$P31:$P$36,$Q31:$Q$36,$R31:$R$36)*U31:U$36*($E31:$E$36=$D30)),IF(ISNUMBER(Data!L30),100*ABS($G30-(Data!L30-$K30)/$M30),0),IF(ISNUMBER(Data!L30),100*ABS($G30-(Data!L30-$K30)/$M30),0)))","v":56.779613670703114},{"$f":"IF($H30=0,0,CHOOSE($H30,SUMPRODUCT(CHOOSE(V$39,$O31:$O$36,$P31:$P$36,$Q31:$Q$36,$R31:$R$36)*V31:V$36*($E31:$E$36=$D30)),IF(ISNUMBER(Data!M30),100*ABS($G30-(Data!M30-$K30)/$M30),0),IF(ISNUMBER(Data!M30),100*ABS($G30-(Data!M30-$K30)/$M30),0)))","v":52.0128133452884},{"$f":"IF($H30=0,0,CHOOSE($H30,SUMPRODUCT(CHOOSE(W$39,$O31:$O$36,$P31:$P$36,$Q31:$Q$36,$R31:$R$36)*W31:W$36*($E31:$E$36=$D30)),IF(ISNUMBER(Data!N30),100*ABS($G30-(Data!N30-$K30)/$M30),0),IF(ISNUMBER(Data!N30),100*ABS($G30-(Data!N30-$K30)/$M30),0)))","v":93.443284226012125},{"$f":"IF($H30=0,0,CHOOSE($H30,SUMPRODUCT(CHOOSE(X$39,$O31:$O$36,$P31:$P$36,$Q31:$Q$36,$R31:$R$36)*X31:X$36*($E31:$E$36=$D30)),IF(ISNUMBER(Data!O30),100*ABS($G30-(Data!O30-$K30)/$M30),0),IF(ISNUMBER(Data!O30),100*ABS($G30-(Data!O30-$K30)/$M30),0)))","v":47.185148696837132},{"$f":"IF($H30=0,0,CHOOSE($H30,SUMPRODUCT(CHOOSE(Y$39,$O31:$O$36,$P31:$P$36,$Q31:$Q$36,$R31:$R$36)*Y31:Y$36*($E31:$E$36=$D30)),IF(ISNUMBER(Data!P30),100*ABS($G30-(Data!P30-$K30)/$M30),0),IF(ISNUMBER(Data!P30),100*ABS($G30-(Data!P30-$K30)/$M30),0)))","v":50.025934781508795},{"$f":"IF($H30=0,0,CHOOSE($H30,SUMPRODUCT(CHOOSE(Z$39,$O31:$O$36,$P31:$P$36,$Q31:$Q$36,$R31:$R$36)*Z31:Z$36*($E31:$E$36=$D30)),IF(ISNUMBER(Data!Q30),100*ABS($G30-(Data!Q30-$K30)/$M30),0),IF(ISNUMBER(Data!Q30),100*ABS($G30-(Data!Q30-$K30)/$M30),0)))","v":84.984810133179423},{"$f":"IF($H30=0,0,CHOOSE($H30,SUMPRODUCT(CHOOSE(AA$39,$O31:$O$36,$P31:$P$36,$Q31:$Q$36,$R31:$R$36)*AA31:AA$36*($E31:$E$36=$D30)),IF(ISNUMBER(Data!R30),100*ABS($G30-(Data!R30-$K30)/$M30),0),IF(ISNUMBER(Data!R30),100*ABS($G30-(Data!R30-$K30)/$M30),0)))","v":48.238028107825059},{"$f":"IF($H30=0,0,CHOOSE($H30,SUMPRODUCT(CHOOSE(AB$39,$O31:$O$36,$P31:$P$36,$Q31:$Q$36,$R31:$R$36)*AB31:AB$36*($E31:$E$36=$D30)),IF(ISNUMBER(Data!S30),100*ABS($G30-(Data!S30-$K30)/$M30),0),IF(ISNUMBER(Data!S30),100*ABS($G30-(Data!S30-$K30)/$M30),0)))","v":61.147057429548695},{"$f":"IF($H30=0,0,CHOOSE($H30,SUMPRODUCT(CHOOSE(AC$39,$O31:$O$36,$P31:$P$36,$Q31:$Q$36,$R31:$R$36)*AC31:AC$36*($E31:$E$36=$D30)),IF(ISNUMBER(Data!T30),100*ABS($G30-(Data!T30-$K30)/$M30),0),IF(ISNUMBER(Data!T30),100*ABS($G30-(Data!T30-$K30)/$M30),0)))","v":45.862503385060407},{"$f":"IF($H30=0,0,CHOOSE($H30,SUMPRODUCT(CHOOSE(AD$39,$O31:$O$36,$P31:$P$36,$Q31:$Q$36,$R31:$R$36)*AD31:AD$36*($E31:$E$36=$D30)),IF(ISNUMBER(Data!U30),100*ABS($G30-(Data!U30-$K30)/$M30),0),IF(ISNUMBER(Data!U30),100*ABS($G30-(Data!U30-$K30)/$M30),0)))","v":47.829381196126036},{"$f":"IF($H30=0,0,CHOOSE($H30,SUMPRODUCT(CHOOSE(AE$39,$O31:$O$36,$P31:$P$36,$Q31:$Q$36,$R31:$R$36)*AE31:AE$36*($E31:$E$36=$D30)),IF(ISNUMBER(Data!V30),100*ABS($G30-(Data!V30-$K30)/$M30),0),IF(ISNUMBER(Data!V30),100*ABS($G30-(Data!V30-$K30)/$M30),0)))","v":71.011287789151396},{"$f":"IF($H30=0,0,CHOOSE($H30,SUMPRODUCT(CHOOSE(AF$39,$O31:$O$36,$P31:$P$36,$Q31:$Q$36,$R31:$R$36)*AF31:AF$36*($E31:$E$36=$D30)),IF(ISNUMBER(Data!W30),100*ABS($G30-(Data!W30-$K30)/$M30),0),IF(ISNUMBER(Data!W30),100*ABS($G30-(Data!W30-$K30)/$M30),0)))","v":92.193654303584495},{"$f":"IF($H30=0,0,CHOOSE($H30,SUMPRODUCT(CHOOSE(AG$39,$O31:$O$36,$P31:$P$36,$Q31:$Q$36,$R31:$R$36)*AG31:AG$36*($E31:$E$36=$D30)),IF(ISNUMBER(Data!X30),100*ABS($G30-(Data!X30-$K30)/$M30),0),IF(ISNUMBER(Data!X30),100*ABS($G30-(Data!X30-$K30)/$M30),0)))","v":82.990597930102922},{"$f":"IF($H30=0,0,CHOOSE($H30,SUMPRODUCT(CHOOSE(AH$39,$O31:$O$36,$P31:$P$36,$Q31:$Q$36,$R31:$R$36)*AH31:AH$36*($E31:$E$36=$D30)),IF(ISNUMBER(Data!Y30),100*ABS($G30-(Data!Y30-$K30)/$M30),0),IF(ISNUMBER(Data!Y30),100*ABS($G30-(Data!Y30-$K30)/$M30),0)))","v":63.145223291784099},{"$f":"IF($H30=0,0,CHOOSE($H30,SUMPRODUCT(CHOOSE(AI$39,$O31:$O$36,$P31:$P$36,$Q31:$Q$36,$R31:$R$36)*AI31:AI$36*($E31:$E$36=$D30)),IF(ISNUMBER(Data!Z30),100*ABS($G30-(Data!Z30-$K30)/$M30),0),IF(ISNUMBER(Data!Z30),100*ABS($G30-(Data!Z30-$K30)/$M30),0)))","v":59.309227559707892},{"$f":"IF($H30=0,0,CHOOSE($H30,SUMPRODUCT(CHOOSE(AJ$39,$O31:$O$36,$P31:$P$36,$Q31:$Q$36,$R31:$R$36)*AJ31:AJ$36*($E31:$E$36=$D30)),IF(ISNUMBER(Data!AA30),100*ABS($G30-(Data!AA30-$K30)/$M30),0),IF(ISNUMBER(Data!AA30),100*ABS($G30-(Data!AA30-$K30)/$M30),0)))","v":66.153007449171383},{"$f":"IF($H30=0,0,CHOOSE($H30,SUMPRODUCT(CHOOSE(AK$39,$O31:$O$36,$P31:$P$36,$Q31:$Q$36,$R31:$R$36)*AK31:AK$36*($E31:$E$36=$D30)),IF(ISNUMBER(Data!AB30),100*ABS($G30-(Data!AB30-$K30)/$M30),0),IF(ISNUMBER(Data!AB30),100*ABS($G30-(Data!AB30-$K30)/$M30),0)))","v":56.953075451707271},{"$f":"IF($H30=0,0,CHOOSE($H30,SUMPRODUCT(CHOOSE(AL$39,$O31:$O$36,$P31:$P$36,$Q31:$Q$36,$R31:$R$36)*AL31:AL$36*($E31:$E$36=$D30)),IF(ISNUMBER(Data!AC30),100*ABS($G30-(Data!AC30-$K30)/$M30),0),IF(ISNUMBER(Data!AC30),100*ABS($G30-(Data!AC30-$K30)/$M30),0)))","v":74.928561641970902}]
[null,{"$f":"tblIndicators!A28","v":27},{"$f":"tblIndicators!B28","v":0},{"$f":"tblIndicators!D28","v":"ENP_10"},{"$f":"tblIndicators!E28","v":"ENP"},{"$f":"tblIndicators!F28","v":2},{"$f":"tblIndicators!S28","v":1},{"$f":"tblIndicators!T28","v":2},{"$f":"tblIndicators!U28","v":0},{"$f":"tblIndicators!V28","v":0},{"$f":"CHOOSE(H31,\"-\",MIN(Data!J31:AC31),I31)","v":5.16},{"$f":"CHOOSE(H31,\"-\",MAX(Data!J31:AC31),J31)","v":48},42.84,{"$f":"tblIndicators!Y28","v":"3.1) Air pollution"},{"$f":"tblIndicators!X28","v":0.16666666666666669},{"$f":"tblIndicators!AF28","v":0.16666666666666666},{"$f":"tblIndicators!AI28","v":0.16666666666666666},{"$f":"tblIndicators!AL28","v":0.16666666666666666},{"$f":"IF($H31=0,0,CHOOSE($H31,SUMPRODUCT(CHOOSE(S$39,$O32:$O$36,$P32:$P$36,$Q32:$Q$36,$R32:$R$36)*S32:S$36*($E32:$E$36=$D31)),IF(ISNUMBER(Data!J31),100*ABS($G31-(Data!J31-$K31)/$M31),0),IF(ISNUMBER(Data!J31),100*ABS($G31-(Data!J31-$K31)/$M31),0)))","v":42.903828197945849},{"$f":"IF($H31=0,0,CHOOSE($H31,SUMPRODUCT(CHOOSE(T$39,$O32:$O$36,$P32:$P$36,$Q32:$Q$36,$R32:$R$36)*T32:T$36*($E32:$E$36=$D31)),IF(ISNUMBER(Data!K31),100*ABS($G31-(Data!K31-$K31)/$M31),0),IF(ISNUMBER(Data!K31),100*ABS($G31-(Data!K31-$K31)/$M31),0)))","v":90.569561157796457},{"$f":"IF($H31=0,0,CHOOSE($H31,SUMPRODUCT(CHOOSE(U$39,$O32:$O$36,$P32:$P$36,$Q32:$Q$36,$R32:$R$36)*U32:U$36*($E32:$E$36=$D31)),IF(ISNUMBER(Data!L31),100*ABS($G31-(Data!L31-$K31)/$M31),0),IF(ISNUMBER(Data!L31),100*ABS($G31-(Data!L31-$K31)/$M31),0)))","v":89.659197012138193},{"$f":"IF($H31=0,0,CHOOSE($H31,SUMPRODUCT(CHOOSE(V$39,$O32:$O$36,$P32:$P$36,$Q32:$Q$36,$R32:$R$36)*V32:V$36*($E32:$E$36=$D31)),IF(ISNUMBER(Data!M31),100*ABS($G31-(Data!M31-$K31)/$M31),0),IF(ISNUMBER(Data!M31),100*ABS($G31-(Data!M31-$K31)/$M31),0)))","v":0},{"$f":"IF($H31=0,0,CHOOSE($H31,SUMPRODUCT(CHOOSE(W$39,$O32:$O$36,$P32:$P$36,$Q32:$Q$36,$R32:$R$36)*W32:W$36*($E32:$E$36=$D31)),IF(ISNUMBER(Data!N31),100*ABS($G31-(Data!N31-$K31)/$M31),0),IF(ISNUMBER(Data!N31),100*ABS($G31-(Data!N31-$K31)/$M31),0)))","v":76.1671335200747},{"$f":"IF($H31=0,0,CHOOSE($H31,SUMPRODUCT(CHOOSE(X$39,$O32:$O$36,$P32:$P$36,$Q32:$Q$36,$R32:$R$36)*X32:X$36*($E32:$E$36=$D31)),IF(ISNUMBER(Data!O31),100*ABS($G31-(Data!O31-$K31)/$M31),0),IF(ISNUMBER(Data!O31),100*ABS($G31-(Data!O31-$K31)/$M31),0)))","v":37.394957983193279},{"$f":"IF($H31=0,0,CHOOSE($H31,SUMPRODUCT(CHOOSE(Y$39,$O32:$O$36,$P32:$P$36,$Q32:$Q$36,$R32:$R$36)*Y32:Y$36*($E32:$E$36=$D31)),IF(ISNUMBER(Data!P31),100*ABS($G31-(Data!P31-$K31)/$M31),0),IF(ISNUMBER(Data!P31),100*ABS($G31-(Data!P31-$K31)/$M31),0)))","v":90.546218487394952},{"$f":"IF($H31=0,0,CHOOSE($H31,SUMPRODUCT(CHOOSE(Z$39,$O32:$O$36,$P32:$P$36,$Q32:$Q$36,$R32:$R$36)*Z32:Z$36*($E32:$E$36=$D31)),IF(ISNUMBER(Data!Q31),100*ABS($G31-(Data!Q31-$K31)/$M31),0),IF(ISNUMBER(Data!Q31),100*ABS($G31-(Data!Q31-$K31)/$M31),0)))","v":84.757236227824464},{"$f":"IF($H31=0,0,CHOOSE($H31,SUMPRODUCT(CHOOSE(AA$39,$O32:$O$36,$P32:$P$36,$Q32:$Q$36,$R32:$R$36)*AA32:AA$36*($E32:$E$36=$D31)),IF(ISNUMBER(Data!R31),100*ABS($G31-(Data!R31-$K31)/$M31),0),IF(ISNUMBER(Data!R31),100*ABS($G31-(Data!R31-$K31)/$M31),0)))","v":62.698412698412696},{"$f":"IF($H31=0,0,CHOOSE($H31,SUMPRODUCT(CHOOSE(AB$39,$O32:$O$36,$P32:$P$36,$Q32:$Q$36,$R32:$R$36)*AB32:AB$36*($E32:$E$36=$D31)),IF(ISNUMBER(Data!S31),100*ABS($G31-(Data!S31-$K31)/$M31),0),IF(ISNUMBER(Data!S31),100*ABS($G31-(Data!S31-$K31)/$M31),0)))","v":87.184873949579838},{"$f":"IF($H31=0,0,CHOOSE($H31,SUMPRODUCT(CHOOSE(AC$39,$O32:$O$36,$P32:$P$36,$Q32:$Q$36,$R32:$R$36)*AC32:AC$36*($E32:$E$36=$D31)),IF(ISNUMBER(Data!T31),100*ABS($G31-(Data!T31-$K31)/$M31),0),IF(ISNUMBER(Data!T31),100*ABS($G31-(Data!T31-$K31)/$M31),0)))","v":79.084967320261441},{"$f":"IF($H31=0,0,CHOOSE($H31,SUMPRODUCT(CHOOSE(AD$39,$O32:$O$36,$P32:$P$36,$Q32:$Q$36,$R32:$R$36)*AD32:AD$36*($E32:$E$36=$D31)),IF(ISNUMBER(Data!U31),100*ABS($G31-(Data!U31-$K31)/$M31),0),IF(ISNUMBER(Data!U31),100*ABS($G31-(Data!U31-$K31)/$M31),0)))","v":43.534080298786179},{"$f":"IF($H31=0,0,CHOOSE($H31,SUMPRODUCT(CHOOSE(AE$39,$O32:$O$36,$P32:$P$36,$Q32:$Q$36,$R32:$R$36)*AE32:AE$36*($E32:$E$36=$D31)),IF(ISNUMBER(Data!V31),100*ABS($G31-(Data!V31-$K31)/$M31),0),IF(ISNUMBER(Data!V31),100*ABS($G31-(Data!V31-$K31)/$M31),0)))","v":96.451914098972921},{"$f":"IF($H31=0,0,CHOOSE($H31,SUMPRODUCT(CHOOSE(AF$39,$O32:$O$36,$P32:$P$36,$Q32:$Q$36,$R32:$R$36)*AF32:AF$36*($E32:$E$36=$D31)),IF(ISNUMBER(Data!W31),100*ABS($G31-(Data!W31-$K31)/$M31),0),IF(ISNUMBER(Data!W31),100*ABS($G31-(Data!W31-$K31)/$M31),0)))","v":100},{"$f":"IF($H31=0,0,CHOOSE($H31,SUMPRODUCT(CHOOSE(AG$39,$O32:$O$36,$P32:$P$36,$Q32:$Q$36,$R32:$R$36)*AG32:AG$36*($E32:$E$36=$D31)),IF(ISNUMBER(Data!X31),100*ABS($G31-(Data!X31-$K31)/$M31),0),IF(ISNUMBER(Data!X31),100*ABS($G31-(Data!X31-$K31)/$M31),0)))","v":65.592903828197962},{"$f":"IF($H31=0,0,CHOOSE($H31,SUMPRODUCT(CHOOSE(AH$39,$O32:$O$36,$P32:$P$36,$Q32:$Q$36,$R32:$R$36)*AH32:AH$36*($E32:$E$36=$D31)),IF(ISNUMBER(Data!Y31),100*ABS($G31-(Data!Y31-$K31)/$M31),0),IF(ISNUMBER(Data!Y31),100*ABS($G31-(Data!Y31-$K31)/$M31),0)))","v":90.639589169000928},{"$f":"IF($H31=0,0,CHOOSE($H31,SUMPRODUCT(CHOOSE(AI$39,$O32:$O$36,$P32:$P$36,$Q32:$Q$36,$R32:$R$36)*AI32:AI$36*($E32:$E$36=$D31)),IF(ISNUMBER(Data!Z31),100*ABS($G31-(Data!Z31-$K31)/$M31),0),IF(ISNUMBER(Data!Z31),100*ABS($G31-(Data!Z31-$K31)/$M31),0)))","v":78.034547152194207},{"$f":"IF($H31=0,0,CHOOSE($H31,SUMPRODUCT(CHOOSE(AJ$39,$O32:$O$36,$P32:$P$36,$Q32:$Q$36,$R32:$R$36)*AJ32:AJ$36*($E32:$E$36=$D31)),IF(ISNUMBER(Data!AA31),100*ABS($G31-(Data!AA31-$K31)/$M31),0),IF(ISNUMBER(Data!AA31),100*ABS($G31-(Data!AA31-$K31)/$M31),0)))","v":77.964519140989736},{"$f":"IF($H31=0,0,CHOOSE($H31,SUMPRODUCT(CHOOSE(AK$39,$O32:$O$36,$P32:$P$36,$Q32:$Q$36,$R32:$R$36)*AK32:AK$36*($E32:$E$36=$D31)),IF(ISNUMBER(Data!AB31),100*ABS($G31-(Data!AB31-$K31)/$M31),0),IF(ISNUMBER(Data!AB31),100*ABS($G31-(Data!AB31-$K31)/$M31),0)))","v":70.331465919701202},{"$f":"IF($H31=0,0,CHOOSE($H31,SUMPRODUCT(CHOOSE(AL$39,$O32:$O$36,$P32:$P$36,$Q32:$Q$36,$R32:$R$36)*AL32:AL$36*($E32:$E$36=$D31)),IF(ISNUMBER(Data!AC31),100*ABS($G31-(Data!AC31-$K31)/$M31),0),IF(ISNUMBER(Data!AC31),100*ABS($G31-(Data!AC31-$K31)/$M31),0)))","v":94.607843137254903}]
[null,{"$f":"tblIndicators!A29","v":28},{"$f":"tblIndicators!B29","v":0},{"$f":"tblIndicators!D29","v":"ENP_11"},{"$f":"tblIndicators!E29","v":"ENP"},{"$f":"tblIndicators!F29","v":2},{"$f":"tblIndicators!S29","v":0},{"$f":"tblIndicators!T29","v":2},{"$f":"tblIndicators!U29","v":0},{"$f":"tblIndicators!V29","v":0},{"$f":"CHOOSE(H32,\"-\",MIN(Data!J32:AC32),I32)","v":-13.7},{"$f":"CHOOSE(H32,\"-\",MAX(Data!J32:AC32),J32)","v":0.2},13.899999999999999,{"$f":"tblIndicators!Y29","v":"3.2) Deforestation"},{"$f":"tblIndicators!X29","v":0.16666666666666669},{"$f":"tblIndicators!AF29","v":0.16666666666666666},{"$f":"tblIndicators!AI29","v":0.16666666666666666},{"$f":"tblIndicators!AL29","v":0.16666666666666666},{"$f":"IF($H32=0,0,CHOOSE($H32,SUMPRODUCT(CHOOSE(S$39,$O33:$O$36,$P33:$P$36,$Q33:$Q$36,$R33:$R$36)*S33:S$36*($E33:$E$36=$D32)),IF(ISNUMBER(Data!J32),100*ABS($G32-(Data!J32-$K32)/$M32),0),IF(ISNUMBER(Data!J32),100*ABS($G32-(Data!J32-$K32)/$M32),0)))","v":78.417266187050359},{"$f":"IF($H32=0,0,CHOOSE($H32,SUMPRODUCT(CHOOSE(T$39,$O33:$O$36,$P33:$P$36,$Q33:$Q$36,$R33:$R$36)*T33:T$36*($E33:$E$36=$D32)),IF(ISNUMBER(Data!K32),100*ABS($G32-(Data!K32-$K32)/$M32),0),IF(ISNUMBER(Data!K32),100*ABS($G32-(Data!K32-$K32)/$M32),0)))","v":87.769784172661872},{"$f":"IF($H32=0,0,CHOOSE($H32,SUMPRODUCT(CHOOSE(U$39,$O33:$O$36,$P33:$P$36,$Q33:$Q$36,$R33:$R$36)*U33:U$36*($E33:$E$36=$D32)),IF(ISNUMBER(Data!L32),100*ABS($G32-(Data!L32-$K32)/$M32),0),IF(ISNUMBER(Data!L32),100*ABS($G32-(Data!L32-$K32)/$M32),0)))","v":0},{"$f":"IF($H32=0,0,CHOOSE($H32,SUMPRODUCT(CHOOSE(V$39,$O33:$O$36,$P33:$P$36,$Q33:$Q$36,$R33:$R$36)*V33:V$36*($E33:$E$36=$D32)),IF(ISNUMBER(Data!M32),100*ABS($G32-(Data!M32-$K32)/$M32),0),IF(ISNUMBER(Data!M32),100*ABS($G32-(Data!M32-$K32)/$M32),0)))","v":80.57553956834532},{"$f":"IF($H32=0,0,CHOOSE($H32,SUMPRODUCT(CHOOSE(W$39,$O33:$O$36,$P33:$P$36,$Q33:$Q$36,$R33:$R$36)*W33:W$36*($E33:$E$36=$D32)),IF(ISNUMBER(Data!N32),100*ABS($G32-(Data!N32-$K32)/$M32),0),IF(ISNUMBER(Data!N32),100*ABS($G32-(Data!N32-$K32)/$M32),0)))","v":100},{"$f":"IF($H32=0,0,CHOOSE($H32,SUMPRODUCT(CHOOSE(X$39,$O33:$O$36,$P33:$P$36,$Q33:$Q$36,$R33:$R$36)*X33:X$36*($E33:$E$36=$D32)),IF(ISNUMBER(Data!O32),100*ABS($G32-(Data!O32-$K32)/$M32),0),IF(ISNUMBER(Data!O32),100*ABS($G32-(Data!O32-$K32)/$M32),0)))","v":87.050359712230218},{"$f":"IF($H32=0,0,CHOOSE($H32,SUMPRODUCT(CHOOSE(Y$39,$O33:$O$36,$P33:$P$36,$Q33:$Q$36,$R33:$R$36)*Y33:Y$36*($E33:$E$36=$D32)),IF(ISNUMBER(Data!P32),100*ABS($G32-(Data!P32-$K32)/$M32),0),IF(ISNUMBER(Data!P32),100*ABS($G32-(Data!P32-$K32)/$M32),0)))","v":58.992805755395686},{"$f":"IF($H32=0,0,CHOOSE($H32,SUMPRODUCT(CHOOSE(Z$39,$O33:$O$36,$P33:$P$36,$Q33:$Q$36,$R33:$R$36)*Z33:Z$36*($E33:$E$36=$D32)),IF(ISNUMBER(Data!Q32),100*ABS($G32-(Data!Q32-$K32)/$M32),0),IF(ISNUMBER(Data!Q32),100*ABS($G32-(Data!Q32-$K32)/$M32),0)))","v":94.24460431654677},{"$f":"IF($H32=0,0,CHOOSE($H32,SUMPRODUCT(CHOOSE(AA$39,$O33:$O$36,$P33:$P$36,$Q33:$Q$36,$R33:$R$36)*AA33:AA$36*($E33:$E$36=$D32)),IF(ISNUMBER(Data!R32),100*ABS($G32-(Data!R32-$K32)/$M32),0),IF(ISNUMBER(Data!R32),100*ABS($G32-(Data!R32-$K32)/$M32),0)))","v":67.625899280575538},{"$f":"IF($H32=0,0,CHOOSE($H32,SUMPRODUCT(CHOOSE(AB$39,$O33:$O$36,$P33:$P$36,$Q33:$Q$36,$R33:$R$36)*AB33:AB$36*($E33:$E$36=$D32)),IF(ISNUMBER(Data!S32),100*ABS($G32-(Data!S32-$K32)/$M32),0),IF(ISNUMBER(Data!S32),100*ABS($G32-(Data!S32-$K32)/$M32),0)))","v":46.762589928057551},{"$f":"IF($H32=0,0,CHOOSE($H32,SUMPRODUCT(CHOOSE(AC$39,$O33:$O$36,$P33:$P$36,$Q33:$Q$36,$R33:$R$36)*AC33:AC$36*($E33:$E$36=$D32)),IF(ISNUMBER(Data!T32),100*ABS($G32-(Data!T32-$K32)/$M32),0),IF(ISNUMBER(Data!T32),100*ABS($G32-(Data!T32-$K32)/$M32),0)))","v":79.856115107913666},{"$f":"IF($H32=0,0,CHOOSE($H32,SUMPRODUCT(CHOOSE(AD$39,$O33:$O$36,$P33:$P$36,$Q33:$Q$36,$R33:$R$36)*AD33:AD$36*($E33:$E$36=$D32)),IF(ISNUMBER(Data!U32),100*ABS($G32-(Data!U32-$K32)/$M32),0),IF(ISNUMBER(Data!U32),100*ABS($G32-(Data!U32-$K32)/$M32),0)))","v":90.647482014388487},{"$f":"IF($H32=0,0,CHOOSE($H32,SUMPRODUCT(CHOOSE(AE$39,$O33:$O$36,$P33:$P$36,$Q33:$Q$36,$R33:$R$36)*AE33:AE$36*($E33:$E$36=$D32)),IF(ISNUMBER(Data!V32),100*ABS($G32-(Data!V32-$K32)/$M32),0),IF(ISNUMBER(Data!V32),100*ABS($G32-(Data!V32-$K32)/$M32),0)))","v":84.892086330935257},{"$f":"IF($H32=0,0,CHOOSE($H32,SUMPRODUCT(CHOOSE(AF$39,$O33:$O$36,$P33:$P$36,$Q33:$Q$36,$R33:$R$36)*AF33:AF$36*($E33:$E$36=$D32)),IF(ISNUMBER(Data!W32),100*ABS($G32-(Data!W32-$K32)/$M32),0),IF(ISNUMBER(Data!W32),100*ABS($G32-(Data!W32-$K32)/$M32),0)))","v":98.561151079136692},{"$f":"IF($H32=0,0,CHOOSE($H32,SUMPRODUCT(CHOOSE(AG$39,$O33:$O$36,$P33:$P$36,$Q33:$Q$36,$R33:$R$36)*AG33:AG$36*($E33:$E$36=$D32)),IF(ISNUMBER(Data!X32),100*ABS($G32-(Data!X32-$K32)/$M32),0),IF(ISNUMBER(Data!X32),100*ABS($G32-(Data!X32-$K32)/$M32),0)))","v":86.330935251798564},{"$f":"IF($H32=0,0,CHOOSE($H32,SUMPRODUCT(CHOOSE(AH$39,$O33:$O$36,$P33:$P$36,$Q33:$Q$36,$R33:$R$36)*AH33:AH$36*($E33:$E$36=$D32)),IF(ISNUMBER(Data!Y32),100*ABS($G32-(Data!Y32-$K32)/$M32),0),IF(ISNUMBER(Data!Y32),100*ABS($G32-(Data!Y32-$K32)/$M32),0)))","v":86.330935251798564},{"$f":"IF($H32=0,0,CHOOSE($H32,SUMPRODUCT(CHOOSE(AI$39,$O33:$O$36,$P33:$P$36,$Q33:$Q$36,$R33:$R$36)*AI33:AI$36*($E33:$E$36=$D32)),IF(ISNUMBER(Data!Z32),100*ABS($G32-(Data!Z32-$K32)/$M32),0),IF(ISNUMBER(Data!Z32),100*ABS($G32-(Data!Z32-$K32)/$M32),0)))","v":92.805755395683448},{"$f":"IF($H32=0,0,CHOOSE($H32,SUMPRODUCT(CHOOSE(AJ$39,$O33:$O$36,$P33:$P$36,$Q33:$Q$36,$R33:$R$36)*AJ33:AJ$36*($E33:$E$36=$D32)),IF(ISNUMBER(Data!AA32),100*ABS($G32-(Data!AA32-$K32)/$M32),0),IF(ISNUMBER(Data!AA32),100*ABS($G32-(Data!AA32-$K32)/$M32),0)))","v":80.57553956834532},{"$f":"IF($H32=0,0,CHOOSE($H32,SUMPRODUCT(CHOOSE(AK$39,$O33:$O$36,$P33:$P$36,$Q33:$Q$36,$R33:$R$36)*AK33:AK$36*($E33:$E$36=$D32)),IF(ISNUMBER(Data!AB32),100*ABS($G32-(Data!AB32-$K32)/$M32),0),IF(ISNUMBER(Data!AB32),100*ABS($G32-(Data!AB32-$K32)/$M32),0)))","v":72.661870503597129},{"$f":"IF($H32=0,0,CHOOSE($H32,SUMPRODUCT(CHOOSE(AL$39,$O33:$O$36,$P33:$P$36,$Q33:$Q$36,$R33:$R$36)*AL33:AL$36*($E33:$E$36=$D32)),IF(ISNUMBER(Data!AC32),100*ABS($G32-(Data!AC32-$K32)/$M32),0),IF(ISNUMBER(Data!AC32),100*ABS($G32-(Data!AC32-$K32)/$M32),0)))","v":69.064748201438846}]
[null,{"$f":"tblIndicators!A30","v":29},{"$f":"tblIndicators!B30","v":0},{"$f":"tblIndicators!D30","v":"ENP_12"},{"$f":"tblIndicators!E30","v":"ENP"},{"$f":"tblIndicators!F30","v":2},{"$f":"tblIndicators!S30","v":0},{"$f":"tblIndicators!T30","v":2},{"$f":"tblIndicators!U30","v":0},{"$f":"tblIndicators!V30","v":0},{"$f":"CHOOSE(H33,\"-\",MIN(Data!J33:AC33),I33)","v":0},{"$f":"CHOOSE(H33,\"-\",MAX(Data!J33:AC33),J33)","v":99.65},99.65,{"$f":"tblIndicators!Y30","v":"3.3) Water pollution"},{"$f":"tblIndicators!X30","v":0.16666666666666669},{"$f":"tblIndicators!AF30","v":0.16666666666666666},{"$f":"tblIndicators!AI30","v":0.16666666666666666},{"$f":"tblIndicators!AL30","v":0.16666666666666666},{"$f":"IF($H33=0,0,CHOOSE($H33,SUMPRODUCT(CHOOSE(S$39,$O34:$O$36,$P34:$P$36,$Q34:$Q$36,$R34:$R$36)*S34:S$36*($E34:$E$36=$D33)),IF(ISNUMBER(Data!J33),100*ABS($G33-(Data!J33-$K33)/$M33),0),IF(ISNUMBER(Data!J33),100*ABS($G33-(Data!J33-$K33)/$M33),0)))","v":0},{"$f":"IF($H33=0,0,CHOOSE($H33,SUMPRODUCT(CHOOSE(T$39,$O34:$O$36,$P34:$P$36,$Q34:$Q$36,$R34:$R$36)*T34:T$36*($E34:$E$36=$D33)),IF(ISNUMBER(Data!K33),100*ABS($G33-(Data!K33-$K33)/$M33),0),IF(ISNUMBER(Data!K33),100*ABS($G33-(Data!K33-$K33)/$M33),0)))","v":37.97290516808831},{"$f":"IF($H33=0,0,CHOOSE($H33,SUMPRODUCT(CHOOSE(U$39,$O34:$O$36,$P34:$P$36,$Q34:$Q$36,$R34:$R$36)*U34:U$36*($E34:$E$36=$D33)),IF(ISNUMBER(Data!L33),100*ABS($G33-(Data!L33-$K33)/$M33),0),IF(ISNUMBER(Data!L33),100*ABS($G33-(Data!L33-$K33)/$M33),0)))","v":0},{"$f":"IF($H33=0,0,CHOOSE($H33,SUMPRODUCT(CHOOSE(V$39,$O34:$O$36,$P34:$P$36,$Q34:$Q$36,$R34:$R$36)*V34:V$36*($E34:$E$36=$D33)),IF(ISNUMBER(Data!M33),100*ABS($G33-(Data!M33-$K33)/$M33),0),IF(ISNUMBER(Data!M33),100*ABS($G33-(Data!M33-$K33)/$M33),0)))","v":18.243765416593078},{"$f":"IF($H33=0,0,CHOOSE($H33,SUMPRODUCT(CHOOSE(W$39,$O34:$O$36,$P34:$P$36,$Q34:$Q$36,$R34:$R$36)*W34:W$36*($E34:$E$36=$D33)),IF(ISNUMBER(Data!N33),100*ABS($G33-(Data!N33-$K33)/$M33),0),IF(ISNUMBER(Data!N33),100*ABS($G33-(Data!N33-$K33)/$M33),0)))","v":88.095213246362263},{"$f":"IF($H33=0,0,CHOOSE($H33,SUMPRODUCT(CHOOSE(X$39,$O34:$O$36,$P34:$P$36,$Q34:$Q$36,$R34:$R$36)*X34:X$36*($E34:$E$36=$D33)),IF(ISNUMBER(Data!O33),100*ABS($G33-(Data!O33-$K33)/$M33),0),IF(ISNUMBER(Data!O33),100*ABS($G33-(Data!O33-$K33)/$M33),0)))","v":10.526843953838434},{"$f":"IF($H33=0,0,CHOOSE($H33,SUMPRODUCT(CHOOSE(Y$39,$O34:$O$36,$P34:$P$36,$Q34:$Q$36,$R34:$R$36)*Y34:Y$36*($E34:$E$36=$D33)),IF(ISNUMBER(Data!P33),100*ABS($G33-(Data!P33-$K33)/$M33),0),IF(ISNUMBER(Data!P33),100*ABS($G33-(Data!P33-$K33)/$M33),0)))","v":2.0070245860511791E-2},{"$f":"IF($H33=0,0,CHOOSE($H33,SUMPRODUCT(CHOOSE(Z$39,$O34:$O$36,$P34:$P$36,$Q34:$Q$36,$R34:$R$36)*Z34:Z$36*($E34:$E$36=$D33)),IF(ISNUMBER(Data!Q33),100*ABS($G33-(Data!Q33-$K33)/$M33),0),IF(ISNUMBER(Data!Q33),100*ABS($G33-(Data!Q33-$K33)/$M33),0)))","v":71.510286001003507},{"$f":"IF($H33=0,0,CHOOSE($H33,SUMPRODUCT(CHOOSE(AA$39,$O34:$O$36,$P34:$P$36,$Q34:$Q$36,$R34:$R$36)*AA34:AA$36*($E34:$E$36=$D33)),IF(ISNUMBER(Data!R33),100*ABS($G33-(Data!R33-$K33)/$M33),0),IF(ISNUMBER(Data!R33),100*ABS($G33-(Data!R33-$K33)/$M33),0)))","v":0},{"$f":"IF($H33=0,0,CHOOSE($H33,SUMPRODUCT(CHOOSE(AB$39,$O34:$O$36,$P34:$P$36,$Q34:$Q$36,$R34:$R$36)*AB34:AB$36*($E34:$E$36=$D33)),IF(ISNUMBER(Data!S33),100*ABS($G33-(Data!S33-$K33)/$M33),0),IF(ISNUMBER(Data!S33),100*ABS($G33-(Data!S33-$K33)/$M33),0)))","v":8.6703462117410943},{"$f":"IF($H33=0,0,CHOOSE($H33,SUMPRODUCT(CHOOSE(AC$39,$O34:$O$36,$P34:$P$36,$Q34:$Q$36,$R34:$R$36)*AC34:AC$36*($E34:$E$36=$D33)),IF(ISNUMBER(Data!T33),100*ABS($G33-(Data!T33-$K33)/$M33),0),IF(ISNUMBER(Data!T33),100*ABS($G33-(Data!T33-$K33)/$M33),0)))","v":0},{"$f":"IF($H33=0,0,CHOOSE($H33,SUMPRODUCT(CHOOSE(AD$39,$O34:$O$36,$P34:$P$36,$Q34:$Q$36,$R34:$R$36)*AD34:AD$36*($E34:$E$36=$D33)),IF(ISNUMBER(Data!U33),100*ABS($G33-(Data!U33-$K33)/$M33),0),IF(ISNUMBER(Data!U33),100*ABS($G33-(Data!U33-$K33)/$M33),0)))","v":3.532363271450075},{"$f":"IF($H33=0,0,CHOOSE($H33,SUMPRODUCT(CHOOSE(AE$39,$O34:$O$36,$P34:$P$36,$Q34:$Q$36,$R34:$R$36)*AE34:AE$36*($E34:$E$36=$D33)),IF(ISNUMBER(Data!V33),100*ABS($G33-(Data!V33-$K33)/$M33),0),IF(ISNUMBER(Data!V33),100*ABS($G33-(Data!V33-$K33)/$M33),0)))","v":0.5318615153035624},{"$f":"IF($H33=0,0,CHOOSE($H33,SUMPRODUCT(CHOOSE(AF$39,$O34:$O$36,$P34:$P$36,$Q34:$Q$36,$R34:$R$36)*AF34:AF$36*($E34:$E$36=$D33)),IF(ISNUMBER(Data!W33),100*ABS($G33-(Data!W33-$K33)/$M33),0),IF(ISNUMBER(Data!W33),100*ABS($G33-(Data!W33-$K33)/$M33),0)))","v":100},{"$f":"IF($H33=0,0,CHOOSE($H33,SUMPRODUCT(CHOOSE(AG$39,$O34:$O$36,$P34:$P$36,$Q34:$Q$36,$R34:$R$36)*AG34:AG$36*($E34:$E$36=$D33)),IF(ISNUMBER(Data!X33),100*ABS($G33-(Data!X33-$K33)/$M33),0),IF(ISNUMBER(Data!X33),100*ABS($G33-(Data!X33-$K33)/$M33),0)))","v":83.973908680381342},{"$f":"IF($H33=0,0,CHOOSE($H33,SUMPRODUCT(CHOOSE(AH$39,$O34:$O$36,$P34:$P$36,$Q34:$Q$36,$R34:$R$36)*AH34:AH$36*($E34:$E$36=$D33)),IF(ISNUMBER(Data!Y33),100*ABS($G33-(Data!Y33-$K33)/$M33),0),IF(ISNUMBER(Data!Y33),100*ABS($G33-(Data!Y33-$K33)/$M33),0)))","v":0},{"$f":"IF($H33=0,0,CHOOSE($H33,SUMPRODUCT(CHOOSE(AI$39,$O34:$O$36,$P34:$P$36,$Q34:$Q$36,$R34:$R$36)*AI34:AI$36*($E34:$E$36=$D33)),IF(ISNUMBER(Data!Z33),100*ABS($G33-(Data!Z33-$K33)/$M33),0),IF(ISNUMBER(Data!Z33),100*ABS($G33-(Data!Z33-$K33)/$M33),0)))","v":4.6061214249874558},{"$f":"IF($H33=0,0,CHOOSE($H33,SUMPRODUCT(CHOOSE(AJ$39,$O34:$O$36,$P34:$P$36,$Q34:$Q$36,$R34:$R$36)*AJ34:AJ$36*($E34:$E$36=$D33)),IF(ISNUMBER(Data!AA33),100*ABS($G33-(Data!AA33-$K33)/$M33),0),IF(ISNUMBER(Data!AA33),100*ABS($G33-(Data!AA33-$K33)/$M33),0)))","v":16.056196688409432},{"$f":"IF($H33=0,0,CHOOSE($H33,SUMPRODUCT(CHOOSE(AK$39,$O34:$O$36,$P34:$P$36,$Q34:$Q$36,$R34:$R$36)*AK34:AK$36*($E34:$E$36=$D33)),IF(ISNUMBER(Data!AB33),100*ABS($G33-(Data!AB33-$K33)/$M33),0),IF(ISNUMBER(Data!AB33),100*ABS($G33-(Data!AB33-$K33)/$M33),0)))","v":0.14049172102358254},{"$f":"IF($H33=0,0,CHOOSE($H33,SUMPRODUCT(CHOOSE(AL$39,$O34:$O$36,$P34:$P$36,$Q34:$Q$36,$R34:$R$36)*AL34:AL$36*($E34:$E$36=$D33)),IF(ISNUMBER(Data!AC33),100*ABS($G33-(Data!AC33-$K33)/$M33),0),IF(ISNUMBER(Data!AC33),100*ABS($G33-(Data!AC33-$K33)/$M33),0)))","v":63.893627696939284}]
[null,{"$f":"tblIndicators!A31","v":30},{"$f":"tblIndicators!B31","v":0},{"$f":"tblIndicators!D31","v":"ENP_13"},{"$f":"tblIndicators!E31","v":"ENP"},{"$f":"tblIndicators!F31","v":2},{"$f":"tblIndicators!S31","v":0},{"$f":"tblIndicators!T31","v":3},{"$f":"tblIndicators!U31","v":1},{"$f":"tblIndicators!V31","v":7},{"$f":"CHOOSE(H34,\"-\",MIN(Data!J34:AC34),I34)","v":1},{"$f":"CHOOSE(H34,\"-\",MAX(Data!J34:AC34),J34)","v":7},6,{"$f":"tblIndicators!Y31","v":"3.4) Environmental standards in trade"},{"$f":"tblIndicators!X31","v":0.16666666666666669},{"$f":"tblIndicators!AF31","v":0.16666666666666666},{"$f":"tblIndicators!AI31","v":0.16666666666666666},{"$f":"tblIndicators!AL31","v":0.16666666666666666},{"$f":"IF($H34=0,0,CHOOSE($H34,SUMPRODUCT(CHOOSE(S$39,$O35:$O$36,$P35:$P$36,$Q35:$Q$36,$R35:$R$36)*S35:S$36*($E35:$E$36=$D34)),IF(ISNUMBER(Data!J34),100*ABS($G34-(Data!J34-$K34)/$M34),0),IF(ISNUMBER(Data!J34),100*ABS($G34-(Data!J34-$K34)/$M34),0)))","v":33.333333333333329},{"$f":"IF($H34=0,0,CHOOSE($H34,SUMPRODUCT(CHOOSE(T$39,$O35:$O$36,$P35:$P$36,$Q35:$Q$36,$R35:$R$36)*T35:T$36*($E35:$E$36=$D34)),IF(ISNUMBER(Data!K34),100*ABS($G34-(Data!K34-$K34)/$M34),0),IF(ISNUMBER(Data!K34),100*ABS($G34-(Data!K34-$K34)/$M34),0)))","v":33.333333333333329},{"$f":"IF($H34=0,0,CHOOSE($H34,SUMPRODUCT(CHOOSE(U$39,$O35:$O$36,$P35:$P$36,$Q35:$Q$36,$R35:$R$36)*U35:U$36*($E35:$E$36=$D34)),IF(ISNUMBER(Data!L34),100*ABS($G34-(Data!L34-$K34)/$M34),0),IF(ISNUMBER(Data!L34),100*ABS($G34-(Data!L34-$K34)/$M34),0)))","v":66.666666666666657},{"$f":"IF($H34=0,0,CHOOSE($H34,SUMPRODUCT(CHOOSE(V$39,$O35:$O$36,$P35:$P$36,$Q35:$Q$36,$R35:$R$36)*V35:V$36*($E35:$E$36=$D34)),IF(ISNUMBER(Data!M34),100*ABS($G34-(Data!M34-$K34)/$M34),0),IF(ISNUMBER(Data!M34),100*ABS($G34-(Data!M34-$K34)/$M34),0)))","v":100},{"$f":"IF($H34=0,0,CHOOSE($H34,SUMPRODUCT(CHOOSE(W$39,$O35:$O$36,$P35:$P$36,$Q35:$Q$36,$R35:$R$36)*W35:W$36*($E35:$E$36=$D34)),IF(ISNUMBER(Data!N34),100*ABS($G34-(Data!N34-$K34)/$M34),0),IF(ISNUMBER(Data!N34),100*ABS($G34-(Data!N34-$K34)/$M34),0)))","v":100},{"$f":"IF($H34=0,0,CHOOSE($H34,SUMPRODUCT(CHOOSE(X$39,$O35:$O$36,$P35:$P$36,$Q35:$Q$36,$R35:$R$36)*X35:X$36*($E35:$E$36=$D34)),IF(ISNUMBER(Data!O34),100*ABS($G34-(Data!O34-$K34)/$M34),0),IF(ISNUMBER(Data!O34),100*ABS($G34-(Data!O34-$K34)/$M34),0)))","v":66.666666666666657},{"$f":"IF($H34=0,0,CHOOSE($H34,SUMPRODUCT(CHOOSE(Y$39,$O35:$O$36,$P35:$P$36,$Q35:$Q$36,$R35:$R$36)*Y35:Y$36*($E35:$E$36=$D34)),IF(ISNUMBER(Data!P34),100*ABS($G34-(Data!P34-$K34)/$M34),0),IF(ISNUMBER(Data!P34),100*ABS($G34-(Data!P34-$K34)/$M34),0)))","v":66.666666666666657},{"$f":"IF($H34=0,0,CHOOSE($H34,SUMPRODUCT(CHOOSE(Z$39,$O35:$O$36,$P35:$P$36,$Q35:$Q$36,$R35:$R$36)*Z35:Z$36*($E35:$E$36=$D34)),IF(ISNUMBER(Data!Q34),100*ABS($G34-(Data!Q34-$K34)/$M34),0),IF(ISNUMBER(Data!Q34),100*ABS($G34-(Data!Q34-$K34)/$M34),0)))","v":83.333333333333343},{"$f":"IF($H34=0,0,CHOOSE($H34,SUMPRODUCT(CHOOSE(AA$39,$O35:$O$36,$P35:$P$36,$Q35:$Q$36,$R35:$R$36)*AA35:AA$36*($E35:$E$36=$D34)),IF(ISNUMBER(Data!R34),100*ABS($G34-(Data!R34-$K34)/$M34),0),IF(ISNUMBER(Data!R34),100*ABS($G34-(Data!R34-$K34)/$M34),0)))","v":50},{"$f":"IF($H34=0,0,CHOOSE($H34,SUMPRODUCT(CHOOSE(AB$39,$O35:$O$36,$P35:$P$36,$Q35:$Q$36,$R35:$R$36)*AB35:AB$36*($E35:$E$36=$D34)),IF(ISNUMBER(Data!S34),100*ABS($G34-(Data!S34-$K34)/$M34),0),IF(ISNUMBER(Data!S34),100*ABS($G34-(Data!S34-$K34)/$M34),0)))","v":66.666666666666657},{"$f":"IF($H34=0,0,CHOOSE($H34,SUMPRODUCT(CHOOSE(AC$39,$O35:$O$36,$P35:$P$36,$Q35:$Q$36,$R35:$R$36)*AC35:AC$36*($E35:$E$36=$D34)),IF(ISNUMBER(Data!T34),100*ABS($G34-(Data!T34-$K34)/$M34),0),IF(ISNUMBER(Data!T34),100*ABS($G34-(Data!T34-$K34)/$M34),0)))","v":33.333333333333329},{"$f":"IF($H34=0,0,CHOOSE($H34,SUMPRODUCT(CHOOSE(AD$39,$O35:$O$36,$P35:$P$36,$Q35:$Q$36,$R35:$R$36)*AD35:AD$36*($E35:$E$36=$D34)),IF(ISNUMBER(Data!U34),100*ABS($G34-(Data!U34-$K34)/$M34),0),IF(ISNUMBER(Data!U34),100*ABS($G34-(Data!U34-$K34)/$M34),0)))","v":66.666666666666657},{"$f":"IF($H34=0,0,CHOOSE($H34,SUMPRODUCT(CHOOSE(AE$39,$O35:$O$36,$P35:$P$36,$Q35:$Q$36,$R35:$R$36)*AE35:AE$36*($E35:$E$36=$D34)),IF(ISNUMBER(Data!V34),100*ABS($G34-(Data!V34-$K34)/$M34),0),IF(ISNUMBER(Data!V34),100*ABS($G34-(Data!V34-$K34)/$M34),0)))","v":83.333333333333343},{"$f":"IF($H34=0,0,CHOOSE($H34,SUMPRODUCT(CHOOSE(AF$39,$O35:$O$36,$P35:$P$36,$Q35:$Q$36,$R35:$R$36)*AF35:AF$36*($E35:$E$36=$D34)),IF(ISNUMBER(Data!W34),100*ABS($G34-(Data!W34-$K34)/$M34),0),IF(ISNUMBER(Data!W34),100*ABS($G34-(Data!W34-$K34)/$M34),0)))","v":66.666666666666657},{"$f":"IF($H34=0,0,CHOOSE($H34,SUMPRODUCT(CHOOSE(AG$39,$O35:$O$36,$P35:$P$36,$Q35:$Q$36,$R35:$R$36)*AG35:AG$36*($E35:$E$36=$D34)),IF(ISNUMBER(Data!X34),100*ABS($G34-(Data!X34-$K34)/$M34),0),IF(ISNUMBER(Data!X34),100*ABS($G34-(Data!X34-$K34)/$M34),0)))","v":83.333333333333343},{"$f":"IF($H34=0,0,CHOOSE($H34,SUMPRODUCT(CHOOSE(AH$39,$O35:$O$36,$P35:$P$36,$Q35:$Q$36,$R35:$R$36)*AH35:AH$36*($E35:$E$36=$D34)),IF(ISNUMBER(Data!Y34),100*ABS($G34-(Data!Y34-$K34)/$M34),0),IF(ISNUMBER(Data!Y34),100*ABS($G34-(Data!Y34-$K34)/$M34),0)))","v":50},{"$f":"IF($H34=0,0,CHOOSE($H34,SUMPRODUCT(CHOOSE(AI$39,$O35:$O$36,$P35:$P$36,$Q35:$Q$36,$R35:$R$36)*AI35:AI$36*($E35:$E$36=$D34)),IF(ISNUMBER(Data!Z34),100*ABS($G34-(Data!Z34-$K34)/$M34),0),IF(ISNUMBER(Data!Z34),100*ABS($G34-(Data!Z34-$K34)/$M34),0)))","v":0},{"$f":"IF($H34=0,0,CHOOSE($H34,SUMPRODUCT(CHOOSE(AJ$39,$O35:$O$36,$P35:$P$36,$Q35:$Q$36,$R35:$R$36)*AJ35:AJ$36*($E35:$E$36=$D34)),IF(ISNUMBER(Data!AA34),100*ABS($G34-(Data!AA34-$K34)/$M34),0),IF(ISNUMBER(Data!AA34),100*ABS($G34-(Data!AA34-$K34)/$M34),0)))","v":66.666666666666657},{"$f":"IF($H34=0,0,CHOOSE($H34,SUMPRODUCT(CHOOSE(AK$39,$O35:$O$36,$P35:$P$36,$Q35:$Q$36,$R35:$R$36)*AK35:AK$36*($E35:$E$36=$D34)),IF(ISNUMBER(Data!AB34),100*ABS($G34-(Data!AB34-$K34)/$M34),0),IF(ISNUMBER(Data!AB34),100*ABS($G34-(Data!AB34-$K34)/$M34),0)))","v":66.666666666666657},{"$f":"IF($H34=0,0,CHOOSE($H34,SUMPRODUCT(CHOOSE(AL$39,$O35:$O$36,$P35:$P$36,$Q35:$Q$36,$R35:$R$36)*AL35:AL$36*($E35:$E$36=$D34)),IF(ISNUMBER(Data!AC34),100*ABS($G34-(Data!AC34-$K34)/$M34),0),IF(ISNUMBER(Data!AC34),100*ABS($G34-(Data!AC34-$K34)/$M34),0)))","v":83.333333333333343}]
[null,{"$f":"tblIndicators!A32","v":31},{"$f":"tblIndicators!B32","v":0},{"$f":"tblIndicators!D32","v":"ENP_14"},{"$f":"tblIndicators!E32","v":"ENP"},{"$f":"tblIndicators!F32","v":2},{"$f":"tblIndicators!S32","v":1},{"$f":"tblIndicators!T32","v":2},{"$f":"tblIndicators!U32","v":0},{"$f":"tblIndicators!V32","v":0},{"$f":"CHOOSE(H35,\"-\",MIN(Data!J35:AC35),I35)","v":1.10187E-5},{"$f":"CHOOSE(H35,\"-\",MAX(Data!J35:AC35),J35)","v":1.4227549999999999E-3},1.4117362999999999E-3,{"$f":"tblIndicators!Y32","v":"3.5) Carbon emissions in trade"},{"$f":"tblIndicators!X32","v":0.16666666666666669},{"$f":"tblIndicators!AF32","v":0.16666666666666666},{"$f":"tblIndicators!AI32","v":0.16666666666666666},{"$f":"tblIndicators!AL32","v":0.16666666666666666},{"$f":"IF($H35=0,0,CHOOSE($H35,SUMPRODUCT(CHOOSE(S$39,$O36:$O$36,$P36:$P$36,$Q36:$Q$36,$R36:$R$36)*S36:S$36*($E36:$E$36=$D35)),IF(ISNUMBER(Data!J35),100*ABS($G35-(Data!J35-$K35)/$M35),0),IF(ISNUMBER(Data!J35),100*ABS($G35-(Data!J35-$K35)/$M35),0)))","v":59.935839292366431},{"$f":"IF($H35=0,0,CHOOSE($H35,SUMPRODUCT(CHOOSE(T$39,$O36:$O$36,$P36:$P$36,$Q36:$Q$36,$R36:$R$36)*T36:T$36*($E36:$E$36=$D35)),IF(ISNUMBER(Data!K35),100*ABS($G35-(Data!K35-$K35)/$M35),0),IF(ISNUMBER(Data!K35),100*ABS($G35-(Data!K35-$K35)/$M35),0)))","v":86.69806110390445},{"$f":"IF($H35=0,0,CHOOSE($H35,SUMPRODUCT(CHOOSE(U$39,$O36:$O$36,$P36:$P$36,$Q36:$Q$36,$R36:$R$36)*U36:U$36*($E36:$E$36=$D35)),IF(ISNUMBER(Data!L35),100*ABS($G35-(Data!L35-$K35)/$M35),0),IF(ISNUMBER(Data!L35),100*ABS($G35-(Data!L35-$K35)/$M35),0)))","v":89.596194416761833},{"$f":"IF($H35=0,0,CHOOSE($H35,SUMPRODUCT(CHOOSE(V$39,$O36:$O$36,$P36:$P$36,$Q36:$Q$36,$R36:$R$36)*V36:V$36*($E36:$E$36=$D35)),IF(ISNUMBER(Data!M35),100*ABS($G35-(Data!M35-$K35)/$M35),0),IF(ISNUMBER(Data!M35),100*ABS($G35-(Data!M35-$K35)/$M35),0)))","v":13.25757508679205},{"$f":"IF($H35=0,0,CHOOSE($H35,SUMPRODUCT(CHOOSE(W$39,$O36:$O$36,$P36:$P$36,$Q36:$Q$36,$R36:$R$36)*W36:W$36*($E36:$E$36=$D35)),IF(ISNUMBER(Data!N35),100*ABS($G35-(Data!N35-$K35)/$M35),0),IF(ISNUMBER(Data!N35),100*ABS($G35-(Data!N35-$K35)/$M35),0)))","v":99.30975069494211},{"$f":"IF($H35=0,0,CHOOSE($H35,SUMPRODUCT(CHOOSE(X$39,$O36:$O$36,$P36:$P$36,$Q36:$Q$36,$R36:$R$36)*X36:X$36*($E36:$E$36=$D35)),IF(ISNUMBER(Data!O35),100*ABS($G35-(Data!O35-$K35)/$M35),0),IF(ISNUMBER(Data!O35),100*ABS($G35-(Data!O35-$K35)/$M35),0)))","v":11.013529934733556},{"$f":"IF($H35=0,0,CHOOSE($H35,SUMPRODUCT(CHOOSE(Y$39,$O36:$O$36,$P36:$P$36,$Q36:$Q$36,$R36:$R$36)*Y36:Y$36*($E36:$E$36=$D35)),IF(ISNUMBER(Data!P35),100*ABS($G35-(Data!P35-$K35)/$M35),0),IF(ISNUMBER(Data!P35),100*ABS($G35-(Data!P35-$K35)/$M35),0)))","v":49.63242781247461},{"$f":"IF($H35=0,0,CHOOSE($H35,SUMPRODUCT(CHOOSE(Z$39,$O36:$O$36,$P36:$P$36,$Q36:$Q$36,$R36:$R$36)*Z36:Z$36*($E36:$E$36=$D35)),IF(ISNUMBER(Data!Q35),100*ABS($G35-(Data!Q35-$K35)/$M35),0),IF(ISNUMBER(Data!Q35),100*ABS($G35-(Data!Q35-$K35)/$M35),0)))","v":76.129444287860267},{"$f":"IF($H35=0,0,CHOOSE($H35,SUMPRODUCT(CHOOSE(AA$39,$O36:$O$36,$P36:$P$36,$Q36:$Q$36,$R36:$R$36)*AA36:AA$36*($E36:$E$36=$D35)),IF(ISNUMBER(Data!R35),100*ABS($G35-(Data!R35-$K35)/$M35),0),IF(ISNUMBER(Data!R35),100*ABS($G35-(Data!R35-$K35)/$M35),0)))","v":91.114324962813527},{"$f":"IF($H35=0,0,CHOOSE($H35,SUMPRODUCT(CHOOSE(AB$39,$O36:$O$36,$P36:$P$36,$Q36:$Q$36,$R36:$R$36)*AB36:AB$36*($E36:$E$36=$D35)),IF(ISNUMBER(Data!S35),100*ABS($G35-(Data!S35-$K35)/$M35),0),IF(ISNUMBER(Data!S35),100*ABS($G35-(Data!S35-$K35)/$M35),0)))","v":84.315108990255467},{"$f":"IF($H35=0,0,CHOOSE($H35,SUMPRODUCT(CHOOSE(AC$39,$O36:$O$36,$P36:$P$36,$Q36:$Q$36,$R36:$R$36)*AC36:AC$36*($E36:$E$36=$D35)),IF(ISNUMBER(Data!T35),100*ABS($G35-(Data!T35-$K35)/$M35),0),IF(ISNUMBER(Data!T35),100*ABS($G35-(Data!T35-$K35)/$M35),0)))","v":76.935827179622706},{"$f":"IF($H35=0,0,CHOOSE($H35,SUMPRODUCT(CHOOSE(AD$39,$O36:$O$36,$P36:$P$36,$Q36:$Q$36,$R36:$R$36)*AD36:AD$36*($E36:$E$36=$D35)),IF(ISNUMBER(Data!U35),100*ABS($G35-(Data!U35-$K35)/$M35),0),IF(ISNUMBER(Data!U35),100*ABS($G35-(Data!U35-$K35)/$M35),0)))","v":0},{"$f":"IF($H35=0,0,CHOOSE($H35,SUMPRODUCT(CHOOSE(AE$39,$O36:$O$36,$P36:$P$36,$Q36:$Q$36,$R36:$R$36)*AE36:AE$36*($E36:$E$36=$D35)),IF(ISNUMBER(Data!V35),100*ABS($G35-(Data!V35-$K35)/$M35),0),IF(ISNUMBER(Data!V35),100*ABS($G35-(Data!V35-$K35)/$M35),0)))","v":73.062370075771227},{"$f":"IF($H35=0,0,CHOOSE($H35,SUMPRODUCT(CHOOSE(AF$39,$O36:$O$36,$P36:$P$36,$Q36:$Q$36,$R36:$R$36)*AF36:AF$36*($E36:$E$36=$D35)),IF(ISNUMBER(Data!W35),100*ABS($G35-(Data!W35-$K35)/$M35),0),IF(ISNUMBER(Data!W35),100*ABS($G35-(Data!W35-$K35)/$M35),0)))","v":100},{"$f":"IF($H35=0,0,CHOOSE($H35,SUMPRODUCT(CHOOSE(AG$39,$O36:$O$36,$P36:$P$36,$Q36:$Q$36,$R36:$R$36)*AG36:AG$36*($E36:$E$36=$D35)),IF(ISNUMBER(Data!X35),100*ABS($G35-(Data!X35-$K35)/$M35),0),IF(ISNUMBER(Data!X35),100*ABS($G35-(Data!X35-$K35)/$M35),0)))","v":83.987214892752988},{"$f":"IF($H35=0,0,CHOOSE($H35,SUMPRODUCT(CHOOSE(AH$39,$O36:$O$36,$P36:$P$36,$Q36:$Q$36,$R36:$R$36)*AH36:AH$36*($E36:$E$36=$D35)),IF(ISNUMBER(Data!Y35),100*ABS($G35-(Data!Y35-$K35)/$M35),0),IF(ISNUMBER(Data!Y35),100*ABS($G35-(Data!Y35-$K35)/$M35),0)))","v":79.212385485872957},{"$f":"IF($H35=0,0,CHOOSE($H35,SUMPRODUCT(CHOOSE(AI$39,$O36:$O$36,$P36:$P$36,$Q36:$Q$36,$R36:$R$36)*AI36:AI$36*($E36:$E$36=$D35)),IF(ISNUMBER(Data!Z35),100*ABS($G35-(Data!Z35-$K35)/$M35),0),IF(ISNUMBER(Data!Z35),100*ABS($G35-(Data!Z35-$K35)/$M35),0)))","v":84.704558492970676},{"$f":"IF($H35=0,0,CHOOSE($H35,SUMPRODUCT(CHOOSE(AJ$39,$O36:$O$36,$P36:$P$36,$Q36:$Q$36,$R36:$R$36)*AJ36:AJ$36*($E36:$E$36=$D35)),IF(ISNUMBER(Data!AA35),100*ABS($G35-(Data!AA35-$K35)/$M35),0),IF(ISNUMBER(Data!AA35),100*ABS($G35-(Data!AA35-$K35)/$M35),0)))","v":78.301237986159308},{"$f":"IF($H35=0,0,CHOOSE($H35,SUMPRODUCT(CHOOSE(AK$39,$O36:$O$36,$P36:$P$36,$Q36:$Q$36,$R36:$R$36)*AK36:AK$36*($E36:$E$36=$D35)),IF(ISNUMBER(Data!AB35),100*ABS($G35-(Data!AB35-$K35)/$M35),0),IF(ISNUMBER(Data!AB35),100*ABS($G35-(Data!AB35-$K35)/$M35),0)))","v":69.15144138462685},{"$f":"IF($H35=0,0,CHOOSE($H35,SUMPRODUCT(CHOOSE(AL$39,$O36:$O$36,$P36:$P$36,$Q36:$Q$36,$R36:$R$36)*AL36:AL$36*($E36:$E$36=$D35)),IF(ISNUMBER(Data!AC35),100*ABS($G35-(Data!AC35-$K35)/$M35),0),IF(ISNUMBER(Data!AC35),100*ABS($G35-(Data!AC35-$K35)/$M35),0)))","v":52.597287467921582}]
[null,{"$f":"tblIndicators!A33","v":32},{"$f":"tblIndicators!B33","v":0},{"$f":"tblIndicators!D33","v":"ENP_15"},{"$f":"tblIndicators!E33","v":"ENP"},{"$f":"tblIndicators!F33","v":2},{"$f":"tblIndicators!S33","v":1},{"$f":"tblIndicators!T33","v":2},{"$f":"tblIndicators!U33","v":0},{"$f":"tblIndicators!V33","v":0},{"$f":"CHOOSE(H36,\"-\",MIN(Data!J36:AC36),I36)","v":6.2638868E-2},{"$f":"CHOOSE(H36,\"-\",MAX(Data!J36:AC36),J36)","v":0.87965807900000004},0.81701921100000008,{"$f":"tblIndicators!Y33","v":"3.6) Share of natural resources in trade"},{"$f":"tblIndicators!X33","v":0.16666666666666669},{"$f":"tblIndicators!AF33","v":0.16666666666666666},{"$f":"tblIndicators!AI33","v":0.16666666666666666},{"$f":"tblIndicators!AL33","v":0.16666666666666666},{"$f":"IF($H36=0,0,CHOOSE($H36,SUMPRODUCT(CHOOSE(S$39,$O$36:$O37,$P$36:$P37,$Q$36:$Q37,$R$36:$R37)*S$36:S37*($E$36:$E37=$D36)),IF(ISNUMBER(Data!J36),100*ABS($G36-(Data!J36-$K36)/$M36),0),IF(ISNUMBER(Data!J36),100*ABS($G36-(Data!J36-$K36)/$M36),0)))","v":99.002204490391108},{"$f":"IF($H36=0,0,CHOOSE($H36,SUMPRODUCT(CHOOSE(T$39,$O$36:$O37,$P$36:$P37,$Q$36:$Q37,$R$36:$R37)*T$36:T37*($E$36:$E37=$D36)),IF(ISNUMBER(Data!K36),100*ABS($G36-(Data!K36-$K36)/$M36),0),IF(ISNUMBER(Data!K36),100*ABS($G36-(Data!K36-$K36)/$M36),0)))","v":0},{"$f":"IF($H36=0,0,CHOOSE($H36,SUMPRODUCT(CHOOSE(U$39,$O$36:$O37,$P$36:$P37,$Q$36:$Q37,$R$36:$R37)*U$36:U37*($E$36:$E37=$D36)),IF(ISNUMBER(Data!L36),100*ABS($G36-(Data!L36-$K36)/$M36),0),IF(ISNUMBER(Data!L36),100*ABS($G36-(Data!L36-$K36)/$M36),0)))","v":94.755623928652028},{"$f":"IF($H36=0,0,CHOOSE($H36,SUMPRODUCT(CHOOSE(V$39,$O$36:$O37,$P$36:$P37,$Q$36:$Q37,$R$36:$R37)*V$36:V37*($E$36:$E37=$D36)),IF(ISNUMBER(Data!M36),100*ABS($G36-(Data!M36-$K36)/$M36),0),IF(ISNUMBER(Data!M36),100*ABS($G36-(Data!M36-$K36)/$M36),0)))","v":100},{"$f":"IF($H36=0,0,CHOOSE($H36,SUMPRODUCT(CHOOSE(W$39,$O$36:$O37,$P$36:$P37,$Q$36:$Q37,$R$36:$R37)*W$36:W37*($E$36:$E37=$D36)),IF(ISNUMBER(Data!N36),100*ABS($G36-(Data!N36-$K36)/$M36),0),IF(ISNUMBER(Data!N36),100*ABS($G36-(Data!N36-$K36)/$M36),0)))","v":97.087607894693676},{"$f":"IF($H36=0,0,CHOOSE($H36,SUMPRODUCT(CHOOSE(X$39,$O$36:$O37,$P$36:$P37,$Q$36:$Q37,$R$36:$R37)*X$36:X37*($E$36:$E37=$D36)),IF(ISNUMBER(Data!O36),100*ABS($G36-(Data!O36-$K36)/$M36),0),IF(ISNUMBER(Data!O36),100*ABS($G36-(Data!O36-$K36)/$M36),0)))","v":70.458533930360673},{"$f":"IF($H36=0,0,CHOOSE($H36,SUMPRODUCT(CHOOSE(Y$39,$O$36:$O37,$P$36:$P37,$Q$36:$Q37,$R$36:$R37)*Y$36:Y37*($E$36:$E37=$D36)),IF(ISNUMBER(Data!P36),100*ABS($G36-(Data!P36-$K36)/$M36),0),IF(ISNUMBER(Data!P36),100*ABS($G36-(Data!P36-$K36)/$M36),0)))","v":34.29741972126039},{"$f":"IF($H36=0,0,CHOOSE($H36,SUMPRODUCT(CHOOSE(Z$39,$O$36:$O37,$P$36:$P37,$Q$36:$Q37,$R$36:$R37)*Z$36:Z37*($E$36:$E37=$D36)),IF(ISNUMBER(Data!Q36),100*ABS($G36-(Data!Q36-$K36)/$M36),0),IF(ISNUMBER(Data!Q36),100*ABS($G36-(Data!Q36-$K36)/$M36),0)))","v":99.933956632508114},{"$f":"IF($H36=0,0,CHOOSE($H36,SUMPRODUCT(CHOOSE(AA$39,$O$36:$O37,$P$36:$P37,$Q$36:$Q37,$R$36:$R37)*AA$36:AA37*($E$36:$E37=$D36)),IF(ISNUMBER(Data!R36),100*ABS($G36-(Data!R36-$K36)/$M36),0),IF(ISNUMBER(Data!R36),100*ABS($G36-(Data!R36-$K36)/$M36),0)))","v":17.989531705148607},{"$f":"IF($H36=0,0,CHOOSE($H36,SUMPRODUCT(CHOOSE(AB$39,$O$36:$O37,$P$36:$P37,$Q$36:$Q37,$R$36:$R37)*AB$36:AB37*($E$36:$E37=$D36)),IF(ISNUMBER(Data!S36),100*ABS($G36-(Data!S36-$K36)/$M36),0),IF(ISNUMBER(Data!S36),100*ABS($G36-(Data!S36-$K36)/$M36),0)))","v":73.282758830991554},{"$f":"IF($H36=0,0,CHOOSE($H36,SUMPRODUCT(CHOOSE(AC$39,$O$36:$O37,$P$36:$P37,$Q$36:$Q37,$R$36:$R37)*AC$36:AC37*($E$36:$E37=$D36)),IF(ISNUMBER(Data!T36),100*ABS($G36-(Data!T36-$K36)/$M36),0),IF(ISNUMBER(Data!T36),100*ABS($G36-(Data!T36-$K36)/$M36),0)))","v":5.9647773692312889},{"$f":"IF($H36=0,0,CHOOSE($H36,SUMPRODUCT(CHOOSE(AD$39,$O$36:$O37,$P$36:$P37,$Q$36:$Q37,$R$36:$R37)*AD$36:AD37*($E$36:$E37=$D36)),IF(ISNUMBER(Data!U36),100*ABS($G36-(Data!U36-$K36)/$M36),0),IF(ISNUMBER(Data!U36),100*ABS($G36-(Data!U36-$K36)/$M36),0)))","v":82.595694925464855},{"$f":"IF($H36=0,0,CHOOSE($H36,SUMPRODUCT(CHOOSE(AE$39,$O$36:$O37,$P$36:$P37,$Q$36:$Q37,$R$36:$R37)*AE$36:AE37*($E$36:$E37=$D36)),IF(ISNUMBER(Data!V36),100*ABS($G36-(Data!V36-$K36)/$M36),0),IF(ISNUMBER(Data!V36),100*ABS($G36-(Data!V36-$K36)/$M36),0)))","v":87.796161380592068},{"$f":"IF($H36=0,0,CHOOSE($H36,SUMPRODUCT(CHOOSE(AF$39,$O$36:$O37,$P$36:$P37,$Q$36:$Q37,$R$36:$R37)*AF$36:AF37*($E$36:$E37=$D36)),IF(ISNUMBER(Data!W36),100*ABS($G36-(Data!W36-$K36)/$M36),0),IF(ISNUMBER(Data!W36),100*ABS($G36-(Data!W36-$K36)/$M36),0)))","v":87.934108075703506},{"$f":"IF($H36=0,0,CHOOSE($H36,SUMPRODUCT(CHOOSE(AG$39,$O$36:$O37,$P$36:$P37,$Q$36:$Q37,$R$36:$R37)*AG$36:AG37*($E$36:$E37=$D36)),IF(ISNUMBER(Data!X36),100*ABS($G36-(Data!X36-$K36)/$M36),0),IF(ISNUMBER(Data!X36),100*ABS($G36-(Data!X36-$K36)/$M36),0)))","v":94.725291594153234},{"$f":"IF($H36=0,0,CHOOSE($H36,SUMPRODUCT(CHOOSE(AH$39,$O$36:$O37,$P$36:$P37,$Q$36:$Q37,$R$36:$R37)*AH$36:AH37*($E$36:$E37=$D36)),IF(ISNUMBER(Data!Y36),100*ABS($G36-(Data!Y36-$K36)/$M36),0),IF(ISNUMBER(Data!Y36),100*ABS($G36-(Data!Y36-$K36)/$M36),0)))","v":72.688429844032143},{"$f":"IF($H36=0,0,CHOOSE($H36,SUMPRODUCT(CHOOSE(AI$39,$O$36:$O37,$P$36:$P37,$Q$36:$Q37,$R$36:$R37)*AI$36:AI37*($E$36:$E37=$D36)),IF(ISNUMBER(Data!Z36),100*ABS($G36-(Data!Z36-$K36)/$M36),0),IF(ISNUMBER(Data!Z36),100*ABS($G36-(Data!Z36-$K36)/$M36),0)))","v":95.704382892411573},{"$f":"IF($H36=0,0,CHOOSE($H36,SUMPRODUCT(CHOOSE(AJ$39,$O$36:$O37,$P$36:$P37,$Q$36:$Q37,$R$36:$R37)*AJ$36:AJ37*($E$36:$E37=$D36)),IF(ISNUMBER(Data!AA36),100*ABS($G36-(Data!AA36-$K36)/$M36),0),IF(ISNUMBER(Data!AA36),100*ABS($G36-(Data!AA36-$K36)/$M36),0)))","v":77.353884644457892},{"$f":"IF($H36=0,0,CHOOSE($H36,SUMPRODUCT(CHOOSE(AK$39,$O$36:$O37,$P$36:$P37,$Q$36:$Q37,$R$36:$R37)*AK$36:AK37*($E$36:$E37=$D36)),IF(ISNUMBER(Data!AB36),100*ABS($G36-(Data!AB36-$K36)/$M36),0),IF(ISNUMBER(Data!AB36),100*ABS($G36-(Data!AB36-$K36)/$M36),0)))","v":62.766516514628215},{"$f":"IF($H36=0,0,CHOOSE($H36,SUMPRODUCT(CHOOSE(AL$39,$O$36:$O37,$P$36:$P37,$Q$36:$Q37,$R$36:$R37)*AL$36:AL37*($E$36:$E37=$D36)),IF(ISNUMBER(Data!AC36),100*ABS($G36-(Data!AC36-$K36)/$M36),0),IF(ISNUMBER(Data!AC36),100*ABS($G36-(Data!AC36-$K36)/$M36),0)))","v":86.074530014937437}]
[]
[]
[null,null,null,null,null,null,null,null,null,null,null,null,null,null,null,null,null,null,{"$f":"INDEX(tblTerritories!$L$3:$L$22,MATCH(S4,tblTerritories!$C$3:$C$22,0))","v":4},{"$f":"INDEX(tblTerritories!$L$3:$L$22,MATCH(T4,tblTerritories!$C$3:$C$22,0))","v":1},{"$f":"INDEX(tblTerritories!$L$3:$L$22,MATCH(U4,tblTerritories!$C$3:$C$22,0))","v":4},{"$f":"INDEX(tblTerritories!$L$3:$L$22,MATCH(V4,tblTerritories!$C$3:$C$22,0))","v":2},{"$f":"INDEX(tblTerritories!$L$3:$L$22,MATCH(W4,tblTerritories!$C$3:$C$22,0))","v":1},{"$f":"INDEX(tblTerritories!$L$3:$L$22,MATCH(X4,tblTerritories!$C$3:$C$22,0))","v":4},{"$f":"INDEX(tblTerritories!$L$3:$L$22,MATCH(Y4,tblTerritories!$C$3:$C$22,0))","v":3},{"$f":"INDEX(tblTerritories!$L$3:$L$22,MATCH(Z4,tblTerritories!$C$3:$C$22,0))","v":1},{"$f":"INDEX(tblTerritories!$L$3:$L$22,MATCH(AA4,tblTerritories!$C$3:$C$22,0))","v":4},{"$f":"INDEX(tblTerritories!$L$3:$L$22,MATCH(AB4,tblTerritories!$C$3:$C$22,0))","v":2},{"$f":"INDEX(tblTerritories!$L$3:$L$22,MATCH(AC4,tblTerritories!$C$3:$C$22,0))","v":4},{"$f":"INDEX(tblTerritories!$L$3:$L$22,MATCH(AD4,tblTerritories!$C$3:$C$22,0))","v":4},{"$f":"INDEX(tblTerritories!$L$3:$L$22,MATCH(AE4,tblTerritories!$C$3:$C$22,0))","v":3},{"$f":"INDEX(tblTerritories!$L$3:$L$22,MATCH(AF4,tblTerritories!$C$3:$C$22,0))","v":1},{"$f":"INDEX(tblTerritories!$L$3:$L$22,MATCH(AG4,tblTerritories!$C$3:$C$22,0))","v":1},{"$f":"INDEX(tblTerritories!$L$3:$L$22,MATCH(AH4,tblTerritories!$C$3:$C$22,0))","v":3},{"$f":"INDEX(tblTerritories!$L$3:$L$22,MATCH(AI4,tblTerritories!$C$3:$C$22,0))","v":1},{"$f":"INDEX(tblTerritories!$L$3:$L$22,MATCH(AJ4,tblTerritories!$C$3:$C$22,0))","v":2},{"$f":"INDEX(tblTerritories!$L$3:$L$22,MATCH(AK4,tblTerritories!$C$3:$C$22,0))","v":3},{"$f":"INDEX(tblTerritories!$L$3:$L$22,MATCH(AL4,tblTerritories!$C$3:$C$22,0))","v":1}]

{"sheet":"iCC_Overview","index":46,"n_rows":47,"n_cols":46,"rows_kept":47,"cut":false,"hidden":true,"merged":[]}
["Country_COUNT",{"$f":"uxb_works!B1","v":20}]
[{"$f":"uxb_works!A19","v":"CITY1_ID"},{"$f":"uxb_works!B19","v":4},{"$f":"uxb_works!C19","v":"China"}]
[{"$f":"uxb_works!A20","v":"CITY2_ID"},{"$f":"uxb_works!B20","v":6},{"$f":"uxb_works!C20","v":"India"}]
[{"$f":"uxb_works!$A$16","v":"INDI_OR_SUB_INDI"},{"$f":"uxb_works!$B$16","v":false}]
[]
[null,null,null,null,null,null,null,{"$f":"CONCATENATE(\"Rank / \",B1)","v":"Rank / 20"},"Score / 100","Rank",null,null,null,null,"Rank Equality","Average",null,null,null,null,null,null,null,null,null,null,null,null,null,null,{"$f":"$C$2","v":"China"},"Average","Highest","Lowest",null,{"$f":"$C$2","v":"China"},null,null,null,null,null,1,2,3,4,5]
[]
[{"$f":"tblIndiSets!A5","v":"TOTAL"},{"$f":"tblIndiSets!B5","v":1},null,null,{"$f":"tblIndiSets!C5","v":"OVERALL SCORE"},null,null,{"$f":"IF(O8>1,CONCATENATE(\"=\",J8),J8)","v":12},{"$f":"INDEX(aRoundedScores,B8,$B$2)","v":52.5},{"$f":"RANK(I8,OFFSET(aRoundedScores,B8-1,0,1,$B$1))","v":12},null,null,null,null,{"$f":"COUNTIF(OFFSET(aRoundedScores,B8-1,0,1,$B$1),I8)","v":1},{"$f":"AVERAGE(OFFSET(aRoundedScores,B8-1,0,1,$B$1))","v":57.580000000000005},null,null,null,{"$f":"X14","v":"China Scores Higher Than India"},{"$f":"Y14","v":"India Scores Higher Than China"},{"$f":"Z14","v":"China and India Score The Same"},null,null,null,null,null,null,null,null,{"$f":"INDEX(aRoundedScores,$B8,$B$2)","v":52.5},{"$f":"(AVERAGE(OFFSET(aRoundedScores,$B8-1,0,1,$B$1)))","v":57.580000000000005},{"$f":"(MAX(OFFSET(aRoundedScores,$B8-1,0,1,$B$1)))","v":81},{"$f":"(MIN(OFFSET(aRoundedScores,$B8-1,0,1,$B$1)))","v":36.1},null,{"$f":"INDEX(aRoundedScores,$B8,$B$2)","v":52.5},null,null,null,null,null,null,{"$f":"INDEX($E$8:$E$12,AQ6)","v":"1) ECONOMIC PILLAR"},{"$f":"INDEX($E$8:$E$12,AR6)","v":"2) SOCIAL PILLAR"},{"$f":"INDEX($E$8:$E$12,AS6)","v":"3) ENVIRONMENTAL PILLAR"},{"$f":"INDEX($E$8:$E$12,AT6)","v":0}]
[{"$f":"tblIndiSets!A6","v":"EP"},{"$f":"tblIndiSets!B6","v":2},null,null,{"$f":"tblIndiSets!C6","v":"1) ECONOMIC PILLAR"},null,null,{"$f":"IF(O9>1,CONCATENATE(\"=\",J9),J9)","v":8},{"$f":"INDEX(aRoundedScores,B9,$B$2)","v":64.2},{"$f":"RANK(I9,OFFSET(aRoundedScores,B9-1,0,1,$B$1))","v":8},null,null,null,null,{"$f":"COUNTIF(OFFSET(aRoundedScores,B9-1,0,1,$B$1),I9)","v":1},{"$f":"AVERAGE(OFFSET(aRoundedScores,B9-1,0,1,$B$1))","v":56.989999999999995},null,null,null,{"$f":"COUNT(T16:T47)","v":16},{"$f":"COUNT(U16:U47)","v":7},{"$f":"COUNT(V16:V47)","v":1},null,null,null,null,null,null,null,null,{"$f":"INDEX(aRoundedScores,$B9,$B$2)","v":64.2},{"$f":"(AVERAGE(OFFSET(aRoundedScores,$B9-1,0,1,$B$1)))","v":56.989999999999995},{"$f":"(MAX(OFFSET(aRoundedScores,$B9-1,0,1,$B$1)))","v":76.5},{"$f":"(MIN(OFFSET(aRoundedScores,$B9-1,0,1,$B$1)))","v":35.1},null,{"$f":"INDEX(aRoundedScores,$B9,$B$2)","v":64.2},null,null,null,null,1,{"$f":"INDEX($AJ$6:$AM$6,1,AO9)","v":"China"},{"$f":"INDEX($AJ$9:$AM$9,1,$AO9)","v":64.2},{"$f":"INDEX($AJ$10:$AM$10,1,$AO9)","v":41.1},{"$f":"INDEX($AJ$11:$AM$11,1,$AO9)","v":52},{"$f":"INDEX($AJ$12:$AM$12,1,$AO9)","v":11.5}]
[{"$f":"tblIndiSets!A7","v":"SP"},{"$f":"tblIndiSets!B7","v":21},null,null,{"$f":"tblIndiSets!C7","v":"2) SOCIAL PILLAR"},null,null,{"$f":"IF(O10>1,CONCATENATE(\"=\",J10),J10)","v":12},{"$f":"INDEX(aRoundedScores,B10,$B$2)","v":41.1},{"$f":"RANK(I10,OFFSET(aRoundedScores,B10-1,0,1,$B$1))","v":12},null,null,null,null,{"$f":"COUNTIF(OFFSET(aRoundedScores,B10-1,0,1,$B$1),I10)","v":1},{"$f":"AVERAGE(OFFSET(aRoundedScores,B10-1,0,1,$B$1))","v":52.620000000000005},null,null,null,null,null,null,null,null,null,null,null,null,null,null,{"$f":"INDEX(aRoundedScores,$B10,$B$2)","v":41.1},{"$f":"(AVERAGE(OFFSET(aRoundedScores,$B10-1,0,1,$B$1)))","v":52.620000000000005},{"$f":"(MAX(OFFSET(aRoundedScores,$B10-1,0,1,$B$1)))","v":88.9},{"$f":"(MIN(OFFSET(aRoundedScores,$B10-1,0,1,$B$1)))","v":27.3},null,{"$f":"INDEX(aRoundedScores,$B10,$B$2)","v":41.1},null,null,null,null,2,{"$f":"INDEX($AJ$6:$AM$6,1,AO10)","v":0},{"$f":"INDEX($AJ$9:$AM$9,1,$AO10)","v":0},{"$f":"INDEX($AJ$10:$AM$10,1,$AO10)","v":0},{"$f":"INDEX($AJ$11:$AM$11,1,$AO10)","v":0},{"$f":"INDEX($AJ$12:$AM$12,1,$AO10)","v":0}]
[{"$f":"tblIndiSets!A8","v":"ENP"},{"$f":"tblIndiSets!B8","v":26},null,null,{"$f":"tblIndiSets!C8","v":"3) ENVIRONMENTAL PILLAR"},null,null,{"$f":"IF(O11>1,CONCATENATE(\"=\",J11),J11)","v":15},{"$f":"INDEX(aRoundedScores,B11,$B$2)","v":52},{"$f":"RANK(I11,OFFSET(aRoundedScores,B11-1,0,1,$B$1))","v":15},null,null,null,null,{"$f":"COUNTIF(OFFSET(aRoundedScores,B11-1,0,1,$B$1),I11)","v":1},{"$f":"AVERAGE(OFFSET(aRoundedScores,B11-1,0,1,$B$1))","v":63.125000000000014},null,null,null,null,null,null,null,null,null,null,null,null,null,null,{"$f":"INDEX(aRoundedScores,$B11,$B$2)","v":52},{"$f":"(AVERAGE(OFFSET(aRoundedScores,$B11-1,0,1,$B$1)))","v":63.125000000000014},{"$f":"(MAX(OFFSET(aRoundedScores,$B11-1,0,1,$B$1)))","v":93.4},{"$f":"(MIN(OFFSET(aRoundedScores,$B11-1,0,1,$B$1)))","v":45.9},null,{"$f":"INDEX(aRoundedScores,$B11,$B$2)","v":52},null,null,null,null,3,{"$f":"INDEX($AJ$6:$AM$6,1,AO11)","v":0},{"$f":"INDEX($AJ$9:$AM$9,1,$AO11)","v":0},{"$f":"INDEX($AJ$10:$AM$10,1,$AO11)","v":0},{"$f":"INDEX($AJ$11:$AM$11,1,$AO11)","v":0},{"$f":"INDEX($AJ$12:$AM$12,1,$AO11)","v":0}]
[null,null,null,null,null,null,null,null,null,null,null,null,null,null,null,null,null,null,null,null,null,null,null,null,null,null,null,null,null,null,{"$f":"INDEX(aRoundedScores,$B12,$B$2)","v":11.5},{"$f":"(AVERAGE(OFFSET(aRoundedScores,$B12-1,0,1,$B$1)))","v":{"$error":"#DIV/0!"}},{"$f":"(MAX(OFFSET(aRoundedScores,$B12-1,0,1,$B$1)))","v":0},{"$f":"(MIN(OFFSET(aRoundedScores,$B12-1,0,1,$B$1)))","v":0},null,{"$f":"INDEX(aRoundedScores,$B12,$B$2)","v":11.5},null,null,null,null,4,{"$f":"INDEX($AJ$6:$AM$6,1,AO12)","v":0},{"$f":"INDEX($AJ$9:$AM$9,1,$AO12)","v":0},{"$f":"INDEX($AJ$10:$AM$10,1,$AO12)","v":0},{"$f":"INDEX($AJ$11:$AM$11,1,$AO12)","v":0},{"$f":"INDEX($AJ$12:$AM$12,1,$AO12)","v":0}]
[null,null,null,null,null,null,null,null,null,null,null,null,null,null,null,null,null,null,null,{"$f":"100/3","v":33.333333333333336},{"$f":"2*T13","v":66.666666666666671}]
[null,null,null,null,null,null,null,null,null,null,null,null,null,null,null,null,{"$f":"uxb_works!A16","v":"INDI_OR_SUB_INDI"},{"$f":"uxb_works!B16","v":false},null,1,2,3,null,{"$f":"C2&\" Scores Higher Than \"&C3","v":"China Scores Higher Than India"},{"$f":"C3&\" Scores Higher Than \"&C2","v":"India Scores Higher Than China"},{"$f":"C2&\" and \"&C3&\" Score The Same\"","v":"China and India Score The Same"}]
[null,null,null,null,null,null,"Rank","Rank equal",{"$f":"CONCATENATE(\"Rank / \",$B$1)","v":"Rank / 20"},"Score Country 1","Score Country 1",null,null,null,null,null,"Data","Band",null,0,0,0,null,null,null,null,null,null,null,null,null,null,{"$f":"AJ6","v":"China"},{"$f":"AK6","v":0},{"$f":"AL6","v":0},{"$f":"AM6","v":0}]
[{"$f":"tblIndicators!D2","v":"TOTAL"},{"$f":"tblIndicators!A2","v":1},{"$f":"IF(B16=\"\",0,INDEX(tblIndicators!$F$2:$F$33,$B16))","v":0},null,{"$f":"IF(B16=\"\",\"\",IF(C16>=2,TRIM(INDEX(tblIndicators!$Y$2:$Y$33,iCC_Overview!$B16)),UPPER(INDEX(tblIndicators!$Y$2:$Y$33,iCC_Overview!$B16))))","v":"OVERALL SCORE"},{"$f":"IF(B16=\"\",\"\",INDEX(tblIndicators!$J$2:$J$33,iCC_Overview!$B16))","v":"Index score/number"},{"$f":"IF(B16=\"\",\"\",RANK(J16,OFFSET(aRoundedScores,B16-1,0,1,$B$1)))","v":12},{"$f":"IF(B16=\"\",\"\",COUNTIF(OFFSET(aRoundedScores,B16-1,0,1,$B$1),J16))","v":1},{"$f":"IF(B16=\"\",\"\",IF(H16>1,CONCATENATE(\"=\",G16),G16))","v":12},{"$f":"IF(B16=\"\",\"\",INDEX(aRoundedScores,B16,$B$2))","v":52.5},{"$f":"IF(B16=\"\",\"\",INDEX(aRoundedScores,B16,$B$3))","v":47.7},null,0,0,{"$f":"IF(B16=\"\",\"\",REPT(\"|\",J16/3))","v":"|||||||||||||||||"},null,{"$f":"IF(B16=\"\",\"\",IF(C16<2,\"\",IF(F16=\"%\",100*INDEX(aData,B16,$B$2),INDEX(aData,B16,$B$2))))","v":""},{"$f":"IF($B$4,IF(J16<K16,2,IF(J16=K16,3,1))*N16,IF(J16<K16,2,IF(J16=K16,3,1))*M16)","v":0},null,{"$f":"T15+MATCH(T$14,OFFSET($R$16:$R$47,T15,0),0)","v":3},{"$f":"U15+MATCH(U$14,OFFSET($R$16:$R$47,U15,0),0)","v":9},{"$f":"V15+MATCH(V$14,OFFSET($R$16:$R$47,V15,0),0)","v":25},null,{"$f":"IF(ISNUMBER(T16),INDEX($E$16:$E$47,T16),\"\")","v":"1.10) Growth in per capita GDP"},{"$f":"IF(ISNUMBER(U16),INDEX($E$16:$E$47,U16),\"\")","v":"1.16) Export market concentration"},{"$f":"IF(ISNUMBER(V16),INDEX($E$16:$E$47,V16),\"\")","v":"2.4) Political stability"},null,null,null,null,null,{"$f":"E16","v":"OVERALL SCORE"},{"$f":"INDEX(aRoundedScores,B16,$B$2)","v":52.5},{"$f":"INDEX(aRoundedScores,B16,$B$4)","v":{"$error":"#VALUE!"}},{"$f":"INDEX(aRoundedScores,B16,$B$5)","v":{"$error":"#VALUE!"}},{"$f":"INDEX(aRoundedScores,B16,$B$6)","v":{"$error":"#VALUE!"}},{"$f":"A16","v":"TOTAL"}]
[{"$f":"tblIndicators!D3","v":"EP"},{"$f":"tblIndicators!A3","v":2},{"$f":"IF(B17=\"\",0,INDEX(tblIndicators!$F$2:$F$33,$B17))","v":1},null,{"$f":"IF(B17=\"\",\"\",IF(C17>=2,TRIM(INDEX(tblIndicators!$Y$2:$Y$33,iCC_Overview!$B17)),UPPER(INDEX(tblIndicators!$Y$2:$Y$33,iCC_Overview!$B17))))","v":"1) ECONOMIC PILLAR"},{"$f":"IF(B17=\"\",\"\",INDEX(tblIndicators!$J$2:$J$33,iCC_Overview!$B17))","v":"Index score/number"},8,1,{"$f":"IF(B17=\"\",\"\",IF(H17>1,CONCATENATE(\"=\",G17),G17))","v":8},64.2,56,null,{"$f":"IF($C17=2,1,0)","v":0},{"$f":"IF($C17=3,1,0)","v":0},{"$f":"IF(B17=\"\",\"\",REPT(\"|\",J17/3))","v":"|||||||||||||||||||||"},null,"",{"$f":"IF($B$4,IF(J17<K17,2,IF(J17=K17,3,1))*N17,IF(J17<K17,2,IF(J17=K17,3,1))*M17)","v":0},null,4,13,{"$error":"#N/A"},null,"1.11) Current account liberalisation","1.20) Trade costs","",null,null,null,null,null,{"$f":"E17","v":"1) ECONOMIC PILLAR"},64.2,{"$error":"#VALUE!"},{"$error":"#VALUE!"},{"$error":"#VALUE!"},{"$f":"A17","v":"EP"}]
[{"$f":"tblIndicators!D4","v":"EP_10"},{"$f":"tblIndicators!A4","v":3},{"$f":"IF(B18=\"\",0,INDEX(tblIndicators!$F$2:$F$33,$B18))","v":2},null,{"$f":"IF(B18=\"\",\"\",IF(C18>=2,TRIM(INDEX(tblIndicators!$Y$2:$Y$33,iCC_Overview!$B18)),UPPER(INDEX(tblIndicators!$Y$2:$Y$33,iCC_Overview!$B18))))","v":"1.10) Growth in per capita GDP"},{"$f":"IF(B18=\"\",\"\",INDEX(tblIndicators!$J$2:$J$33,iCC_Overview!$B18))","v":"percentage growth"},{"$f":"IF(B18=\"\",\"\",RANK(J18,OFFSET(aRoundedScores,B18-1,0,1,$B$1)))","v":1},{"$f":"IF(B18=\"\",\"\",COUNTIF(OFFSET(aRoundedScores,B18-1,0,1,$B$1),J18))","v":1},{"$f":"IF(B18=\"\",\"\",IF(H18>1,CONCATENATE(\"=\",G18),G18))","v":1},{"$f":"IF(B18=\"\",\"\",INDEX(aRoundedScores,B18,$B$2))","v":100},{"$f":"IF(B18=\"\",\"\",INDEX(aRoundedScores,B18,$B$3))","v":70.400000000000006},null,{"$f":"IF($C18=2,1,0)","v":1},{"$f":"IF($C18=3,1,0)","v":0},{"$f":"IF(B18=\"\",\"\",REPT(\"|\",J18/3))","v":"|||||||||||||||||||||||||||||||||"},null,{"$f":"IF(B18=\"\",\"\",IF(C18<2,\"\",IF(F18=\"%\",100*INDEX(aData,B18,$B$2),INDEX(aData,B18,$B$2))))","v":8},{"$f":"IF($B$4,IF(J18<K18,2,IF(J18=K18,3,1))*N18,IF(J18<K18,2,IF(J18=K18,3,1))*M18)","v":1},null,5,19,{"$error":"#N/A"},null,"1.12) Tariff & non-tariff barriers","1.22) Technological infrastructure","",null,null,null,null,null,{"$f":"E18","v":"1.10) Growth in per capita GDP"},{"$f":"INDEX(aRoundedScores,B18,$B$2)","v":100},{"$f":"INDEX(aRoundedScores,B18,$B$4)","v":{"$error":"#VALUE!"}},{"$f":"INDEX(aRoundedScores,B18,$B$5)","v":{"$error":"#VALUE!"}},{"$f":"INDEX(aRoundedScores,B18,$B$6)","v":{"$error":"#VALUE!"}},{"$f":"A18","v":"EP_10"}]
[{"$f":"tblIndicators!D5","v":"EP_11"},{"$f":"tblIndicators!A5","v":4},{"$f":"IF(B19=\"\",0,INDEX(tblIndicators!$F$2:$F$33,$B19))","v":2},null,{"$f":"IF(B19=\"\",\"\",IF(C19>=2,TRIM(INDEX(tblIndicators!$Y$2:$Y$33,iCC_Overview!$B19)),UPPER(INDEX(tblIndicators!$Y$2:$Y$33,iCC_Overview!$B19))))","v":"1.11) Current account liberalisation"},{"$f":"IF(B19=\"\",\"\",INDEX(tblIndicators!$J$2:$J$33,iCC_Overview!$B19))","v":"1-5 scores"},13,3,"=13",85,75,null,1,0,"||||||||||||||||||||||||||||",null,4.4000000000000004,1,null,6,20,{"$error":"#N/A"},null,"1.13) Exchange rate volatility","1.23) Growth in labour force","",null,null,null,null,null,"1.11) Current account liberalisation",85,{"$error":"#VALUE!"},{"$error":"#VALUE!"},{"$error":"#VALUE!"},"EP_11"]
[{"$f":"tblIndicators!D6","v":"EP_12"},{"$f":"tblIndicators!A6","v":5},{"$f":"IF(B20=\"\",0,INDEX(tblIndicators!$F$2:$F$33,$B20))","v":2},null,{"$f":"IF(B20=\"\",\"\",IF(C20>=2,TRIM(INDEX(tblIndicators!$Y$2:$Y$33,iCC_Overview!$B20)),UPPER(INDEX(tblIndicators!$Y$2:$Y$33,iCC_Overview!$B20))))","v":"1.12) Tariff & non-tariff barriers"},{"$f":"IF(B20=\"\",\"\",INDEX(tblIndicators!$J$2:$J$33,iCC_Overview!$B20))","v":"1-5 scores"},13,4,"=13",50,25,null,1,0,"||||||||||||||||",null,3,1,null,7,22,{"$error":"#N/A"},null,"1.14) Financial sector depth","2.1) Inequality (Gini coefficient)","",null,null,null,null,null,"1.12) Tariff & non-tariff barriers",50,{"$error":"#VALUE!"},{"$error":"#VALUE!"},{"$error":"#VALUE!"},"EP_12"]
[{"$f":"tblIndicators!D7","v":"EP_13"},{"$f":"tblIndicators!A7","v":6},{"$f":"IF(B21=\"\",0,INDEX(tblIndicators!$F$2:$F$33,$B21))","v":2},null,{"$f":"IF(B21=\"\",\"\",IF(C21>=2,TRIM(INDEX(tblIndicators!$Y$2:$Y$33,iCC_Overview!$B21)),UPPER(INDEX(tblIndicators!$Y$2:$Y$33,iCC_Overview!$B21))))","v":"1.13) Exchange rate volatility"},{"$f":"IF(B21=\"\",\"\",INDEX(tblIndicators!$J$2:$J$33,iCC_Overview!$B21))","v":"trade-weighted standard deviations"},9,4,"=9",96.6,91.8,null,1,0,"||||||||||||||||||||||||||||||||",null,0.02,1,null,8,27,{"$error":"#N/A"},null,"1.15) Foreign trade and payments risk","3.1) Air pollution","",null,null,null,null,null,"1.13) Exchange rate volatility",96.6,{"$error":"#VALUE!"},{"$error":"#VALUE!"},{"$error":"#VALUE!"},"EP_13"]
[{"$f":"tblIndicators!D8","v":"EP_14"},{"$f":"tblIndicators!A8","v":7},{"$f":"IF(B22=\"\",0,INDEX(tblIndicators!$F$2:$F$33,$B22))","v":2},null,{"$f":"IF(B22=\"\",\"\",IF(C22>=2,TRIM(INDEX(tblIndicators!$Y$2:$Y$33,iCC_Overview!$B22)),UPPER(INDEX(tblIndicators!$Y$2:$Y$33,iCC_Overview!$B22))))","v":"1.14) Financial sector depth"},{"$f":"IF(B22=\"\",\"\",INDEX(tblIndicators!$J$2:$J$33,iCC_Overview!$B22))","v":"% of GDP"},6,1,6,58.2,16.8,null,1,0,"|||||||||||||||||||",null,142,1,null,10,28,{"$error":"#N/A"},null,"1.17) Export product concentration","3.2) Deforestation","",null,null,null,null,null,"1.14) Financial sector depth",58.2,{"$error":"#VALUE!"},{"$error":"#VALUE!"},{"$error":"#VALUE!"},"EP_14"]
[{"$f":"tblIndicators!D9","v":"EP_15"},{"$f":"tblIndicators!A9","v":8},{"$f":"IF(B23=\"\",0,INDEX(tblIndicators!$F$2:$F$33,$B23))","v":2},null,{"$f":"IF(B23=\"\",\"\",IF(C23>=2,TRIM(INDEX(tblIndicators!$Y$2:$Y$33,iCC_Overview!$B23)),UPPER(INDEX(tblIndicators!$Y$2:$Y$33,iCC_Overview!$B23))))","v":"1.15) Foreign trade and payments risk"},{"$f":"IF(B23=\"\",\"\",INDEX(tblIndicators!$J$2:$J$33,iCC_Overview!$B23))","v":"1-100 scores"},10,1,10,67.7,50.5,null,1,0,"||||||||||||||||||||||",null,33,1,null,11,{"$error":"#N/A"},{"$error":"#N/A"},null,"1.18) Foreign Direct Investment","","",null,null,null,null,null,"1.15) Foreign trade and payments risk",67.7,{"$error":"#VALUE!"},{"$error":"#VALUE!"},{"$error":"#VALUE!"},"EP_15"]
[{"$f":"tblIndicators!D10","v":"EP_16"},{"$f":"tblIndicators!A10","v":9},{"$f":"IF(B24=\"\",0,INDEX(tblIndicators!$F$2:$F$33,$B24))","v":2},null,{"$f":"IF(B24=\"\",\"\",IF(C24>=2,TRIM(INDEX(tblIndicators!$Y$2:$Y$33,iCC_Overview!$B24)),UPPER(INDEX(tblIndicators!$Y$2:$Y$33,iCC_Overview!$B24))))","v":"1.16) Export market concentration"},{"$f":"IF(B24=\"\",\"\",INDEX(tblIndicators!$J$2:$J$33,iCC_Overview!$B24))","v":"% "},7,1,7,95.3,100,null,1,0,"|||||||||||||||||||||||||||||||",null,11,2,null,12,{"$error":"#N/A"},{"$error":"#N/A"},null,"1.19) Gross fixed capital formation","","",null,null,null,null,null,"1.16) Export market concentration",95.3,{"$error":"#VALUE!"},{"$error":"#VALUE!"},{"$error":"#VALUE!"},"EP_16"]
[{"$f":"tblIndicators!D11","v":"EP_17"},{"$f":"tblIndicators!A11","v":10},{"$f":"IF(B25=\"\",0,INDEX(tblIndicators!$F$2:$F$33,$B25))","v":2},null,{"$f":"IF(B25=\"\",\"\",IF(C25>=2,TRIM(INDEX(tblIndicators!$Y$2:$Y$33,iCC_Overview!$B25)),UPPER(INDEX(tblIndicators!$Y$2:$Y$33,iCC_Overview!$B25))))","v":"1.17) Export product concentration"},{"$f":"IF(B25=\"\",\"\",INDEX(tblIndicators!$J$2:$J$33,iCC_Overview!$B25))","v":"%"},3,1,3,97.4,90.6,null,1,0,"||||||||||||||||||||||||||||||||",null,1064,1,null,18,{"$error":"#N/A"},{"$error":"#N/A"},null,"1.21) Technological innovation","","",null,null,null,null,null,"1.17) Export product concentration",97.4,{"$error":"#VALUE!"},{"$error":"#VALUE!"},{"$error":"#VALUE!"},"EP_17"]
[{"$f":"tblIndicators!D12","v":"EP_18"},{"$f":"tblIndicators!A12","v":11},{"$f":"IF(B26=\"\",0,INDEX(tblIndicators!$F$2:$F$33,$B26))","v":2},null,{"$f":"IF(B26=\"\",\"\",IF(C26>=2,TRIM(INDEX(tblIndicators!$Y$2:$Y$33,iCC_Overview!$B26)),UPPER(INDEX(tblIndicators!$Y$2:$Y$33,iCC_Overview!$B26))))","v":"1.18) Foreign Direct Investment"},{"$f":"IF(B26=\"\",\"\",INDEX(tblIndicators!$J$2:$J$33,iCC_Overview!$B26))","v":"% of GDP"},6,1,6,11.5,4.7,null,1,0,"|||",null,3.9539999999999997,1,null,23,{"$error":"#N/A"},{"$error":"#N/A"},null,"2.2) Educational attainment","","",null,null,null,null,null,"1.18) Foreign Direct Investment",11.5,{"$error":"#VALUE!"},{"$error":"#VALUE!"},{"$error":"#VALUE!"},"EP_18"]
[{"$f":"tblIndicators!D13","v":"EP_19"},{"$f":"tblIndicators!A13","v":12},{"$f":"IF(B27=\"\",0,INDEX(tblIndicators!$F$2:$F$33,$B27))","v":2},null,{"$f":"IF(B27=\"\",\"\",IF(C27>=2,TRIM(INDEX(tblIndicators!$Y$2:$Y$33,iCC_Overview!$B27)),UPPER(INDEX(tblIndicators!$Y$2:$Y$33,iCC_Overview!$B27))))","v":"1.19) Gross fixed capital formation"},{"$f":"IF(B27=\"\",\"\",INDEX(tblIndicators!$J$2:$J$33,iCC_Overview!$B27))","v":"% of GDP"},1,1,1,100,56.9,null,1,0,"|||||||||||||||||||||||||||||||||",null,44.456000000000003,1,null,24,{"$error":"#N/A"},{"$error":"#N/A"},null,"2.3) Labour standards","","",null,null,null,null,null,"1.19) Gross fixed capital formation",100,{"$error":"#VALUE!"},{"$error":"#VALUE!"},{"$error":"#VALUE!"},"EP_19"]
[{"$f":"tblIndicators!D14","v":"EP_20"},{"$f":"tblIndicators!A14","v":13},{"$f":"IF(B28=\"\",0,INDEX(tblIndicators!$F$2:$F$33,$B28))","v":2},null,{"$f":"IF(B28=\"\",\"\",IF(C28>=2,TRIM(INDEX(tblIndicators!$Y$2:$Y$33,iCC_Overview!$B28)),UPPER(INDEX(tblIndicators!$Y$2:$Y$33,iCC_Overview!$B28))))","v":"1.20) Trade costs"},{"$f":"IF(B28=\"\",\"\",INDEX(tblIndicators!$J$2:$J$33,iCC_Overview!$B28))","v":"Index score/number"},11,1,11,34,40.1,null,1,0,"|||||||||||",null,"",2,null,29,{"$error":"#N/A"},{"$error":"#N/A"},null,"3.3) Water pollution","","",null,null,null,null,null,"1.20) Trade costs",34,{"$error":"#VALUE!"},{"$error":"#VALUE!"},{"$error":"#VALUE!"},"EP_20"]
[{"$f":"tblIndicators!D15","v":"EP_20_1"},{"$f":"tblIndicators!A15","v":14},{"$f":"IF(B29=\"\",0,INDEX(tblIndicators!$F$2:$F$33,$B29))","v":3},null,{"$f":"IF(B29=\"\",\"\",IF(C29>=2,TRIM(INDEX(tblIndicators!$Y$2:$Y$33,iCC_Overview!$B29)),UPPER(INDEX(tblIndicators!$Y$2:$Y$33,iCC_Overview!$B29))))","v":"1.20.1) Infrastructure"},{"$f":"IF(B29=\"\",\"\",INDEX(tblIndicators!$J$2:$J$33,iCC_Overview!$B29))","v":"1-10 scores"},8,1,8,57.8,41.1,null,0,1,"|||||||||||||||||||",null,6.2,0,null,30,{"$error":"#N/A"},{"$error":"#N/A"},null,"3.4) Environmental standards in trade","","",null,null,null,null,null,"1.20.1) Infrastructure",57.8,{"$error":"#VALUE!"},{"$error":"#VALUE!"},{"$error":"#VALUE!"},"EP_20_1"]
[{"$f":"tblIndicators!D16","v":"EP_20_2"},{"$f":"tblIndicators!A16","v":15},{"$f":"IF(B30=\"\",0,INDEX(tblIndicators!$F$2:$F$33,$B30))","v":3},null,{"$f":"IF(B30=\"\",\"\",IF(C30>=2,TRIM(INDEX(tblIndicators!$Y$2:$Y$33,iCC_Overview!$B30)),UPPER(INDEX(tblIndicators!$Y$2:$Y$33,iCC_Overview!$B30))))","v":"1.20.2) Logistics performance"},{"$f":"IF(B30=\"\",\"\",INDEX(tblIndicators!$J$2:$J$33,iCC_Overview!$B30))","v":"0 - 5"},8,1,8,70.599999999999994,61.6,null,0,1,"|||||||||||||||||||||||",null,3.53,0,null,31,{"$error":"#N/A"},{"$error":"#N/A"},null,"3.5) Carbon emissions in trade","","",null,null,null,null,null,"1.20.2) Logistics performance",70.599999999999994,{"$error":"#VALUE!"},{"$error":"#VALUE!"},{"$error":"#VALUE!"},"EP_20_2"]
[{"$f":"tblIndicators!D17","v":"EP_20_3"},{"$f":"tblIndicators!A17","v":16},{"$f":"IF(B31=\"\",0,INDEX(tblIndicators!$F$2:$F$33,$B31))","v":3},null,{"$f":"IF(B31=\"\",\"\",IF(C31>=2,TRIM(INDEX(tblIndicators!$Y$2:$Y$33,iCC_Overview!$B31)),UPPER(INDEX(tblIndicators!$Y$2:$Y$33,iCC_Overview!$B31))))","v":"1.20.3) Corruption"},{"$f":"IF(B31=\"\",\"\",INDEX(tblIndicators!$J$2:$J$33,iCC_Overview!$B31))","v":"1-5 scores"},13,8,"=13",0,7.5,null,0,1,"",null,1,0,null,32,{"$error":"#N/A"},{"$error":"#N/A"},null,"3.6) Share of natural resources in trade","","",null,null,null,null,null,"1.20.3) Corruption",0,{"$error":"#VALUE!"},{"$error":"#VALUE!"},{"$error":"#VALUE!"},"EP_20_3"]
[{"$f":"tblIndicators!D18","v":"EP_20_4"},{"$f":"tblIndicators!A18","v":17},{"$f":"IF(B32=\"\",0,INDEX(tblIndicators!$F$2:$F$33,$B32))","v":3},null,{"$f":"IF(B32=\"\",\"\",IF(C32>=2,TRIM(INDEX(tblIndicators!$Y$2:$Y$33,iCC_Overview!$B32)),UPPER(INDEX(tblIndicators!$Y$2:$Y$33,iCC_Overview!$B32))))","v":"1.20.4) Legal system"},{"$f":"IF(B32=\"\",\"\",INDEX(tblIndicators!$J$2:$J$33,iCC_Overview!$B32))","v":"1-5 scores"},16,1,16,7.5,50,null,0,1,"||",null,1.3,0,null,{"$error":"#N/A"},{"$error":"#N/A"},{"$error":"#N/A"},null,"","","",null,null,null,null,null,"1.20.4) Legal system",7.5,{"$error":"#VALUE!"},{"$error":"#VALUE!"},{"$error":"#VALUE!"},"EP_20_4"]
[{"$f":"tblIndicators!D19","v":"EP_21"},{"$f":"tblIndicators!A19","v":18},{"$f":"IF(B33=\"\",0,INDEX(tblIndicators!$F$2:$F$33,$B33))","v":2},null,{"$f":"IF(B33=\"\",\"\",IF(C33>=2,TRIM(INDEX(tblIndicators!$Y$2:$Y$33,iCC_Overview!$B33)),UPPER(INDEX(tblIndicators!$Y$2:$Y$33,iCC_Overview!$B33))))","v":"1.21) Technological innovation"},{"$f":"IF(B33=\"\",\"\",INDEX(tblIndicators!$J$2:$J$33,iCC_Overview!$B33))","v":"Score"},6,1,6,45.1,17.600000000000001,null,1,0,"|||||||||||||||",null,2,1,null,{"$error":"#N/A"},{"$error":"#N/A"},{"$error":"#N/A"},null,"","","",null,null,null,null,null,"1.21) Technological innovation",45.1,{"$error":"#VALUE!"},{"$error":"#VALUE!"},{"$error":"#VALUE!"},"EP_21"]
[{"$f":"tblIndicators!D20","v":"EP_22"},{"$f":"tblIndicators!A20","v":19},{"$f":"IF(B34=\"\",0,INDEX(tblIndicators!$F$2:$F$33,$B34))","v":2},null,{"$f":"IF(B34=\"\",\"\",IF(C34>=2,TRIM(INDEX(tblIndicators!$Y$2:$Y$33,iCC_Overview!$B34)),UPPER(INDEX(tblIndicators!$Y$2:$Y$33,iCC_Overview!$B34))))","v":"1.22) Technological infrastructure"},{"$f":"IF(B34=\"\",\"\",INDEX(tblIndicators!$J$2:$J$33,iCC_Overview!$B34))","v":"Score"},11,5,"=11",50,75,null,1,0,"||||||||||||||||",null,2,2,null,{"$error":"#N/A"},{"$error":"#N/A"},{"$error":"#N/A"},null,"","","",null,null,null,null,null,"1.22) Technological infrastructure",50,{"$error":"#VALUE!"},{"$error":"#VALUE!"},{"$error":"#VALUE!"},"EP_22"]
[{"$f":"tblIndicators!D21","v":"EP_23"},{"$f":"tblIndicators!A21","v":20},{"$f":"IF(B35=\"\",0,INDEX(tblIndicators!$F$2:$F$33,$B35))","v":2},null,{"$f":"IF(B35=\"\",\"\",IF(C35>=2,TRIM(INDEX(tblIndicators!$Y$2:$Y$33,iCC_Overview!$B35)),UPPER(INDEX(tblIndicators!$Y$2:$Y$33,iCC_Overview!$B35))))","v":"1.23) Growth in labour force"},{"$f":"IF(B35=\"\",\"\",INDEX(tblIndicators!$J$2:$J$33,iCC_Overview!$B35))","v":"%"},18,1,18,8.6999999999999993,69.599999999999994,null,1,0,"||",null,-5.7,2,null,{"$error":"#N/A"},{"$error":"#N/A"},{"$error":"#N/A"},null,"","","",null,null,null,null,null,"1.23) Growth in labour force",8.6999999999999993,{"$error":"#VALUE!"},{"$error":"#VALUE!"},{"$error":"#VALUE!"},"EP_23"]
[{"$f":"tblIndicators!D22","v":"SP"},{"$f":"tblIndicators!A22","v":21},{"$f":"IF(B36=\"\",0,INDEX(tblIndicators!$F$2:$F$33,$B36))","v":1},null,{"$f":"IF(B36=\"\",\"\",IF(C36>=2,TRIM(INDEX(tblIndicators!$Y$2:$Y$33,iCC_Overview!$B36)),UPPER(INDEX(tblIndicators!$Y$2:$Y$33,iCC_Overview!$B36))))","v":"2) SOCIAL PILLAR"},{"$f":"IF(B36=\"\",\"\",INDEX(tblIndicators!$J$2:$J$33,iCC_Overview!$B36))","v":"Index score/number"},12,1,12,41.1,39.799999999999997,null,0,0,"|||||||||||||",null,"",0,null,{"$error":"#N/A"},{"$error":"#N/A"},{"$error":"#N/A"},null,"","","",null,null,null,null,null,"2) SOCIAL PILLAR",41.1,{"$error":"#VALUE!"},{"$error":"#VALUE!"},{"$error":"#VALUE!"},"SP"]
[{"$f":"tblIndicators!D23","v":"SP_10"},{"$f":"tblIndicators!A23","v":22},{"$f":"IF(B37=\"\",0,INDEX(tblIndicators!$F$2:$F$33,$B37))","v":2},null,{"$f":"IF(B37=\"\",\"\",IF(C37>=2,TRIM(INDEX(tblIndicators!$Y$2:$Y$33,iCC_Overview!$B37)),UPPER(INDEX(tblIndicators!$Y$2:$Y$33,iCC_Overview!$B37))))","v":"2.1) Inequality (Gini coefficient)"},{"$f":"IF(B37=\"\",\"\",INDEX(tblIndicators!$J$2:$J$33,iCC_Overview!$B37))","v":"0 to upper bound"},16,1,16,48.3,82.2,null,1,0,"||||||||||||||||",null,42.06,2,null,{"$error":"#N/A"},{"$error":"#N/A"},{"$error":"#N/A"},null,"","","",null,null,null,null,null,"2.1) Inequality (Gini coefficient)",48.3,{"$error":"#VALUE!"},{"$error":"#VALUE!"},{"$error":"#VALUE!"},"SP_10"]
[{"$f":"tblIndicators!D24","v":"SP_11"},{"$f":"tblIndicators!A24","v":23},{"$f":"IF(B38=\"\",0,INDEX(tblIndicators!$F$2:$F$33,$B38))","v":2},null,{"$f":"IF(B38=\"\",\"\",IF(C38>=2,TRIM(INDEX(tblIndicators!$Y$2:$Y$33,iCC_Overview!$B38)),UPPER(INDEX(tblIndicators!$Y$2:$Y$33,iCC_Overview!$B38))))","v":"2.2) Educational attainment"},{"$f":"IF(B38=\"\",\"\",INDEX(tblIndicators!$J$2:$J$33,iCC_Overview!$B38))","v":"0-100 percentage "},11,1,11,22.9,17.100000000000001,null,1,0,"|||||||",null,29.696449999999999,1,null,{"$error":"#N/A"},{"$error":"#N/A"},{"$error":"#N/A"},null,"","","",null,null,null,null,null,"2.2) Educational attainment",22.9,{"$error":"#VALUE!"},{"$error":"#VALUE!"},{"$error":"#VALUE!"},"SP_11"]
[{"$f":"tblIndicators!D25","v":"SP_12"},{"$f":"tblIndicators!A25","v":24},{"$f":"IF(B39=\"\",0,INDEX(tblIndicators!$F$2:$F$33,$B39))","v":2},null,{"$f":"IF(B39=\"\",\"\",IF(C39>=2,TRIM(INDEX(tblIndicators!$Y$2:$Y$33,iCC_Overview!$B39)),UPPER(INDEX(tblIndicators!$Y$2:$Y$33,iCC_Overview!$B39))))","v":"2.3) Labour standards"},{"$f":"IF(B39=\"\",\"\",INDEX(tblIndicators!$J$2:$J$33,iCC_Overview!$B39))","v":"1-4 score "},10,3,"=10",33.299999999999997,0,null,1,0,"|||||||||||",null,3,1,null,{"$error":"#N/A"},{"$error":"#N/A"},{"$error":"#N/A"},null,"","","",null,null,null,null,null,"2.3) Labour standards",33.299999999999997,{"$error":"#VALUE!"},{"$error":"#VALUE!"},{"$error":"#VALUE!"},"SP_12"]
[{"$f":"tblIndicators!D26","v":"SP_13"},{"$f":"tblIndicators!A26","v":25},{"$f":"IF(B40=\"\",0,INDEX(tblIndicators!$F$2:$F$33,$B40))","v":2},null,{"$f":"IF(B40=\"\",\"\",IF(C40>=2,TRIM(INDEX(tblIndicators!$Y$2:$Y$33,iCC_Overview!$B40)),UPPER(INDEX(tblIndicators!$Y$2:$Y$33,iCC_Overview!$B40))))","v":"2.4) Political stability"},{"$f":"IF(B40=\"\",\"\",INDEX(tblIndicators!$J$2:$J$33,iCC_Overview!$B40))","v":"0-5 score "},8,6,"=8",60,60,null,1,0,"||||||||||||||||||||",null,2,3,null,{"$error":"#N/A"},{"$error":"#N/A"},{"$error":"#N/A"},null,"","","",null,null,null,null,null,"2.4) Political stability",60,{"$error":"#VALUE!"},{"$error":"#VALUE!"},{"$error":"#VALUE!"},"SP_13"]
[{"$f":"tblIndicators!D27","v":"ENP"},{"$f":"tblIndicators!A27","v":26},{"$f":"IF(B41=\"\",0,INDEX(tblIndicators!$F$2:$F$33,$B41))","v":1},null,{"$f":"IF(B41=\"\",\"\",IF(C41>=2,TRIM(INDEX(tblIndicators!$Y$2:$Y$33,iCC_Overview!$B41)),UPPER(INDEX(tblIndicators!$Y$2:$Y$33,iCC_Overview!$B41))))","v":"3) ENVIRONMENTAL PILLAR"},{"$f":"IF(B41=\"\",\"\",INDEX(tblIndicators!$J$2:$J$33,iCC_Overview!$B41))","v":"Index score/number"},15,1,15,52,47.2,null,0,0,"|||||||||||||||||",null,"",0,null,{"$error":"#N/A"},{"$error":"#N/A"},{"$error":"#N/A"},null,"","","",null,null,null,null,null,"3) ENVIRONMENTAL PILLAR",52,{"$error":"#VALUE!"},{"$error":"#VALUE!"},{"$error":"#VALUE!"},"ENP"]
[{"$f":"tblIndicators!D28","v":"ENP_10"},{"$f":"tblIndicators!A28","v":27},{"$f":"IF(B42=\"\",0,INDEX(tblIndicators!$F$2:$F$33,$B42))","v":2},null,{"$f":"IF(B42=\"\",\"\",IF(C42>=2,TRIM(INDEX(tblIndicators!$Y$2:$Y$33,iCC_Overview!$B42)),UPPER(INDEX(tblIndicators!$Y$2:$Y$33,iCC_Overview!$B42))))","v":"3.1) Air pollution"},{"$f":"IF(B42=\"\",\"\",INDEX(tblIndicators!$J$2:$J$33,iCC_Overview!$B42))","v":"0 to Upper Bound (Population weighted exposure to PM2.5 (micro-grams per cubic meter))"},20,1,20,0,37.4,null,1,0,"",null,48,2,null,{"$error":"#N/A"},{"$error":"#N/A"},{"$error":"#N/A"},null,"","","",null,null,null,null,null,"3.1) Air pollution",0,{"$error":"#VALUE!"},{"$error":"#VALUE!"},{"$error":"#VALUE!"},"ENP_10"]
[{"$f":"tblIndicators!D29","v":"ENP_11"},{"$f":"tblIndicators!A29","v":28},{"$f":"IF(B43=\"\",0,INDEX(tblIndicators!$F$2:$F$33,$B43))","v":2},null,{"$f":"IF(B43=\"\",\"\",IF(C43>=2,TRIM(INDEX(tblIndicators!$Y$2:$Y$33,iCC_Overview!$B43)),UPPER(INDEX(tblIndicators!$Y$2:$Y$33,iCC_Overview!$B43))))","v":"3.2) Deforestation"},{"$f":"IF(B43=\"\",\"\",INDEX(tblIndicators!$J$2:$J$33,iCC_Overview!$B43))","v":"Lower Bound to 0 (percent change) "},11,2,"=11",80.599999999999994,87.1,null,1,0,"||||||||||||||||||||||||||",null,-2.5,2,null,{"$error":"#N/A"},{"$error":"#N/A"},{"$error":"#N/A"},null,"","","",null,null,null,null,null,"3.2) Deforestation",80.599999999999994,{"$error":"#VALUE!"},{"$error":"#VALUE!"},{"$error":"#VALUE!"},"ENP_11"]
[{"$f":"tblIndicators!D30","v":"ENP_12"},{"$f":"tblIndicators!A30","v":29},{"$f":"IF(B44=\"\",0,INDEX(tblIndicators!$F$2:$F$33,$B44))","v":2},null,{"$f":"IF(B44=\"\",\"\",IF(C44>=2,TRIM(INDEX(tblIndicators!$Y$2:$Y$33,iCC_Overview!$B44)),UPPER(INDEX(tblIndicators!$Y$2:$Y$33,iCC_Overview!$B44))))","v":"3.3) Water pollution"},{"$f":"IF(B44=\"\",\"\",INDEX(tblIndicators!$J$2:$J$33,iCC_Overview!$B44))","v":"0-100 (% of wastewater treatment)"},7,1,7,18.2,10.5,null,1,0,"||||||",null,18.179912237635001,1,null,{"$error":"#N/A"},{"$error":"#N/A"},{"$error":"#N/A"},null,"","","",null,null,null,null,null,"3.3) Water pollution",18.2,{"$error":"#VALUE!"},{"$error":"#VALUE!"},{"$error":"#VALUE!"},"ENP_12"]
[{"$f":"tblIndicators!D31","v":"ENP_13"},{"$f":"tblIndicators!A31","v":30},{"$f":"IF(B45=\"\",0,INDEX(tblIndicators!$F$2:$F$33,$B45))","v":2},null,{"$f":"IF(B45=\"\",\"\",IF(C45>=2,TRIM(INDEX(tblIndicators!$Y$2:$Y$33,iCC_Overview!$B45)),UPPER(INDEX(tblIndicators!$Y$2:$Y$33,iCC_Overview!$B45))))","v":"3.4) Environmental standards in trade"},{"$f":"IF(B45=\"\",\"\",INDEX(tblIndicators!$J$2:$J$33,iCC_Overview!$B45))","v":"1-7 score "},1,2,"=1",100,66.7,null,1,0,"|||||||||||||||||||||||||||||||||",null,7,1,null,{"$error":"#N/A"},{"$error":"#N/A"},{"$error":"#N/A"},null,"","","",null,null,null,null,null,"3.4) Environmental standards in trade",100,{"$error":"#VALUE!"},{"$error":"#VALUE!"},{"$error":"#VALUE!"},"ENP_13"]
[{"$f":"tblIndicators!D32","v":"ENP_14"},{"$f":"tblIndicators!A32","v":31},{"$f":"IF(B46=\"\",0,INDEX(tblIndicators!$F$2:$F$33,$B46))","v":2},null,{"$f":"IF(B46=\"\",\"\",IF(C46>=2,TRIM(INDEX(tblIndicators!$Y$2:$Y$33,iCC_Overview!$B46)),UPPER(INDEX(tblIndicators!$Y$2:$Y$33,iCC_Overview!$B46))))","v":"3.5) Carbon emissions in trade"},{"$f":"IF(B46=\"\",\"\",INDEX(tblIndicators!$J$2:$J$33,iCC_Overview!$B46))","v":"Total of carbon emissions in imports and exports (2004) estimates per country- kilotons C02"},18,1,18,13.3,11,null,1,0,"||||",null,1.2355930000000001E-3,1,null,{"$error":"#N/A"},{"$error":"#N/A"},{"$error":"#N/A"},null,"","","",null,null,null,null,null,"3.5) Carbon emissions in trade",13.3,{"$error":"#VALUE!"},{"$error":"#VALUE!"},{"$error":"#VALUE!"},"ENP_14"]
[{"$f":"tblIndicators!D33","v":"ENP_15"},{"$f":"tblIndicators!A33","v":32},{"$f":"IF(B47=\"\",0,INDEX(tblIndicators!$F$2:$F$33,$B47))","v":2},null,{"$f":"IF(B47=\"\",\"\",IF(C47>=2,TRIM(INDEX(tblIndicators!$Y$2:$Y$33,iCC_Overview!$B47)),UPPER(INDEX(tblIndicators!$Y$2:$Y$33,iCC_Overview!$B47))))","v":"3.6) Share of natural resources in trade"},{"$f":"IF(B47=\"\",\"\",INDEX(tblIndicators!$J$2:$J$33,iCC_Overview!$B47))","v":"0-100 percentage"},1,1,1,100,70.5,null,1,0,"|||||||||||||||||||||||||||||||||",null,6.2638868E-2,1,null,{"$error":"#N/A"},{"$error":"#N/A"},{"$error":"#N/A"},null,"","","",null,null,null,null,null,"3.6) Share of natural resources in trade",100,{"$error":"#VALUE!"},{"$error":"#VALUE!"},{"$error":"#VALUE!"},"ENP_15"]

{"sheet":"iCountryCompSpider","index":47,"n_rows":55,"n_cols":34,"rows_kept":55,"cut":false,"hidden":true,"merged":[]}
["Overall Score",null,null,"Score","Rank"]
[{"$f":"uxb_works!A19","v":"CITY1_ID"},{"$f":"uxb_works!B19","v":4},{"$f":"CONCATENATE(\"Description: \",uxb_works!C19)","v":"Description: China"},{"$f":"E6","v":52.464737159200332},{"$f":"INDEX(iIndiRank!$H$6:$H$25,$B$2)","v":13},{"$f":"IF(E2<E3,\"*\",\"\")","v":"*"},null,{"$f":"uxb_works!C19","v":"China"}]
[{"$f":"uxb_works!A20","v":"CITY2_ID"},{"$f":"uxb_works!B20","v":6},{"$f":"CONCATENATE(\"Description: \",uxb_works!C20)","v":"Description: India"},{"$f":"G6","v":47.670755021075209},{"$f":"INDEX(iIndiRank!$H$6:$H$25,$B$3)","v":17},{"$f":"IF(E3<E2,\"*\",\"\")","v":""},null,{"$f":"uxb_works!C20","v":"India"}]
[]
[null,null,null,null,"Score","rank","Score","Rank",null,null,null,null,null,null,null,null,null,null,null,null,"Total"]
[null,null,null,null,{"$f":"INDEX(aScores,1,$B$2)","v":52.464737159200332},{"$f":"INDEX(aRank,1,$B$2)","v":12},{"$f":"INDEX(aScores,1,$B$3)","v":47.670755021075209},{"$f":"INDEX(aRank,1,$B$3)","v":15},null,null,null,null,null,1]
[null,null,null,null,"Country 1",null,"Country 2",null,null,null,null,null,null,{"$f":"INDEX(tblIndiSets!$B$5:$B$10,N6)","v":1},null,null,null,null,null,null,1,1,2,3,4,5,null,null,null,null,null,1]
[null,null,"ActiveStatus",null,"Score","Data","Score","Data","Average",null,null,null,null,"Score","Rank","LU","Rank",null,null,null,"Name","Score","Data","Score","Data","Average","Rank`",null,"units","Star","Star",2,null,"units"]
[{"$f":"tblCategories!A3","v":1},{"$f":"tblCategories!D3","v":"1) ECONOMIC PILLAR"},{"$f":"tblCategories!T3","v":1},1,{"$f":"INDEX(aScores,$A9+1,$B$2)","v":64.245896450811856},{"$f":"IF(INDEX(aData,$A9+1,$B$2)=\"\",\"\",INDEX(aData,$A9+1,$B$2))","v":""},{"$f":"INDEX(aScores,$A9+1,$B$3)","v":56.003674722210675},{"$f":"IF(INDEX(aData,$A9+1,$B$3)=\"\",\"\",INDEX(aData,$A9+1,$B$3))","v":""},{"$f":"rScores!W3","v":56.989999999999995},null,null,null,null,{"$f":"IF($C9=0,\"\",(INDEX($D$9:$H$39,$A9,N$7)))","v":1},{"$f":"IF($C9=0,\"\",RANK(N9,N$9:N$39,1)+COUNTIF(N$9:N9,N9)-1)","v":1},{"$f":"IF(ISERROR(MATCH($A9,O$9:O$39,0)),\"\",MATCH($A9,O$9:O$39,0))","v":1},{"$f":"IF(P9=\"\",\"\",RANK(V9,V$9:V$39,0))","v":1},{"$f":"IF(P9=\"\",\"\",COUNTIF(V$9:V$39,V9))","v":1},{"$f":"IF(P9=\"\",0,INDEX($D$9:$D$39,P9))","v":1},{"$f":"IF(P9=\"\",\"\",IF(R9>1,CONCATENATE(\"=\",Q9),Q9))","v":1},{"$f":"IF($P9=\"\",\"\",INDEX($B$9:$H$39,$P9,U$7))","v":"1) ECONOMIC PILLAR"},{"$f":"IF($P9=\"\",\"\",INDEX($E$9:$L$39,$P9,V$7))","v":64.245896450811856},"",{"$f":"IF($P9=\"\",\"\",INDEX($E$9:$H$39,$P9,X$7))","v":56.003674722210675},{"$f":"IF($P9=\"\",\"\",INDEX($E$9:$L$39,$P9,Y$7))","v":""},56.989999999999995,{"$f":"IF(Q9=\"\",\"\",IF(ISERROR(INDEX(aRank,$P9+1,uxb_works!$B$20)),\"\",INDEX(aRank,$P9+1,uxb_works!$B$20)))","v":11},null,{"$f":"IF(P9=\"\",\"\",INDEX(tblIndicators!$H$3:$H$91,iCountryCompSpider!P9))","v":"Economic pillar"},{"$f":"IF(Z9<AA9,\"*\",\"\")","v":""},{"$f":"IF(AA9<Z9,\"*\",\"\")","v":"*"},3,null,{"$f":"IF(P9=\"\",\"\",INDEX(tblIndicators!$P$3:$P$33,iCountryCompSpider!P9))","v":"#0.0"}]
[{"$f":"tblCategories!A4","v":2},{"$f":"tblCategories!D4","v":"1.10) Growth in per capita GDP"},{"$f":"tblCategories!T4","v":0},1,100,8,70.404984423676012,5.1499999999999995,{"$f":"rScores!W4","v":57.765000000000008},null,null,null,null,"",{"$f":"IF($C10=0,\"\",RANK(N10,N$9:N$39,1)+COUNTIF(N$9:N10,N10)-1)","v":""},20,3,1,1,{"$f":"IF(P10=\"\",\"\",IF(R10>1,CONCATENATE(\"=\",Q10),Q10))","v":3},"2) SOCIAL PILLAR",41.135501681500749,"",39.823441644177827,"",52.620000000000005,{"$f":"IF(Q10=\"\",\"\",IF(ISERROR(INDEX(aRank,$P10+1,uxb_works!$B$20)),\"\",INDEX(aRank,$P10+1,uxb_works!$B$20)))","v":14},null,{"$f":"IF(P10=\"\",\"\",INDEX(tblIndicators!$H$3:$H$91,iCountryCompSpider!P10))","v":"Social pillar"},{"$f":"IF(Z10<AA10,\"*\",\"\")","v":""},{"$f":"IF(AA10<Z10,\"*\",\"\")","v":"*"},4,null,{"$f":"IF(P10=\"\",\"\",INDEX(tblIndicators!$P$3:$P$33,iCountryCompSpider!P10))","v":"#0.0"}]
[{"$f":"tblCategories!A5","v":3},{"$f":"tblCategories!D5","v":"1.11) Current account liberalisation"},{"$f":"tblCategories!T5","v":0},1,85.000000000000014,4.4000000000000004,75,4,{"$f":"rScores!W5","v":90.25},null,null,null,null,"",{"$f":"IF($C11=0,\"\",RANK(N11,N$9:N$39,1)+COUNTIF(N$9:N11,N11)-1)","v":""},25,2,1,1,2,"3) ENVIRONMENTAL PILLAR",52.0128133452884,"",47.185148696837132,"",63.125000000000014,{"$f":"IF(Q11=\"\",\"\",IF(ISERROR(INDEX(aRank,$P11+1,uxb_works!$B$20)),\"\",INDEX(aRank,$P11+1,uxb_works!$B$20)))","v":19},null,{"$f":"IF(P11=\"\",\"\",INDEX(tblIndicators!$H$3:$H$91,iCountryCompSpider!P11))","v":"Environmental pillar"},"","*",5,null,{"$f":"IF(P11=\"\",\"\",INDEX(tblIndicators!$P$3:$P$33,iCountryCompSpider!P11))","v":"#0.0"}]
[{"$f":"tblCategories!A6","v":4},{"$f":"tblCategories!D6","v":"1.12) Tariff & non-tariff barriers"},{"$f":"tblCategories!T6","v":0},1,50,3,25,2,{"$f":"rScores!W6","v":62.25},null,null,null,null,"",{"$f":"IF($C12=0,\"\",RANK(N12,N$9:N$39,1)+COUNTIF(N$9:N12,N12)-1)","v":""},"","","",0,"","","","","","","",{"$f":"IF(Q12=\"\",\"\",IF(ISERROR(INDEX(aRank,$P12+1,uxb_works!$B$20)),\"\",INDEX(aRank,$P12+1,uxb_works!$B$20)))","v":""},null,{"$f":"IF(P12=\"\",\"\",INDEX(tblIndicators!$H$3:$H$91,iCountryCompSpider!P12))","v":""},"","",6,null,{"$f":"IF(P12=\"\",\"\",INDEX(tblIndicators!$P$3:$P$33,iCountryCompSpider!P12))","v":""}]
[{"$f":"tblCategories!A7","v":5},{"$f":"tblCategories!D7","v":"1.13) Exchange rate volatility"},{"$f":"tblCategories!T7","v":0},1,96.575342465753423,0.02,91.780821917808225,3.4000000000000002E-2,{"$f":"rScores!W7","v":91.784999999999997},null,null,null,null,"",{"$f":"IF($C13=0,\"\",RANK(N13,N$9:N$39,1)+COUNTIF(N$9:N13,N13)-1)","v":""},"","","",0,"","","","","","","",{"$f":"IF(Q13=\"\",\"\",IF(ISERROR(INDEX(aRank,$P13+1,uxb_works!$B$20)),\"\",INDEX(aRank,$P13+1,uxb_works!$B$20)))","v":""},null,{"$f":"IF(P13=\"\",\"\",INDEX(tblIndicators!$H$3:$H$91,iCountryCompSpider!P13))","v":""},"","",7,null,{"$f":"IF(P13=\"\",\"\",INDEX(tblIndicators!$P$3:$P$33,iCountryCompSpider!P13))","v":""}]
[{"$f":"tblCategories!A8","v":6},{"$f":"tblCategories!D8","v":"1.14) Financial sector depth"},{"$f":"tblCategories!T8","v":0},1,58.18181818181818,142,16.818181818181817,51,{"$f":"rScores!W8","v":37.045000000000002},null,null,null,null,"",{"$f":"IF($C14=0,\"\",RANK(N14,N$9:N$39,1)+COUNTIF(N$9:N14,N14)-1)","v":""},"","","",0,"","","","","","","",{"$f":"IF(Q14=\"\",\"\",IF(ISERROR(INDEX(aRank,$P14+1,uxb_works!$B$20)),\"\",INDEX(aRank,$P14+1,uxb_works!$B$20)))","v":""},null,{"$f":"IF(P14=\"\",\"\",INDEX(tblIndicators!$H$3:$H$91,iCountryCompSpider!P14))","v":""},"","",8,null,{"$f":"IF(P14=\"\",\"\",INDEX(tblIndicators!$P$3:$P$33,iCountryCompSpider!P14))","v":""}]
[{"$f":"tblCategories!A9","v":7},{"$f":"tblCategories!D9","v":"1.15) Foreign trade and payments risk"},{"$f":"tblCategories!T9","v":0},1,67.676767676767668,33,50.505050505050498,50,{"$f":"rScores!W9","v":63.889999999999986},null,null,null,null,"",{"$f":"IF($C15=0,\"\",RANK(N15,N$9:N$39,1)+COUNTIF(N$9:N15,N15)-1)","v":""},"","","",0,"","","","","","","",{"$f":"IF(Q15=\"\",\"\",IF(ISERROR(INDEX(aRank,$P15+1,uxb_works!$B$20)),\"\",INDEX(aRank,$P15+1,uxb_works!$B$20)))","v":""},null,{"$f":"IF(P15=\"\",\"\",INDEX(tblIndicators!$H$3:$H$91,iCountryCompSpider!P15))","v":""},"","",9,null,{"$f":"IF(P15=\"\",\"\",INDEX(tblIndicators!$P$3:$P$33,iCountryCompSpider!P15))","v":""}]
[{"$f":"tblCategories!A10","v":8},{"$f":"tblCategories!D10","v":"1.16) Export market concentration"},{"$f":"tblCategories!T10","v":0},1,95.292913788692758,11,100,8.0559999999999992,{"$f":"rScores!W10","v":88.474999999999994},null,null,null,null,"",{"$f":"IF($C16=0,\"\",RANK(N16,N$9:N$39,1)+COUNTIF(N$9:N16,N16)-1)","v":""},"","","",0,"","","","","","","",{"$f":"IF(Q16=\"\",\"\",IF(ISERROR(INDEX(aRank,$P16+1,uxb_works!$B$20)),\"\",INDEX(aRank,$P16+1,uxb_works!$B$20)))","v":""},null,{"$f":"IF(P16=\"\",\"\",INDEX(tblIndicators!$H$3:$H$91,iCountryCompSpider!P16))","v":""},"","",10,null,{"$f":"IF(P16=\"\",\"\",INDEX(tblIndicators!$P$3:$P$33,iCountryCompSpider!P16))","v":""}]
[{"$f":"tblCategories!A11","v":9},{"$f":"tblCategories!D11","v":"1.17) Export product concentration"},{"$f":"tblCategories!T11","v":0},1,97.415905546892404,10.64,90.59924259300513,16.760000000000002,{"$f":"rScores!W11","v":84.960000000000008},null,null,null,null,"",{"$f":"IF($C17=0,\"\",RANK(N17,N$9:N$39,1)+COUNTIF(N$9:N17,N17)-1)","v":""},"","","",0,"","","","","","","",{"$f":"IF(Q17=\"\",\"\",IF(ISERROR(INDEX(aRank,$P17+1,uxb_works!$B$20)),\"\",INDEX(aRank,$P17+1,uxb_works!$B$20)))","v":""},null,{"$f":"IF(P17=\"\",\"\",INDEX(tblIndicators!$H$3:$H$91,iCountryCompSpider!P17))","v":""},"","",3,null,{"$f":"IF(P17=\"\",\"\",INDEX(tblIndicators!$P$3:$P$33,iCountryCompSpider!P17))","v":""}]
[{"$f":"tblCategories!A12","v":10},{"$f":"tblCategories!D12","v":"1.18) Foreign Direct Investment"},{"$f":"tblCategories!T12","v":0},1,11.546891895841247,3.9539999999999997,4.7257211327702606,1.6199999999999999,{"$f":"rScores!W12","v":14.375},null,null,null,null,"",{"$f":"IF($C18=0,\"\",RANK(N18,N$9:N$39,1)+COUNTIF(N$9:N18,N18)-1)","v":""},"","","",0,"","","","","","","",{"$f":"IF(Q18=\"\",\"\",IF(ISERROR(INDEX(aRank,$P18+1,uxb_works!$B$20)),\"\",INDEX(aRank,$P18+1,uxb_works!$B$20)))","v":""},null,{"$f":"IF(P18=\"\",\"\",INDEX(tblIndicators!$H$3:$H$91,iCountryCompSpider!P18))","v":""},"","",3,null,{"$f":"IF(P18=\"\",\"\",INDEX(tblIndicators!$P$3:$P$33,iCountryCompSpider!P18))","v":""}]
[{"$f":"tblCategories!A13","v":11},{"$f":"tblCategories!D13","v":"1.19) Gross fixed capital formation"},{"$f":"tblCategories!T13","v":0},1,100,44.456000000000003,56.917530419107685,31.071999999999996,{"$f":"rScores!W13","v":38.735000000000007},null,null,null,null,"",{"$f":"IF($C19=0,\"\",RANK(N19,N$9:N$39,1)+COUNTIF(N$9:N19,N19)-1)","v":""},"","","",0,"","","","","","","",{"$f":"IF(Q19=\"\",\"\",IF(ISERROR(INDEX(aRank,$P19+1,uxb_works!$B$20)),\"\",INDEX(aRank,$P19+1,uxb_works!$B$20)))","v":""},null,{"$f":"IF(P19=\"\",\"\",INDEX(tblIndicators!$H$3:$H$91,iCountryCompSpider!P19))","v":""},"","",3,null,{"$f":"IF(P19=\"\",\"\",INDEX(tblIndicators!$P$3:$P$33,iCountryCompSpider!P19))","v":""}]
[{"$f":"tblCategories!A14","v":12},{"$f":"tblCategories!D14","v":"1.20) Trade costs"},{"$f":"tblCategories!T14","v":0},1,33.969444444444449,"",40.052777777777777,"",{"$f":"rScores!W14","v":44.924999999999997},null,null,null,null,"",{"$f":"IF($C20=0,\"\",RANK(N20,N$9:N$39,1)+COUNTIF(N$9:N20,N20)-1)","v":""},"","","",0,"","","","","","","",{"$f":"IF(Q20=\"\",\"\",IF(ISERROR(INDEX(aRank,$P20+1,uxb_works!$B$20)),\"\",INDEX(aRank,$P20+1,uxb_works!$B$20)))","v":""},null,{"$f":"IF(P20=\"\",\"\",INDEX(tblIndicators!$H$3:$H$91,iCountryCompSpider!P20))","v":""},"","",3,null,{"$f":"IF(P20=\"\",\"\",INDEX(tblIndicators!$P$3:$P$33,iCountryCompSpider!P20))","v":""}]
[{"$f":"tblCategories!A15","v":13},{"$f":"tblCategories!D15","v":"1.20.1)    Infrastructure"},{"$f":"tblCategories!T15","v":0},1,57.777777777777786,6.2,41.111111111111114,4.7,{"$f":"rScores!W15","v":52.440000000000012},null,null,null,null,"",{"$f":"IF($C21=0,\"\",RANK(N21,N$9:N$39,1)+COUNTIF(N$9:N21,N21)-1)","v":""},"","","",0,"","","","","","","",{"$f":"IF(Q21=\"\",\"\",IF(ISERROR(INDEX(aRank,$P21+1,uxb_works!$B$20)),\"\",INDEX(aRank,$P21+1,uxb_works!$B$20)))","v":""},null,{"$f":"IF(P21=\"\",\"\",INDEX(tblIndicators!$H$3:$H$91,iCountryCompSpider!P21))","v":""},"","",3,null,{"$f":"IF(P21=\"\",\"\",INDEX(tblIndicators!$P$3:$P$33,iCountryCompSpider!P21))","v":""}]
[{"$f":"tblCategories!A16","v":14},{"$f":"tblCategories!D16","v":"1.20.2)    Logistics performance"},{"$f":"tblCategories!T16","v":0},1,70.599999999999994,3.53,61.6,3.08,{"$f":"rScores!W16","v":61.38000000000001},null,null,null,null,"",{"$f":"IF($C22=0,\"\",RANK(N22,N$9:N$39,1)+COUNTIF(N$9:N22,N22)-1)","v":""},"","","",0,"","","","","","","",{"$f":"IF(Q22=\"\",\"\",IF(ISERROR(INDEX(aRank,$P22+1,uxb_works!$B$20)),\"\",INDEX(aRank,$P22+1,uxb_works!$B$20)))","v":""},null,{"$f":"IF(P22=\"\",\"\",INDEX(tblIndicators!$H$3:$H$91,iCountryCompSpider!P22))","v":""},"","",3,null,{"$f":"IF(P22=\"\",\"\",INDEX(tblIndicators!$P$3:$P$33,iCountryCompSpider!P22))","v":""}]
[{"$f":"tblCategories!A17","v":15},{"$f":"tblCategories!D17","v":"1.20.3)    Corruption"},{"$f":"tblCategories!T17","v":0},1,0,1,7.5000000000000009,1.3,{"$f":"rScores!W17","v":29.5},null,null,null,null,"",{"$f":"IF($C23=0,\"\",RANK(N23,N$9:N$39,1)+COUNTIF(N$9:N23,N23)-1)","v":""},"","","",0,"","","","","","","",{"$f":"IF(Q23=\"\",\"\",IF(ISERROR(INDEX(aRank,$P23+1,uxb_works!$B$20)),\"\",INDEX(aRank,$P23+1,uxb_works!$B$20)))","v":""},null,{"$f":"IF(P23=\"\",\"\",INDEX(tblIndicators!$H$3:$H$91,iCountryCompSpider!P23))","v":""},"","",3,null,{"$f":"IF(P23=\"\",\"\",INDEX(tblIndicators!$P$3:$P$33,iCountryCompSpider!P23))","v":""}]
[{"$f":"tblCategories!A18","v":16},{"$f":"tblCategories!D18","v":"1.20.4)    Legal system"},{"$f":"tblCategories!T18","v":0},1,7.5000000000000009,1.3,50,3,{"$f":"rScores!W18","v":36.375},null,null,null,null,"",{"$f":"IF($C24=0,\"\",RANK(N24,N$9:N$39,1)+COUNTIF(N$9:N24,N24)-1)","v":""},"","","",0,"","","","","","","",{"$f":"IF(Q24=\"\",\"\",IF(ISERROR(INDEX(aRank,$P24+1,uxb_works!$B$20)),\"\",INDEX(aRank,$P24+1,uxb_works!$B$20)))","v":""},null,{"$f":"IF(P24=\"\",\"\",INDEX(tblIndicators!$H$3:$H$91,iCountryCompSpider!P24))","v":""},"","",3,null,{"$f":"IF(P24=\"\",\"\",INDEX(tblIndicators!$P$3:$P$33,iCountryCompSpider!P24))","v":""}]
[{"$f":"tblCategories!A19","v":17},{"$f":"tblCategories!D19","v":"1.21) Technological innovation"},{"$f":"tblCategories!T19","v":0},1,45.080091533180777,2,17.620137299771166,0.8,{"$f":"rScores!W19","v":25.219999999999995},null,null,null,null,"",{"$f":"IF($C25=0,\"\",RANK(N25,N$9:N$39,1)+COUNTIF(N$9:N25,N25)-1)","v":""},"","","",0,"","","","","","","",{"$f":"IF(Q25=\"\",\"\",IF(ISERROR(INDEX(aRank,$P25+1,uxb_works!$B$20)),\"\",INDEX(aRank,$P25+1,uxb_works!$B$20)))","v":""},null,{"$f":"IF(P25=\"\",\"\",INDEX(tblIndicators!$H$3:$H$91,iCountryCompSpider!P25))","v":""},"","",3,null,{"$f":"IF(P25=\"\",\"\",INDEX(tblIndicators!$P$3:$P$33,iCountryCompSpider!P25))","v":""}]
[{"$f":"tblCategories!A20","v":18},{"$f":"tblCategories!D20","v":"1.22) Technological infrastructure"},{"$f":"tblCategories!T20","v":0},1,50,2,75,1,{"$f":"rScores!W20","v":62.5},null,null,null,null,"",{"$f":"IF($C26=0,\"\",RANK(N26,N$9:N$39,1)+COUNTIF(N$9:N26,N26)-1)","v":""},"","","",0,"","","","","","","",{"$f":"IF(Q26=\"\",\"\",IF(ISERROR(INDEX(aRank,$P26+1,uxb_works!$B$20)),\"\",INDEX(aRank,$P26+1,uxb_works!$B$20)))","v":""},null,{"$f":"IF(P26=\"\",\"\",INDEX(tblIndicators!$H$3:$H$91,iCountryCompSpider!P26))","v":""},"","",3,null,{"$f":"IF(P26=\"\",\"\",INDEX(tblIndicators!$P$3:$P$33,iCountryCompSpider!P26))","v":""}]
[{"$f":"tblCategories!A21","v":19},{"$f":"tblCategories!D21","v":"1.23) Growth in labour force"},{"$f":"tblCategories!T21","v":0},1,8.7033747779751316,-5.7000000000000002E-2,69.626998223801053,0.28599999999999998,{"$f":"rScores!W21","v":35.730000000000004},null,null,null,null,"",{"$f":"IF($C27=0,\"\",RANK(N27,N$9:N$39,1)+COUNTIF(N$9:N27,N27)-1)","v":""},"","","",0,"","","","","","","",{"$f":"IF(Q27=\"\",\"\",IF(ISERROR(INDEX(aRank,$P27+1,uxb_works!$B$20)),\"\",INDEX(aRank,$P27+1,uxb_works!$B$20)))","v":""},null,{"$f":"IF(P27=\"\",\"\",INDEX(tblIndicators!$H$3:$H$91,iCountryCompSpider!P27))","v":""},"","",3,null,{"$f":"IF(P27=\"\",\"\",INDEX(tblIndicators!$P$3:$P$33,iCountryCompSpider!P27))","v":""}]
[{"$f":"tblCategories!A22","v":20},{"$f":"tblCategories!D22","v":"2) SOCIAL PILLAR"},{"$f":"tblCategories!T22","v":1},1,41.135501681500749,"",39.823441644177827,"",{"$f":"rScores!W22","v":52.620000000000005},null,null,null,null,1,{"$f":"IF($C28=0,\"\",RANK(N28,N$9:N$39,1)+COUNTIF(N$9:N28,N28)-1)","v":2},"","","",0,"","","","","","","",{"$f":"IF(Q28=\"\",\"\",IF(ISERROR(INDEX(aRank,$P28+1,uxb_works!$B$20)),\"\",INDEX(aRank,$P28+1,uxb_works!$B$20)))","v":""},null,{"$f":"IF(P28=\"\",\"\",INDEX(tblIndicators!$H$3:$H$91,iCountryCompSpider!P28))","v":""},"","",3,null,{"$f":"IF(P28=\"\",\"\",INDEX(tblIndicators!$P$3:$P$33,iCountryCompSpider!P28))","v":""}]
[{"$f":"tblCategories!A23","v":21},{"$f":"tblCategories!D23","v":"2.1) Inequality (Gini coefficient)"},{"$f":"tblCategories!T23","v":0},1,48.298755186721984,42.06,82.157676348547739,33.9,{"$f":"rScores!W23","v":64.065000000000012},null,null,null,null,"",{"$f":"IF($C29=0,\"\",RANK(N29,N$9:N$39,1)+COUNTIF(N$9:N29,N29)-1)","v":""},"","","",0,"","","","","","","",{"$f":"IF(Q29=\"\",\"\",IF(ISERROR(INDEX(aRank,$P29+1,uxb_works!$B$20)),\"\",INDEX(aRank,$P29+1,uxb_works!$B$20)))","v":""},null,{"$f":"IF(P29=\"\",\"\",INDEX(tblIndicators!$H$3:$H$91,iCountryCompSpider!P29))","v":""},"","",3,null,{"$f":"IF(P29=\"\",\"\",INDEX(tblIndicators!$P$3:$P$33,iCountryCompSpider!P29))","v":""}]
[{"$f":"tblCategories!A24","v":22},{"$f":"tblCategories!D24","v":"2.2) Educational attainment"},{"$f":"tblCategories!T24","v":0},1,22.909918205947672,29.696449999999999,17.136090228163567,24.686689999999999,{"$f":"rScores!W24","v":36.780000000000008},null,null,null,null,"",{"$f":"IF($C30=0,\"\",RANK(N30,N$9:N$39,1)+COUNTIF(N$9:N30,N30)-1)","v":""},"","","",0,"","","","","","","",{"$f":"IF(Q30=\"\",\"\",IF(ISERROR(INDEX(aRank,$P30+1,uxb_works!$B$20)),\"\",INDEX(aRank,$P30+1,uxb_works!$B$20)))","v":""},null,{"$f":"IF(P30=\"\",\"\",INDEX(tblIndicators!$H$3:$H$91,iCountryCompSpider!P30))","v":""},"","",3,null,{"$f":"IF(P30=\"\",\"\",INDEX(tblIndicators!$P$3:$P$33,iCountryCompSpider!P30))","v":""}]
[{"$f":"tblCategories!A25","v":23},{"$f":"tblCategories!D25","v":"2.3) Labour standards"},{"$f":"tblCategories!T25","v":0},1,33.333333333333336,3,0,4,{"$f":"rScores!W25","v":46.664999999999999},null,null,null,null,"",{"$f":"IF($C31=0,\"\",RANK(N31,N$9:N$39,1)+COUNTIF(N$9:N31,N31)-1)","v":""},"","","",0,"","","","","","","",{"$f":"IF(Q31=\"\",\"\",IF(ISERROR(INDEX(aRank,$P31+1,uxb_works!$B$20)),\"\",INDEX(aRank,$P31+1,uxb_works!$B$20)))","v":""},null,{"$f":"IF(P31=\"\",\"\",INDEX(tblIndicators!$H$3:$H$91,iCountryCompSpider!P31))","v":""},"","",3,null,{"$f":"IF(P31=\"\",\"\",INDEX(tblIndicators!$P$3:$P$33,iCountryCompSpider!P31))","v":""}]
[{"$f":"tblCategories!A26","v":24},{"$f":"tblCategories!D26","v":"2.4) Political stability"},{"$f":"tblCategories!T26","v":0},1,60,2,60,2,{"$f":"rScores!W26","v":63},null,null,null,null,"",{"$f":"IF($C32=0,\"\",RANK(N32,N$9:N$39,1)+COUNTIF(N$9:N32,N32)-1)","v":""},"","","",0,"","","","","","","",{"$f":"IF(Q32=\"\",\"\",IF(ISERROR(INDEX(aRank,$P32+1,uxb_works!$B$20)),\"\",INDEX(aRank,$P32+1,uxb_works!$B$20)))","v":""},null,{"$f":"IF(P32=\"\",\"\",INDEX(tblIndicators!$H$3:$H$91,iCountryCompSpider!P32))","v":""},"","",3,null,{"$f":"IF(P32=\"\",\"\",INDEX(tblIndicators!$P$3:$P$33,iCountryCompSpider!P32))","v":""}]
[{"$f":"tblCategories!A27","v":25},{"$f":"tblCategories!D27","v":"3) ENVIRONMENTAL PILLAR"},{"$f":"tblCategories!T27","v":1},1,52.0128133452884,"",47.185148696837132,"",{"$f":"rScores!W27","v":63.125000000000014},null,null,null,null,1,{"$f":"IF($C33=0,\"\",RANK(N33,N$9:N$39,1)+COUNTIF(N$9:N33,N33)-1)","v":3},"","","",0,"","","","","","","",{"$f":"IF(Q33=\"\",\"\",IF(ISERROR(INDEX(aRank,$P33+1,uxb_works!$B$20)),\"\",INDEX(aRank,$P33+1,uxb_works!$B$20)))","v":""},null,{"$f":"IF(P33=\"\",\"\",INDEX(tblIndicators!$H$3:$H$91,iCountryCompSpider!P33))","v":""},"","",3,null,{"$f":"IF(P33=\"\",\"\",INDEX(tblIndicators!$P$3:$P$33,iCountryCompSpider!P33))","v":""}]
[{"$f":"tblCategories!A28","v":26},{"$f":"tblCategories!D28","v":"3.1) Air pollution"},{"$f":"tblCategories!T28","v":0},1,0,48,37.394957983193279,31.98,{"$f":"rScores!W28","v":72.91},null,null,null,null,"",{"$f":"IF($C34=0,\"\",RANK(N34,N$9:N$39,1)+COUNTIF(N$9:N34,N34)-1)","v":""},"","","",0,"","","","","","","",{"$f":"IF(Q34=\"\",\"\",IF(ISERROR(INDEX(aRank,$P34+1,uxb_works!$B$20)),\"\",INDEX(aRank,$P34+1,uxb_works!$B$20)))","v":""},null,{"$f":"IF(P34=\"\",\"\",INDEX(tblIndicators!$H$3:$H$91,iCountryCompSpider!P34))","v":""},"","",3,null,{"$f":"IF(P34=\"\",\"\",INDEX(tblIndicators!$P$3:$P$33,iCountryCompSpider!P34))","v":""}]
[{"$f":"tblCategories!A29","v":27},{"$f":"tblCategories!D29","v":"3.2) Deforestation"},{"$f":"tblCategories!T29","v":0},1,80.57553956834532,-2.5,87.050359712230218,-1.6,{"$f":"rScores!W29","v":77.164999999999992},null,null,null,null,"",{"$f":"IF($C35=0,\"\",RANK(N35,N$9:N$39,1)+COUNTIF(N$9:N35,N35)-1)","v":""},"","","",0,"","","","","","","",{"$f":"IF(Q35=\"\",\"\",IF(ISERROR(INDEX(aRank,$P35+1,uxb_works!$B$20)),\"\",INDEX(aRank,$P35+1,uxb_works!$B$20)))","v":""},null,{"$f":"IF(P35=\"\",\"\",INDEX(tblIndicators!$H$3:$H$91,iCountryCompSpider!P35))","v":""},"","",3,null,{"$f":"IF(P35=\"\",\"\",INDEX(tblIndicators!$P$3:$P$33,iCountryCompSpider!P35))","v":""}]
[{"$f":"tblCategories!A30","v":28},{"$f":"tblCategories!D30","v":"3.3) Water pollution"},{"$f":"tblCategories!T30","v":0},1,18.243765416593078,18.179912237635001,10.526843953838434,10.49,{"$f":"rScores!W30","v":25.385000000000002},null,null,null,null,"",{"$f":"IF($C36=0,\"\",RANK(N36,N$9:N$39,1)+COUNTIF(N$9:N36,N36)-1)","v":""},"","","",0,"","","","","","","",{"$f":"IF(Q36=\"\",\"\",IF(ISERROR(INDEX(aRank,$P36+1,uxb_works!$B$20)),\"\",INDEX(aRank,$P36+1,uxb_works!$B$20)))","v":""},null,{"$f":"IF(P36=\"\",\"\",INDEX(tblIndicators!$H$3:$H$91,iCountryCompSpider!P36))","v":""},"","",3,null,{"$f":"IF(P36=\"\",\"\",INDEX(tblIndicators!$P$3:$P$33,iCountryCompSpider!P36))","v":""}]
[{"$f":"tblCategories!A31","v":29},{"$f":"tblCategories!D31","v":"3.4) Environmental standards in trade"},{"$f":"tblCategories!T31","v":0},1,100,7,66.666666666666657,5,{"$f":"rScores!W31","v":63.335000000000001},null,null,null,null,"",{"$f":"IF($C37=0,\"\",RANK(N37,N$9:N$39,1)+COUNTIF(N$9:N37,N37)-1)","v":""},"","","",0,"","","","","","","",{"$f":"IF(Q37=\"\",\"\",IF(ISERROR(INDEX(aRank,$P37+1,uxb_works!$B$20)),\"\",INDEX(aRank,$P37+1,uxb_works!$B$20)))","v":""},null,{"$f":"IF(P37=\"\",\"\",INDEX(tblIndicators!$H$3:$H$91,iCountryCompSpider!P37))","v":""},"","",3,null,{"$f":"IF(P37=\"\",\"\",INDEX(tblIndicators!$P$3:$P$33,iCountryCompSpider!P37))","v":""}]
[{"$f":"tblCategories!A32","v":30},{"$f":"tblCategories!D32","v":"3.5) Carbon emissions in trade"},{"$f":"tblCategories!T32","v":0},1,13.25757508679205,1.2355930000000001E-3,11.013529934733556,1.267273E-3,{"$f":"rScores!W32","v":67.944999999999993},null,null,null,null,"",{"$f":"IF($C38=0,\"\",RANK(N38,N$9:N$39,1)+COUNTIF(N$9:N38,N38)-1)","v":""},"","","",0,"","","","","","","",{"$f":"IF(Q38=\"\",\"\",IF(ISERROR(INDEX(aRank,$P38+1,uxb_works!$B$20)),\"\",INDEX(aRank,$P38+1,uxb_works!$B$20)))","v":""},null,{"$f":"IF(P38=\"\",\"\",INDEX(tblIndicators!$H$3:$H$91,iCountryCompSpider!P38))","v":""},"","",3,null,{"$f":"IF(P38=\"\",\"\",INDEX(tblIndicators!$P$3:$P$33,iCountryCompSpider!P38))","v":""}]
[{"$f":"tblCategories!A33","v":31},{"$f":"tblCategories!D33","v":"3.6) Share of natural resources in trade"},{"$f":"tblCategories!T33","v":0},1,100,6.2638868E-2,70.458533930360673,0.30399832100000002,{"$f":"rScores!W33","v":72.03},null,null,null,null,"",{"$f":"IF($C39=0,\"\",RANK(N39,N$9:N$39,1)+COUNTIF(N$9:N39,N39)-1)","v":""},"","","",0,"","","","","","","",{"$f":"IF(Q39=\"\",\"\",IF(ISERROR(INDEX(aRank,$P39+1,uxb_works!$B$20)),\"\",INDEX(aRank,$P39+1,uxb_works!$B$20)))","v":""},null,{"$f":"IF(P39=\"\",\"\",INDEX(tblIndicators!$H$3:$H$91,iCountryCompSpider!P39))","v":""},"","",3,null,{"$f":"IF(P39=\"\",\"\",INDEX(tblIndicators!$P$3:$P$33,iCountryCompSpider!P39))","v":""}]
[]
[null,null,null,null,{"$f":"H2","v":"China"},{"$f":"H3","v":"India"},{"$f":"rScores!W1","v":"Average: All Incomes"}]
[null,null,{"$f":"IF(D42=\"\",0,1)","v":1},{"$f":"U9","v":"1) ECONOMIC PILLAR"},{"$f":"V9","v":64.245896450811856},{"$f":"X9","v":56.003674722210675},{"$f":"Z9","v":56.989999999999995}]
[null,null,{"$f":"IF(D43=\"\",0,1)","v":1},"2) SOCIAL PILLAR",41.135501681500749,{"$f":"X10","v":39.823441644177827},{"$f":"Z10","v":52.620000000000005}]
[null,null,1,"3) ENVIRONMENTAL PILLAR",52.0128133452884,47.185148696837132,63.125000000000014]
[null,null,0,"","","",""]
[null,null,0,"","","",""]
[null,null,0,"","","",""]
[null,null,0,"","","",""]
[null,null,0,"","","",""]
[null,null,0,"","","",""]
[null,null,0,"","","",""]
[null,null,0,"","","",""]
[null,null,0,"","","",""]
[null,null,0,"","","",""]
[null,null,0,"","","",""]

{"sheet":"iCityCompare","index":48,"n_rows":39,"n_cols":37,"rows_kept":39,"cut":false,"hidden":true,"merged":[]}
["Overall Score",null,null,"Score","Rank"]
[{"$f":"uxb_works!A19","v":"CITY1_ID"},{"$f":"uxb_works!B19","v":4},{"$f":"CONCATENATE(\"Description: \",uxb_works!C19)","v":"Description: China"},{"$f":"E6","v":52.464737159200332},{"$f":"INDEX(iIndiRank!$H$6:$H$25,$B$2)","v":13},{"$f":"IF(E2<E3,\"*\",\"\")","v":"*"},{"$f":"IF(COUNTIF(rScores!$B$38:$U$38,E2)>1,\"=\",\"\")","v":""},{"$f":"G2&E2","v":"13"}]
[{"$f":"uxb_works!A20","v":"CITY2_ID"},{"$f":"uxb_works!B20","v":6},{"$f":"CONCATENATE(\"Description: \",uxb_works!C20)","v":"Description: India"},{"$f":"G6","v":47.670755021075209},{"$f":"INDEX(iIndiRank!$H$6:$H$25,$B$3)","v":17},{"$f":"IF(E3<E2,\"*\",\"\")","v":""},{"$f":"IF(COUNTIF(rScores!$B$38:$U$38,E3)>1,\"=\",\"\")","v":""},{"$f":"G3&E3","v":"17"}]
[]
[null,null,null,null,"Score","rank","Score","Rank",null,null,null,null,null,null,null,null,null,null,null,null,"Total"]
[null,null,null,null,{"$f":"INDEX(aScores,1,$B$2)","v":52.464737159200332},{"$f":"G2&INDEX(aRank,1,$B$2)","v":"12"},{"$f":"INDEX(aScores,1,$B$3)","v":47.670755021075209},{"$f":"G3&INDEX(aRank,1,$B$3)","v":"15"},null,null,null,null,null,1]
[null,null,null,null,"City 1",null,"City 2",null,null,null,null,null,null,{"$f":"INDEX(tblIndiSets!$B$5:$B$10,N6)","v":1},null,null,null,null,null,null,1,1,2,3,4,"City 1","City 2",null,null,null,null,null,null,null,1,8]
[null,null,"ActiveStatus",null,"Score","Data","Score","Data",null,null,null,null,null,"Score","Rank","LU","Rank",null,null,null,"Name","Score","Data","Score","Data","Rank`","Rank`","= or not","= or not",null,null,"units","Star","Star",2,"Depth","units"]
[{"$f":"tblCategories!A3","v":1},{"$f":"tblCategories!D3","v":"1) ECONOMIC PILLAR"},{"$f":"tblCategories!F3","v":1},1,{"$f":"INDEX(aScores,$A9+1,$B$2)","v":64.245896450811856},{"$f":"IF(INDEX(aData,$A9+1,$B$2)=\"\",\"\",INDEX(aData,$A9+1,$B$2))","v":""},{"$f":"INDEX(aScores,$A9+1,$B$3)","v":56.003674722210675},{"$f":"IF(INDEX(aData,$A9+1,$B$3)=\"\",\"\",INDEX(aData,$A9+1,$B$3))","v":""},{"$f":"tblIndicators!F3","v":1},null,null,null,null,{"$f":"IF($C9=0,\"\",(INDEX($D$9:$H$39,$A9,N$7)))","v":1},{"$f":"IF($C9=0,\"\",RANK(N9,N$9:N$39,1)+COUNTIF(N$9:N9,N9)-1)","v":1},{"$f":"IF(ISERROR(MATCH($A9,O$9:O$39,0)),\"\",MATCH($A9,O$9:O$39,0))","v":1},{"$f":"IF(P9=\"\",\"\",RANK(V9,V$9:V$39,0))","v":12},{"$f":"IF(P9=\"\",\"\",COUNTIF(V$9:V$39,V9))","v":1},{"$f":"IF(P9=\"\",0,INDEX($D$9:$D$39,P9))","v":1},{"$f":"IF(P9=\"\",\"\",IF(R9>1,CONCATENATE(\"=\",Q9),Q9))","v":12},{"$f":"IF($P9=\"\",\"\",REPT(\" \",AJ9)&INDEX($B$9:$I$39,$P9,U$7))","v":" 1) ECONOMIC PILLAR"},{"$f":"IF($P9=\"\",\"\",INDEX($E$9:$L$39,$P9,V$7))","v":64.245896450811856},"",{"$f":"IF($P9=\"\",\"\",INDEX($E$9:$H$39,$P9,X$7))","v":56.003674722210675},{"$f":"IF($P9=\"\",\"\",INDEX($E$9:$L$39,$P9,Y$7))","v":""},{"$f":"IF(P9=\"\",\"\",IF(ISERROR(INDEX(aRank,$P9+1,uxb_works!$B$19)),\"\",INDEX(aRank,$P9+1,uxb_works!$B$19)))","v":8},{"$f":"IF(Q9=\"\",\"\",IF(ISERROR(INDEX(aRank,$P9+1,uxb_works!$B$20)),\"\",INDEX(aRank,$P9+1,uxb_works!$B$20)))","v":11},{"$f":"COUNTIF(rScores!$B39:$U39,Z9)","v":1},{"$f":"COUNTIF(rScores!$B39:$U39,AA9)","v":1},{"$f":"IF(AB9>1,\"=\",\"\")&Z9","v":"8"},{"$f":"IF(AC9>1,\"=\",\"\")&AA9","v":"11"},{"$f":"IF(P9=\"\",\"\",INDEX(tblIndicators!$H$3:$H$91,iCityCompare!P9))","v":"Economic pillar"},{"$f":"IF(Z9<AA9,\"*\",\"\")","v":"*"},{"$f":"IF(AA9<Z9,\"*\",\"\")","v":""},3,{"$f":"IF($P9=\"\",\"\",INDEX($B$9:$I$39,$P9,AJ$7))","v":1},{"$f":"IF(P9=\"\",\"\",INDEX(tblIndicators!$P$3:$P$33,iCityCompare!P9))","v":"#0.0"}]
[{"$f":"tblCategories!A4","v":2},{"$f":"tblCategories!D4","v":"1.10) Growth in per capita GDP"},{"$f":"tblCategories!F4","v":1},1,100,8,70.404984423676012,5.1499999999999995,{"$f":"tblIndicators!F4","v":2},null,null,null,null,1,{"$f":"IF($C10=0,\"\",RANK(N10,N$9:N$39,1)+COUNTIF(N$9:N10,N10)-1)","v":2},2,1,4,1,{"$f":"IF(P10=\"\",\"\",IF(R10>1,CONCATENATE(\"=\",Q10),Q10))","v":"=1"},{"$f":"IF($P10=\"\",\"\",REPT(\" \",AJ10)&INDEX($B$9:$I$39,$P10,U$7))","v":"  1.10) Growth in per capita GDP"},100,8,70.404984423676012,5.1499999999999995,{"$f":"IF(P10=\"\",\"\",IF(ISERROR(INDEX(aRank,$P10+1,uxb_works!$B$19)),\"\",INDEX(aRank,$P10+1,uxb_works!$B$19)))","v":1},{"$f":"IF(Q10=\"\",\"\",IF(ISERROR(INDEX(aRank,$P10+1,uxb_works!$B$20)),\"\",INDEX(aRank,$P10+1,uxb_works!$B$20)))","v":4},{"$f":"COUNTIF(rScores!$B40:$U40,Z10)","v":1},{"$f":"COUNTIF(rScores!$B40:$U40,AA10)","v":1},{"$f":"IF(AB10>1,\"=\",\"\")&Z10","v":"1"},{"$f":"IF(AC10>1,\"=\",\"\")&AA10","v":"4"},{"$f":"IF(P10=\"\",\"\",INDEX(tblIndicators!$H$3:$H$91,iCityCompare!P10))","v":"Growth in per capita GDP"},{"$f":"IF(Z10<AA10,\"*\",\"\")","v":"*"},{"$f":"IF(AA10<Z10,\"*\",\"\")","v":""},4,{"$f":"IF($P10=\"\",\"\",INDEX($B$9:$I$39,$P10,AJ$7))","v":2},{"$f":"IF(P10=\"\",\"\",INDEX(tblIndicators!$P$3:$P$33,iCityCompare!P10))","v":"#0.0"}]
[{"$f":"tblCategories!A5","v":3},{"$f":"tblCategories!D5","v":"1.11) Current account liberalisation"},{"$f":"tblCategories!F5","v":1},1,85.000000000000014,4.4000000000000004,75,4,{"$f":"tblIndicators!F5","v":2},null,null,null,null,1,{"$f":"IF($C11=0,\"\",RANK(N11,N$9:N$39,1)+COUNTIF(N$9:N11,N11)-1)","v":3},3,8,1,1,8,"  1.11) Current account liberalisation",85.000000000000014,4.4000000000000004,75,4,{"$f":"IF(P11=\"\",\"\",IF(ISERROR(INDEX(aRank,$P11+1,uxb_works!$B$19)),\"\",INDEX(aRank,$P11+1,uxb_works!$B$19)))","v":13},{"$f":"IF(Q11=\"\",\"\",IF(ISERROR(INDEX(aRank,$P11+1,uxb_works!$B$20)),\"\",INDEX(aRank,$P11+1,uxb_works!$B$20)))","v":16},{"$f":"COUNTIF(rScores!$B41:$U41,Z11)","v":3},{"$f":"COUNTIF(rScores!$B41:$U41,AA11)","v":4},"=13","=16",{"$f":"IF(P11=\"\",\"\",INDEX(tblIndicators!$H$3:$H$91,iCityCompare!P11))","v":"Current account liberalisation"},"*","",5,2,{"$f":"IF(P11=\"\",\"\",INDEX(tblIndicators!$P$3:$P$33,iCityCompare!P11))","v":"#0"}]
[{"$f":"tblCategories!A6","v":4},{"$f":"tblCategories!D6","v":"1.12) Tariff & non-tariff barriers"},{"$f":"tblCategories!F6","v":1},1,50,3,25,2,{"$f":"tblIndicators!F6","v":2},null,null,null,null,1,{"$f":"IF($C12=0,\"\",RANK(N12,N$9:N$39,1)+COUNTIF(N$9:N12,N12)-1)","v":4},4,17,2,1,"=17","  1.12) Tariff & non-tariff barriers",50,3,25,2,{"$f":"IF(P12=\"\",\"\",IF(ISERROR(INDEX(aRank,$P12+1,uxb_works!$B$19)),\"\",INDEX(aRank,$P12+1,uxb_works!$B$19)))","v":13},{"$f":"IF(Q12=\"\",\"\",IF(ISERROR(INDEX(aRank,$P12+1,uxb_works!$B$20)),\"\",INDEX(aRank,$P12+1,uxb_works!$B$20)))","v":18},{"$f":"COUNTIF(rScores!$B42:$U42,Z12)","v":4},{"$f":"COUNTIF(rScores!$B42:$U42,AA12)","v":3},"=13","=18",{"$f":"IF(P12=\"\",\"\",INDEX(tblIndicators!$H$3:$H$91,iCityCompare!P12))","v":"Tariff & non-tariff barriers"},"*","",6,2,{"$f":"IF(P12=\"\",\"\",INDEX(tblIndicators!$P$3:$P$33,iCityCompare!P12))","v":"#0"}]
[{"$f":"tblCategories!A7","v":5},{"$f":"tblCategories!D7","v":"1.13) Exchange rate volatility"},{"$f":"tblCategories!F7","v":1},1,96.575342465753423,0.02,91.780821917808225,3.4000000000000002E-2,{"$f":"tblIndicators!F7","v":2},null,null,null,null,1,{"$f":"IF($C13=0,\"\",RANK(N13,N$9:N$39,1)+COUNTIF(N$9:N13,N13)-1)","v":5},5,6,1,1,6,"  1.13) Exchange rate volatility",96.575342465753423,0.02,91.780821917808225,3.4000000000000002E-2,{"$f":"IF(P13=\"\",\"\",IF(ISERROR(INDEX(aRank,$P13+1,uxb_works!$B$19)),\"\",INDEX(aRank,$P13+1,uxb_works!$B$19)))","v":9},{"$f":"IF(Q13=\"\",\"\",IF(ISERROR(INDEX(aRank,$P13+1,uxb_works!$B$20)),\"\",INDEX(aRank,$P13+1,uxb_works!$B$20)))","v":19},{"$f":"COUNTIF(rScores!$B43:$U43,Z13)","v":4},{"$f":"COUNTIF(rScores!$B43:$U43,AA13)","v":1},"=9","19",{"$f":"IF(P13=\"\",\"\",INDEX(tblIndicators!$H$3:$H$91,iCityCompare!P13))","v":"Exchange rate volatility"},"*","",7,2,{"$f":"IF(P13=\"\",\"\",INDEX(tblIndicators!$P$3:$P$33,iCityCompare!P13))","v":"#0.00"}]
[{"$f":"tblCategories!A8","v":6},{"$f":"tblCategories!D8","v":"1.14) Financial sector depth"},{"$f":"tblCategories!F8","v":1},1,58.18181818181818,142,16.818181818181817,51,{"$f":"tblIndicators!F8","v":2},null,null,null,null,1,{"$f":"IF($C14=0,\"\",RANK(N14,N$9:N$39,1)+COUNTIF(N$9:N14,N14)-1)","v":6},6,14,1,1,14,"  1.14) Financial sector depth",58.18181818181818,142,16.818181818181817,51,{"$f":"IF(P14=\"\",\"\",IF(ISERROR(INDEX(aRank,$P14+1,uxb_works!$B$19)),\"\",INDEX(aRank,$P14+1,uxb_works!$B$19)))","v":6},{"$f":"IF(Q14=\"\",\"\",IF(ISERROR(INDEX(aRank,$P14+1,uxb_works!$B$20)),\"\",INDEX(aRank,$P14+1,uxb_works!$B$20)))","v":12},{"$f":"COUNTIF(rScores!$B44:$U44,Z14)","v":1},{"$f":"COUNTIF(rScores!$B44:$U44,AA14)","v":1},"6","12",{"$f":"IF(P14=\"\",\"\",INDEX(tblIndicators!$H$3:$H$91,iCityCompare!P14))","v":"Financial sector depth"},"*","",8,2,{"$f":"IF(P14=\"\",\"\",INDEX(tblIndicators!$P$3:$P$33,iCityCompare!P14))","v":"#0"}]
[{"$f":"tblCategories!A9","v":7},{"$f":"tblCategories!D9","v":"1.15) Foreign trade and payments risk"},{"$f":"tblCategories!F9","v":1},1,67.676767676767668,33,50.505050505050498,50,{"$f":"tblIndicators!F9","v":2},null,null,null,null,1,{"$f":"IF($C15=0,\"\",RANK(N15,N$9:N$39,1)+COUNTIF(N$9:N15,N15)-1)","v":7},7,11,1,1,11,"  1.15) Foreign trade and payments risk",67.676767676767668,33,50.505050505050498,50,{"$f":"IF(P15=\"\",\"\",IF(ISERROR(INDEX(aRank,$P15+1,uxb_works!$B$19)),\"\",INDEX(aRank,$P15+1,uxb_works!$B$19)))","v":10},{"$f":"IF(Q15=\"\",\"\",IF(ISERROR(INDEX(aRank,$P15+1,uxb_works!$B$20)),\"\",INDEX(aRank,$P15+1,uxb_works!$B$20)))","v":16},{"$f":"COUNTIF(rScores!$B45:$U45,Z15)","v":1},{"$f":"COUNTIF(rScores!$B45:$U45,AA15)","v":1},"10","16",{"$f":"IF(P15=\"\",\"\",INDEX(tblIndicators!$H$3:$H$91,iCityCompare!P15))","v":"Foreign trade and payments risk"},"*","",9,2,{"$f":"IF(P15=\"\",\"\",INDEX(tblIndicators!$P$3:$P$33,iCityCompare!P15))","v":"#0"}]
[{"$f":"tblCategories!A10","v":8},{"$f":"tblCategories!D10","v":"1.16) Export market concentration"},{"$f":"tblCategories!F10","v":1},1,95.292913788692758,11,100,8.0559999999999992,{"$f":"tblIndicators!F10","v":2},null,null,null,null,1,{"$f":"IF($C16=0,\"\",RANK(N16,N$9:N$39,1)+COUNTIF(N$9:N16,N16)-1)","v":8},8,7,1,1,7,"  1.16) Export market concentration",95.292913788692758,11,100,8.0559999999999992,{"$f":"IF(P16=\"\",\"\",IF(ISERROR(INDEX(aRank,$P16+1,uxb_works!$B$19)),\"\",INDEX(aRank,$P16+1,uxb_works!$B$19)))","v":7},{"$f":"IF(Q16=\"\",\"\",IF(ISERROR(INDEX(aRank,$P16+1,uxb_works!$B$20)),\"\",INDEX(aRank,$P16+1,uxb_works!$B$20)))","v":1},{"$f":"COUNTIF(rScores!$B46:$U46,Z16)","v":1},{"$f":"COUNTIF(rScores!$B46:$U46,AA16)","v":1},"7","1",{"$f":"IF(P16=\"\",\"\",INDEX(tblIndicators!$H$3:$H$91,iCityCompare!P16))","v":"Export market concentration"},"","*",10,2,{"$f":"IF(P16=\"\",\"\",INDEX(tblIndicators!$P$3:$P$33,iCityCompare!P16))","v":"#0.00"}]
[{"$f":"tblCategories!A11","v":9},{"$f":"tblCategories!D11","v":"1.17) Export product concentration"},{"$f":"tblCategories!F11","v":1},1,97.415905546892404,10.64,90.59924259300513,16.760000000000002,{"$f":"tblIndicators!F11","v":2},null,null,null,null,1,{"$f":"IF($C17=0,\"\",RANK(N17,N$9:N$39,1)+COUNTIF(N$9:N17,N17)-1)","v":9},9,5,1,1,5,"  1.17) Export product concentration",97.415905546892404,10.64,90.59924259300513,16.760000000000002,{"$f":"IF(P17=\"\",\"\",IF(ISERROR(INDEX(aRank,$P17+1,uxb_works!$B$19)),\"\",INDEX(aRank,$P17+1,uxb_works!$B$19)))","v":3},{"$f":"IF(Q17=\"\",\"\",IF(ISERROR(INDEX(aRank,$P17+1,uxb_works!$B$20)),\"\",INDEX(aRank,$P17+1,uxb_works!$B$20)))","v":7},{"$f":"COUNTIF(rScores!$B47:$U47,Z17)","v":1},{"$f":"COUNTIF(rScores!$B47:$U47,AA17)","v":2},"3","=7",{"$f":"IF(P17=\"\",\"\",INDEX(tblIndicators!$H$3:$H$91,iCityCompare!P17))","v":"Export product concentration"},"*","",3,2,{"$f":"IF(P17=\"\",\"\",INDEX(tblIndicators!$P$3:$P$33,iCityCompare!P17))","v":"#0.0"}]
[{"$f":"tblCategories!A12","v":10},{"$f":"tblCategories!D12","v":"1.18) Foreign Direct Investment"},{"$f":"tblCategories!F12","v":1},1,11.546891895841247,3.9539999999999997,4.7257211327702606,1.6199999999999999,{"$f":"tblIndicators!F12","v":2},null,null,null,null,1,{"$f":"IF($C18=0,\"\",RANK(N18,N$9:N$39,1)+COUNTIF(N$9:N18,N18)-1)","v":10},10,27,1,1,27,"  1.18) Foreign Direct Investment",11.546891895841247,3.9539999999999997,4.7257211327702606,1.6199999999999999,{"$f":"IF(P18=\"\",\"\",IF(ISERROR(INDEX(aRank,$P18+1,uxb_works!$B$19)),\"\",INDEX(aRank,$P18+1,uxb_works!$B$19)))","v":6},{"$f":"IF(Q18=\"\",\"\",IF(ISERROR(INDEX(aRank,$P18+1,uxb_works!$B$20)),\"\",INDEX(aRank,$P18+1,uxb_works!$B$20)))","v":11},{"$f":"COUNTIF(rScores!$B48:$U48,Z18)","v":1},{"$f":"COUNTIF(rScores!$B48:$U48,AA18)","v":1},"6","11",{"$f":"IF(P18=\"\",\"\",INDEX(tblIndicators!$H$3:$H$91,iCityCompare!P18))","v":"Foreign Direct Investment"},"*","",3,2,{"$f":"IF(P18=\"\",\"\",INDEX(tblIndicators!$P$3:$P$33,iCityCompare!P18))","v":"#0.0"}]
[{"$f":"tblCategories!A13","v":11},{"$f":"tblCategories!D13","v":"1.19) Gross fixed capital formation"},{"$f":"tblCategories!F13","v":1},1,100,44.456000000000003,56.917530419107685,31.071999999999996,{"$f":"tblIndicators!F13","v":2},null,null,null,null,1,{"$f":"IF($C19=0,\"\",RANK(N19,N$9:N$39,1)+COUNTIF(N$9:N19,N19)-1)","v":11},11,1,4,1,"=1","  1.19) Gross fixed capital formation",100,44.456000000000003,56.917530419107685,31.071999999999996,{"$f":"IF(P19=\"\",\"\",IF(ISERROR(INDEX(aRank,$P19+1,uxb_works!$B$19)),\"\",INDEX(aRank,$P19+1,uxb_works!$B$19)))","v":1},{"$f":"IF(Q19=\"\",\"\",IF(ISERROR(INDEX(aRank,$P19+1,uxb_works!$B$20)),\"\",INDEX(aRank,$P19+1,uxb_works!$B$20)))","v":4},{"$f":"COUNTIF(rScores!$B49:$U49,Z19)","v":1},{"$f":"COUNTIF(rScores!$B49:$U49,AA19)","v":1},"1","4",{"$f":"IF(P19=\"\",\"\",INDEX(tblIndicators!$H$3:$H$91,iCityCompare!P19))","v":"Gross fixed capital formation"},"*","",3,2,{"$f":"IF(P19=\"\",\"\",INDEX(tblIndicators!$P$3:$P$33,iCityCompare!P19))","v":"#0.00"}]
[{"$f":"tblCategories!A14","v":12},{"$f":"tblCategories!D14","v":"1.20) Trade costs"},{"$f":"tblCategories!F14","v":1},1,33.969444444444449,"",40.052777777777777,"",{"$f":"tblIndicators!F14","v":2},null,null,null,null,1,{"$f":"IF($C20=0,\"\",RANK(N20,N$9:N$39,1)+COUNTIF(N$9:N20,N20)-1)","v":12},12,22,1,1,22,"  1.20) Trade costs",33.969444444444449,"",40.052777777777777,"",{"$f":"IF(P20=\"\",\"\",IF(ISERROR(INDEX(aRank,$P20+1,uxb_works!$B$19)),\"\",INDEX(aRank,$P20+1,uxb_works!$B$19)))","v":11},{"$f":"IF(Q20=\"\",\"\",IF(ISERROR(INDEX(aRank,$P20+1,uxb_works!$B$20)),\"\",INDEX(aRank,$P20+1,uxb_works!$B$20)))","v":10},{"$f":"COUNTIF(rScores!$B50:$U50,Z20)","v":1},{"$f":"COUNTIF(rScores!$B50:$U50,AA20)","v":1},"11","10",{"$f":"IF(P20=\"\",\"\",INDEX(tblIndicators!$H$3:$H$91,iCityCompare!P20))","v":"Trade costs"},"","*",3,2,{"$f":"IF(P20=\"\",\"\",INDEX(tblIndicators!$P$3:$P$33,iCityCompare!P20))","v":"#0.0"}]
[{"$f":"tblCategories!A15","v":13},{"$f":"tblCategories!D15","v":"1.20.1)    Infrastructure"},{"$f":"tblCategories!F15","v":1},1,57.777777777777786,6.2,41.111111111111114,4.7,{"$f":"tblIndicators!F15","v":3},null,null,null,null,1,{"$f":"IF($C21=0,\"\",RANK(N21,N$9:N$39,1)+COUNTIF(N$9:N21,N21)-1)","v":13},13,15,1,1,15,"   1.20.1)    Infrastructure",57.777777777777786,6.2,41.111111111111114,4.7,{"$f":"IF(P21=\"\",\"\",IF(ISERROR(INDEX(aRank,$P21+1,uxb_works!$B$19)),\"\",INDEX(aRank,$P21+1,uxb_works!$B$19)))","v":8},{"$f":"IF(Q21=\"\",\"\",IF(ISERROR(INDEX(aRank,$P21+1,uxb_works!$B$20)),\"\",INDEX(aRank,$P21+1,uxb_works!$B$20)))","v":14},{"$f":"COUNTIF(rScores!$B51:$U51,Z21)","v":1},{"$f":"COUNTIF(rScores!$B51:$U51,AA21)","v":1},"8","14",{"$f":"IF(P21=\"\",\"\",INDEX(tblIndicators!$H$3:$H$91,iCityCompare!P21))","v":"   Infrastructure"},"*","",3,3,{"$f":"IF(P21=\"\",\"\",INDEX(tblIndicators!$P$3:$P$33,iCityCompare!P21))","v":"#0.0"}]
[{"$f":"tblCategories!A16","v":14},{"$f":"tblCategories!D16","v":"1.20.2)    Logistics performance"},{"$f":"tblCategories!F16","v":1},1,70.599999999999994,3.53,61.6,3.08,{"$f":"tblIndicators!F16","v":3},null,null,null,null,1,{"$f":"IF($C22=0,\"\",RANK(N22,N$9:N$39,1)+COUNTIF(N$9:N22,N22)-1)","v":14},14,10,1,1,10,"   1.20.2)    Logistics performance",70.599999999999994,3.53,61.6,3.08,{"$f":"IF(P22=\"\",\"\",IF(ISERROR(INDEX(aRank,$P22+1,uxb_works!$B$19)),\"\",INDEX(aRank,$P22+1,uxb_works!$B$19)))","v":8},{"$f":"IF(Q22=\"\",\"\",IF(ISERROR(INDEX(aRank,$P22+1,uxb_works!$B$20)),\"\",INDEX(aRank,$P22+1,uxb_works!$B$20)))","v":11},{"$f":"COUNTIF(rScores!$B52:$U52,Z22)","v":1},{"$f":"COUNTIF(rScores!$B52:$U52,AA22)","v":2},"8","=11",{"$f":"IF(P22=\"\",\"\",INDEX(tblIndicators!$H$3:$H$91,iCityCompare!P22))","v":"   Logistics performance"},"*","",3,3,{"$f":"IF(P22=\"\",\"\",INDEX(tblIndicators!$P$3:$P$33,iCityCompare!P22))","v":"#0.00"}]
[{"$f":"tblCategories!A17","v":15},{"$f":"tblCategories!D17","v":"1.20.3)    Corruption"},{"$f":"tblCategories!F17","v":1},1,0,1,7.5000000000000009,1.3,{"$f":"tblIndicators!F17","v":3},null,null,null,null,1,{"$f":"IF($C23=0,\"\",RANK(N23,N$9:N$39,1)+COUNTIF(N$9:N23,N23)-1)","v":15},15,30,2,1,"=30","   1.20.3)    Corruption",0,1,7.5000000000000009,1.3,{"$f":"IF(P23=\"\",\"\",IF(ISERROR(INDEX(aRank,$P23+1,uxb_works!$B$19)),\"\",INDEX(aRank,$P23+1,uxb_works!$B$19)))","v":13},{"$f":"IF(Q23=\"\",\"\",IF(ISERROR(INDEX(aRank,$P23+1,uxb_works!$B$20)),\"\",INDEX(aRank,$P23+1,uxb_works!$B$20)))","v":11},{"$f":"COUNTIF(rScores!$B53:$U53,Z23)","v":8},{"$f":"COUNTIF(rScores!$B53:$U53,AA23)","v":2},"=13","=11",{"$f":"IF(P23=\"\",\"\",INDEX(tblIndicators!$H$3:$H$91,iCityCompare!P23))","v":"   Corruption"},"","*",3,3,{"$f":"IF(P23=\"\",\"\",INDEX(tblIndicators!$P$3:$P$33,iCityCompare!P23))","v":"#0"}]
[{"$f":"tblCategories!A18","v":16},{"$f":"tblCategories!D18","v":"1.20.4)    Legal system"},{"$f":"tblCategories!F18","v":1},1,7.5000000000000009,1.3,50,3,{"$f":"tblIndicators!F18","v":3},null,null,null,null,1,{"$f":"IF($C24=0,\"\",RANK(N24,N$9:N$39,1)+COUNTIF(N$9:N24,N24)-1)","v":16},16,29,1,1,29,"   1.20.4)    Legal system",7.5000000000000009,1.3,50,3,{"$f":"IF(P24=\"\",\"\",IF(ISERROR(INDEX(aRank,$P24+1,uxb_works!$B$19)),\"\",INDEX(aRank,$P24+1,uxb_works!$B$19)))","v":16},{"$f":"IF(Q24=\"\",\"\",IF(ISERROR(INDEX(aRank,$P24+1,uxb_works!$B$20)),\"\",INDEX(aRank,$P24+1,uxb_works!$B$20)))","v":6},{"$f":"COUNTIF(rScores!$B54:$U54,Z24)","v":1},{"$f":"COUNTIF(rScores!$B54:$U54,AA24)","v":5},"16","=6",{"$f":"IF(P24=\"\",\"\",INDEX(tblIndicators!$H$3:$H$91,iCityCompare!P24))","v":"   Legal system"},"","*",3,3,{"$f":"IF(P24=\"\",\"\",INDEX(tblIndicators!$P$3:$P$33,iCityCompare!P24))","v":"#0"}]
[{"$f":"tblCategories!A19","v":17},{"$f":"tblCategories!D19","v":"1.21) Technological innovation"},{"$f":"tblCategories!F19","v":1},1,45.080091533180777,2,17.620137299771166,0.8,{"$f":"tblIndicators!F19","v":2},null,null,null,null,1,{"$f":"IF($C25=0,\"\",RANK(N25,N$9:N$39,1)+COUNTIF(N$9:N25,N25)-1)","v":17},17,20,1,1,20,"  1.21) Technological innovation",45.080091533180777,2,17.620137299771166,0.8,{"$f":"IF(P25=\"\",\"\",IF(ISERROR(INDEX(aRank,$P25+1,uxb_works!$B$19)),\"\",INDEX(aRank,$P25+1,uxb_works!$B$19)))","v":6},{"$f":"IF(Q25=\"\",\"\",IF(ISERROR(INDEX(aRank,$P25+1,uxb_works!$B$20)),\"\",INDEX(aRank,$P25+1,uxb_works!$B$20)))","v":8},{"$f":"COUNTIF(rScores!$B55:$U55,Z25)","v":1},{"$f":"COUNTIF(rScores!$B55:$U55,AA25)","v":2},"6","=8",{"$f":"IF(P25=\"\",\"\",INDEX(tblIndicators!$H$3:$H$91,iCityCompare!P25))","v":"Technological innovation"},"*","",3,2,{"$f":"IF(P25=\"\",\"\",INDEX(tblIndicators!$P$3:$P$33,iCityCompare!P25))","v":"#0.0"}]
[{"$f":"tblCategories!A20","v":18},{"$f":"tblCategories!D20","v":"1.22) Technological infrastructure"},{"$f":"tblCategories!F20","v":1},1,50,2,75,1,{"$f":"tblIndicators!F20","v":2},null,null,null,null,1,{"$f":"IF($C26=0,\"\",RANK(N26,N$9:N$39,1)+COUNTIF(N$9:N26,N26)-1)","v":18},18,17,2,1,"=17","  1.22) Technological infrastructure",50,2,75,1,{"$f":"IF(P26=\"\",\"\",IF(ISERROR(INDEX(aRank,$P26+1,uxb_works!$B$19)),\"\",INDEX(aRank,$P26+1,uxb_works!$B$19)))","v":11},{"$f":"IF(Q26=\"\",\"\",IF(ISERROR(INDEX(aRank,$P26+1,uxb_works!$B$20)),\"\",INDEX(aRank,$P26+1,uxb_works!$B$20)))","v":7},{"$f":"COUNTIF(rScores!$B56:$U56,Z26)","v":5},{"$f":"COUNTIF(rScores!$B56:$U56,AA26)","v":4},"=11","=7",{"$f":"IF(P26=\"\",\"\",INDEX(tblIndicators!$H$3:$H$91,iCityCompare!P26))","v":"Technological infrastructure"},"","*",3,2,{"$f":"IF(P26=\"\",\"\",INDEX(tblIndicators!$P$3:$P$33,iCityCompare!P26))","v":"#0"}]
[{"$f":"tblCategories!A21","v":19},{"$f":"tblCategories!D21","v":"1.23) Growth in labour force"},{"$f":"tblCategories!F21","v":1},1,8.7033747779751316,-5.7000000000000002E-2,69.626998223801053,0.28599999999999998,{"$f":"tblIndicators!F21","v":2},null,null,null,null,1,{"$f":"IF($C27=0,\"\",RANK(N27,N$9:N$39,1)+COUNTIF(N$9:N27,N27)-1)","v":19},19,28,1,1,28,"  1.23) Growth in labour force",8.7033747779751316,-5.7000000000000002E-2,69.626998223801053,0.28599999999999998,{"$f":"IF(P27=\"\",\"\",IF(ISERROR(INDEX(aRank,$P27+1,uxb_works!$B$19)),\"\",INDEX(aRank,$P27+1,uxb_works!$B$19)))","v":18},{"$f":"IF(Q27=\"\",\"\",IF(ISERROR(INDEX(aRank,$P27+1,uxb_works!$B$20)),\"\",INDEX(aRank,$P27+1,uxb_works!$B$20)))","v":3},{"$f":"COUNTIF(rScores!$B57:$U57,Z27)","v":1},{"$f":"COUNTIF(rScores!$B57:$U57,AA27)","v":1},"18","3",{"$f":"IF(P27=\"\",\"\",INDEX(tblIndicators!$H$3:$H$91,iCityCompare!P27))","v":"Growth in labour force"},"","*",3,2,{"$f":"IF(P27=\"\",\"\",INDEX(tblIndicators!$P$3:$P$33,iCityCompare!P27))","v":"#0.00"}]
[{"$f":"tblCategories!A22","v":20},{"$f":"tblCategories!D22","v":"2) SOCIAL PILLAR"},{"$f":"tblCategories!F22","v":1},1,41.135501681500749,"",39.823441644177827,"",{"$f":"tblIndicators!F22","v":1},null,null,null,null,1,{"$f":"IF($C28=0,\"\",RANK(N28,N$9:N$39,1)+COUNTIF(N$9:N28,N28)-1)","v":20},20,21,1,1,21," 2) SOCIAL PILLAR",41.135501681500749,"",39.823441644177827,"",{"$f":"IF(P28=\"\",\"\",IF(ISERROR(INDEX(aRank,$P28+1,uxb_works!$B$19)),\"\",INDEX(aRank,$P28+1,uxb_works!$B$19)))","v":12},{"$f":"IF(Q28=\"\",\"\",IF(ISERROR(INDEX(aRank,$P28+1,uxb_works!$B$20)),\"\",INDEX(aRank,$P28+1,uxb_works!$B$20)))","v":14},{"$f":"COUNTIF(rScores!$B58:$U58,Z28)","v":1},{"$f":"COUNTIF(rScores!$B58:$U58,AA28)","v":1},"12","14",{"$f":"IF(P28=\"\",\"\",INDEX(tblIndicators!$H$3:$H$91,iCityCompare!P28))","v":"Social pillar"},"*","",3,1,{"$f":"IF(P28=\"\",\"\",INDEX(tblIndicators!$P$3:$P$33,iCityCompare!P28))","v":"#0.0"}]
[{"$f":"tblCategories!A23","v":21},{"$f":"tblCategories!D23","v":"2.1) Inequality (Gini coefficient)"},{"$f":"tblCategories!F23","v":1},1,48.298755186721984,42.06,82.157676348547739,33.9,{"$f":"tblIndicators!F23","v":2},null,null,null,null,1,{"$f":"IF($C29=0,\"\",RANK(N29,N$9:N$39,1)+COUNTIF(N$9:N29,N29)-1)","v":21},21,19,1,1,19,"  2.1) Inequality (Gini coefficient)",48.298755186721984,42.06,82.157676348547739,33.9,{"$f":"IF(P29=\"\",\"\",IF(ISERROR(INDEX(aRank,$P29+1,uxb_works!$B$19)),\"\",INDEX(aRank,$P29+1,uxb_works!$B$19)))","v":16},{"$f":"IF(Q29=\"\",\"\",IF(ISERROR(INDEX(aRank,$P29+1,uxb_works!$B$20)),\"\",INDEX(aRank,$P29+1,uxb_works!$B$20)))","v":6},{"$f":"COUNTIF(rScores!$B59:$U59,Z29)","v":1},{"$f":"COUNTIF(rScores!$B59:$U59,AA29)","v":1},"16","6",{"$f":"IF(P29=\"\",\"\",INDEX(tblIndicators!$H$3:$H$91,iCityCompare!P29))","v":"Inequality (Gini coefficient)"},"","*",3,2,{"$f":"IF(P29=\"\",\"\",INDEX(tblIndicators!$P$3:$P$33,iCityCompare!P29))","v":"#0.0"}]
[{"$f":"tblCategories!A24","v":22},{"$f":"tblCategories!D24","v":"2.2) Educational attainment"},{"$f":"tblCategories!F24","v":1},1,22.909918205947672,29.696449999999999,17.136090228163567,24.686689999999999,{"$f":"tblIndicators!F24","v":2},null,null,null,null,1,{"$f":"IF($C30=0,\"\",RANK(N30,N$9:N$39,1)+COUNTIF(N$9:N30,N30)-1)","v":22},22,24,1,1,24,"  2.2) Educational attainment",22.909918205947672,29.696449999999999,17.136090228163567,24.686689999999999,{"$f":"IF(P30=\"\",\"\",IF(ISERROR(INDEX(aRank,$P30+1,uxb_works!$B$19)),\"\",INDEX(aRank,$P30+1,uxb_works!$B$19)))","v":11},{"$f":"IF(Q30=\"\",\"\",IF(ISERROR(INDEX(aRank,$P30+1,uxb_works!$B$20)),\"\",INDEX(aRank,$P30+1,uxb_works!$B$20)))","v":13},{"$f":"COUNTIF(rScores!$B60:$U60,Z30)","v":1},{"$f":"COUNTIF(rScores!$B60:$U60,AA30)","v":1},"11","13",{"$f":"IF(P30=\"\",\"\",INDEX(tblIndicators!$H$3:$H$91,iCityCompare!P30))","v":"Educational attainment"},"*","",3,2,{"$f":"IF(P30=\"\",\"\",INDEX(tblIndicators!$P$3:$P$33,iCityCompare!P30))","v":"#0.0"}]
[{"$f":"tblCategories!A25","v":23},{"$f":"tblCategories!D25","v":"2.3) Labour standards"},{"$f":"tblCategories!F25","v":1},1,33.333333333333336,3,0,4,{"$f":"tblIndicators!F25","v":2},null,null,null,null,1,{"$f":"IF($C31=0,\"\",RANK(N31,N$9:N$39,1)+COUNTIF(N$9:N31,N31)-1)","v":23},23,23,1,1,23,"  2.3) Labour standards",33.333333333333336,3,0,4,{"$f":"IF(P31=\"\",\"\",IF(ISERROR(INDEX(aRank,$P31+1,uxb_works!$B$19)),\"\",INDEX(aRank,$P31+1,uxb_works!$B$19)))","v":10},{"$f":"IF(Q31=\"\",\"\",IF(ISERROR(INDEX(aRank,$P31+1,uxb_works!$B$20)),\"\",INDEX(aRank,$P31+1,uxb_works!$B$20)))","v":13},{"$f":"COUNTIF(rScores!$B61:$U61,Z31)","v":3},{"$f":"COUNTIF(rScores!$B61:$U61,AA31)","v":8},"=10","=13",{"$f":"IF(P31=\"\",\"\",INDEX(tblIndicators!$H$3:$H$91,iCityCompare!P31))","v":"Labour standards"},"*","",3,2,{"$f":"IF(P31=\"\",\"\",INDEX(tblIndicators!$P$3:$P$33,iCityCompare!P31))","v":"#0"}]
[{"$f":"tblCategories!A26","v":24},{"$f":"tblCategories!D26","v":"2.4) Political stability"},{"$f":"tblCategories!F26","v":1},1,60,2,60,2,{"$f":"tblIndicators!F26","v":2},null,null,null,null,1,{"$f":"IF($C32=0,\"\",RANK(N32,N$9:N$39,1)+COUNTIF(N$9:N32,N32)-1)","v":24},24,13,1,1,13,"  2.4) Political stability",60,2,60,2,{"$f":"IF(P32=\"\",\"\",IF(ISERROR(INDEX(aRank,$P32+1,uxb_works!$B$19)),\"\",INDEX(aRank,$P32+1,uxb_works!$B$19)))","v":8},{"$f":"IF(Q32=\"\",\"\",IF(ISERROR(INDEX(aRank,$P32+1,uxb_works!$B$20)),\"\",INDEX(aRank,$P32+1,uxb_works!$B$20)))","v":8},{"$f":"COUNTIF(rScores!$B62:$U62,Z32)","v":6},{"$f":"COUNTIF(rScores!$B62:$U62,AA32)","v":6},"=8","=8",{"$f":"IF(P32=\"\",\"\",INDEX(tblIndicators!$H$3:$H$91,iCityCompare!P32))","v":"Political stability"},"","",3,2,{"$f":"IF(P32=\"\",\"\",INDEX(tblIndicators!$P$3:$P$33,iCityCompare!P32))","v":"#0.0"}]
[{"$f":"tblCategories!A27","v":25},{"$f":"tblCategories!D27","v":"3) ENVIRONMENTAL PILLAR"},{"$f":"tblCategories!F27","v":1},1,52.0128133452884,"",47.185148696837132,"",{"$f":"tblIndicators!F27","v":1},null,null,null,null,1,{"$f":"IF($C33=0,\"\",RANK(N33,N$9:N$39,1)+COUNTIF(N$9:N33,N33)-1)","v":25},25,16,1,1,16," 3) ENVIRONMENTAL PILLAR",52.0128133452884,"",47.185148696837132,"",{"$f":"IF(P33=\"\",\"\",IF(ISERROR(INDEX(aRank,$P33+1,uxb_works!$B$19)),\"\",INDEX(aRank,$P33+1,uxb_works!$B$19)))","v":15},{"$f":"IF(Q33=\"\",\"\",IF(ISERROR(INDEX(aRank,$P33+1,uxb_works!$B$20)),\"\",INDEX(aRank,$P33+1,uxb_works!$B$20)))","v":19},{"$f":"COUNTIF(rScores!$B63:$U63,Z33)","v":1},{"$f":"COUNTIF(rScores!$B63:$U63,AA33)","v":1},"15","19",{"$f":"IF(P33=\"\",\"\",INDEX(tblIndicators!$H$3:$H$91,iCityCompare!P33))","v":"Environmental pillar"},"*","",3,1,{"$f":"IF(P33=\"\",\"\",INDEX(tblIndicators!$P$3:$P$33,iCityCompare!P33))","v":"#0.0"}]
[{"$f":"tblCategories!A28","v":26},{"$f":"tblCategories!D28","v":"3.1) Air pollution"},{"$f":"tblCategories!F28","v":1},1,0,48,37.394957983193279,31.98,{"$f":"tblIndicators!F28","v":2},null,null,null,null,1,{"$f":"IF($C34=0,\"\",RANK(N34,N$9:N$39,1)+COUNTIF(N$9:N34,N34)-1)","v":26},26,30,2,1,"=30","  3.1) Air pollution",0,48,37.394957983193279,31.98,{"$f":"IF(P34=\"\",\"\",IF(ISERROR(INDEX(aRank,$P34+1,uxb_works!$B$19)),\"\",INDEX(aRank,$P34+1,uxb_works!$B$19)))","v":20},{"$f":"IF(Q34=\"\",\"\",IF(ISERROR(INDEX(aRank,$P34+1,uxb_works!$B$20)),\"\",INDEX(aRank,$P34+1,uxb_works!$B$20)))","v":19},{"$f":"COUNTIF(rScores!$B64:$U64,Z34)","v":1},{"$f":"COUNTIF(rScores!$B64:$U64,AA34)","v":1},"20","19",{"$f":"IF(P34=\"\",\"\",INDEX(tblIndicators!$H$3:$H$91,iCityCompare!P34))","v":"Air pollution"},"","*",3,2,{"$f":"IF(P34=\"\",\"\",INDEX(tblIndicators!$P$3:$P$33,iCityCompare!P34))","v":"#0.00"}]
[{"$f":"tblCategories!A29","v":27},{"$f":"tblCategories!D29","v":"3.2) Deforestation"},{"$f":"tblCategories!F29","v":1},1,80.57553956834532,-2.5,87.050359712230218,-1.6,{"$f":"tblIndicators!F29","v":2},null,null,null,null,1,{"$f":"IF($C35=0,\"\",RANK(N35,N$9:N$39,1)+COUNTIF(N$9:N35,N35)-1)","v":27},27,9,1,1,9,"  3.2) Deforestation",80.57553956834532,-2.5,87.050359712230218,-1.6,{"$f":"IF(P35=\"\",\"\",IF(ISERROR(INDEX(aRank,$P35+1,uxb_works!$B$19)),\"\",INDEX(aRank,$P35+1,uxb_works!$B$19)))","v":11},{"$f":"IF(Q35=\"\",\"\",IF(ISERROR(INDEX(aRank,$P35+1,uxb_works!$B$20)),\"\",INDEX(aRank,$P35+1,uxb_works!$B$20)))","v":7},{"$f":"COUNTIF(rScores!$B65:$U65,Z35)","v":2},{"$f":"COUNTIF(rScores!$B65:$U65,AA35)","v":1},"=11","7",{"$f":"IF(P35=\"\",\"\",INDEX(tblIndicators!$H$3:$H$91,iCityCompare!P35))","v":"Deforestation"},"","*",3,2,{"$f":"IF(P35=\"\",\"\",INDEX(tblIndicators!$P$3:$P$33,iCityCompare!P35))","v":"#0.0"}]
[{"$f":"tblCategories!A30","v":28},{"$f":"tblCategories!D30","v":"3.3) Water pollution"},{"$f":"tblCategories!F30","v":1},1,18.243765416593078,18.179912237635001,10.526843953838434,10.49,{"$f":"tblIndicators!F30","v":2},null,null,null,null,1,{"$f":"IF($C36=0,\"\",RANK(N36,N$9:N$39,1)+COUNTIF(N$9:N36,N36)-1)","v":28},28,25,1,1,25,"  3.3) Water pollution",18.243765416593078,18.179912237635001,10.526843953838434,10.49,{"$f":"IF(P36=\"\",\"\",IF(ISERROR(INDEX(aRank,$P36+1,uxb_works!$B$19)),\"\",INDEX(aRank,$P36+1,uxb_works!$B$19)))","v":7},{"$f":"IF(Q36=\"\",\"\",IF(ISERROR(INDEX(aRank,$P36+1,uxb_works!$B$20)),\"\",INDEX(aRank,$P36+1,uxb_works!$B$20)))","v":9},{"$f":"COUNTIF(rScores!$B66:$U66,Z36)","v":1},{"$f":"COUNTIF(rScores!$B66:$U66,AA36)","v":1},"7","9",{"$f":"IF(P36=\"\",\"\",INDEX(tblIndicators!$H$3:$H$91,iCityCompare!P36))","v":"Water pollution"},"*","",3,2,{"$f":"IF(P36=\"\",\"\",INDEX(tblIndicators!$P$3:$P$33,iCityCompare!P36))","v":"#0"}]
[{"$f":"tblCategories!A31","v":29},{"$f":"tblCategories!D31","v":"3.4) Environmental standards in trade"},{"$f":"tblCategories!F31","v":1},1,100,7,66.666666666666657,5,{"$f":"tblIndicators!F31","v":2},null,null,null,null,1,{"$f":"IF($C37=0,\"\",RANK(N37,N$9:N$39,1)+COUNTIF(N$9:N37,N37)-1)","v":29},29,1,4,1,"=1","  3.4) Environmental standards in trade",100,7,66.666666666666657,5,{"$f":"IF(P37=\"\",\"\",IF(ISERROR(INDEX(aRank,$P37+1,uxb_works!$B$19)),\"\",INDEX(aRank,$P37+1,uxb_works!$B$19)))","v":1},{"$f":"IF(Q37=\"\",\"\",IF(ISERROR(INDEX(aRank,$P37+1,uxb_works!$B$20)),\"\",INDEX(aRank,$P37+1,uxb_works!$B$20)))","v":7},{"$f":"COUNTIF(rScores!$B67:$U67,Z37)","v":2},{"$f":"COUNTIF(rScores!$B67:$U67,AA37)","v":8},"=1","=7",{"$f":"IF(P37=\"\",\"\",INDEX(tblIndicators!$H$3:$H$91,iCityCompare!P37))","v":"Environmental standards in trade"},"*","",3,2,{"$f":"IF(P37=\"\",\"\",INDEX(tblIndicators!$P$3:$P$33,iCityCompare!P37))","v":"#0"}]
[{"$f":"tblCategories!A32","v":30},{"$f":"tblCategories!D32","v":"3.5) Carbon emissions in trade"},{"$f":"tblCategories!F32","v":1},1,13.25757508679205,1.2355930000000001E-3,11.013529934733556,1.267273E-3,{"$f":"tblIndicators!F32","v":2},null,null,null,null,1,{"$f":"IF($C38=0,\"\",RANK(N38,N$9:N$39,1)+COUNTIF(N$9:N38,N38)-1)","v":30},30,26,1,1,{"$f":"IF(P38=\"\",\"\",IF(R38>1,CONCATENATE(\"=\",Q38),Q38))","v":26},"  3.5) Carbon emissions in trade",13.25757508679205,1.2355930000000001E-3,11.013529934733556,1.267273E-3,{"$f":"IF(P38=\"\",\"\",IF(ISERROR(INDEX(aRank,$P38+1,uxb_works!$B$19)),\"\",INDEX(aRank,$P38+1,uxb_works!$B$19)))","v":18},{"$f":"IF(Q38=\"\",\"\",IF(ISERROR(INDEX(aRank,$P38+1,uxb_works!$B$20)),\"\",INDEX(aRank,$P38+1,uxb_works!$B$20)))","v":19},{"$f":"COUNTIF(rScores!$B68:$U68,Z38)","v":1},{"$f":"COUNTIF(rScores!$B68:$U68,AA38)","v":1},"18","19",{"$f":"IF(P38=\"\",\"\",INDEX(tblIndicators!$H$3:$H$91,iCityCompare!P38))","v":"Carbon emissions in trade"},{"$f":"IF(Z38<AA38,\"*\",\"\")","v":"*"},{"$f":"IF(AA38<Z38,\"*\",\"\")","v":""},3,2,{"$f":"IF(P38=\"\",\"\",INDEX(tblIndicators!$P$3:$P$33,iCityCompare!P38))","v":"#0"}]
[{"$f":"tblCategories!A33","v":31},{"$f":"tblCategories!D33","v":"3.6) Share of natural resources in trade"},{"$f":"tblCategories!F33","v":1},1,100,6.2638868E-2,70.458533930360673,0.30399832100000002,{"$f":"tblIndicators!F33","v":2},null,null,null,null,1,{"$f":"IF($C39=0,\"\",RANK(N39,N$9:N$39,1)+COUNTIF(N$9:N39,N39)-1)","v":31},31,1,4,1,{"$f":"IF(P39=\"\",\"\",IF(R39>1,CONCATENATE(\"=\",Q39),Q39))","v":"=1"},"  3.6) Share of natural resources in trade",100,6.2638868E-2,70.458533930360673,0.30399832100000002,{"$f":"IF(P39=\"\",\"\",IF(ISERROR(INDEX(aRank,$P39+1,uxb_works!$B$19)),\"\",INDEX(aRank,$P39+1,uxb_works!$B$19)))","v":1},{"$f":"IF(Q39=\"\",\"\",IF(ISERROR(INDEX(aRank,$P39+1,uxb_works!$B$20)),\"\",INDEX(aRank,$P39+1,uxb_works!$B$20)))","v":15},{"$f":"COUNTIF(rScores!$B69:$U69,Z39)","v":1},{"$f":"COUNTIF(rScores!$B69:$U69,AA39)","v":1},"1","15",{"$f":"IF(P39=\"\",\"\",INDEX(tblIndicators!$H$3:$H$91,iCityCompare!P39))","v":"Share of natural resources in trade"},{"$f":"IF(Z39<AA39,\"*\",\"\")","v":"*"},{"$f":"IF(AA39<Z39,\"*\",\"\")","v":""},3,2,{"$f":"IF(P39=\"\",\"\",INDEX(tblIndicators!$P$3:$P$33,iCityCompare!P39))","v":"#0.00"}]

{"sheet":"Data","index":49,"n_rows":36,"n_cols":29,"rows_kept":36,"cut":false,"hidden":true,"merged":[]}
[]
[]
[null,null,null,null,null,null,null,null,null,3,4,5,6,7,8,9,10,11,12,13,14,15,16,17,18,19,20,21,22]
[null,{"$f":"tblIndicators!A1","v":"ID"},{"$f":"tblIndicators!B1","v":"IS_BG"},{"$f":"tblIndicators!D1","v":"INDI_CODE"},{"$f":"tblIndicators!E1","v":"PARENT_CODE"},"Name",{"$f":"tblIndicators!T1","v":"NORM_ID (1=sumproduct, 2=min max set by data values, 3=min max set by user here)"},"Indicator","Units",{"$f":"INDEX(tblTerritories!$C$3:$C$22,J3-2)","v":"Bangladesh"},{"$f":"INDEX(tblTerritories!$C$3:$C$22,K3-2)","v":"Brunei"},{"$f":"INDEX(tblTerritories!$C$3:$C$22,L3-2)","v":"Cambodia"},{"$f":"INDEX(tblTerritories!$C$3:$C$22,M3-2)","v":"China"},{"$f":"INDEX(tblTerritories!$C$3:$C$22,N3-2)","v":"Hong Kong"},{"$f":"INDEX(tblTerritories!$C$3:$C$22,O3-2)","v":"India"},{"$f":"INDEX(tblTerritories!$C$3:$C$22,P3-2)","v":"Indonesia"},{"$f":"INDEX(tblTerritories!$C$3:$C$22,Q3-2)","v":"Japan"},{"$f":"INDEX(tblTerritories!$C$3:$C$22,R3-2)","v":"Laos"},{"$f":"INDEX(tblTerritories!$C$3:$C$22,S3-2)","v":"Malaysia"},{"$f":"INDEX(tblTerritories!$C$3:$C$22,T3-2)","v":"Myanmar"},{"$f":"INDEX(tblTerritories!$C$3:$C$22,U3-2)","v":"Pakistan"},{"$f":"INDEX(tblTerritories!$C$3:$C$22,V3-2)","v":"Philippines"},{"$f":"INDEX(tblTerritories!$C$3:$C$22,W3-2)","v":"Singapore"},{"$f":"INDEX(tblTerritories!$C$3:$C$22,X3-2)","v":"South Korea"},{"$f":"INDEX(tblTerritories!$C$3:$C$22,Y3-2)","v":"Sri Lanka"},{"$f":"INDEX(tblTerritories!$C$3:$C$22,Z3-2)","v":"Taiwan"},{"$f":"INDEX(tblTerritories!$C$3:$C$22,AA3-2)","v":"Thailand"},{"$f":"INDEX(tblTerritories!$C$3:$C$22,AB3-2)","v":"Vietnam"},{"$f":"INDEX(tblTerritories!$C$3:$C$22,AC3-2)","v":"USA"}]
[null,{"$f":"tblIndicators!A2","v":1},{"$f":"tblIndicators!B2","v":0},{"$f":"tblIndicators!D2","v":"TOTAL"},{"$f":"tblIndicators!E2","v":"OVERALL SCORE"},{"$f":"tblIndicators!H2","v":"OVERALL SCORE"},{"$f":"tblIndicators!T2","v":1},{"$f":"REPT(\" \",tblIndicators!F2)&tblIndicators!Y2","v":"OVERALL SCORE"},{"$f":"IF(G5=1,\"\",tblIndicators!J2)","v":""}]
[null,{"$f":"tblIndicators!A3","v":2},{"$f":"tblIndicators!B3","v":0},{"$f":"tblIndicators!D3","v":"EP"},{"$f":"tblIndicators!E3","v":"TOTAL"},{"$f":"tblIndicators!H3","v":"Economic pillar"},{"$f":"tblIndicators!T3","v":1},{"$f":"REPT(\" \",tblIndicators!F3)&tblIndicators!Y3","v":" 1) ECONOMIC PILLAR"},{"$f":"IF(G6=1,\"\",tblIndicators!J3)","v":""}]
[1,{"$f":"tblIndicators!A4","v":3},{"$f":"tblIndicators!B4","v":0},{"$f":"tblIndicators!D4","v":"EP_10"},{"$f":"tblIndicators!E4","v":"EP"},{"$f":"tblIndicators!H4","v":"Growth in per capita GDP"},{"$f":"tblIndicators!T4","v":2},{"$f":"REPT(\" \",tblIndicators!F4)&tblIndicators!Y4","v":"  1.10) Growth in per capita GDP"},{"$f":"IF(G7=1,\"\",tblIndicators!J4)","v":"percentage growth"},{"$f":"IF(ISNUMBER(iDataCollect!D6),iDataCollect!D6,\"\")","v":4.8899999999999997},{"$f":"IF(ISNUMBER(iDataCollect!E6),iDataCollect!E6,\"\")","v":-1.63},{"$f":"IF(ISNUMBER(iDataCollect!F6),iDataCollect!F6,\"\")","v":5.1100000000000003},{"$f":"IF(ISNUMBER(iDataCollect!G6),iDataCollect!G6,\"\")","v":8},{"$f":"IF(ISNUMBER(iDataCollect!H6),iDataCollect!H6,\"\")","v":3.04},{"$f":"IF(ISNUMBER(iDataCollect!I6),iDataCollect!I6,\"\")","v":5.1499999999999995},{"$f":"IF(ISNUMBER(iDataCollect!J6),iDataCollect!J6,\"\")","v":4.7300000000000004},{"$f":"IF(ISNUMBER(iDataCollect!K6),iDataCollect!K6,\"\")","v":1.59},{"$f":"IF(ISNUMBER(iDataCollect!L6),iDataCollect!L6,\"\")","v":6.04},{"$f":"IF(ISNUMBER(iDataCollect!M6),iDataCollect!M6,\"\")","v":4.04},{"$f":"IF(ISNUMBER(iDataCollect!N6),iDataCollect!N6,\"\")","v":4.3600000000000003},{"$f":"IF(ISNUMBER(iDataCollect!O6),iDataCollect!O6,\"\")","v":1.6500000000000001},{"$f":"IF(ISNUMBER(iDataCollect!P6),iDataCollect!P6,\"\")","v":4.42},{"$f":"IF(ISNUMBER(iDataCollect!Q6),iDataCollect!Q6,\"\")","v":4.5},{"$f":"IF(ISNUMBER(iDataCollect!R6),iDataCollect!R6,\"\")","v":3.16},{"$f":"IF(ISNUMBER(iDataCollect!S6),iDataCollect!S6,\"\")","v":5.83},{"$f":"IF(ISNUMBER(iDataCollect!T6),iDataCollect!T6,\"\")","v":4.22},{"$f":"IF(ISNUMBER(iDataCollect!U6),iDataCollect!U6,\"\")","v":3.58},{"$f":"IF(ISNUMBER(iDataCollect!V6),iDataCollect!V6,\"\")","v":4.7},{"$f":"IF(ISNUMBER(iDataCollect!W6),iDataCollect!W6,\"\")","v":1.29}]
[2,{"$f":"tblIndicators!A5","v":4},{"$f":"tblIndicators!B5","v":0},{"$f":"tblIndicators!D5","v":"EP_11"},{"$f":"tblIndicators!E5","v":"EP"},{"$f":"tblIndicators!H5","v":"Current account liberalisation"},{"$f":"tblIndicators!T5","v":3},{"$f":"REPT(\" \",tblIndicators!F5)&tblIndicators!Y5","v":"  1.11) Current account liberalisation"},{"$f":"IF(G8=1,\"\",tblIndicators!J5)","v":"1-5 scores"},{"$f":"IF(ISNUMBER(iDataCollect!D7),iDataCollect!D7,\"\")","v":4},{"$f":"IF(ISNUMBER(iDataCollect!E7),iDataCollect!E7,\"\")","v":5},{"$f":"IF(ISNUMBER(iDataCollect!F7),iDataCollect!F7,\"\")","v":5},{"$f":"IF(ISNUMBER(iDataCollect!G7),iDataCollect!G7,\"\")","v":4.4000000000000004},{"$f":"IF(ISNUMBER(iDataCollect!H7),iDataCollect!H7,\"\")","v":5},{"$f":"IF(ISNUMBER(iDataCollect!I7),iDataCollect!I7,\"\")","v":4},{"$f":"IF(ISNUMBER(iDataCollect!J7),iDataCollect!J7,\"\")","v":4},{"$f":"IF(ISNUMBER(iDataCollect!K7),iDataCollect!K7,\"\")","v":5},{"$f":"IF(ISNUMBER(iDataCollect!L7),iDataCollect!L7,\"\")","v":5},{"$f":"IF(ISNUMBER(iDataCollect!M7),iDataCollect!M7,\"\")","v":5},{"$f":"IF(ISNUMBER(iDataCollect!N7),iDataCollect!N7,\"\")","v":4},{"$f":"IF(ISNUMBER(iDataCollect!O7),iDataCollect!O7,\"\")","v":3},{"$f":"IF(ISNUMBER(iDataCollect!P7),iDataCollect!P7,\"\")","v":4.4000000000000004},{"$f":"IF(ISNUMBER(iDataCollect!Q7),iDataCollect!Q7,\"\")","v":5},{"$f":"IF(ISNUMBER(iDataCollect!R7),iDataCollect!R7,\"\")","v":4.4000000000000004},{"$f":"IF(ISNUMBER(iDataCollect!S7),iDataCollect!S7,\"\")","v":5},{"$f":"IF(ISNUMBER(iDataCollect!T7),iDataCollect!T7,\"\")","v":5},{"$f":"IF(ISNUMBER(iDataCollect!U7),iDataCollect!U7,\"\")","v":5},{"$f":"IF(ISNUMBER(iDataCollect!V7),iDataCollect!V7,\"\")","v":5},{"$f":"IF(ISNUMBER(iDataCollect!W7),iDataCollect!W7,\"\")","v":5}]
[3,{"$f":"tblIndicators!A6","v":5},{"$f":"tblIndicators!B6","v":0},{"$f":"tblIndicators!D6","v":"EP_12"},{"$f":"tblIndicators!E6","v":"EP"},{"$f":"tblIndicators!H6","v":"Tariff & non-tariff barriers"},{"$f":"tblIndicators!T6","v":3},{"$f":"REPT(\" \",tblIndicators!F6)&tblIndicators!Y6","v":"  1.12) Tariff & non-tariff barriers"},{"$f":"IF(G9=1,\"\",tblIndicators!J6)","v":"1-5 scores"},{"$f":"IF(ISNUMBER(iDataCollect!D8),iDataCollect!D8,\"\")","v":2},{"$f":"IF(ISNUMBER(iDataCollect!E8),iDataCollect!E8,\"\")","v":3},{"$f":"IF(ISNUMBER(iDataCollect!F8),iDataCollect!F8,\"\")","v":3},{"$f":"IF(ISNUMBER(iDataCollect!G8),iDataCollect!G8,\"\")","v":3},{"$f":"IF(ISNUMBER(iDataCollect!H8),iDataCollect!H8,\"\")","v":5},{"$f":"IF(ISNUMBER(iDataCollect!I8),iDataCollect!I8,\"\")","v":2},{"$f":"IF(ISNUMBER(iDataCollect!J8),iDataCollect!J8,\"\")","v":4},{"$f":"IF(ISNUMBER(iDataCollect!K8),iDataCollect!K8,\"\")","v":4},{"$f":"IF(ISNUMBER(iDataCollect!L8),iDataCollect!L8,\"\")","v":4},{"$f":"IF(ISNUMBER(iDataCollect!M8),iDataCollect!M8,\"\")","v":4},{"$f":"IF(ISNUMBER(iDataCollect!N8),iDataCollect!N8,\"\")","v":4},{"$f":"IF(ISNUMBER(iDataCollect!O8),iDataCollect!O8,\"\")","v":2},{"$f":"IF(ISNUMBER(iDataCollect!P8),iDataCollect!P8,\"\")","v":4},{"$f":"IF(ISNUMBER(iDataCollect!Q8),iDataCollect!Q8,\"\")","v":5},{"$f":"IF(ISNUMBER(iDataCollect!R8),iDataCollect!R8,\"\")","v":4},{"$f":"IF(ISNUMBER(iDataCollect!S8),iDataCollect!S8,\"\")","v":3},{"$f":"IF(ISNUMBER(iDataCollect!T8),iDataCollect!T8,\"\")","v":4},{"$f":"IF(ISNUMBER(iDataCollect!U8),iDataCollect!U8,\"\")","v":3.4},{"$f":"IF(ISNUMBER(iDataCollect!V8),iDataCollect!V8,\"\")","v":2.4},{"$f":"IF(ISNUMBER(iDataCollect!W8),iDataCollect!W8,\"\")","v":4}]
[4,{"$f":"tblIndicators!A7","v":6},{"$f":"tblIndicators!B7","v":0},{"$f":"tblIndicators!D7","v":"EP_13"},{"$f":"tblIndicators!E7","v":"EP"},{"$f":"tblIndicators!H7","v":"Exchange rate volatility"},{"$f":"tblIndicators!T7","v":2},{"$f":"REPT(\" \",tblIndicators!F7)&tblIndicators!Y7","v":"  1.13) Exchange rate volatility"},{"$f":"IF(G10=1,\"\",tblIndicators!J7)","v":"trade-weighted standard deviations"},{"$f":"IF(ISNUMBER(iDataCollect!D9),iDataCollect!D9,\"\")","v":2.1999999999999999E-2},{"$f":"IF(ISNUMBER(iDataCollect!E9),iDataCollect!E9,\"\")","v":1.7999999999999999E-2},{"$f":"IF(ISNUMBER(iDataCollect!F9),iDataCollect!F9,\"\")","v":1.4000000000000002E-2},{"$f":"IF(ISNUMBER(iDataCollect!G9),iDataCollect!G9,\"\")","v":0.02},{"$f":"IF(ISNUMBER(iDataCollect!H9),iDataCollect!H9,\"\")","v":0.01},{"$f":"IF(ISNUMBER(iDataCollect!I9),iDataCollect!I9,\"\")","v":3.4000000000000002E-2},{"$f":"IF(ISNUMBER(iDataCollect!J9),iDataCollect!J9,\"\")","v":2.4E-2},{"$f":"IF(ISNUMBER(iDataCollect!K9),iDataCollect!K9,\"\")","v":0.03},{"$f":"IF(ISNUMBER(iDataCollect!L9),iDataCollect!L9,\"\")","v":1.3999999999999999E-2},{"$f":"IF(ISNUMBER(iDataCollect!M9),iDataCollect!M9,\"\")","v":0.02},{"$f":"IF(ISNUMBER(iDataCollect!N9),iDataCollect!N9,\"\")","v":0.30199999999999999},{"$f":"IF(ISNUMBER(iDataCollect!O9),iDataCollect!O9,\"\")","v":1.4000000000000002E-2},{"$f":"IF(ISNUMBER(iDataCollect!P9),iDataCollect!P9,\"\")","v":0.02},{"$f":"IF(ISNUMBER(iDataCollect!Q9),iDataCollect!Q9,\"\")","v":1.7999999999999999E-2},{"$f":"IF(ISNUMBER(iDataCollect!R9),iDataCollect!R9,\"\")","v":2.4E-2},{"$f":"IF(ISNUMBER(iDataCollect!S9),iDataCollect!S9,\"\")","v":0.02},{"$f":"IF(ISNUMBER(iDataCollect!T9),iDataCollect!T9,\"\")","v":1.4000000000000002E-2},{"$f":"IF(ISNUMBER(iDataCollect!U9),iDataCollect!U9,\"\")","v":2.4E-2},{"$f":"IF(ISNUMBER(iDataCollect!V9),iDataCollect!V9,\"\")","v":1.6E-2},{"$f":"IF(ISNUMBER(iDataCollect!W9),iDataCollect!W9,\"\")","v":2.2000000000000002E-2}]
[null,{"$f":"tblIndicators!A8","v":7},{"$f":"tblIndicators!B8","v":0},{"$f":"tblIndicators!D8","v":"EP_14"},{"$f":"tblIndicators!E8","v":"EP"},{"$f":"tblIndicators!H8","v":"Financial sector depth"},{"$f":"tblIndicators!T8","v":2},{"$f":"REPT(\" \",tblIndicators!F8)&tblIndicators!Y8","v":"  1.14) Financial sector depth"},{"$f":"IF(G11=1,\"\",tblIndicators!J8)","v":"% of GDP"},{"$f":"IF(ISNUMBER(iDataCollect!D10),iDataCollect!D10,\"\")","v":42},{"$f":"IF(ISNUMBER(iDataCollect!E10),iDataCollect!E10,\"\")","v":33},{"$f":"IF(ISNUMBER(iDataCollect!F10),iDataCollect!F10,\"\")","v":54},{"$f":"IF(ISNUMBER(iDataCollect!G10),iDataCollect!G10,\"\")","v":142},{"$f":"IF(ISNUMBER(iDataCollect!H10),iDataCollect!H10,\"\")","v":234},{"$f":"IF(ISNUMBER(iDataCollect!I10),iDataCollect!I10,\"\")","v":51},{"$f":"IF(ISNUMBER(iDataCollect!J10),iDataCollect!J10,\"\")","v":40},{"$f":"IF(ISNUMBER(iDataCollect!K10),iDataCollect!K10,\"\")","v":188},{"$f":"IF(ISNUMBER(iDataCollect!L10),iDataCollect!L10,\"\")","v":21},{"$f":"IF(ISNUMBER(iDataCollect!M10),iDataCollect!M10,\"\")","v":125},{"$f":"IF(ISNUMBER(iDataCollect!N10),iDataCollect!N10,\"\")","v":14},{"$f":"IF(ISNUMBER(iDataCollect!O10),iDataCollect!O10,\"\")","v":15},{"$f":"IF(ISNUMBER(iDataCollect!P10),iDataCollect!P10,\"\")","v":39},{"$f":"IF(ISNUMBER(iDataCollect!Q10),iDataCollect!Q10,\"\")","v":131},{"$f":"IF(ISNUMBER(iDataCollect!R10),iDataCollect!R10,\"\")","v":138},{"$f":"IF(ISNUMBER(iDataCollect!S10),iDataCollect!S10,\"\")","v":28},159.6,{"$f":"IF(ISNUMBER(iDataCollect!U10),iDataCollect!U10,\"\")","v":159},{"$f":"IF(ISNUMBER(iDataCollect!V10),iDataCollect!V10,\"\")","v":100},{"$f":"IF(ISNUMBER(iDataCollect!W10),iDataCollect!W10,\"\")","v":196}]
[null,{"$f":"tblIndicators!A9","v":8},{"$f":"tblIndicators!B9","v":0},{"$f":"tblIndicators!D9","v":"EP_15"},{"$f":"tblIndicators!E9","v":"EP"},{"$f":"tblIndicators!H9","v":"Foreign trade and payments risk"},{"$f":"tblIndicators!T9","v":3},{"$f":"REPT(\" \",tblIndicators!F9)&tblIndicators!Y9","v":"  1.15) Foreign trade and payments risk"},{"$f":"IF(G12=1,\"\",tblIndicators!J9)","v":"1-100 scores"},{"$f":"IF(ISNUMBER(iDataCollect!D11),iDataCollect!D11,\"\")","v":57},{"$f":"IF(ISNUMBER(iDataCollect!E11),iDataCollect!E11,\"\")","v":21},{"$f":"IF(ISNUMBER(iDataCollect!F11),iDataCollect!F11,\"\")","v":42},{"$f":"IF(ISNUMBER(iDataCollect!G11),iDataCollect!G11,\"\")","v":33},{"$f":"IF(ISNUMBER(iDataCollect!H11),iDataCollect!H11,\"\")","v":7},{"$f":"IF(ISNUMBER(iDataCollect!I11),iDataCollect!I11,\"\")","v":50},{"$f":"IF(ISNUMBER(iDataCollect!J11),iDataCollect!J11,\"\")","v":43},{"$f":"IF(ISNUMBER(iDataCollect!K11),iDataCollect!K11,\"\")","v":25},{"$f":"IF(ISNUMBER(iDataCollect!L11),iDataCollect!L11,\"\")","v":71},{"$f":"IF(ISNUMBER(iDataCollect!M11),iDataCollect!M11,\"\")","v":21},{"$f":"IF(ISNUMBER(iDataCollect!N11),iDataCollect!N11,\"\")","v":64},{"$f":"IF(ISNUMBER(iDataCollect!O11),iDataCollect!O11,\"\")","v":75},{"$f":"IF(ISNUMBER(iDataCollect!P11),iDataCollect!P11,\"\")","v":29},{"$f":"IF(ISNUMBER(iDataCollect!Q11),iDataCollect!Q11,\"\")","v":4},{"$f":"IF(ISNUMBER(iDataCollect!R11),iDataCollect!R11,\"\")","v":26},{"$f":"IF(ISNUMBER(iDataCollect!S11),iDataCollect!S11,\"\")","v":36},{"$f":"IF(ISNUMBER(iDataCollect!T11),iDataCollect!T11,\"\")","v":18},{"$f":"IF(ISNUMBER(iDataCollect!U11),iDataCollect!U11,\"\")","v":43},{"$f":"IF(ISNUMBER(iDataCollect!V11),iDataCollect!V11,\"\")","v":49},{"$f":"IF(ISNUMBER(iDataCollect!W11),iDataCollect!W11,\"\")","v":21}]
[null,{"$f":"tblIndicators!A10","v":9},{"$f":"tblIndicators!B10","v":0},{"$f":"tblIndicators!D10","v":"EP_16"},{"$f":"tblIndicators!E10","v":"EP"},{"$f":"tblIndicators!H10","v":"Export market concentration"},{"$f":"tblIndicators!T10","v":2},{"$f":"REPT(\" \",tblIndicators!F10)&tblIndicators!Y10","v":"  1.16) Export market concentration"},{"$f":"IF(G13=1,\"\",tblIndicators!J10)","v":"% "},{"$f":"IF(ISNUMBER(iDataCollect!D12),iDataCollect!D12,\"\")","v":10.358000000000001},70.599999999999994,{"$f":"IF(ISNUMBER(iDataCollect!F12),iDataCollect!F12,\"\")","v":11.776},{"$f":"IF(ISNUMBER(iDataCollect!G12),iDataCollect!G12,\"\")","v":11},{"$f":"IF(ISNUMBER(iDataCollect!H12),iDataCollect!H12,\"\")","v":17.456},{"$f":"IF(ISNUMBER(iDataCollect!I12),iDataCollect!I12,\"\")","v":8.0559999999999992},{"$f":"IF(ISNUMBER(iDataCollect!J12),iDataCollect!J12,\"\")","v":11.028},{"$f":"IF(ISNUMBER(iDataCollect!K12),iDataCollect!K12,\"\")","v":12.294},{"$f":"IF(ISNUMBER(iDataCollect!L12),iDataCollect!L12,\"\")","v":18.238},{"$f":"IF(ISNUMBER(iDataCollect!M12),iDataCollect!M12,\"\")","v":11.526},{"$f":"IF(ISNUMBER(iDataCollect!N12),iDataCollect!N12,\"\")","v":19.740000000000002},{"$f":"IF(ISNUMBER(iDataCollect!O12),iDataCollect!O12,\"\")","v":10.334},{"$f":"IF(ISNUMBER(iDataCollect!P12),iDataCollect!P12,\"\")","v":13.447999999999999},{"$f":"IF(ISNUMBER(iDataCollect!Q12),iDataCollect!Q12,\"\")","v":10.032},{"$f":"IF(ISNUMBER(iDataCollect!R12),iDataCollect!R12,\"\")","v":11.95},{"$f":"IF(ISNUMBER(iDataCollect!S12),iDataCollect!S12,\"\")","v":10.212},{"$f":"IF(ISNUMBER(iDataCollect!T12),iDataCollect!T12,\"\")","v":15.236000000000001},{"$f":"IF(ISNUMBER(iDataCollect!U12),iDataCollect!U12,\"\")","v":9.3460000000000001},{"$f":"IF(ISNUMBER(iDataCollect!V12),iDataCollect!V12,\"\")","v":11.523999999999999},{"$f":"IF(ISNUMBER(iDataCollect!W12),iDataCollect!W12,\"\")","v":11.174000000000001}]
[null,{"$f":"tblIndicators!A11","v":10},{"$f":"tblIndicators!B11","v":0},{"$f":"tblIndicators!D11","v":"EP_17"},{"$f":"tblIndicators!E11","v":"EP"},{"$f":"tblIndicators!H11","v":"Export product concentration"},{"$f":"tblIndicators!T11","v":2},{"$f":"REPT(\" \",tblIndicators!F11)&tblIndicators!Y11","v":"  1.17) Export product concentration"},{"$f":"IF(G14=1,\"\",tblIndicators!J11)","v":"%"},{"$f":"IF(ISNUMBER(iDataCollect!D13),iDataCollect!D13,\"\")","v":18.82},98.1,{"$f":"IF(ISNUMBER(iDataCollect!F13),iDataCollect!F13,\"\")","v":24.74},{"$f":"IF(ISNUMBER(iDataCollect!G13),iDataCollect!G13,\"\")","v":10.64},{"$f":"IF(ISNUMBER(iDataCollect!H13),iDataCollect!H13,\"\")","v":24.48},{"$f":"IF(ISNUMBER(iDataCollect!I13),iDataCollect!I13,\"\")","v":16.760000000000002},{"$f":"IF(ISNUMBER(iDataCollect!J13),iDataCollect!J13,\"\")","v":18.420000000000002},{"$f":"IF(ISNUMBER(iDataCollect!K13),iDataCollect!K13,\"\")","v":23.36},{"$f":"IF(ISNUMBER(iDataCollect!L13),iDataCollect!L13,\"\")","v":12.1},{"$f":"IF(ISNUMBER(iDataCollect!M13),iDataCollect!M13,\"\")","v":18.740000000000002},{"$f":"IF(ISNUMBER(iDataCollect!N13),iDataCollect!N13,\"\")","v":14.920000000000002},{"$f":"IF(ISNUMBER(iDataCollect!O13),iDataCollect!O13,\"\")","v":9.1199999999999992},{"$f":"IF(ISNUMBER(iDataCollect!P13),iDataCollect!P13,\"\")","v":16.8},{"$f":"IF(ISNUMBER(iDataCollect!Q13),iDataCollect!Q13,\"\")","v":17.100000000000001},{"$f":"IF(ISNUMBER(iDataCollect!R13),iDataCollect!R13,\"\")","v":22.080000000000002},{"$f":"IF(ISNUMBER(iDataCollect!S13),iDataCollect!S13,\"\")","v":16.000000000000004},{"$f":"IF(ISNUMBER(iDataCollect!T13),iDataCollect!T13,\"\")","v":18.98},{"$f":"IF(ISNUMBER(iDataCollect!U13),iDataCollect!U13,\"\")","v":25},{"$f":"IF(ISNUMBER(iDataCollect!V13),iDataCollect!V13,\"\")","v":8.32},{"$f":"IF(ISNUMBER(iDataCollect!W13),iDataCollect!W13,\"\")","v":21.88}]
[null,{"$f":"tblIndicators!A12","v":11},{"$f":"tblIndicators!B12","v":0},{"$f":"tblIndicators!D12","v":"EP_18"},{"$f":"tblIndicators!E12","v":"EP"},{"$f":"tblIndicators!H12","v":"Foreign Direct Investment"},{"$f":"tblIndicators!T12","v":2},{"$f":"REPT(\" \",tblIndicators!F12)&tblIndicators!Y12","v":"  1.18) Foreign Direct Investment"},{"$f":"IF(G15=1,\"\",tblIndicators!J12)","v":"% of GDP"},{"$f":"IF(ISNUMBER(iDataCollect!D14),iDataCollect!D14,\"\")","v":0.92000000000000015},3.0000000000000001E-3,{"$f":"IF(ISNUMBER(iDataCollect!F14),iDataCollect!F14,\"\")","v":7.7140000000000004},{"$f":"IF(ISNUMBER(iDataCollect!G14),iDataCollect!G14,\"\")","v":3.9539999999999997},{"$f":"IF(ISNUMBER(iDataCollect!H14),iDataCollect!H14,\"\")","v":34.22},{"$f":"IF(ISNUMBER(iDataCollect!I14),iDataCollect!I14,\"\")","v":1.6199999999999999},{"$f":"IF(ISNUMBER(iDataCollect!J14),iDataCollect!J14,\"\")","v":2.36},{"$f":"IF(ISNUMBER(iDataCollect!K14),iDataCollect!K14,\"\")","v":0.1},{"$f":"IF(ISNUMBER(iDataCollect!L14),iDataCollect!L14,\"\")","v":3.6399999999999997},{"$f":"IF(ISNUMBER(iDataCollect!M14),iDataCollect!M14,\"\")","v":3.88},{"$f":"IF(ISNUMBER(iDataCollect!N14),iDataCollect!N14,\"\")","v":5.08},{"$f":"IF(ISNUMBER(iDataCollect!O14),iDataCollect!O14,\"\")","v":0.68},{"$f":"IF(ISNUMBER(iDataCollect!P14),iDataCollect!P14,\"\")","v":1.26},{"$f":"IF(ISNUMBER(iDataCollect!Q14),iDataCollect!Q14,\"\")","v":20.7},{"$f":"IF(ISNUMBER(iDataCollect!R14),iDataCollect!R14,\"\")","v":0.84000000000000008},{"$f":"IF(ISNUMBER(iDataCollect!S14),iDataCollect!S14,\"\")","v":1.38},{"$f":"IF(ISNUMBER(iDataCollect!T14),iDataCollect!T14,\"\")","v":0.4},{"$f":"IF(ISNUMBER(iDataCollect!U14),iDataCollect!U14,\"\")","v":2.62},{"$f":"IF(ISNUMBER(iDataCollect!V14),iDataCollect!V14,\"\")","v":5.64},{"$f":"IF(ISNUMBER(iDataCollect!W14),iDataCollect!W14,\"\")","v":1.46}]
[null,{"$f":"tblIndicators!A13","v":12},{"$f":"tblIndicators!B13","v":0},{"$f":"tblIndicators!D13","v":"EP_19"},{"$f":"tblIndicators!E13","v":"EP"},{"$f":"tblIndicators!H13","v":"Gross fixed capital formation"},{"$f":"tblIndicators!T13","v":2},{"$f":"REPT(\" \",tblIndicators!F13)&tblIndicators!Y13","v":"  1.19) Gross fixed capital formation"},{"$f":"IF(G16=1,\"\",tblIndicators!J13)","v":"% of GDP"},{"$f":"IF(ISNUMBER(iDataCollect!D15),iDataCollect!D15,\"\")","v":27.802000000000003},{"$f":"IF(ISNUMBER(iDataCollect!E15),iDataCollect!E15,\"\")","v":35.266000000000005},{"$f":"IF(ISNUMBER(iDataCollect!F15),iDataCollect!F15,\"\")","v":17.221999999999998},{"$f":"IF(ISNUMBER(iDataCollect!G15),iDataCollect!G15,\"\")","v":44.456000000000003},{"$f":"IF(ISNUMBER(iDataCollect!H15),iDataCollect!H15,\"\")","v":23.698},{"$f":"IF(ISNUMBER(iDataCollect!I15),iDataCollect!I15,\"\")","v":31.071999999999996},{"$f":"IF(ISNUMBER(iDataCollect!J15),iDataCollect!J15,\"\")","v":31.905999999999999},{"$f":"IF(ISNUMBER(iDataCollect!K15),iDataCollect!K15,\"\")","v":21.14},{"$f":"IF(ISNUMBER(iDataCollect!L15),iDataCollect!L15,\"\")","v":28.187999999999999},{"$f":"IF(ISNUMBER(iDataCollect!M15),iDataCollect!M15,\"\")","v":24.488000000000003},{"$f":"IF(ISNUMBER(iDataCollect!N15),iDataCollect!N15,\"\")","v":17.139999999999997},{"$f":"IF(ISNUMBER(iDataCollect!O15),iDataCollect!O15,\"\")","v":13.39},{"$f":"IF(ISNUMBER(iDataCollect!P15),iDataCollect!P15,\"\")","v":20.032},{"$f":"IF(ISNUMBER(iDataCollect!Q15),iDataCollect!Q15,\"\")","v":26.033999999999999},{"$f":"IF(ISNUMBER(iDataCollect!R15),iDataCollect!R15,\"\")","v":29.736000000000001},{"$f":"IF(ISNUMBER(iDataCollect!S15),iDataCollect!S15,\"\")","v":27.858000000000004},{"$f":"IF(ISNUMBER(iDataCollect!T15),iDataCollect!T15,\"\")","v":22.62},{"$f":"IF(ISNUMBER(iDataCollect!U15),iDataCollect!U15,\"\")","v":25.344000000000001},{"$f":"IF(ISNUMBER(iDataCollect!V15),iDataCollect!V15,\"\")","v":26.204000000000001},{"$f":"IF(ISNUMBER(iDataCollect!W15),iDataCollect!W15,\"\")","v":14.913999999999998}]
[null,{"$f":"tblIndicators!A14","v":13},{"$f":"tblIndicators!B14","v":0},{"$f":"tblIndicators!D14","v":"EP_20"},{"$f":"tblIndicators!E14","v":"EP"},{"$f":"tblIndicators!H14","v":"Trade costs"},{"$f":"tblIndicators!T14","v":1},{"$f":"REPT(\" \",tblIndicators!F14)&tblIndicators!Y14","v":"  1.20) Trade costs"},{"$f":"IF(G17=1,\"\",tblIndicators!J14)","v":""},{"$f":"IF(ISNUMBER(iDataCollect!D16),iDataCollect!D16,\"\")","v":""},{"$f":"IF(ISNUMBER(iDataCollect!E16),iDataCollect!E16,\"\")","v":""},{"$f":"IF(ISNUMBER(iDataCollect!F16),iDataCollect!F16,\"\")","v":""},{"$f":"IF(ISNUMBER(iDataCollect!G16),iDataCollect!G16,\"\")","v":""},{"$f":"IF(ISNUMBER(iDataCollect!H16),iDataCollect!H16,\"\")","v":""},{"$f":"IF(ISNUMBER(iDataCollect!I16),iDataCollect!I16,\"\")","v":""},{"$f":"IF(ISNUMBER(iDataCollect!J16),iDataCollect!J16,\"\")","v":""},{"$f":"IF(ISNUMBER(iDataCollect!K16),iDataCollect!K16,\"\")","v":""},{"$f":"IF(ISNUMBER(iDataCollect!L16),iDataCollect!L16,\"\")","v":""},{"$f":"IF(ISNUMBER(iDataCollect!M16),iDataCollect!M16,\"\")","v":""},{"$f":"IF(ISNUMBER(iDataCollect!N16),iDataCollect!N16,\"\")","v":""},{"$f":"IF(ISNUMBER(iDataCollect!O16),iDataCollect!O16,\"\")","v":""},{"$f":"IF(ISNUMBER(iDataCollect!P16),iDataCollect!P16,\"\")","v":""},{"$f":"IF(ISNUMBER(iDataCollect!Q16),iDataCollect!Q16,\"\")","v":""},{"$f":"IF(ISNUMBER(iDataCollect!R16),iDataCollect!R16,\"\")","v":""},{"$f":"IF(ISNUMBER(iDataCollect!S16),iDataCollect!S16,\"\")","v":""},{"$f":"IF(ISNUMBER(iDataCollect!T16),iDataCollect!T16,\"\")","v":""},{"$f":"IF(ISNUMBER(iDataCollect!U16),iDataCollect!U16,\"\")","v":""},{"$f":"IF(ISNUMBER(iDataCollect!V16),iDataCollect!V16,\"\")","v":""},{"$f":"IF(ISNUMBER(iDataCollect!W16),iDataCollect!W16,\"\")","v":""}]
[null,{"$f":"tblIndicators!A15","v":14},{"$f":"tblIndicators!B15","v":0},{"$f":"tblIndicators!D19","v":"EP_21"},{"$f":"tblIndicators!E15","v":"EP_20"},{"$f":"tblIndicators!H15","v":"   Infrastructure"},{"$f":"tblIndicators!T15","v":3},{"$f":"REPT(\" \",tblIndicators!F15)&tblIndicators!Y15","v":"   1.20.1)    Infrastructure"},{"$f":"IF(G18=1,\"\",tblIndicators!J15)","v":"1-10 scores"},{"$f":"IF(ISNUMBER(iDataCollect!D17),iDataCollect!D17,\"\")","v":2.5},{"$f":"IF(ISNUMBER(iDataCollect!E17),iDataCollect!E17,\"\")","v":3.53125},{"$f":"IF(ISNUMBER(iDataCollect!F17),iDataCollect!F17,\"\")","v":3.53125},{"$f":"IF(ISNUMBER(iDataCollect!G17),iDataCollect!G17,\"\")","v":6.2},{"$f":"IF(ISNUMBER(iDataCollect!H17),iDataCollect!H17,\"\")","v":8.6},{"$f":"IF(ISNUMBER(iDataCollect!I17),iDataCollect!I17,\"\")","v":4.7},{"$f":"IF(ISNUMBER(iDataCollect!J17),iDataCollect!J17,\"\")","v":5.0999999999999996},{"$f":"IF(ISNUMBER(iDataCollect!K17),iDataCollect!K17,\"\")","v":8.6},{"$f":"IF(ISNUMBER(iDataCollect!L17),iDataCollect!L17,\"\")","v":2.4},{"$f":"IF(ISNUMBER(iDataCollect!M17),iDataCollect!M17,\"\")","v":7.1},{"$f":"IF(ISNUMBER(iDataCollect!N17),iDataCollect!N17,\"\")","v":1.933333333},{"$f":"IF(ISNUMBER(iDataCollect!O17),iDataCollect!O17,\"\")","v":4.0999999999999996},{"$f":"IF(ISNUMBER(iDataCollect!P17),iDataCollect!P17,\"\")","v":5.2},{"$f":"IF(ISNUMBER(iDataCollect!Q17),iDataCollect!Q17,\"\")","v":9.1},{"$f":"IF(ISNUMBER(iDataCollect!R17),iDataCollect!R17,\"\")","v":8},{"$f":"IF(ISNUMBER(iDataCollect!S17),iDataCollect!S17,\"\")","v":5.5},{"$f":"IF(ISNUMBER(iDataCollect!T17),iDataCollect!T17,\"\")","v":8.4},{"$f":"IF(ISNUMBER(iDataCollect!U17),iDataCollect!U17,\"\")","v":5.9},{"$f":"IF(ISNUMBER(iDataCollect!V17),iDataCollect!V17,\"\")","v":5},{"$f":"IF(ISNUMBER(iDataCollect!W17),iDataCollect!W17,\"\")","v":9}]
[null,{"$f":"tblIndicators!A16","v":15},{"$f":"tblIndicators!B16","v":0},{"$f":"tblIndicators!D20","v":"EP_22"},{"$f":"tblIndicators!E16","v":"EP_20"},{"$f":"tblIndicators!H16","v":"   Logistics performance"},{"$f":"tblIndicators!T16","v":3},{"$f":"REPT(\" \",tblIndicators!F16)&tblIndicators!Y16","v":"   1.20.2)    Logistics performance"},{"$f":"IF(G19=1,\"\",tblIndicators!J16)","v":"0 - 5"},{"$f":"IF(ISNUMBER(iDataCollect!D18),iDataCollect!D18,\"\")","v":2.56},{"$f":"IF(ISNUMBER(iDataCollect!E18),iDataCollect!E18,\"\")","v":""},{"$f":"IF(ISNUMBER(iDataCollect!F18),iDataCollect!F18,\"\")","v":2.74},{"$f":"IF(ISNUMBER(iDataCollect!G18),iDataCollect!G18,\"\")","v":3.53},{"$f":"IF(ISNUMBER(iDataCollect!H18),iDataCollect!H18,\"\")","v":3.83},{"$f":"IF(ISNUMBER(iDataCollect!I18),iDataCollect!I18,\"\")","v":3.08},{"$f":"IF(ISNUMBER(iDataCollect!J18),iDataCollect!J18,\"\")","v":3.08},{"$f":"IF(ISNUMBER(iDataCollect!K18),iDataCollect!K18,\"\")","v":3.91},{"$f":"IF(ISNUMBER(iDataCollect!L18),iDataCollect!L18,\"\")","v":2.39},{"$f":"IF(ISNUMBER(iDataCollect!M18),iDataCollect!M18,\"\")","v":3.59},{"$f":"IF(ISNUMBER(iDataCollect!N18),iDataCollect!N18,\"\")","v":2.25},{"$f":"IF(ISNUMBER(iDataCollect!O18),iDataCollect!O18,\"\")","v":2.83},{"$f":"IF(ISNUMBER(iDataCollect!P18),iDataCollect!P18,\"\")","v":3},{"$f":"IF(ISNUMBER(iDataCollect!Q18),iDataCollect!Q18,\"\")","v":4},{"$f":"IF(ISNUMBER(iDataCollect!R18),iDataCollect!R18,\"\")","v":3.67},{"$f":"IF(ISNUMBER(iDataCollect!S18),iDataCollect!S18,\"\")","v":2.7},{"$f":"IF(ISNUMBER(iDataCollect!T18),iDataCollect!T18,\"\")","v":3.72},{"$f":"IF(ISNUMBER(iDataCollect!U18),iDataCollect!U18,\"\")","v":3.43},{"$f":"IF(ISNUMBER(iDataCollect!V18),iDataCollect!V18,\"\")","v":3.15},{"$f":"IF(ISNUMBER(iDataCollect!W18),iDataCollect!W18,\"\")","v":3.92}]
[null,{"$f":"tblIndicators!A17","v":16},{"$f":"tblIndicators!B17","v":0},{"$f":"tblIndicators!D21","v":"EP_23"},{"$f":"tblIndicators!E17","v":"EP_20"},{"$f":"tblIndicators!H17","v":"   Corruption"},{"$f":"tblIndicators!T17","v":3},{"$f":"REPT(\" \",tblIndicators!F17)&tblIndicators!Y17","v":"   1.20.3)    Corruption"},{"$f":"IF(G20=1,\"\",tblIndicators!J17)","v":"1-5 scores"},{"$f":"IF(ISNUMBER(iDataCollect!D19),iDataCollect!D19,\"\")","v":1},{"$f":"IF(ISNUMBER(iDataCollect!E19),iDataCollect!E19,\"\")","v":3},{"$f":"IF(ISNUMBER(iDataCollect!F19),iDataCollect!F19,\"\")","v":1},{"$f":"IF(ISNUMBER(iDataCollect!G19),iDataCollect!G19,\"\")","v":1},{"$f":"IF(ISNUMBER(iDataCollect!H19),iDataCollect!H19,\"\")","v":4},{"$f":"IF(ISNUMBER(iDataCollect!I19),iDataCollect!I19,\"\")","v":1.3},{"$f":"IF(ISNUMBER(iDataCollect!J19),iDataCollect!J19,\"\")","v":1},{"$f":"IF(ISNUMBER(iDataCollect!K19),iDataCollect!K19,\"\")","v":3},{"$f":"IF(ISNUMBER(iDataCollect!L19),iDataCollect!L19,\"\")","v":1},{"$f":"IF(ISNUMBER(iDataCollect!M19),iDataCollect!M19,\"\")","v":3},{"$f":"IF(ISNUMBER(iDataCollect!N19),iDataCollect!N19,\"\")","v":1},{"$f":"IF(ISNUMBER(iDataCollect!O19),iDataCollect!O19,\"\")","v":1.3},{"$f":"IF(ISNUMBER(iDataCollect!P19),iDataCollect!P19,\"\")","v":1},{"$f":"IF(ISNUMBER(iDataCollect!Q19),iDataCollect!Q19,\"\")","v":5},{"$f":"IF(ISNUMBER(iDataCollect!R19),iDataCollect!R19,\"\")","v":4},{"$f":"IF(ISNUMBER(iDataCollect!S19),iDataCollect!S19,\"\")","v":2},{"$f":"IF(ISNUMBER(iDataCollect!T19),iDataCollect!T19,\"\")","v":3},{"$f":"IF(ISNUMBER(iDataCollect!U19),iDataCollect!U19,\"\")","v":2},{"$f":"IF(ISNUMBER(iDataCollect!V19),iDataCollect!V19,\"\")","v":1},{"$f":"IF(ISNUMBER(iDataCollect!W19),iDataCollect!W19,\"\")","v":4}]
[null,{"$f":"tblIndicators!A18","v":17},{"$f":"tblIndicators!B18","v":0},{"$f":"tblIndicators!D22","v":"SP"},{"$f":"tblIndicators!E18","v":"EP_20"},{"$f":"tblIndicators!H18","v":"   Legal system"},{"$f":"tblIndicators!T18","v":3},{"$f":"REPT(\" \",tblIndicators!F18)&tblIndicators!Y18","v":"   1.20.4)    Legal system"},{"$f":"IF(G21=1,\"\",tblIndicators!J18)","v":"1-5 scores"},{"$f":"IF(ISNUMBER(iDataCollect!D20),iDataCollect!D20,\"\")","v":3},{"$f":"IF(ISNUMBER(iDataCollect!E20),iDataCollect!E20,\"\")","v":1},{"$f":"IF(ISNUMBER(iDataCollect!F20),iDataCollect!F20,\"\")","v":1},{"$f":"IF(ISNUMBER(iDataCollect!G20),iDataCollect!G20,\"\")","v":1.3},{"$f":"IF(ISNUMBER(iDataCollect!H20),iDataCollect!H20,\"\")","v":3.4},{"$f":"IF(ISNUMBER(iDataCollect!I20),iDataCollect!I20,\"\")","v":3},{"$f":"IF(ISNUMBER(iDataCollect!J20),iDataCollect!J20,\"\")","v":2},{"$f":"IF(ISNUMBER(iDataCollect!K20),iDataCollect!K20,\"\")","v":4},{"$f":"IF(ISNUMBER(iDataCollect!L20),iDataCollect!L20,\"\")","v":1},{"$f":"IF(ISNUMBER(iDataCollect!M20),iDataCollect!M20,\"\")","v":3},{"$f":"IF(ISNUMBER(iDataCollect!N20),iDataCollect!N20,\"\")","v":1},{"$f":"IF(ISNUMBER(iDataCollect!O20),iDataCollect!O20,\"\")","v":2},{"$f":"IF(ISNUMBER(iDataCollect!P20),iDataCollect!P20,\"\")","v":2},{"$f":"IF(ISNUMBER(iDataCollect!Q20),iDataCollect!Q20,\"\")","v":4},{"$f":"IF(ISNUMBER(iDataCollect!R20),iDataCollect!R20,\"\")","v":3},{"$f":"IF(ISNUMBER(iDataCollect!S20),iDataCollect!S20,\"\")","v":3},{"$f":"IF(ISNUMBER(iDataCollect!T20),iDataCollect!T20,\"\")","v":3.4},{"$f":"IF(ISNUMBER(iDataCollect!U20),iDataCollect!U20,\"\")","v":2},{"$f":"IF(ISNUMBER(iDataCollect!V20),iDataCollect!V20,\"\")","v":2},{"$f":"IF(ISNUMBER(iDataCollect!W20),iDataCollect!W20,\"\")","v":4}]
[null,{"$f":"tblIndicators!A19","v":18},{"$f":"tblIndicators!B19","v":0},{"$f":"tblIndicators!D23","v":"SP_10"},{"$f":"tblIndicators!E19","v":"EP"},{"$f":"tblIndicators!H19","v":"Technological innovation"},{"$f":"tblIndicators!T19","v":2},{"$f":"REPT(\" \",tblIndicators!F19)&tblIndicators!Y19","v":"  1.21) Technological innovation"},{"$f":"IF(G22=1,\"\",tblIndicators!J19)","v":"Score"},0.4,0.03,0.05,2,0.8,0.8,0.08,3.4,0.04,1.1000000000000001,0.2,0.33,0.11,2.2000000000000002,4.4000000000000004,0.2,3.2,0.3,0.2,2.8]
[null,{"$f":"tblIndicators!A20","v":19},{"$f":"tblIndicators!B20","v":0},{"$f":"tblIndicators!D24","v":"SP_11"},{"$f":"tblIndicators!E20","v":"EP"},{"$f":"tblIndicators!H20","v":"Technological infrastructure"},{"$f":"tblIndicators!T20","v":2},{"$f":"REPT(\" \",tblIndicators!F20)&tblIndicators!Y20","v":"  1.22) Technological infrastructure"},{"$f":"IF(G23=1,\"\",tblIndicators!J20)","v":"Score"},{"$f":"IF(ISNUMBER(iDataCollect!D22),iDataCollect!D22,\"\")","v":2},0,{"$f":"IF(ISNUMBER(iDataCollect!F22),iDataCollect!F22,\"\")","v":3},{"$f":"IF(ISNUMBER(iDataCollect!G22),iDataCollect!G22,\"\")","v":2},{"$f":"IF(ISNUMBER(iDataCollect!H22),iDataCollect!H22,\"\")","v":2},{"$f":"IF(ISNUMBER(iDataCollect!I22),iDataCollect!I22,\"\")","v":1},{"$f":"IF(ISNUMBER(iDataCollect!J22),iDataCollect!J22,\"\")","v":3},{"$f":"IF(ISNUMBER(iDataCollect!K22),iDataCollect!K22,\"\")","v":0},{"$f":"IF(ISNUMBER(iDataCollect!L22),iDataCollect!L22,\"\")","v":3},{"$f":"IF(ISNUMBER(iDataCollect!M22),iDataCollect!M22,\"\")","v":1},{"$f":"IF(ISNUMBER(iDataCollect!N22),iDataCollect!N22,\"\")","v":4},{"$f":"IF(ISNUMBER(iDataCollect!O22),iDataCollect!O22,\"\")","v":3},{"$f":"IF(ISNUMBER(iDataCollect!P22),iDataCollect!P22,\"\")","v":1},{"$f":"IF(ISNUMBER(iDataCollect!Q22),iDataCollect!Q22,\"\")","v":0},{"$f":"IF(ISNUMBER(iDataCollect!R22),iDataCollect!R22,\"\")","v":0},{"$f":"IF(ISNUMBER(iDataCollect!S22),iDataCollect!S22,\"\")","v":2},{"$f":"IF(ISNUMBER(iDataCollect!T22),iDataCollect!T22,\"\")","v":0},{"$f":"IF(ISNUMBER(iDataCollect!U22),iDataCollect!U22,\"\")","v":2},{"$f":"IF(ISNUMBER(iDataCollect!V22),iDataCollect!V22,\"\")","v":1},{"$f":"IF(ISNUMBER(iDataCollect!W22),iDataCollect!W22,\"\")","v":0}]
[null,{"$f":"tblIndicators!A21","v":20},{"$f":"tblIndicators!B21","v":0},{"$f":"tblIndicators!D25","v":"SP_12"},{"$f":"tblIndicators!E21","v":"EP"},{"$f":"tblIndicators!H21","v":"Growth in labour force"},{"$f":"tblIndicators!T21","v":2},{"$f":"REPT(\" \",tblIndicators!F21)&tblIndicators!Y21","v":"  1.23) Growth in labour force"},{"$f":"IF(G24=1,\"\",tblIndicators!J21)","v":"%"},{"$f":"IF(ISNUMBER(iDataCollect!D23),iDataCollect!D23,\"\")","v":0.25900000000000001},-0.03,2.3E-2,{"$f":"IF(ISNUMBER(iDataCollect!G23),iDataCollect!G23,\"\")","v":-5.7000000000000002E-2},{"$f":"IF(ISNUMBER(iDataCollect!H23),iDataCollect!H23,\"\")","v":-6.0999999999999999E-2},{"$f":"IF(ISNUMBER(iDataCollect!I23),iDataCollect!I23,\"\")","v":0.28599999999999998},{"$f":"IF(ISNUMBER(iDataCollect!J23),iDataCollect!J23,\"\")","v":0.23799999999999999},{"$f":"IF(ISNUMBER(iDataCollect!K23),iDataCollect!K23,\"\")","v":-0.106},6.8000000000000005E-2,{"$f":"IF(ISNUMBER(iDataCollect!M23),iDataCollect!M23,\"\")","v":0.218},3.3000000000000002E-2,{"$f":"IF(ISNUMBER(iDataCollect!O23),iDataCollect!O23,\"\")","v":0.45700000000000002},{"$f":"IF(ISNUMBER(iDataCollect!P23),iDataCollect!P23,\"\")","v":0.34599999999999997},{"$f":"IF(ISNUMBER(iDataCollect!Q23),iDataCollect!Q23,\"\")","v":9.1999999999999998E-2},{"$f":"IF(ISNUMBER(iDataCollect!R23),iDataCollect!R23,\"\")","v":-0.01},{"$f":"IF(ISNUMBER(iDataCollect!S23),iDataCollect!S23,\"\")","v":6.4000000000000001E-2},{"$f":"IF(ISNUMBER(iDataCollect!T23),iDataCollect!T23,\"\")","v":-4.3999999999999997E-2},{"$f":"IF(ISNUMBER(iDataCollect!U23),iDataCollect!U23,\"\")","v":-3.4000000000000002E-2},{"$f":"IF(ISNUMBER(iDataCollect!V23),iDataCollect!V23,\"\")","v":0.10100000000000001},{"$f":"IF(ISNUMBER(iDataCollect!W23),iDataCollect!W23,\"\")","v":0.06}]
[null,{"$f":"tblIndicators!A22","v":21},{"$f":"tblIndicators!B22","v":0},{"$f":"tblIndicators!D22","v":"SP"},{"$f":"tblIndicators!E22","v":"TOTAL"},{"$f":"tblIndicators!H22","v":"Social pillar"},{"$f":"tblIndicators!T22","v":1},{"$f":"REPT(\" \",tblIndicators!F22)&tblIndicators!Y22","v":" 2) SOCIAL PILLAR"},{"$f":"IF(G25=1,\"\",tblIndicators!J22)","v":""},{"$f":"IF(ISNUMBER(iDataCollect!D24),iDataCollect!D24,\"\")","v":""},{"$f":"IF(ISNUMBER(iDataCollect!E24),iDataCollect!E24,\"\")","v":""},{"$f":"IF(ISNUMBER(iDataCollect!F24),iDataCollect!F24,\"\")","v":""},{"$f":"IF(ISNUMBER(iDataCollect!G24),iDataCollect!G24,\"\")","v":""},{"$f":"IF(ISNUMBER(iDataCollect!H24),iDataCollect!H24,\"\")","v":""},{"$f":"IF(ISNUMBER(iDataCollect!I24),iDataCollect!I24,\"\")","v":""},{"$f":"IF(ISNUMBER(iDataCollect!J24),iDataCollect!J24,\"\")","v":""},{"$f":"IF(ISNUMBER(iDataCollect!K24),iDataCollect!K24,\"\")","v":""},{"$f":"IF(ISNUMBER(iDataCollect!L24),iDataCollect!L24,\"\")","v":""},{"$f":"IF(ISNUMBER(iDataCollect!M24),iDataCollect!M24,\"\")","v":""},{"$f":"IF(ISNUMBER(iDataCollect!N24),iDataCollect!N24,\"\")","v":""},{"$f":"IF(ISNUMBER(iDataCollect!O24),iDataCollect!O24,\"\")","v":""},{"$f":"IF(ISNUMBER(iDataCollect!P24),iDataCollect!P24,\"\")","v":""},{"$f":"IF(ISNUMBER(iDataCollect!Q24),iDataCollect!Q24,\"\")","v":""},{"$f":"IF(ISNUMBER(iDataCollect!R24),iDataCollect!R24,\"\")","v":""},{"$f":"IF(ISNUMBER(iDataCollect!S24),iDataCollect!S24,\"\")","v":""},{"$f":"IF(ISNUMBER(iDataCollect!T24),iDataCollect!T24,\"\")","v":""},{"$f":"IF(ISNUMBER(iDataCollect!U24),iDataCollect!U24,\"\")","v":""},{"$f":"IF(ISNUMBER(iDataCollect!V24),iDataCollect!V24,\"\")","v":""},{"$f":"IF(ISNUMBER(iDataCollect!W24),iDataCollect!W24,\"\")","v":""}]
[null,{"$f":"tblIndicators!A23","v":22},{"$f":"tblIndicators!B23","v":0},{"$f":"tblIndicators!D23","v":"SP_10"},{"$f":"tblIndicators!E23","v":"SP"},{"$f":"tblIndicators!H23","v":"Inequality (Gini coefficient)"},{"$f":"tblIndicators!T23","v":2},{"$f":"REPT(\" \",tblIndicators!F23)&tblIndicators!Y23","v":"  2.1) Inequality (Gini coefficient)"},{"$f":"IF(G26=1,\"\",tblIndicators!J23)","v":"0 to upper bound"},{"$f":"IF(ISNUMBER(iDataCollect!D25),iDataCollect!D25,\"\")","v":32},{"$f":"IF(ISNUMBER(iDataCollect!E25),iDataCollect!E25,\"\")","v":40.5},{"$f":"IF(ISNUMBER(iDataCollect!F25),iDataCollect!F25,\"\")","v":30.76},{"$f":"IF(ISNUMBER(iDataCollect!G25),iDataCollect!G25,\"\")","v":42.06},{"$f":"IF(ISNUMBER(iDataCollect!H25),iDataCollect!H25,\"\")","v":53.7},{"$f":"IF(ISNUMBER(iDataCollect!I25),iDataCollect!I25,\"\")","v":33.9},{"$f":"IF(ISNUMBER(iDataCollect!J25),iDataCollect!J25,\"\")","v":35.6},{"$f":"IF(ISNUMBER(iDataCollect!K25),iDataCollect!K25,\"\")","v":33.6},{"$f":"IF(ISNUMBER(iDataCollect!L25),iDataCollect!L25,\"\")","v":37.9},{"$f":"IF(ISNUMBER(iDataCollect!M25),iDataCollect!M25,\"\")","v":46.3},{"$f":"IF(ISNUMBER(iDataCollect!N25),iDataCollect!N25,\"\")","v":38},{"$f":"IF(ISNUMBER(iDataCollect!O25),iDataCollect!O25,\"\")","v":29.6},{"$f":"IF(ISNUMBER(iDataCollect!P25),iDataCollect!P25,\"\")","v":43},{"$f":"IF(ISNUMBER(iDataCollect!Q25),iDataCollect!Q25,\"\")","v":47.8},{"$f":"IF(ISNUMBER(iDataCollect!R25),iDataCollect!R25,\"\")","v":30.7},{"$f":"IF(ISNUMBER(iDataCollect!S25),iDataCollect!S25,\"\")","v":38.6},{"$f":"IF(ISNUMBER(iDataCollect!T25),iDataCollect!T25,\"\")","v":34.200000000000003},{"$f":"IF(ISNUMBER(iDataCollect!U25),iDataCollect!U25,\"\")","v":39.299999999999997},{"$f":"IF(ISNUMBER(iDataCollect!V25),iDataCollect!V25,\"\")","v":38.700000000000003},{"$f":"IF(ISNUMBER(iDataCollect!W25),iDataCollect!W25,\"\")","v":39}]
[null,{"$f":"tblIndicators!A24","v":23},{"$f":"tblIndicators!B24","v":0},{"$f":"tblIndicators!D24","v":"SP_11"},{"$f":"tblIndicators!E24","v":"SP"},{"$f":"tblIndicators!H24","v":"Educational attainment"},{"$f":"tblIndicators!T24","v":2},{"$f":"REPT(\" \",tblIndicators!F24)&tblIndicators!Y24","v":"  2.2) Educational attainment"},{"$f":"IF(G27=1,\"\",tblIndicators!J24)","v":"0-100 percentage "},{"$f":"IF(ISNUMBER(iDataCollect!D26),iDataCollect!D26,\"\")","v":13.227930000000001},{"$f":"IF(ISNUMBER(iDataCollect!E26),iDataCollect!E26,\"\")","v":25.361820000000002},{"$f":"IF(ISNUMBER(iDataCollect!F26),iDataCollect!F26,\"\")","v":15.834110000000001},{"$f":"IF(ISNUMBER(iDataCollect!G26),iDataCollect!G26,\"\")","v":29.696449999999999},{"$f":"IF(ISNUMBER(iDataCollect!H26),iDataCollect!H26,\"\")","v":66.837040000000002},{"$f":"IF(ISNUMBER(iDataCollect!I26),iDataCollect!I26,\"\")","v":24.686689999999999},{"$f":"IF(ISNUMBER(iDataCollect!J26),iDataCollect!J26,\"\")","v":31.512260000000001},{"$f":"IF(ISNUMBER(iDataCollect!K26),iDataCollect!K26,\"\")","v":61.459319999999998},{"$f":"IF(ISNUMBER(iDataCollect!L26),iDataCollect!L26,\"\")","v":17.697790000000001},{"$f":"IF(ISNUMBER(iDataCollect!M26),iDataCollect!M26,\"\")","v":37.200229999999998},{"$f":"IF(ISNUMBER(iDataCollect!N26),iDataCollect!N26,\"\")","v":13.37805},{"$f":"IF(ISNUMBER(iDataCollect!O26),iDataCollect!O26,\"\")","v":9.8182700000000001},{"$f":"IF(ISNUMBER(iDataCollect!P26),iDataCollect!P26,\"\")","v":33.842030000000001},{"$f":"IF(ISNUMBER(iDataCollect!Q26),iDataCollect!Q26,\"\")","v":90},{"$f":"IF(ISNUMBER(iDataCollect!R26),iDataCollect!R26,\"\")","v":96.584969999999998},{"$f":"IF(ISNUMBER(iDataCollect!S26),iDataCollect!S26,\"\")","v":18.762899999999998},{"$f":"IF(ISNUMBER(iDataCollect!T26),iDataCollect!T26,\"\")","v":83.877231827680006},{"$f":"IF(ISNUMBER(iDataCollect!U26),iDataCollect!U26,\"\")","v":51.233539999999998},{"$f":"IF(ISNUMBER(iDataCollect!V26),iDataCollect!V26,\"\")","v":24.58324},{"$f":"IF(ISNUMBER(iDataCollect!W26),iDataCollect!W26,\"\")","v":89.082390000000004}]
[null,{"$f":"tblIndicators!A25","v":24},{"$f":"tblIndicators!B25","v":0},{"$f":"tblIndicators!D25","v":"SP_12"},{"$f":"tblIndicators!E25","v":"SP"},{"$f":"tblIndicators!H25","v":"Labour standards"},{"$f":"tblIndicators!T25","v":3},{"$f":"REPT(\" \",tblIndicators!F25)&tblIndicators!Y25","v":"  2.3) Labour standards"},{"$f":"IF(G28=1,\"\",tblIndicators!J25)","v":"1-4 score "},{"$f":"IF(ISNUMBER(iDataCollect!D27),iDataCollect!D27,\"\")","v":4},{"$f":"IF(ISNUMBER(iDataCollect!E27),iDataCollect!E27,\"\")","v":1},{"$f":"IF(ISNUMBER(iDataCollect!F27),iDataCollect!F27,\"\")","v":4},{"$f":"IF(ISNUMBER(iDataCollect!G27),iDataCollect!G27,\"\")","v":3},{"$f":"IF(ISNUMBER(iDataCollect!H27),iDataCollect!H27,\"\")","v":1},{"$f":"IF(ISNUMBER(iDataCollect!I27),iDataCollect!I27,\"\")","v":4},{"$f":"IF(ISNUMBER(iDataCollect!J27),iDataCollect!J27,\"\")","v":4},{"$f":"IF(ISNUMBER(iDataCollect!K27),iDataCollect!K27,\"\")","v":1},{"$f":"IF(ISNUMBER(iDataCollect!L27),iDataCollect!L27,\"\")","v":4},{"$f":"IF(ISNUMBER(iDataCollect!M27),iDataCollect!M27,\"\")","v":2},{"$f":"IF(ISNUMBER(iDataCollect!N27),iDataCollect!N27,\"\")","v":4},{"$f":"IF(ISNUMBER(iDataCollect!O27),iDataCollect!O27,\"\")","v":4},{"$f":"IF(ISNUMBER(iDataCollect!P27),iDataCollect!P27,\"\")","v":4},{"$f":"IF(ISNUMBER(iDataCollect!Q27),iDataCollect!Q27,\"\")","v":1},{"$f":"IF(ISNUMBER(iDataCollect!R27),iDataCollect!R27,\"\")","v":1},{"$f":"IF(ISNUMBER(iDataCollect!S27),iDataCollect!S27,\"\")","v":2},{"$f":"IF(ISNUMBER(iDataCollect!T27),iDataCollect!T27,\"\")","v":1},{"$f":"IF(ISNUMBER(iDataCollect!U27),iDataCollect!U27,\"\")","v":3},{"$f":"IF(ISNUMBER(iDataCollect!V27),iDataCollect!V27,\"\")","v":3},{"$f":"IF(ISNUMBER(iDataCollect!W27),iDataCollect!W27,\"\")","v":1}]
[6,{"$f":"tblIndicators!A26","v":25},{"$f":"tblIndicators!B26","v":0},{"$f":"tblIndicators!D26","v":"SP_13"},{"$f":"tblIndicators!E26","v":"SP"},{"$f":"tblIndicators!H26","v":"Political stability"},{"$f":"tblIndicators!T26","v":3},{"$f":"REPT(\" \",tblIndicators!F26)&tblIndicators!Y26","v":"  2.4) Political stability"},{"$f":"IF(G29=1,\"\",tblIndicators!J26)","v":"0-5 score "},{"$f":"IF(ISNUMBER(iDataCollect!D28),iDataCollect!D28,\"\")","v":3},{"$f":"IF(ISNUMBER(iDataCollect!E28),iDataCollect!E28,\"\")","v":0},{"$f":"IF(ISNUMBER(iDataCollect!F28),iDataCollect!F28,\"\")","v":3},{"$f":"IF(ISNUMBER(iDataCollect!G28),iDataCollect!G28,\"\")","v":2},{"$f":"IF(ISNUMBER(iDataCollect!H28),iDataCollect!H28,\"\")","v":2},{"$f":"IF(ISNUMBER(iDataCollect!I28),iDataCollect!I28,\"\")","v":2},{"$f":"IF(ISNUMBER(iDataCollect!J28),iDataCollect!J28,\"\")","v":2},{"$f":"IF(ISNUMBER(iDataCollect!K28),iDataCollect!K28,\"\")","v":0},{"$f":"IF(ISNUMBER(iDataCollect!L28),iDataCollect!L28,\"\")","v":1},{"$f":"IF(ISNUMBER(iDataCollect!M28),iDataCollect!M28,\"\")","v":1},{"$f":"IF(ISNUMBER(iDataCollect!N28),iDataCollect!N28,\"\")","v":3},{"$f":"IF(ISNUMBER(iDataCollect!O28),iDataCollect!O28,\"\")","v":3},{"$f":"IF(ISNUMBER(iDataCollect!P28),iDataCollect!P28,\"\")","v":3},{"$f":"IF(ISNUMBER(iDataCollect!Q28),iDataCollect!Q28,\"\")","v":1},{"$f":"IF(ISNUMBER(iDataCollect!R28),iDataCollect!R28,\"\")","v":2},{"$f":"IF(ISNUMBER(iDataCollect!S28),iDataCollect!S28,\"\")","v":3},{"$f":"IF(ISNUMBER(iDataCollect!T28),iDataCollect!T28,\"\")","v":2},{"$f":"IF(ISNUMBER(iDataCollect!U28),iDataCollect!U28,\"\")","v":3},{"$f":"IF(ISNUMBER(iDataCollect!V28),iDataCollect!V28,\"\")","v":1},{"$f":"IF(ISNUMBER(iDataCollect!W28),iDataCollect!W28,\"\")","v":0}]
[6,{"$f":"tblIndicators!A27","v":26},{"$f":"tblIndicators!B27","v":0},{"$f":"tblIndicators!D27","v":"ENP"},{"$f":"tblIndicators!E27","v":"TOTAL"},{"$f":"tblIndicators!H27","v":"Environmental pillar"},{"$f":"tblIndicators!T27","v":1},{"$f":"REPT(\" \",tblIndicators!F27)&tblIndicators!Y27","v":" 3) ENVIRONMENTAL PILLAR"},{"$f":"IF(G30=1,\"\",tblIndicators!J27)","v":""},{"$f":"IF(ISNUMBER(iDataCollect!D29),iDataCollect!D29,\"\")","v":""},{"$f":"IF(ISNUMBER(iDataCollect!E29),iDataCollect!E29,\"\")","v":""},{"$f":"IF(ISNUMBER(iDataCollect!F29),iDataCollect!F29,\"\")","v":""},{"$f":"IF(ISNUMBER(iDataCollect!G29),iDataCollect!G29,\"\")","v":""},{"$f":"IF(ISNUMBER(iDataCollect!H29),iDataCollect!H29,\"\")","v":""},{"$f":"IF(ISNUMBER(iDataCollect!I29),iDataCollect!I29,\"\")","v":""},{"$f":"IF(ISNUMBER(iDataCollect!J29),iDataCollect!J29,\"\")","v":""},{"$f":"IF(ISNUMBER(iDataCollect!K29),iDataCollect!K29,\"\")","v":""},{"$f":"IF(ISNUMBER(iDataCollect!L29),iDataCollect!L29,\"\")","v":""},{"$f":"IF(ISNUMBER(iDataCollect!M29),iDataCollect!M29,\"\")","v":""},{"$f":"IF(ISNUMBER(iDataCollect!N29),iDataCollect!N29,\"\")","v":""},{"$f":"IF(ISNUMBER(iDataCollect!O29),iDataCollect!O29,\"\")","v":""},{"$f":"IF(ISNUMBER(iDataCollect!P29),iDataCollect!P29,\"\")","v":""},{"$f":"IF(ISNUMBER(iDataCollect!Q29),iDataCollect!Q29,\"\")","v":""},{"$f":"IF(ISNUMBER(iDataCollect!R29),iDataCollect!R29,\"\")","v":""},{"$f":"IF(ISNUMBER(iDataCollect!S29),iDataCollect!S29,\"\")","v":""},{"$f":"IF(ISNUMBER(iDataCollect!T29),iDataCollect!T29,\"\")","v":""},{"$f":"IF(ISNUMBER(iDataCollect!U29),iDataCollect!U29,\"\")","v":""},{"$f":"IF(ISNUMBER(iDataCollect!V29),iDataCollect!V29,\"\")","v":""},{"$f":"IF(ISNUMBER(iDataCollect!W29),iDataCollect!W29,\"\")","v":""}]
[6,{"$f":"tblIndicators!A28","v":27},{"$f":"tblIndicators!B28","v":0},{"$f":"tblIndicators!D28","v":"ENP_10"},{"$f":"tblIndicators!E28","v":"ENP"},{"$f":"tblIndicators!H28","v":"Air pollution"},{"$f":"tblIndicators!T28","v":2},{"$f":"REPT(\" \",tblIndicators!F28)&tblIndicators!Y28","v":"  3.1) Air pollution"},{"$f":"IF(G31=1,\"\",tblIndicators!J28)","v":"0 to Upper Bound (Population weighted exposure to PM2.5 (micro-grams per cubic meter))"},{"$f":"IF(ISNUMBER(iDataCollect!D30),iDataCollect!D30,\"\")","v":29.62},{"$f":"IF(ISNUMBER(iDataCollect!E30),iDataCollect!E30,\"\")","v":9.1999999999999993},{"$f":"IF(ISNUMBER(iDataCollect!F30),iDataCollect!F30,\"\")","v":9.59},{"$f":"IF(ISNUMBER(iDataCollect!G30),iDataCollect!G30,\"\")","v":48},{"$f":"IF(ISNUMBER(iDataCollect!H30),iDataCollect!H30,\"\")","v":15.37},{"$f":"IF(ISNUMBER(iDataCollect!I30),iDataCollect!I30,\"\")","v":31.98},{"$f":"IF(ISNUMBER(iDataCollect!J30),iDataCollect!J30,\"\")","v":9.2100000000000009},{"$f":"IF(ISNUMBER(iDataCollect!K30),iDataCollect!K30,\"\")","v":11.69},{"$f":"IF(ISNUMBER(iDataCollect!L30),iDataCollect!L30,\"\")","v":21.14},{"$f":"IF(ISNUMBER(iDataCollect!M30),iDataCollect!M30,\"\")","v":10.65},{"$f":"IF(ISNUMBER(iDataCollect!N30),iDataCollect!N30,\"\")","v":14.12},{"$f":"IF(ISNUMBER(iDataCollect!O30),iDataCollect!O30,\"\")","v":29.35},{"$f":"IF(ISNUMBER(iDataCollect!P30),iDataCollect!P30,\"\")","v":6.68},{"$f":"IF(ISNUMBER(iDataCollect!Q30),iDataCollect!Q30,\"\")","v":5.16},{"$f":"IF(ISNUMBER(iDataCollect!R30),iDataCollect!R30,\"\")","v":19.899999999999999},{"$f":"IF(ISNUMBER(iDataCollect!S30),iDataCollect!S30,\"\")","v":9.17},{"$f":"IF(ISNUMBER(iDataCollect!T30),iDataCollect!T30,\"\")","v":14.57},{"$f":"IF(ISNUMBER(iDataCollect!U30),iDataCollect!U30,\"\")","v":14.6},{"$f":"IF(ISNUMBER(iDataCollect!V30),iDataCollect!V30,\"\")","v":17.87},{"$f":"IF(ISNUMBER(iDataCollect!W30),iDataCollect!W30,\"\")","v":7.47}]
[6,{"$f":"tblIndicators!A29","v":28},{"$f":"tblIndicators!B29","v":0},{"$f":"tblIndicators!D29","v":"ENP_11"},{"$f":"tblIndicators!E29","v":"ENP"},{"$f":"tblIndicators!H29","v":"Deforestation"},{"$f":"tblIndicators!T29","v":2},{"$f":"REPT(\" \",tblIndicators!F29)&tblIndicators!Y29","v":"  3.2) Deforestation"},{"$f":"IF(G32=1,\"\",tblIndicators!J29)","v":"Lower Bound to 0 (percent change) "},{"$f":"IF(ISNUMBER(iDataCollect!D31),iDataCollect!D31,\"\")","v":-2.8},{"$f":"IF(ISNUMBER(iDataCollect!E31),iDataCollect!E31,\"\")","v":-1.5},{"$f":"IF(ISNUMBER(iDataCollect!F31),iDataCollect!F31,\"\")","v":-13.7},{"$f":"IF(ISNUMBER(iDataCollect!G31),iDataCollect!G31,\"\")","v":-2.5},{"$f":"IF(ISNUMBER(iDataCollect!H31),iDataCollect!H31,\"\")","v":0.2},{"$f":"IF(ISNUMBER(iDataCollect!I31),iDataCollect!I31,\"\")","v":-1.6},{"$f":"IF(ISNUMBER(iDataCollect!J31),iDataCollect!J31,\"\")","v":-5.5},{"$f":"IF(ISNUMBER(iDataCollect!K31),iDataCollect!K31,\"\")","v":-0.6},{"$f":"IF(ISNUMBER(iDataCollect!L31),iDataCollect!L31,\"\")","v":-4.3},{"$f":"IF(ISNUMBER(iDataCollect!M31),iDataCollect!M31,\"\")","v":-7.2},{"$f":"IF(ISNUMBER(iDataCollect!N31),iDataCollect!N31,\"\")","v":-2.6},{"$f":"IF(ISNUMBER(iDataCollect!O31),iDataCollect!O31,\"\")","v":-1.1000000000000001},{"$f":"IF(ISNUMBER(iDataCollect!P31),iDataCollect!P31,\"\")","v":-1.9},{"$f":"IF(ISNUMBER(iDataCollect!Q31),iDataCollect!Q31,\"\")","v":0},{"$f":"IF(ISNUMBER(iDataCollect!R31),iDataCollect!R31,\"\")","v":-1.7},{"$f":"IF(ISNUMBER(iDataCollect!S31),iDataCollect!S31,\"\")","v":-1.7},{"$f":"IF(ISNUMBER(iDataCollect!T31),iDataCollect!T31,\"\")","v":-0.8},{"$f":"IF(ISNUMBER(iDataCollect!U31),iDataCollect!U31,\"\")","v":-2.5},{"$f":"IF(ISNUMBER(iDataCollect!V31),iDataCollect!V31,\"\")","v":-3.6},{"$f":"IF(ISNUMBER(iDataCollect!W31),iDataCollect!W31,\"\")","v":-4.0999999999999996}]
[6,{"$f":"tblIndicators!A30","v":29},{"$f":"tblIndicators!B30","v":0},{"$f":"tblIndicators!D30","v":"ENP_12"},{"$f":"tblIndicators!E30","v":"ENP"},{"$f":"tblIndicators!H30","v":"Water pollution"},{"$f":"tblIndicators!T30","v":2},{"$f":"REPT(\" \",tblIndicators!F30)&tblIndicators!Y30","v":"  3.3) Water pollution"},{"$f":"IF(G33=1,\"\",tblIndicators!J30)","v":"0-100 (% of wastewater treatment)"},{"$f":"IF(ISNUMBER(iDataCollect!D32),iDataCollect!D32,\"\")","v":0},{"$f":"IF(ISNUMBER(iDataCollect!E32),iDataCollect!E32,\"\")","v":37.840000000000003},{"$f":"IF(ISNUMBER(iDataCollect!F32),iDataCollect!F32,\"\")","v":0},{"$f":"IF(ISNUMBER(iDataCollect!G32),iDataCollect!G32,\"\")","v":18.179912237635001},{"$f":"IF(ISNUMBER(iDataCollect!H32),iDataCollect!H32,\"\")","v":87.786879999999996},{"$f":"IF(ISNUMBER(iDataCollect!I32),iDataCollect!I32,\"\")","v":10.49},{"$f":"IF(ISNUMBER(iDataCollect!J32),iDataCollect!J32,\"\")","v":0.02},{"$f":"IF(ISNUMBER(iDataCollect!K32),iDataCollect!K32,\"\")","v":71.260000000000005},{"$f":"IF(ISNUMBER(iDataCollect!L32),iDataCollect!L32,\"\")","v":0},{"$f":"IF(ISNUMBER(iDataCollect!M32),iDataCollect!M32,\"\")","v":8.64},{"$f":"IF(ISNUMBER(iDataCollect!N32),iDataCollect!N32,\"\")","v":0},{"$f":"IF(ISNUMBER(iDataCollect!O32),iDataCollect!O32,\"\")","v":3.52},{"$f":"IF(ISNUMBER(iDataCollect!P32),iDataCollect!P32,\"\")","v":0.53},{"$f":"IF(ISNUMBER(iDataCollect!Q32),iDataCollect!Q32,\"\")","v":99.65},{"$f":"IF(ISNUMBER(iDataCollect!R32),iDataCollect!R32,\"\")","v":83.68},{"$f":"IF(ISNUMBER(iDataCollect!S32),iDataCollect!S32,\"\")","v":0},{"$f":"IF(ISNUMBER(iDataCollect!T32),iDataCollect!T32,\"\")","v":4.59},{"$f":"IF(ISNUMBER(iDataCollect!U32),iDataCollect!U32,\"\")","v":16},{"$f":"IF(ISNUMBER(iDataCollect!V32),iDataCollect!V32,\"\")","v":0.14000000000000001},{"$f":"IF(ISNUMBER(iDataCollect!W32),iDataCollect!W32,\"\")","v":63.67}]
[6,{"$f":"tblIndicators!A31","v":30},{"$f":"tblIndicators!B31","v":0},{"$f":"tblIndicators!D31","v":"ENP_13"},{"$f":"tblIndicators!E31","v":"ENP"},{"$f":"tblIndicators!H31","v":"Environmental standards in trade"},{"$f":"tblIndicators!T31","v":3},{"$f":"REPT(\" \",tblIndicators!F31)&tblIndicators!Y31","v":"  3.4) Environmental standards in trade"},{"$f":"IF(G34=1,\"\",tblIndicators!J31)","v":"1-7 score "},{"$f":"IF(ISNUMBER(iDataCollect!D33),iDataCollect!D33,\"\")","v":3},{"$f":"IF(ISNUMBER(iDataCollect!E33),iDataCollect!E33,\"\")","v":3},{"$f":"IF(ISNUMBER(iDataCollect!F33),iDataCollect!F33,\"\")","v":5},{"$f":"IF(ISNUMBER(iDataCollect!G33),iDataCollect!G33,\"\")","v":7},{"$f":"IF(ISNUMBER(iDataCollect!H33),iDataCollect!H33,\"\")","v":7},{"$f":"IF(ISNUMBER(iDataCollect!I33),iDataCollect!I33,\"\")","v":5},{"$f":"IF(ISNUMBER(iDataCollect!J33),iDataCollect!J33,\"\")","v":5},{"$f":"IF(ISNUMBER(iDataCollect!K33),iDataCollect!K33,\"\")","v":6},{"$f":"IF(ISNUMBER(iDataCollect!L33),iDataCollect!L33,\"\")","v":4},{"$f":"IF(ISNUMBER(iDataCollect!M33),iDataCollect!M33,\"\")","v":5},{"$f":"IF(ISNUMBER(iDataCollect!N33),iDataCollect!N33,\"\")","v":3},{"$f":"IF(ISNUMBER(iDataCollect!O33),iDataCollect!O33,\"\")","v":5},{"$f":"IF(ISNUMBER(iDataCollect!P33),iDataCollect!P33,\"\")","v":6},{"$f":"IF(ISNUMBER(iDataCollect!Q33),iDataCollect!Q33,\"\")","v":5},{"$f":"IF(ISNUMBER(iDataCollect!R33),iDataCollect!R33,\"\")","v":6},{"$f":"IF(ISNUMBER(iDataCollect!S33),iDataCollect!S33,\"\")","v":4},{"$f":"IF(ISNUMBER(iDataCollect!T33),iDataCollect!T33,\"\")","v":1},{"$f":"IF(ISNUMBER(iDataCollect!U33),iDataCollect!U33,\"\")","v":5},{"$f":"IF(ISNUMBER(iDataCollect!V33),iDataCollect!V33,\"\")","v":5},{"$f":"IF(ISNUMBER(iDataCollect!W33),iDataCollect!W33,\"\")","v":6}]
[6,{"$f":"tblIndicators!A32","v":31},{"$f":"tblIndicators!B32","v":0},{"$f":"tblIndicators!D32","v":"ENP_14"},{"$f":"tblIndicators!E32","v":"ENP"},{"$f":"tblIndicators!H32","v":"Carbon emissions in trade"},{"$f":"tblIndicators!T32","v":2},{"$f":"REPT(\" \",tblIndicators!F32)&tblIndicators!Y32","v":"  3.5) Carbon emissions in trade"},{"$f":"IF(G35=1,\"\",tblIndicators!J32)","v":"Total of carbon emissions in imports and exports (2004) estimates per country- kilotons C02"},{"$f":"IF(ISNUMBER(iDataCollect!D34),iDataCollect!D34,\"\")","v":5.76619E-4},{"$f":"IF(ISNUMBER(iDataCollect!E34),iDataCollect!E34,\"\")","v":1.9880700000000001E-4},{"$f":"IF(ISNUMBER(iDataCollect!F34),iDataCollect!F34,\"\")","v":1.5789299999999999E-4},{"$f":"IF(ISNUMBER(iDataCollect!G34),iDataCollect!G34,\"\")","v":1.2355930000000001E-3},{"$f":"IF(ISNUMBER(iDataCollect!H34),iDataCollect!H34,\"\")","v":2.0763200000000001E-5},{"$f":"IF(ISNUMBER(iDataCollect!I34),iDataCollect!I34,\"\")","v":1.267273E-3},{"$f":"IF(ISNUMBER(iDataCollect!J34),iDataCollect!J34,\"\")","v":7.2207599999999999E-4},{"$f":"IF(ISNUMBER(iDataCollect!K34),iDataCollect!K34,\"\")","v":3.4800800000000002E-4},{"$f":"IF(ISNUMBER(iDataCollect!L34),iDataCollect!L34,\"\")","v":1.3646099999999999E-4},{"$f":"IF(ISNUMBER(iDataCollect!M34),iDataCollect!M34,\"\")","v":2.3244800000000001E-4},{"$f":"IF(ISNUMBER(iDataCollect!N34),iDataCollect!N34,\"\")","v":3.3662399999999999E-4},{"$f":"IF(ISNUMBER(iDataCollect!O34),iDataCollect!O34,\"\")","v":1.4227549999999999E-3},{"$f":"IF(ISNUMBER(iDataCollect!P34),iDataCollect!P34,\"\")","v":3.9130700000000003E-4},{"$f":"IF(ISNUMBER(iDataCollect!Q34),iDataCollect!Q34,\"\")","v":1.10187E-5},{"$f":"IF(ISNUMBER(iDataCollect!R34),iDataCollect!R34,\"\")","v":2.3707700000000001E-4},{"$f":"IF(ISNUMBER(iDataCollect!S34),iDataCollect!S34,\"\")","v":3.0448500000000001E-4},{"$f":"IF(ISNUMBER(iDataCollect!T34),iDataCollect!T34,\"\")","v":2.2694999999999999E-4},{"$f":"IF(ISNUMBER(iDataCollect!U34),iDataCollect!U34,\"\")","v":3.1734800000000001E-4},{"$f":"IF(ISNUMBER(iDataCollect!V34),iDataCollect!V34,\"\")","v":4.4651899999999998E-4},{"$f":"IF(ISNUMBER(iDataCollect!W34),iDataCollect!W34,\"\")","v":6.8022000000000004E-4}]
[6,{"$f":"tblIndicators!A33","v":32},{"$f":"tblIndicators!B33","v":0},{"$f":"tblIndicators!D33","v":"ENP_15"},{"$f":"tblIndicators!E33","v":"ENP"},{"$f":"tblIndicators!H33","v":"Share of natural resources in trade"},{"$f":"tblIndicators!T33","v":2},{"$f":"REPT(\" \",tblIndicators!F33)&tblIndicators!Y33","v":"  3.6) Share of natural resources in trade"},{"$f":"IF(G36=1,\"\",tblIndicators!J33)","v":"0-100 percentage"},{"$f":"IF(ISNUMBER(iDataCollect!D35),iDataCollect!D35,\"\")","v":7.0791048999999995E-2},{"$f":"IF(ISNUMBER(iDataCollect!E35),iDataCollect!E35,\"\")","v":0.87965807900000004},{"$f":"IF(ISNUMBER(iDataCollect!F35),iDataCollect!F35,\"\")","v":0.10548642799999999},{"$f":"IF(ISNUMBER(iDataCollect!G35),iDataCollect!G35,\"\")","v":6.2638868E-2},{"$f":"IF(ISNUMBER(iDataCollect!H35),iDataCollect!H35,\"\")","v":8.6433671000000004E-2},{"$f":"IF(ISNUMBER(iDataCollect!I35),iDataCollect!I35,\"\")","v":0.30399832100000002},{"$f":"IF(ISNUMBER(iDataCollect!J35),iDataCollect!J35,\"\")","v":0.59944157099999995},{"$f":"IF(ISNUMBER(iDataCollect!K35),iDataCollect!K35,\"\")","v":6.3178454999999994E-2},{"$f":"IF(ISNUMBER(iDataCollect!L35),iDataCollect!L35,\"\")","v":0.732680149},{"$f":"IF(ISNUMBER(iDataCollect!M35),iDataCollect!M35,\"\")","v":0.280923861},{"$f":"IF(ISNUMBER(iDataCollect!N35),iDataCollect!N35,\"\")","v":0.83092470200000002},{"$f":"IF(ISNUMBER(iDataCollect!O35),iDataCollect!O35,\"\")","v":0.20483538400000001},{"$f":"IF(ISNUMBER(iDataCollect!P35),iDataCollect!P35,\"\")","v":0.16234657399999999},{"$f":"IF(ISNUMBER(iDataCollect!Q35),iDataCollect!Q35,\"\")","v":0.161219523},{"$f":"IF(ISNUMBER(iDataCollect!R35),iDataCollect!R35,\"\")","v":0.105734249},{"$f":"IF(ISNUMBER(iDataCollect!S35),iDataCollect!S35,\"\")","v":0.28577964300000003},{"$f":"IF(ISNUMBER(iDataCollect!T35),iDataCollect!T35,\"\")","v":9.7734884999999994E-2},{"$f":"IF(ISNUMBER(iDataCollect!U35),iDataCollect!U35,\"\")","v":0.247661981},{"$f":"IF(ISNUMBER(iDataCollect!V35),iDataCollect!V35,\"\")","v":0.36684358099999997},{"$f":"IF(ISNUMBER(iDataCollect!W35),iDataCollect!W35,\"\")","v":0.17641263300000001}]

{"sheet":"rScores","index":50,"n_rows":69,"n_cols":46,"rows_kept":69,"cut":false,"hidden":true,"merged":[]}
[1,{"$f":"Scores!S4","v":"Bangladesh"},{"$f":"Scores!T4","v":"Brunei"},{"$f":"Scores!U4","v":"Cambodia"},{"$f":"Scores!V4","v":"China"},{"$f":"Scores!W4","v":"Hong Kong"},{"$f":"Scores!X4","v":"India"},{"$f":"Scores!Y4","v":"Indonesia"},{"$f":"Scores!Z4","v":"Japan"},{"$f":"Scores!AA4","v":"Laos"},{"$f":"Scores!AB4","v":"Malaysia"},{"$f":"Scores!AC4","v":"Myanmar"},{"$f":"Scores!AD4","v":"Pakistan"},{"$f":"Scores!AE4","v":"Philippines"},{"$f":"Scores!AF4","v":"Singapore"},{"$f":"Scores!AG4","v":"South Korea"},{"$f":"Scores!AH4","v":"Sri Lanka"},{"$f":"Scores!AI4","v":"Taiwan"},{"$f":"Scores!AJ4","v":"Thailand"},{"$f":"Scores!AK4","v":"Vietnam"},{"$f":"Scores!AL4","v":"USA"},null,{"$f":"\"Average: \"&X1","v":"Average: All Incomes"},{"$f":"INDEX(tblTerritories!O4:O8,Y1)","v":"All Incomes"},{"$f":"uxb_works!$B$8","v":1},"Index Number",1,{"$f":"AA1+1","v":2},{"$f":"AB1+1","v":3},4,5,6,7,8,9,10,11,12,13,14,15,16,17,18,19,20]
[{"$f":"Scores!N5","v":"OVERALL SCORE"},{"$f":"ROUND(Scores!S5,$A$1)","v":45.4},{"$f":"ROUND(Scores!T5,$A$1)","v":54.2},{"$f":"ROUND(Scores!U5,$A$1)","v":46.8},{"$f":"ROUND(Scores!V5,$A$1)","v":52.5},{"$f":"ROUND(Scores!W5,$A$1)","v":73.599999999999994},{"$f":"ROUND(Scores!X5,$A$1)","v":47.7},{"$f":"ROUND(Scores!Y5,$A$1)","v":47.9},{"$f":"ROUND(Scores!Z5,$A$1)","v":78.5},{"$f":"ROUND(Scores!AA5,$A$1)","v":45.5},{"$f":"ROUND(Scores!AB5,$A$1)","v":59.4},{"$f":"ROUND(Scores!AC5,$A$1)","v":36.1},{"$f":"ROUND(Scores!AD5,$A$1)","v":41.7},{"$f":"ROUND(Scores!AE5,$A$1)","v":52},{"$f":"ROUND(Scores!AF5,$A$1)","v":81},{"$f":"ROUND(Scores!AG5,$A$1)","v":80},{"$f":"ROUND(Scores!AH5,$A$1)","v":54.2},{"$f":"ROUND(Scores!AI5,$A$1)","v":69.400000000000006},{"$f":"ROUND(Scores!AJ5,$A$1)","v":55.5},{"$f":"ROUND(Scores!AK5,$A$1)","v":53.8},{"$f":"ROUND(Scores!AL5,$A$1)","v":76.400000000000006},null,{"$f":"SUMIF($AA$2:$AT$2,1,B2:U2)/$X$2","v":57.580000000000005},{"$f":"SUM(AA2:AT2)","v":20},null,"IN/OUT",{"$f":"INDEX(tblTerritories!$R$3:$V$22,AA1,$Y$1)","v":1},{"$f":"INDEX(tblTerritories!$R$3:$V$22,AB1,$Y$1)","v":1},{"$f":"INDEX(tblTerritories!$R$3:$V$22,AC1,$Y$1)","v":1},{"$f":"INDEX(tblTerritories!$R$3:$V$22,AD1,$Y$1)","v":1},{"$f":"INDEX(tblTerritories!$R$3:$V$22,AE1,$Y$1)","v":1},{"$f":"INDEX(tblTerritories!$R$3:$V$22,AF1,$Y$1)","v":1},{"$f":"INDEX(tblTerritories!$R$3:$V$22,AG1,$Y$1)","v":1},{"$f":"INDEX(tblTerritories!$R$3:$V$22,AH1,$Y$1)","v":1},{"$f":"INDEX(tblTerritories!$R$3:$V$22,AI1,$Y$1)","v":1},{"$f":"INDEX(tblTerritories!$R$3:$V$22,AJ1,$Y$1)","v":1},{"$f":"INDEX(tblTerritories!$R$3:$V$22,AK1,$Y$1)","v":1},{"$f":"INDEX(tblTerritories!$R$3:$V$22,AL1,$Y$1)","v":1},{"$f":"INDEX(tblTerritories!$R$3:$V$22,AM1,$Y$1)","v":1},{"$f":"INDEX(tblTerritories!$R$3:$V$22,AN1,$Y$1)","v":1},{"$f":"INDEX(tblTerritories!$R$3:$V$22,AO1,$Y$1)","v":1},{"$f":"INDEX(tblTerritories!$R$3:$V$22,AP1,$Y$1)","v":1},{"$f":"INDEX(tblTerritories!$R$3:$V$22,AQ1,$Y$1)","v":1},{"$f":"INDEX(tblTerritories!$R$3:$V$22,AR1,$Y$1)","v":1},{"$f":"INDEX(tblTerritories!$R$3:$V$22,AS1,$Y$1)","v":1},{"$f":"INDEX(tblTerritories!$R$3:$V$22,AT1,$Y$1)","v":1}]
[{"$f":"Scores!N6","v":"1) ECONOMIC PILLAR"},{"$f":"ROUND(Scores!S6,$A$1)","v":50.4},{"$f":"ROUND(Scores!T6,$A$1)","v":38.5},{"$f":"ROUND(Scores!U6,$A$1)","v":48.2},{"$f":"ROUND(Scores!V6,$A$1)","v":64.2},{"$f":"ROUND(Scores!W6,$A$1)","v":70.900000000000006},{"$f":"ROUND(Scores!X6,$A$1)","v":56},{"$f":"ROUND(Scores!Y6,$A$1)","v":53.7},{"$f":"ROUND(Scores!Z6,$A$1)","v":64.8},{"$f":"ROUND(Scores!AA6,$A$1)","v":49.7},{"$f":"ROUND(Scores!AB6,$A$1)","v":64.8},{"$f":"ROUND(Scores!AC6,$A$1)","v":35.1},{"$f":"ROUND(Scores!AD6,$A$1)","v":42.4},{"$f":"ROUND(Scores!AE6,$A$1)","v":57.1},{"$f":"ROUND(Scores!AF6,$A$1)","v":76.5},{"$f":"ROUND(Scores!AG6,$A$1)","v":68.3},{"$f":"ROUND(Scores!AH6,$A$1)","v":54.5},{"$f":"ROUND(Scores!AI6,$A$1)","v":67.2},{"$f":"ROUND(Scores!AJ6,$A$1)","v":55},{"$f":"ROUND(Scores!AK6,$A$1)","v":56.4},{"$f":"ROUND(Scores!AL6,$A$1)","v":66.099999999999994},null,56.989999999999995]
[{"$f":"Scores!N7","v":"1.10) Growth in per capita GDP"},{"$f":"ROUND(Scores!S7,$A$1)","v":67.7},{"$f":"ROUND(Scores!T7,$A$1)","v":0},{"$f":"ROUND(Scores!U7,$A$1)","v":70},{"$f":"ROUND(Scores!V7,$A$1)","v":100},{"$f":"ROUND(Scores!W7,$A$1)","v":48.5},{"$f":"ROUND(Scores!X7,$A$1)","v":70.400000000000006},{"$f":"ROUND(Scores!Y7,$A$1)","v":66},{"$f":"ROUND(Scores!Z7,$A$1)","v":33.4},{"$f":"ROUND(Scores!AA7,$A$1)","v":79.599999999999994},{"$f":"ROUND(Scores!AB7,$A$1)","v":58.9},{"$f":"ROUND(Scores!AC7,$A$1)","v":62.2},{"$f":"ROUND(Scores!AD7,$A$1)","v":34.1},{"$f":"ROUND(Scores!AE7,$A$1)","v":62.8},{"$f":"ROUND(Scores!AF7,$A$1)","v":63.7},{"$f":"ROUND(Scores!AG7,$A$1)","v":49.7},{"$f":"ROUND(Scores!AH7,$A$1)","v":77.5},{"$f":"ROUND(Scores!AI7,$A$1)","v":60.7},{"$f":"ROUND(Scores!AJ7,$A$1)","v":54.1},{"$f":"ROUND(Scores!AK7,$A$1)","v":65.7},{"$f":"ROUND(Scores!AL7,$A$1)","v":30.3},null,57.765000000000008]
[{"$f":"Scores!N8","v":"1.11) Current account liberalisation"},{"$f":"ROUND(Scores!S8,$A$1)","v":75},{"$f":"ROUND(Scores!T8,$A$1)","v":100},{"$f":"ROUND(Scores!U8,$A$1)","v":100},{"$f":"ROUND(Scores!V8,$A$1)","v":85},{"$f":"ROUND(Scores!W8,$A$1)","v":100},{"$f":"ROUND(Scores!X8,$A$1)","v":75},{"$f":"ROUND(Scores!Y8,$A$1)","v":75},{"$f":"ROUND(Scores!Z8,$A$1)","v":100},{"$f":"ROUND(Scores!AA8,$A$1)","v":100},{"$f":"ROUND(Scores!AB8,$A$1)","v":100},{"$f":"ROUND(Scores!AC8,$A$1)","v":75},{"$f":"ROUND(Scores!AD8,$A$1)","v":50},{"$f":"ROUND(Scores!AE8,$A$1)","v":85},{"$f":"ROUND(Scores!AF8,$A$1)","v":100},{"$f":"ROUND(Scores!AG8,$A$1)","v":85},{"$f":"ROUND(Scores!AH8,$A$1)","v":100},{"$f":"ROUND(Scores!AI8,$A$1)","v":100},{"$f":"ROUND(Scores!AJ8,$A$1)","v":100},{"$f":"ROUND(Scores!AK8,$A$1)","v":100},{"$f":"ROUND(Scores!AL8,$A$1)","v":100},null,90.25]
[{"$f":"Scores!N9","v":"1.12) Tariff & non-tariff barriers"},{"$f":"ROUND(Scores!S9,$A$1)","v":25},{"$f":"ROUND(Scores!T9,$A$1)","v":50},{"$f":"ROUND(Scores!U9,$A$1)","v":50},{"$f":"ROUND(Scores!V9,$A$1)","v":50},{"$f":"ROUND(Scores!W9,$A$1)","v":100},{"$f":"ROUND(Scores!X9,$A$1)","v":25},{"$f":"ROUND(Scores!Y9,$A$1)","v":75},{"$f":"ROUND(Scores!Z9,$A$1)","v":75},{"$f":"ROUND(Scores!AA9,$A$1)","v":75},{"$f":"ROUND(Scores!AB9,$A$1)","v":75},{"$f":"ROUND(Scores!AC9,$A$1)","v":75},{"$f":"ROUND(Scores!AD9,$A$1)","v":25},{"$f":"ROUND(Scores!AE9,$A$1)","v":75},{"$f":"ROUND(Scores!AF9,$A$1)","v":100},{"$f":"ROUND(Scores!AG9,$A$1)","v":75},{"$f":"ROUND(Scores!AH9,$A$1)","v":50},{"$f":"ROUND(Scores!AI9,$A$1)","v":75},{"$f":"ROUND(Scores!AJ9,$A$1)","v":60},{"$f":"ROUND(Scores!AK9,$A$1)","v":35},{"$f":"ROUND(Scores!AL9,$A$1)","v":75},null,62.25]
[{"$f":"Scores!N10","v":"1.13) Exchange rate volatility"},{"$f":"ROUND(Scores!S10,$A$1)","v":95.9},{"$f":"ROUND(Scores!T10,$A$1)","v":97.3},{"$f":"ROUND(Scores!U10,$A$1)","v":98.6},{"$f":"ROUND(Scores!V10,$A$1)","v":96.6},{"$f":"ROUND(Scores!W10,$A$1)","v":100},{"$f":"ROUND(Scores!X10,$A$1)","v":91.8},{"$f":"ROUND(Scores!Y10,$A$1)","v":95.2},{"$f":"ROUND(Scores!Z10,$A$1)","v":93.2},{"$f":"ROUND(Scores!AA10,$A$1)","v":98.6},{"$f":"ROUND(Scores!AB10,$A$1)","v":96.6},{"$f":"ROUND(Scores!AC10,$A$1)","v":0},{"$f":"ROUND(Scores!AD10,$A$1)","v":98.6},{"$f":"ROUND(Scores!AE10,$A$1)","v":96.6},{"$f":"ROUND(Scores!AF10,$A$1)","v":97.3},{"$f":"ROUND(Scores!AG10,$A$1)","v":95.2},{"$f":"ROUND(Scores!AH10,$A$1)","v":96.6},{"$f":"ROUND(Scores!AI10,$A$1)","v":98.6},{"$f":"ROUND(Scores!AJ10,$A$1)","v":95.2},{"$f":"ROUND(Scores!AK10,$A$1)","v":97.9},{"$f":"ROUND(Scores!AL10,$A$1)","v":95.9},null,91.784999999999997]
[{"$f":"Scores!N11","v":"1.14) Financial sector depth"},{"$f":"ROUND(Scores!S11,$A$1)","v":12.7},{"$f":"ROUND(Scores!T11,$A$1)","v":8.6},{"$f":"ROUND(Scores!U11,$A$1)","v":18.2},{"$f":"ROUND(Scores!V11,$A$1)","v":58.2},{"$f":"ROUND(Scores!W11,$A$1)","v":100},{"$f":"ROUND(Scores!X11,$A$1)","v":16.8},{"$f":"ROUND(Scores!Y11,$A$1)","v":11.8},{"$f":"ROUND(Scores!Z11,$A$1)","v":79.099999999999994},{"$f":"ROUND(Scores!AA11,$A$1)","v":3.2},{"$f":"ROUND(Scores!AB11,$A$1)","v":50.5},{"$f":"ROUND(Scores!AC11,$A$1)","v":0},{"$f":"ROUND(Scores!AD11,$A$1)","v":0.5},{"$f":"ROUND(Scores!AE11,$A$1)","v":11.4},{"$f":"ROUND(Scores!AF11,$A$1)","v":53.2},{"$f":"ROUND(Scores!AG11,$A$1)","v":56.4},{"$f":"ROUND(Scores!AH11,$A$1)","v":6.4},{"$f":"ROUND(Scores!AI11,$A$1)","v":66.2},{"$f":"ROUND(Scores!AJ11,$A$1)","v":65.900000000000006},{"$f":"ROUND(Scores!AK11,$A$1)","v":39.1},{"$f":"ROUND(Scores!AL11,$A$1)","v":82.7},null,37.045000000000002]
[{"$f":"Scores!N12","v":"1.15) Foreign trade and payments risk"},{"$f":"ROUND(Scores!S12,$A$1)","v":43.4},{"$f":"ROUND(Scores!T12,$A$1)","v":79.8},{"$f":"ROUND(Scores!U12,$A$1)","v":58.6},{"$f":"ROUND(Scores!V12,$A$1)","v":67.7},{"$f":"ROUND(Scores!W12,$A$1)","v":93.9},{"$f":"ROUND(Scores!X12,$A$1)","v":50.5},{"$f":"ROUND(Scores!Y12,$A$1)","v":57.6},{"$f":"ROUND(Scores!Z12,$A$1)","v":75.8},{"$f":"ROUND(Scores!AA12,$A$1)","v":29.3},{"$f":"ROUND(Scores!AB12,$A$1)","v":79.8},{"$f":"ROUND(Scores!AC12,$A$1)","v":36.4},{"$f":"ROUND(Scores!AD12,$A$1)","v":25.3},{"$f":"ROUND(Scores!AE12,$A$1)","v":71.7},{"$f":"ROUND(Scores!AF12,$A$1)","v":97},{"$f":"ROUND(Scores!AG12,$A$1)","v":74.7},{"$f":"ROUND(Scores!AH12,$A$1)","v":64.599999999999994},{"$f":"ROUND(Scores!AI12,$A$1)","v":82.8},{"$f":"ROUND(Scores!AJ12,$A$1)","v":57.6},{"$f":"ROUND(Scores!AK12,$A$1)","v":51.5},{"$f":"ROUND(Scores!AL12,$A$1)","v":79.8},null,63.889999999999986]
[{"$f":"Scores!N13","v":"1.16) Export market concentration"},{"$f":"ROUND(Scores!S13,$A$1)","v":96.3},{"$f":"ROUND(Scores!T13,$A$1)","v":0},{"$f":"ROUND(Scores!U13,$A$1)","v":94.1},{"$f":"ROUND(Scores!V13,$A$1)","v":95.3},{"$f":"ROUND(Scores!W13,$A$1)","v":85},{"$f":"ROUND(Scores!X13,$A$1)","v":100},{"$f":"ROUND(Scores!Y13,$A$1)","v":95.2},{"$f":"ROUND(Scores!Z13,$A$1)","v":93.2},{"$f":"ROUND(Scores!AA13,$A$1)","v":83.7},{"$f":"ROUND(Scores!AB13,$A$1)","v":94.5},{"$f":"ROUND(Scores!AC13,$A$1)","v":81.3},{"$f":"ROUND(Scores!AD13,$A$1)","v":96.4},{"$f":"ROUND(Scores!AE13,$A$1)","v":91.4},{"$f":"ROUND(Scores!AF13,$A$1)","v":96.8},{"$f":"ROUND(Scores!AG13,$A$1)","v":93.8},{"$f":"ROUND(Scores!AH13,$A$1)","v":96.6},{"$f":"ROUND(Scores!AI13,$A$1)","v":88.5},{"$f":"ROUND(Scores!AJ13,$A$1)","v":97.9},{"$f":"ROUND(Scores!AK13,$A$1)","v":94.5},{"$f":"ROUND(Scores!AL13,$A$1)","v":95},null,88.474999999999994]
[{"$f":"Scores!N14","v":"1.17) Export product concentration"},{"$f":"ROUND(Scores!S14,$A$1)","v":88.3},{"$f":"ROUND(Scores!T14,$A$1)","v":0},{"$f":"ROUND(Scores!U14,$A$1)","v":81.7},{"$f":"ROUND(Scores!V14,$A$1)","v":97.4},{"$f":"ROUND(Scores!W14,$A$1)","v":82},{"$f":"ROUND(Scores!X14,$A$1)","v":90.6},{"$f":"ROUND(Scores!Y14,$A$1)","v":88.8},{"$f":"ROUND(Scores!Z14,$A$1)","v":83.2},{"$f":"ROUND(Scores!AA14,$A$1)","v":95.8},{"$f":"ROUND(Scores!AB14,$A$1)","v":88.4},{"$f":"ROUND(Scores!AC14,$A$1)","v":92.6},{"$f":"ROUND(Scores!AD14,$A$1)","v":99.1},{"$f":"ROUND(Scores!AE14,$A$1)","v":90.6},{"$f":"ROUND(Scores!AF14,$A$1)","v":90.2},{"$f":"ROUND(Scores!AG14,$A$1)","v":84.7},{"$f":"ROUND(Scores!AH14,$A$1)","v":91.4},{"$f":"ROUND(Scores!AI14,$A$1)","v":88.1},{"$f":"ROUND(Scores!AJ14,$A$1)","v":81.400000000000006},{"$f":"ROUND(Scores!AK14,$A$1)","v":100},{"$f":"ROUND(Scores!AL14,$A$1)","v":84.9},null,84.960000000000008]
[{"$f":"Scores!N15","v":"1.18) Foreign Direct Investment"},{"$f":"ROUND(Scores!S15,$A$1)","v":2.7},{"$f":"ROUND(Scores!T15,$A$1)","v":0},{"$f":"ROUND(Scores!U15,$A$1)","v":22.5},{"$f":"ROUND(Scores!V15,$A$1)","v":11.5},{"$f":"ROUND(Scores!W15,$A$1)","v":100},{"$f":"ROUND(Scores!X15,$A$1)","v":4.7},{"$f":"ROUND(Scores!Y15,$A$1)","v":6.9},{"$f":"ROUND(Scores!Z15,$A$1)","v":0.3},{"$f":"ROUND(Scores!AA15,$A$1)","v":10.6},{"$f":"ROUND(Scores!AB15,$A$1)","v":11.3},{"$f":"ROUND(Scores!AC15,$A$1)","v":14.8},{"$f":"ROUND(Scores!AD15,$A$1)","v":2},{"$f":"ROUND(Scores!AE15,$A$1)","v":3.7},{"$f":"ROUND(Scores!AF15,$A$1)","v":60.5},{"$f":"ROUND(Scores!AG15,$A$1)","v":2.4},{"$f":"ROUND(Scores!AH15,$A$1)","v":4},{"$f":"ROUND(Scores!AI15,$A$1)","v":1.2},{"$f":"ROUND(Scores!AJ15,$A$1)","v":7.6},{"$f":"ROUND(Scores!AK15,$A$1)","v":16.5},{"$f":"ROUND(Scores!AL15,$A$1)","v":4.3},null,14.375]
[{"$f":"Scores!N16","v":"1.19) Gross fixed capital formation"},{"$f":"ROUND(Scores!S16,$A$1)","v":46.4},{"$f":"ROUND(Scores!T16,$A$1)","v":70.400000000000006},{"$f":"ROUND(Scores!U16,$A$1)","v":12.3},{"$f":"ROUND(Scores!V16,$A$1)","v":100},{"$f":"ROUND(Scores!W16,$A$1)","v":33.200000000000003},{"$f":"ROUND(Scores!X16,$A$1)","v":56.9},{"$f":"ROUND(Scores!Y16,$A$1)","v":59.6},{"$f":"ROUND(Scores!Z16,$A$1)","v":24.9},{"$f":"ROUND(Scores!AA16,$A$1)","v":47.6},{"$f":"ROUND(Scores!AB16,$A$1)","v":35.700000000000003},{"$f":"ROUND(Scores!AC16,$A$1)","v":12.1},{"$f":"ROUND(Scores!AD16,$A$1)","v":0},{"$f":"ROUND(Scores!AE16,$A$1)","v":21.4},{"$f":"ROUND(Scores!AF16,$A$1)","v":40.700000000000003},{"$f":"ROUND(Scores!AG16,$A$1)","v":52.6},{"$f":"ROUND(Scores!AH16,$A$1)","v":46.6},{"$f":"ROUND(Scores!AI16,$A$1)","v":29.7},{"$f":"ROUND(Scores!AJ16,$A$1)","v":38.5},{"$f":"ROUND(Scores!AK16,$A$1)","v":41.2},{"$f":"ROUND(Scores!AL16,$A$1)","v":4.9000000000000004},null,38.735000000000007]
[{"$f":"Scores!N17","v":"1.20) Trade costs"},{"$f":"ROUND(Scores!S17,$A$1)","v":29.5},{"$f":"ROUND(Scores!T17,$A$1)","v":19.5},{"$f":"ROUND(Scores!U17,$A$1)","v":20.7},{"$f":"ROUND(Scores!V17,$A$1)","v":34},{"$f":"ROUND(Scores!W17,$A$1)","v":74},{"$f":"ROUND(Scores!X17,$A$1)","v":40.1},{"$f":"ROUND(Scores!Y17,$A$1)","v":33},{"$f":"ROUND(Scores!Z17,$A$1)","v":71.900000000000006},{"$f":"ROUND(Scores!AA17,$A$1)","v":15.8},{"$f":"ROUND(Scores!AB17,$A$1)","v":59.9},{"$f":"ROUND(Scores!AC17,$A$1)","v":13.8},{"$f":"ROUND(Scores!AD17,$A$1)","v":30.9},{"$f":"ROUND(Scores!AE17,$A$1)","v":32.9},{"$f":"ROUND(Scores!AF17,$A$1)","v":86.3},{"$f":"ROUND(Scores!AG17,$A$1)","v":69},{"$f":"ROUND(Scores!AH17,$A$1)","v":44.8},{"$f":"ROUND(Scores!AI17,$A$1)","v":66.7},{"$f":"ROUND(Scores!AJ17,$A$1)","v":43.3},{"$f":"ROUND(Scores!AK17,$A$1)","v":33.1},{"$f":"ROUND(Scores!AL17,$A$1)","v":79.3},null,44.924999999999997]
[{"$f":"Scores!N18","v":"1.20.1)    Infrastructure"},{"$f":"ROUND(Scores!S18,$A$1)","v":16.7},{"$f":"ROUND(Scores!T18,$A$1)","v":28.1},{"$f":"ROUND(Scores!U18,$A$1)","v":28.1},{"$f":"ROUND(Scores!V18,$A$1)","v":57.8},{"$f":"ROUND(Scores!W18,$A$1)","v":84.4},{"$f":"ROUND(Scores!X18,$A$1)","v":41.1},{"$f":"ROUND(Scores!Y18,$A$1)","v":45.6},{"$f":"ROUND(Scores!Z18,$A$1)","v":84.4},{"$f":"ROUND(Scores!AA18,$A$1)","v":15.6},{"$f":"ROUND(Scores!AB18,$A$1)","v":67.8},{"$f":"ROUND(Scores!AC18,$A$1)","v":10.4},{"$f":"ROUND(Scores!AD18,$A$1)","v":34.4},{"$f":"ROUND(Scores!AE18,$A$1)","v":46.7},{"$f":"ROUND(Scores!AF18,$A$1)","v":90},{"$f":"ROUND(Scores!AG18,$A$1)","v":77.8},{"$f":"ROUND(Scores!AH18,$A$1)","v":50},{"$f":"ROUND(Scores!AI18,$A$1)","v":82.2},{"$f":"ROUND(Scores!AJ18,$A$1)","v":54.4},{"$f":"ROUND(Scores!AK18,$A$1)","v":44.4},{"$f":"ROUND(Scores!AL18,$A$1)","v":88.9},null,52.440000000000012]
[{"$f":"Scores!N19","v":"1.20.2)    Logistics performance"},{"$f":"ROUND(Scores!S19,$A$1)","v":51.2},{"$f":"ROUND(Scores!T19,$A$1)","v":0},{"$f":"ROUND(Scores!U19,$A$1)","v":54.8},{"$f":"ROUND(Scores!V19,$A$1)","v":70.599999999999994},{"$f":"ROUND(Scores!W19,$A$1)","v":76.599999999999994},{"$f":"ROUND(Scores!X19,$A$1)","v":61.6},{"$f":"ROUND(Scores!Y19,$A$1)","v":61.6},{"$f":"ROUND(Scores!Z19,$A$1)","v":78.2},{"$f":"ROUND(Scores!AA19,$A$1)","v":47.8},{"$f":"ROUND(Scores!AB19,$A$1)","v":71.8},{"$f":"ROUND(Scores!AC19,$A$1)","v":45},{"$f":"ROUND(Scores!AD19,$A$1)","v":56.6},{"$f":"ROUND(Scores!AE19,$A$1)","v":60},{"$f":"ROUND(Scores!AF19,$A$1)","v":80},{"$f":"ROUND(Scores!AG19,$A$1)","v":73.400000000000006},{"$f":"ROUND(Scores!AH19,$A$1)","v":54},{"$f":"ROUND(Scores!AI19,$A$1)","v":74.400000000000006},{"$f":"ROUND(Scores!AJ19,$A$1)","v":68.599999999999994},{"$f":"ROUND(Scores!AK19,$A$1)","v":63},{"$f":"ROUND(Scores!AL19,$A$1)","v":78.400000000000006},null,61.38000000000001]
[{"$f":"Scores!N20","v":"1.20.3)    Corruption"},{"$f":"ROUND(Scores!S20,$A$1)","v":0},{"$f":"ROUND(Scores!T20,$A$1)","v":50},{"$f":"ROUND(Scores!U20,$A$1)","v":0},{"$f":"ROUND(Scores!V20,$A$1)","v":0},{"$f":"ROUND(Scores!W20,$A$1)","v":75},{"$f":"ROUND(Scores!X20,$A$1)","v":7.5},{"$f":"ROUND(Scores!Y20,$A$1)","v":0},{"$f":"ROUND(Scores!Z20,$A$1)","v":50},{"$f":"ROUND(Scores!AA20,$A$1)","v":0},{"$f":"ROUND(Scores!AB20,$A$1)","v":50},{"$f":"ROUND(Scores!AC20,$A$1)","v":0},{"$f":"ROUND(Scores!AD20,$A$1)","v":7.5},{"$f":"ROUND(Scores!AE20,$A$1)","v":0},{"$f":"ROUND(Scores!AF20,$A$1)","v":100},{"$f":"ROUND(Scores!AG20,$A$1)","v":75},{"$f":"ROUND(Scores!AH20,$A$1)","v":25},{"$f":"ROUND(Scores!AI20,$A$1)","v":50},{"$f":"ROUND(Scores!AJ20,$A$1)","v":25},{"$f":"ROUND(Scores!AK20,$A$1)","v":0},{"$f":"ROUND(Scores!AL20,$A$1)","v":75},null,29.5]
[{"$f":"Scores!N21","v":"1.20.4)    Legal system"},{"$f":"ROUND(Scores!S21,$A$1)","v":50},{"$f":"ROUND(Scores!T21,$A$1)","v":0},{"$f":"ROUND(Scores!U21,$A$1)","v":0},{"$f":"ROUND(Scores!V21,$A$1)","v":7.5},{"$f":"ROUND(Scores!W21,$A$1)","v":60},{"$f":"ROUND(Scores!X21,$A$1)","v":50},{"$f":"ROUND(Scores!Y21,$A$1)","v":25},{"$f":"ROUND(Scores!Z21,$A$1)","v":75},{"$f":"ROUND(Scores!AA21,$A$1)","v":0},{"$f":"ROUND(Scores!AB21,$A$1)","v":50},{"$f":"ROUND(Scores!AC21,$A$1)","v":0},{"$f":"ROUND(Scores!AD21,$A$1)","v":25},{"$f":"ROUND(Scores!AE21,$A$1)","v":25},{"$f":"ROUND(Scores!AF21,$A$1)","v":75},{"$f":"ROUND(Scores!AG21,$A$1)","v":50},{"$f":"ROUND(Scores!AH21,$A$1)","v":50},{"$f":"ROUND(Scores!AI21,$A$1)","v":60},{"$f":"ROUND(Scores!AJ21,$A$1)","v":25},{"$f":"ROUND(Scores!AK21,$A$1)","v":25},{"$f":"ROUND(Scores!AL21,$A$1)","v":75},null,36.375]
[{"$f":"Scores!N22","v":"1.21) Technological innovation"},{"$f":"ROUND(Scores!S22,$A$1)","v":8.5},{"$f":"ROUND(Scores!T22,$A$1)","v":0},{"$f":"ROUND(Scores!U22,$A$1)","v":0.5},{"$f":"ROUND(Scores!V22,$A$1)","v":45.1},{"$f":"ROUND(Scores!W22,$A$1)","v":17.600000000000001},{"$f":"ROUND(Scores!X22,$A$1)","v":17.600000000000001},{"$f":"ROUND(Scores!Y22,$A$1)","v":1.1000000000000001},{"$f":"ROUND(Scores!Z22,$A$1)","v":77.099999999999994},{"$f":"ROUND(Scores!AA22,$A$1)","v":0.2},{"$f":"ROUND(Scores!AB22,$A$1)","v":24.5},{"$f":"ROUND(Scores!AC22,$A$1)","v":3.9},{"$f":"ROUND(Scores!AD22,$A$1)","v":6.9},{"$f":"ROUND(Scores!AE22,$A$1)","v":1.8},{"$f":"ROUND(Scores!AF22,$A$1)","v":49.7},{"$f":"ROUND(Scores!AG22,$A$1)","v":100},{"$f":"ROUND(Scores!AH22,$A$1)","v":3.9},{"$f":"ROUND(Scores!AI22,$A$1)","v":72.5},{"$f":"ROUND(Scores!AJ22,$A$1)","v":6.2},{"$f":"ROUND(Scores!AK22,$A$1)","v":3.9},{"$f":"ROUND(Scores!AL22,$A$1)","v":63.4},null,25.219999999999995]
[{"$f":"Scores!N23","v":"1.22) Technological infrastructure"},{"$f":"ROUND(Scores!S23,$A$1)","v":50},{"$f":"ROUND(Scores!T23,$A$1)","v":100},{"$f":"ROUND(Scores!U23,$A$1)","v":25},{"$f":"ROUND(Scores!V23,$A$1)","v":50},{"$f":"ROUND(Scores!W23,$A$1)","v":50},{"$f":"ROUND(Scores!X23,$A$1)","v":75},{"$f":"ROUND(Scores!Y23,$A$1)","v":25},{"$f":"ROUND(Scores!Z23,$A$1)","v":100},{"$f":"ROUND(Scores!AA23,$A$1)","v":25},{"$f":"ROUND(Scores!AB23,$A$1)","v":75},{"$f":"ROUND(Scores!AC23,$A$1)","v":0},{"$f":"ROUND(Scores!AD23,$A$1)","v":25},{"$f":"ROUND(Scores!AE23,$A$1)","v":75},{"$f":"ROUND(Scores!AF23,$A$1)","v":100},{"$f":"ROUND(Scores!AG23,$A$1)","v":100},{"$f":"ROUND(Scores!AH23,$A$1)","v":50},{"$f":"ROUND(Scores!AI23,$A$1)","v":100},{"$f":"ROUND(Scores!AJ23,$A$1)","v":50},{"$f":"ROUND(Scores!AK23,$A$1)","v":75},{"$f":"ROUND(Scores!AL23,$A$1)","v":100},null,62.5]
[{"$f":"Scores!N24","v":"1.23) Growth in labour force"},{"$f":"ROUND(Scores!S24,$A$1)","v":64.8},{"$f":"ROUND(Scores!T24,$A$1)","v":13.5},{"$f":"ROUND(Scores!U24,$A$1)","v":22.9},{"$f":"ROUND(Scores!V24,$A$1)","v":8.6999999999999993},{"$f":"ROUND(Scores!W24,$A$1)","v":8},{"$f":"ROUND(Scores!X24,$A$1)","v":69.599999999999994},{"$f":"ROUND(Scores!Y24,$A$1)","v":61.1},{"$f":"ROUND(Scores!Z24,$A$1)","v":0},{"$f":"ROUND(Scores!AA24,$A$1)","v":30.9},{"$f":"ROUND(Scores!AB24,$A$1)","v":57.5},{"$f":"ROUND(Scores!AC24,$A$1)","v":24.7},{"$f":"ROUND(Scores!AD24,$A$1)","v":100},{"$f":"ROUND(Scores!AE24,$A$1)","v":80.3},{"$f":"ROUND(Scores!AF24,$A$1)","v":35.200000000000003},{"$f":"ROUND(Scores!AG24,$A$1)","v":17.100000000000001},{"$f":"ROUND(Scores!AH24,$A$1)","v":30.2},{"$f":"ROUND(Scores!AI24,$A$1)","v":11},{"$f":"ROUND(Scores!AJ24,$A$1)","v":12.8},{"$f":"ROUND(Scores!AK24,$A$1)","v":36.799999999999997},{"$f":"ROUND(Scores!AL24,$A$1)","v":29.5},null,35.730000000000004]
[{"$f":"Scores!N25","v":"2) SOCIAL PILLAR"},{"$f":"ROUND(Scores!S25,$A$1)","v":33.5},{"$f":"ROUND(Scores!T25,$A$1)","v":68.2},{"$f":"ROUND(Scores!U25,$A$1)","v":35.5},{"$f":"ROUND(Scores!V25,$A$1)","v":41.1},{"$f":"ROUND(Scores!W25,$A$1)","v":56.4},{"$f":"ROUND(Scores!X25,$A$1)","v":39.799999999999997},{"$f":"ROUND(Scores!Y25,$A$1)","v":40},{"$f":"ROUND(Scores!Z25,$A$1)","v":85.7},{"$f":"ROUND(Scores!AA25,$A$1)","v":38.700000000000003},{"$f":"ROUND(Scores!AB25,$A$1)","v":52.2},{"$f":"ROUND(Scores!AC25,$A$1)","v":27.3},{"$f":"ROUND(Scores!AD25,$A$1)","v":35},{"$f":"ROUND(Scores!AE25,$A$1)","v":28},{"$f":"ROUND(Scores!AF25,$A$1)","v":74.2},{"$f":"ROUND(Scores!AG25,$A$1)","v":88.9},{"$f":"ROUND(Scores!AH25,$A$1)","v":44.9},{"$f":"ROUND(Scores!AI25,$A$1)","v":81.599999999999994},{"$f":"ROUND(Scores!AJ25,$A$1)","v":45.2},{"$f":"ROUND(Scores!AK25,$A$1)","v":48.1},{"$f":"ROUND(Scores!AL25,$A$1)","v":88.1},null,52.620000000000005]
[{"$f":"Scores!N26","v":"2.1) Inequality (Gini coefficient)"},{"$f":"ROUND(Scores!S26,$A$1)","v":90},{"$f":"ROUND(Scores!T26,$A$1)","v":54.8},{"$f":"ROUND(Scores!U26,$A$1)","v":95.2},{"$f":"ROUND(Scores!V26,$A$1)","v":48.3},{"$f":"ROUND(Scores!W26,$A$1)","v":0},{"$f":"ROUND(Scores!X26,$A$1)","v":82.2},{"$f":"ROUND(Scores!Y26,$A$1)","v":75.099999999999994},{"$f":"ROUND(Scores!Z26,$A$1)","v":83.4},{"$f":"ROUND(Scores!AA26,$A$1)","v":65.599999999999994},{"$f":"ROUND(Scores!AB26,$A$1)","v":30.7},{"$f":"ROUND(Scores!AC26,$A$1)","v":65.099999999999994},{"$f":"ROUND(Scores!AD26,$A$1)","v":100},{"$f":"ROUND(Scores!AE26,$A$1)","v":44.4},{"$f":"ROUND(Scores!AF26,$A$1)","v":24.5},{"$f":"ROUND(Scores!AG26,$A$1)","v":95.4},{"$f":"ROUND(Scores!AH26,$A$1)","v":62.7},{"$f":"ROUND(Scores!AI26,$A$1)","v":80.900000000000006},{"$f":"ROUND(Scores!AJ26,$A$1)","v":59.8},{"$f":"ROUND(Scores!AK26,$A$1)","v":62.2},{"$f":"ROUND(Scores!AL26,$A$1)","v":61},null,64.065000000000012]
[{"$f":"Scores!N27","v":"2.2) Educational attainment"},{"$f":"ROUND(Scores!S27,$A$1)","v":3.9},{"$f":"ROUND(Scores!T27,$A$1)","v":17.899999999999999},{"$f":"ROUND(Scores!U27,$A$1)","v":6.9},{"$f":"ROUND(Scores!V27,$A$1)","v":22.9},{"$f":"ROUND(Scores!W27,$A$1)","v":65.7},{"$f":"ROUND(Scores!X27,$A$1)","v":17.100000000000001},{"$f":"ROUND(Scores!Y27,$A$1)","v":25},{"$f":"ROUND(Scores!Z27,$A$1)","v":59.5},{"$f":"ROUND(Scores!AA27,$A$1)","v":9.1},{"$f":"ROUND(Scores!AB27,$A$1)","v":31.6},{"$f":"ROUND(Scores!AC27,$A$1)","v":4.0999999999999996},{"$f":"ROUND(Scores!AD27,$A$1)","v":0},{"$f":"ROUND(Scores!AE27,$A$1)","v":27.7},{"$f":"ROUND(Scores!AF27,$A$1)","v":92.4},{"$f":"ROUND(Scores!AG27,$A$1)","v":100},{"$f":"ROUND(Scores!AH27,$A$1)","v":10.3},{"$f":"ROUND(Scores!AI27,$A$1)","v":85.4},{"$f":"ROUND(Scores!AJ27,$A$1)","v":47.7},{"$f":"ROUND(Scores!AK27,$A$1)","v":17},{"$f":"ROUND(Scores!AL27,$A$1)","v":91.4},null,36.780000000000008]
[{"$f":"Scores!N28","v":"2.3) Labour standards"},{"$f":"ROUND(Scores!S28,$A$1)","v":0},{"$f":"ROUND(Scores!T28,$A$1)","v":100},{"$f":"ROUND(Scores!U28,$A$1)","v":0},{"$f":"ROUND(Scores!V28,$A$1)","v":33.299999999999997},{"$f":"ROUND(Scores!W28,$A$1)","v":100},{"$f":"ROUND(Scores!X28,$A$1)","v":0},{"$f":"ROUND(Scores!Y28,$A$1)","v":0},{"$f":"ROUND(Scores!Z28,$A$1)","v":100},{"$f":"ROUND(Scores!AA28,$A$1)","v":0},{"$f":"ROUND(Scores!AB28,$A$1)","v":66.7},{"$f":"ROUND(Scores!AC28,$A$1)","v":0},{"$f":"ROUND(Scores!AD28,$A$1)","v":0},{"$f":"ROUND(Scores!AE28,$A$1)","v":0},{"$f":"ROUND(Scores!AF28,$A$1)","v":100},{"$f":"ROUND(Scores!AG28,$A$1)","v":100},{"$f":"ROUND(Scores!AH28,$A$1)","v":66.7},{"$f":"ROUND(Scores!AI28,$A$1)","v":100},{"$f":"ROUND(Scores!AJ28,$A$1)","v":33.299999999999997},{"$f":"ROUND(Scores!AK28,$A$1)","v":33.299999999999997},{"$f":"ROUND(Scores!AL28,$A$1)","v":100},null,46.664999999999999]
[{"$f":"Scores!N29","v":"2.4) Political stability"},{"$f":"ROUND(Scores!S29,$A$1)","v":40},{"$f":"ROUND(Scores!T29,$A$1)","v":100},{"$f":"ROUND(Scores!U29,$A$1)","v":40},{"$f":"ROUND(Scores!V29,$A$1)","v":60},{"$f":"ROUND(Scores!W29,$A$1)","v":60},{"$f":"ROUND(Scores!X29,$A$1)","v":60},{"$f":"ROUND(Scores!Y29,$A$1)","v":60},{"$f":"ROUND(Scores!Z29,$A$1)","v":100},{"$f":"ROUND(Scores!AA29,$A$1)","v":80},{"$f":"ROUND(Scores!AB29,$A$1)","v":80},{"$f":"ROUND(Scores!AC29,$A$1)","v":40},{"$f":"ROUND(Scores!AD29,$A$1)","v":40},{"$f":"ROUND(Scores!AE29,$A$1)","v":40},{"$f":"ROUND(Scores!AF29,$A$1)","v":80},{"$f":"ROUND(Scores!AG29,$A$1)","v":60},{"$f":"ROUND(Scores!AH29,$A$1)","v":40},{"$f":"ROUND(Scores!AI29,$A$1)","v":60},{"$f":"ROUND(Scores!AJ29,$A$1)","v":40},{"$f":"ROUND(Scores!AK29,$A$1)","v":80},{"$f":"ROUND(Scores!AL29,$A$1)","v":100},null,63]
[{"$f":"Scores!N30","v":"3) ENVIRONMENTAL PILLAR"},{"$f":"ROUND(Scores!S30,$A$1)","v":52.3},{"$f":"ROUND(Scores!T30,$A$1)","v":56.1},{"$f":"ROUND(Scores!U30,$A$1)","v":56.8},{"$f":"ROUND(Scores!V30,$A$1)","v":52},{"$f":"ROUND(Scores!W30,$A$1)","v":93.4},{"$f":"ROUND(Scores!X30,$A$1)","v":47.2},{"$f":"ROUND(Scores!Y30,$A$1)","v":50},{"$f":"ROUND(Scores!Z30,$A$1)","v":85},{"$f":"ROUND(Scores!AA30,$A$1)","v":48.2},{"$f":"ROUND(Scores!AB30,$A$1)","v":61.1},{"$f":"ROUND(Scores!AC30,$A$1)","v":45.9},{"$f":"ROUND(Scores!AD30,$A$1)","v":47.8},{"$f":"ROUND(Scores!AE30,$A$1)","v":71},{"$f":"ROUND(Scores!AF30,$A$1)","v":92.2},{"$f":"ROUND(Scores!AG30,$A$1)","v":83},{"$f":"ROUND(Scores!AH30,$A$1)","v":63.1},{"$f":"ROUND(Scores!AI30,$A$1)","v":59.3},{"$f":"ROUND(Scores!AJ30,$A$1)","v":66.2},{"$f":"ROUND(Scores!AK30,$A$1)","v":57},{"$f":"ROUND(Scores!AL30,$A$1)","v":74.900000000000006},null,63.125000000000014]
[{"$f":"Scores!N31","v":"3.1) Air pollution"},{"$f":"ROUND(Scores!S31,$A$1)","v":42.9},{"$f":"ROUND(Scores!T31,$A$1)","v":90.6},{"$f":"ROUND(Scores!U31,$A$1)","v":89.7},{"$f":"ROUND(Scores!V31,$A$1)","v":0},{"$f":"ROUND(Scores!W31,$A$1)","v":76.2},{"$f":"ROUND(Scores!X31,$A$1)","v":37.4},{"$f":"ROUND(Scores!Y31,$A$1)","v":90.5},{"$f":"ROUND(Scores!Z31,$A$1)","v":84.8},{"$f":"ROUND(Scores!AA31,$A$1)","v":62.7},{"$f":"ROUND(Scores!AB31,$A$1)","v":87.2},{"$f":"ROUND(Scores!AC31,$A$1)","v":79.099999999999994},{"$f":"ROUND(Scores!AD31,$A$1)","v":43.5},{"$f":"ROUND(Scores!AE31,$A$1)","v":96.5},{"$f":"ROUND(Scores!AF31,$A$1)","v":100},{"$f":"ROUND(Scores!AG31,$A$1)","v":65.599999999999994},{"$f":"ROUND(Scores!AH31,$A$1)","v":90.6},{"$f":"ROUND(Scores!AI31,$A$1)","v":78},{"$f":"ROUND(Scores!AJ31,$A$1)","v":78},{"$f":"ROUND(Scores!AK31,$A$1)","v":70.3},{"$f":"ROUND(Scores!AL31,$A$1)","v":94.6},null,72.91]
[{"$f":"Scores!N32","v":"3.2) Deforestation"},{"$f":"ROUND(Scores!S32,$A$1)","v":78.400000000000006},{"$f":"ROUND(Scores!T32,$A$1)","v":87.8},{"$f":"ROUND(Scores!U32,$A$1)","v":0},{"$f":"ROUND(Scores!V32,$A$1)","v":80.599999999999994},{"$f":"ROUND(Scores!W32,$A$1)","v":100},{"$f":"ROUND(Scores!X32,$A$1)","v":87.1},{"$f":"ROUND(Scores!Y32,$A$1)","v":59},{"$f":"ROUND(Scores!Z32,$A$1)","v":94.2},{"$f":"ROUND(Scores!AA32,$A$1)","v":67.599999999999994},{"$f":"ROUND(Scores!AB32,$A$1)","v":46.8},{"$f":"ROUND(Scores!AC32,$A$1)","v":79.900000000000006},{"$f":"ROUND(Scores!AD32,$A$1)","v":90.6},{"$f":"ROUND(Scores!AE32,$A$1)","v":84.9},{"$f":"ROUND(Scores!AF32,$A$1)","v":98.6},{"$f":"ROUND(Scores!AG32,$A$1)","v":86.3},{"$f":"ROUND(Scores!AH32,$A$1)","v":86.3},{"$f":"ROUND(Scores!AI32,$A$1)","v":92.8},{"$f":"ROUND(Scores!AJ32,$A$1)","v":80.599999999999994},{"$f":"ROUND(Scores!AK32,$A$1)","v":72.7},{"$f":"ROUND(Scores!AL32,$A$1)","v":69.099999999999994},null,77.164999999999992]
[{"$f":"Scores!N33","v":"3.3) Water pollution"},{"$f":"ROUND(Scores!S33,$A$1)","v":0},{"$f":"ROUND(Scores!T33,$A$1)","v":38},{"$f":"ROUND(Scores!U33,$A$1)","v":0},{"$f":"ROUND(Scores!V33,$A$1)","v":18.2},{"$f":"ROUND(Scores!W33,$A$1)","v":88.1},{"$f":"ROUND(Scores!X33,$A$1)","v":10.5},{"$f":"ROUND(Scores!Y33,$A$1)","v":0},{"$f":"ROUND(Scores!Z33,$A$1)","v":71.5},{"$f":"ROUND(Scores!AA33,$A$1)","v":0},{"$f":"ROUND(Scores!AB33,$A$1)","v":8.6999999999999993},{"$f":"ROUND(Scores!AC33,$A$1)","v":0},{"$f":"ROUND(Scores!AD33,$A$1)","v":3.5},{"$f":"ROUND(Scores!AE33,$A$1)","v":0.5},{"$f":"ROUND(Scores!AF33,$A$1)","v":100},{"$f":"ROUND(Scores!AG33,$A$1)","v":84},{"$f":"ROUND(Scores!AH33,$A$1)","v":0},{"$f":"ROUND(Scores!AI33,$A$1)","v":4.5999999999999996},{"$f":"ROUND(Scores!AJ33,$A$1)","v":16.100000000000001},{"$f":"ROUND(Scores!AK33,$A$1)","v":0.1},{"$f":"ROUND(Scores!AL33,$A$1)","v":63.9},null,25.385000000000002]
[{"$f":"Scores!N34","v":"3.4) Environmental standards in trade"},{"$f":"ROUND(Scores!S34,$A$1)","v":33.299999999999997},{"$f":"ROUND(Scores!T34,$A$1)","v":33.299999999999997},{"$f":"ROUND(Scores!U34,$A$1)","v":66.7},{"$f":"ROUND(Scores!V34,$A$1)","v":100},{"$f":"ROUND(Scores!W34,$A$1)","v":100},{"$f":"ROUND(Scores!X34,$A$1)","v":66.7},{"$f":"ROUND(Scores!Y34,$A$1)","v":66.7},{"$f":"ROUND(Scores!Z34,$A$1)","v":83.3},{"$f":"ROUND(Scores!AA34,$A$1)","v":50},{"$f":"ROUND(Scores!AB34,$A$1)","v":66.7},{"$f":"ROUND(Scores!AC34,$A$1)","v":33.299999999999997},{"$f":"ROUND(Scores!AD34,$A$1)","v":66.7},{"$f":"ROUND(Scores!AE34,$A$1)","v":83.3},{"$f":"ROUND(Scores!AF34,$A$1)","v":66.7},{"$f":"ROUND(Scores!AG34,$A$1)","v":83.3},{"$f":"ROUND(Scores!AH34,$A$1)","v":50},{"$f":"ROUND(Scores!AI34,$A$1)","v":0},{"$f":"ROUND(Scores!AJ34,$A$1)","v":66.7},{"$f":"ROUND(Scores!AK34,$A$1)","v":66.7},{"$f":"ROUND(Scores!AL34,$A$1)","v":83.3},null,63.335000000000001]
[{"$f":"Scores!N35","v":"3.5) Carbon emissions in trade"},{"$f":"ROUND(Scores!S35,$A$1)","v":59.9},{"$f":"ROUND(Scores!T35,$A$1)","v":86.7},{"$f":"ROUND(Scores!U35,$A$1)","v":89.6},{"$f":"ROUND(Scores!V35,$A$1)","v":13.3},{"$f":"ROUND(Scores!W35,$A$1)","v":99.3},{"$f":"ROUND(Scores!X35,$A$1)","v":11},{"$f":"ROUND(Scores!Y35,$A$1)","v":49.6},{"$f":"ROUND(Scores!Z35,$A$1)","v":76.099999999999994},{"$f":"ROUND(Scores!AA35,$A$1)","v":91.1},{"$f":"ROUND(Scores!AB35,$A$1)","v":84.3},{"$f":"ROUND(Scores!AC35,$A$1)","v":76.900000000000006},{"$f":"ROUND(Scores!AD35,$A$1)","v":0},{"$f":"ROUND(Scores!AE35,$A$1)","v":73.099999999999994},{"$f":"ROUND(Scores!AF35,$A$1)","v":100},{"$f":"ROUND(Scores!AG35,$A$1)","v":84},{"$f":"ROUND(Scores!AH35,$A$1)","v":79.2},{"$f":"ROUND(Scores!AI35,$A$1)","v":84.7},{"$f":"ROUND(Scores!AJ35,$A$1)","v":78.3},{"$f":"ROUND(Scores!AK35,$A$1)","v":69.2},{"$f":"ROUND(Scores!AL35,$A$1)","v":52.6},null,67.944999999999993]
[{"$f":"Scores!N36","v":"3.6) Share of natural resources in trade"},{"$f":"ROUND(Scores!S36,$A$1)","v":99},{"$f":"ROUND(Scores!T36,$A$1)","v":0},{"$f":"ROUND(Scores!U36,$A$1)","v":94.8},{"$f":"ROUND(Scores!V36,$A$1)","v":100},{"$f":"ROUND(Scores!W36,$A$1)","v":97.1},{"$f":"ROUND(Scores!X36,$A$1)","v":70.5},{"$f":"ROUND(Scores!Y36,$A$1)","v":34.299999999999997},{"$f":"ROUND(Scores!Z36,$A$1)","v":99.9},{"$f":"ROUND(Scores!AA36,$A$1)","v":18},{"$f":"ROUND(Scores!AB36,$A$1)","v":73.3},{"$f":"ROUND(Scores!AC36,$A$1)","v":6},{"$f":"ROUND(Scores!AD36,$A$1)","v":82.6},{"$f":"ROUND(Scores!AE36,$A$1)","v":87.8},{"$f":"ROUND(Scores!AF36,$A$1)","v":87.9},{"$f":"ROUND(Scores!AG36,$A$1)","v":94.7},{"$f":"ROUND(Scores!AH36,$A$1)","v":72.7},{"$f":"ROUND(Scores!AI36,$A$1)","v":95.7},{"$f":"ROUND(Scores!AJ36,$A$1)","v":77.400000000000006},{"$f":"ROUND(Scores!AK36,$A$1)","v":62.8},{"$f":"ROUND(Scores!AL36,$A$1)","v":86.1},null,72.03]
[]
[]
["RANK"]
[]
[{"$f":"A2","v":"OVERALL SCORE"},{"$f":"RANK(B2,$B2:$U2,0)","v":18},9,16,12,5,15,14,3,17,7,20,19,13,1,2,9,6,8,11,4]
["1) ECONOMIC PILLAR",{"$f":"RANK(B3,$B3:$U3,0)","v":15},19,17,8,2,11,14,6,16,6,20,18,9,1,3,13,4,12,10,5]
["1.10) Growth in per capita GDP",{"$f":"RANK(B4,$B4:$U4,0)","v":6},20,5,1,16,4,7,18,2,13,11,17,10,9,15,3,12,14,8,19]
["1.11) Current account liberalisation",{"$f":"RANK(B5,$B5:$U5,0)","v":16},1,1,13,1,16,16,1,1,1,16,20,13,1,13,1,1,1,1,1]
["1.12) Tariff & non-tariff barriers",{"$f":"RANK(B6,$B6:$U6,0)","v":18},13,13,13,1,18,3,3,3,3,3,18,3,1,3,13,3,12,17,3]
["1.13) Exchange rate volatility",{"$f":"RANK(B7,$B7:$U7,0)","v":13},7,2,9,1,19,15,18,2,9,20,2,9,7,15,9,2,15,6,13]
["1.14) Financial sector depth",{"$f":"RANK(B8,$B8:$U8,0)","v":13},16,11,6,1,12,14,3,18,9,20,19,15,8,7,17,4,5,10,2]
["1.15) Foreign trade and payments risk",{"$f":"RANK(B9,$B9:$U9,0)","v":17},4,12,10,2,16,13,7,19,4,18,20,9,1,8,11,3,13,15,4]
["1.16) Export market concentration",{"$f":"RANK(B10,$B10:$U10,0)","v":6},20,12,7,17,1,8,14,18,10,19,5,15,3,13,4,16,2,10,9]
["1.17) Export product concentration",{"$f":"RANK(B11,$B11:$U11,0)","v":12},20,18,3,17,7,10,16,4,11,5,2,7,9,15,6,13,19,1,14]
["1.18) Foreign Direct Investment",{"$f":"RANK(B12,$B12:$U12,0)","v":15},20,3,6,1,11,10,19,8,7,5,17,14,2,16,13,18,9,4,12]
["1.19) Gross fixed capital formation",{"$f":"RANK(B13,$B13:$U13,0)","v":8},2,17,1,13,4,3,15,6,12,18,20,16,10,5,7,14,11,9,19]
["1.20) Trade costs",{"$f":"RANK(B14,$B14:$U14,0)","v":16},18,17,11,3,10,13,4,19,7,20,15,14,1,5,8,6,9,12,2]
["1.20.1)    Infrastructure",{"$f":"RANK(B15,$B15:$U15,0)","v":18},16,16,8,3,14,12,3,19,7,20,15,11,1,6,10,5,9,13,2]
["1.20.2)    Logistics performance",{"$f":"RANK(B16,$B16:$U16,0)","v":17},20,15,8,4,11,11,3,18,7,19,14,13,1,6,16,5,9,10,2]
["1.20.3)    Corruption",{"$f":"RANK(B17,$B17:$U17,0)","v":13},5,13,13,2,11,13,5,13,5,13,11,13,1,2,9,5,9,13,2]
["1.20.4)    Legal system",{"$f":"RANK(B18,$B18:$U18,0)","v":6},17,17,16,4,6,11,1,17,6,17,11,11,1,6,6,4,11,11,1]
["1.21) Technological innovation",{"$f":"RANK(B19,$B19:$U19,0)","v":10},20,18,6,8,8,17,2,19,7,13,11,16,5,1,13,3,12,13,4]
["1.22) Technological infrastructure",{"$f":"RANK(B20,$B20:$U20,0)","v":11},1,16,11,11,7,16,1,16,7,20,16,7,1,1,11,1,11,7,1]
["1.23) Growth in labour force",{"$f":"RANK(B21,$B21:$U21,0)","v":4},15,13,18,19,3,5,20,9,6,12,1,2,8,14,10,17,16,7,11]
["2) SOCIAL PILLAR",{"$f":"RANK(B22,$B22:$U22,0)","v":18},6,16,12,7,14,13,3,15,8,20,17,19,5,1,11,4,10,9,2]
["2.1) Inequality (Gini coefficient)",{"$f":"RANK(B23,$B23:$U23,0)","v":4},15,3,16,20,6,8,5,9,18,10,1,17,19,2,11,7,14,12,13]
["2.2) Educational attainment",{"$f":"RANK(B24,$B24:$U24,0)","v":19},12,17,11,5,13,10,6,16,8,18,20,9,2,1,15,4,7,14,3]
["2.3) Labour standards",{"$f":"RANK(B25,$B25:$U25,0)","v":13},1,13,10,1,13,13,1,13,8,13,13,13,1,1,8,1,10,10,1]
["2.4) Political stability",{"$f":"RANK(B26,$B26:$U26,0)","v":14},1,14,8,8,8,8,1,4,4,14,14,14,4,8,14,8,14,4,1]
["3) ENVIRONMENTAL PILLAR",{"$f":"RANK(B27,$B27:$U27,0)","v":14},13,12,15,1,19,16,3,17,9,20,18,6,2,4,8,10,7,11,5]
["3.1) Air pollution",{"$f":"RANK(B28,$B28:$U28,0)","v":18},4,7,20,13,19,6,9,16,8,10,17,2,1,15,4,11,11,14,3]
[{"$f":"A29","v":"3.2) Deforestation"},{"$f":"RANK(B29,$B29:$U29,0)","v":14},6,20,11,1,7,18,3,17,19,13,5,10,2,8,8,4,11,15,16]
[{"$f":"A30","v":"3.3) Water pollution"},{"$f":"RANK(B30,$B30:$U30,0)","v":15},6,15,7,2,9,15,4,15,10,15,12,13,1,3,15,11,8,14,5]
[{"$f":"A31","v":"3.4) Environmental standards in trade"},{"$f":"RANK(B31,$B31:$U31,0)","v":17},17,7,1,1,7,7,3,15,7,17,7,3,7,3,15,20,7,7,3]
[{"$f":"A32","v":"3.5) Carbon emissions in trade"},{"$f":"RANK(B32,$B32:$U32,0)","v":15},5,4,18,2,19,17,12,3,7,11,20,13,1,8,9,6,10,14,16]
[{"$f":"A33","v":"3.6) Share of natural resources in trade"},{"$f":"RANK(B33,$B33:$U33,0)","v":3},20,6,1,4,15,17,2,18,13,19,11,9,8,7,14,5,12,16,10]

{"sheet":"iWeights","index":51,"n_rows":49,"n_cols":16,"rows_kept":49,"cut":false,"hidden":true,"merged":[]}
[]
["Weight Profile Names",null,null,null,null,null,null,1,1,2,3,4]
["Neutral",null,"Code","Row","Level","Indicator/Category Name",null,{"$f":"A3","v":"Neutral"},{"$f":"INDEX($A$4:$A$12,I2)","v":"Equal Weighting"},"LDC","Spare#2","Spare#3",null,"if Changed from Neutral",null,{"$f":"IF(SUM(P5:P44)=0,0,1)","v":1}]
["Equal Weighting"]
["LDC",null,{"$f":"tblIndiSets!A6","v":"EP"},{"$f":"tblIndiSets!B6","v":2},{"$f":"INDEX(OFFSET(lu_indicode,0,2),D5)","v":1},{"$f":"tblIndiSets!C6","v":"1) ECONOMIC PILLAR"},{"$f":"IF(E5=1,UPPER(F5),F5)","v":"1) ECONOMIC PILLAR"},1,0.58333333333333337,1.8,1,1,null,1,{"$f":"Weights!G7","v":1.6},{"$f":"IF(AND(O5=N5),0,1)","v":1}]
["Spare#2",null,{"$f":"tblIndiSets!A7","v":"SP"},{"$f":"tblIndiSets!B7","v":21},{"$f":"INDEX(OFFSET(lu_indicode,0,2),D6)","v":1},{"$f":"tblIndiSets!C7","v":"2) SOCIAL PILLAR"},{"$f":"IF(E6=1,UPPER(F6),F6)","v":"2) SOCIAL PILLAR"},1,0.16666666666666666,0.6,1,1,null,1,{"$f":"Weights!G8","v":0.7},{"$f":"IF(AND(O6=N6),0,1)","v":1}]
["Spare#3",null,{"$f":"tblIndiSets!A8","v":"ENP"},{"$f":"tblIndiSets!B8","v":26},{"$f":"INDEX(OFFSET(lu_indicode,0,2),D7)","v":1},{"$f":"tblIndiSets!C8","v":"3) ENVIRONMENTAL PILLAR"},{"$f":"IF(E7=1,UPPER(F7),F7)","v":"3) ENVIRONMENTAL PILLAR"},1,0.25,0.6,1,1,null,1,{"$f":"Weights!G9","v":0.7},1]
["<not related>"]
[]
[null,null,{"$f":"tblIndiSets!A13","v":"EP"},{"$f":"tblIndiSets!B13","v":2},{"$f":"INDEX(OFFSET(lu_indicode,0,2),D10)","v":1},{"$f":"tblIndiSets!C13","v":"1) ECONOMIC PILLAR"},{"$f":"IF(E10=1,UPPER(F10),F10)","v":"1) ECONOMIC PILLAR"}]
[null,null,{"$f":"tblIndiSets!A14","v":"EP_10"},{"$f":"tblIndiSets!B14","v":3},{"$f":"INDEX(OFFSET(lu_indicode,0,2),D11)","v":2},{"$f":"tblIndiSets!C14","v":"1.10) Growth in per capita GDP"},{"$f":"IF(E11=1,UPPER(F11),F11)","v":"1.10) Growth in per capita GDP"},1,1,1,1,1,null,1,{"$f":"Weights!G13","v":1},0]
[null,null,{"$f":"tblIndiSets!A15","v":"EP_11"},{"$f":"tblIndiSets!B15","v":4},2,{"$f":"tblIndiSets!C15","v":"1.11) Current account liberalisation"},"1.11) Current account liberalisation",1,1,1,1,1,null,1,{"$f":"Weights!G14","v":1},{"$f":"IF(AND(O12=N12),0,1)","v":0}]
[null,null,{"$f":"tblIndiSets!A16","v":"EP_12"},{"$f":"tblIndiSets!B16","v":5},2,{"$f":"tblIndiSets!C16","v":"1.12) Tariff & non-tariff barriers"},"1.12) Tariff & non-tariff barriers",1,1,1,1,1,null,1,{"$f":"Weights!G15","v":1},0]
[null,null,{"$f":"tblIndiSets!A17","v":"EP_13"},{"$f":"tblIndiSets!B17","v":6},2,{"$f":"tblIndiSets!C17","v":"1.13) Exchange rate volatility"},"1.13) Exchange rate volatility",1,1,1,1,1,null,1,{"$f":"Weights!G16","v":1},0]
[null,null,{"$f":"tblIndiSets!A18","v":"EP_14"},{"$f":"tblIndiSets!B18","v":7},2,{"$f":"tblIndiSets!C18","v":"1.14) Financial sector depth"},"1.14) Financial sector depth",1,1,1,1,1,null,1,{"$f":"Weights!G17","v":1},0]
[null,null,{"$f":"tblIndiSets!A19","v":"EP_15"},{"$f":"tblIndiSets!B19","v":8},2,{"$f":"tblIndiSets!C19","v":"1.15) Foreign trade and payments risk"},"1.15) Foreign trade and payments risk",1,1,1,1,1,null,1,{"$f":"Weights!G18","v":1},0]
[null,null,{"$f":"tblIndiSets!A20","v":"EP_16"},{"$f":"tblIndiSets!B20","v":9},2,{"$f":"tblIndiSets!C20","v":"1.16) Export market concentration"},"1.16) Export market concentration",1,1,1,1,1,null,1,{"$f":"Weights!G19","v":1},0]
[null,null,{"$f":"tblIndiSets!A21","v":"EP_17"},{"$f":"tblIndiSets!B21","v":10},2,{"$f":"tblIndiSets!C21","v":"1.17) Export product concentration"},"1.17) Export product concentration",1,1,1,1,1,null,1,{"$f":"Weights!G20","v":1},0]
[null,null,{"$f":"tblIndiSets!A22","v":"EP_18"},{"$f":"tblIndiSets!B22","v":11},{"$f":"INDEX(OFFSET(lu_indicode,0,2),D19)","v":2},{"$f":"tblIndiSets!C22","v":"1.18) Foreign Direct Investment"},{"$f":"IF(E19=1,UPPER(F19),F19)","v":"1.18) Foreign Direct Investment"},1,1,1,1,1,null,1,{"$f":"Weights!G21","v":1},0]
[null,null,{"$f":"tblIndiSets!A23","v":"EP_19"},{"$f":"tblIndiSets!B23","v":12},2,{"$f":"tblIndiSets!C23","v":"1.19) Gross fixed capital formation"},"1.19) Gross fixed capital formation",1,1,1,1,1,null,1,{"$f":"Weights!G22","v":1},0]
[null,null,{"$f":"tblIndiSets!A24","v":"EP_20"},{"$f":"tblIndiSets!B24","v":13},2,{"$f":"tblIndiSets!C24","v":"1.20) Trade costs"},"1.20) Trade costs",1,1,1,1,1,null,1,{"$f":"Weights!G23","v":1},0]
[null,null,{"$f":"tblIndiSets!A25","v":"EP_21"},{"$f":"tblIndiSets!B25","v":18},2,{"$f":"tblIndiSets!C25","v":"1.21) Technological innovation"},"1.21) Technological innovation",1,1,1,1,1,null,1,{"$f":"Weights!G24","v":1},0]
[null,null,{"$f":"tblIndiSets!A26","v":"EP_22"},{"$f":"tblIndiSets!B26","v":19},2,{"$f":"tblIndiSets!C26","v":"1.22) Technological infrastructure"},"1.22) Technological infrastructure",1,1,1,1,1,null,1,{"$f":"Weights!G25","v":1},0]
[null,null,{"$f":"tblIndiSets!A27","v":"EP_23"},{"$f":"tblIndiSets!B27","v":20},2,{"$f":"tblIndiSets!C27","v":"1.23) Growth in labour force"},"1.23) Growth in labour force",1,1,1,1,1,null,1,{"$f":"Weights!G26","v":1},0]
[null,null,{"$f":"tblIndiSets!A28","v":"SP"},{"$f":"tblIndiSets!B28","v":21},1,{"$f":"tblIndiSets!C28","v":"2) SOCIAL PILLAR"},"2) SOCIAL PILLAR"]
[null,null,{"$f":"tblIndiSets!A29","v":"SP_10"},{"$f":"tblIndiSets!B29","v":22},2,{"$f":"tblIndiSets!C29","v":"2.1) Inequality (Gini coefficient)"},"2.1) Inequality (Gini coefficient)",1,1,1,1,1,null,1,{"$f":"Weights!G28","v":1},0]
[null,null,{"$f":"tblIndiSets!A30","v":"SP_11"},{"$f":"tblIndiSets!B30","v":23},2,{"$f":"tblIndiSets!C30","v":"2.2) Educational attainment"},"2.2) Educational attainment",1,1,1,1,1,null,1,{"$f":"Weights!G29","v":1},0]
[null,null,{"$f":"tblIndiSets!A31","v":"SP_12"},{"$f":"tblIndiSets!B31","v":24},2,{"$f":"tblIndiSets!C31","v":"2.3) Labour standards"},"2.3) Labour standards",1,1,1,1,1,null,1,{"$f":"Weights!G30","v":1},0]
[null,null,{"$f":"tblIndiSets!A32","v":"SP_13"},{"$f":"tblIndiSets!B32","v":25},2,{"$f":"tblIndiSets!C32","v":"2.4) Political stability"},"2.4) Political stability",1,1,1,1,1,null,1,{"$f":"Weights!G31","v":1},0]
[null,null,{"$f":"tblIndiSets!A33","v":"ENP"},{"$f":"tblIndiSets!B33","v":26},1,{"$f":"tblIndiSets!C33","v":"3) ENVIRONMENTAL PILLAR"},"3) ENVIRONMENTAL PILLAR"]
[null,null,{"$f":"tblIndiSets!A34","v":"ENP_10"},{"$f":"tblIndiSets!B34","v":27},2,{"$f":"tblIndiSets!C34","v":"3.1) Air pollution"},"3.1) Air pollution",1,1,1,1,1,null,1,{"$f":"Weights!G33","v":1},0]
[null,null,{"$f":"tblIndiSets!A35","v":"ENP_11"},{"$f":"tblIndiSets!B35","v":28},2,{"$f":"tblIndiSets!C35","v":"3.2) Deforestation"},"3.2) Deforestation",1,1,1,1,1,null,1,{"$f":"Weights!G34","v":1},0]
[null,null,{"$f":"tblIndiSets!A36","v":"ENP_12"},{"$f":"tblIndiSets!B36","v":29},2,{"$f":"tblIndiSets!C36","v":"3.3) Water pollution"},"3.3) Water pollution",1,1,1,1,1,null,1,{"$f":"Weights!G35","v":1},0]
[null,null,{"$f":"tblIndiSets!A37","v":"ENP_13"},{"$f":"tblIndiSets!B37","v":30},2,{"$f":"tblIndiSets!C37","v":"3.4) Environmental standards in trade"},"3.4) Environmental standards in trade",1,1,1,1,1,null,1,{"$f":"Weights!G36","v":1},0]
[null,null,{"$f":"tblIndiSets!A38","v":"ENP_14"},{"$f":"tblIndiSets!B38","v":31},2,{"$f":"tblIndiSets!C38","v":"3.5) Carbon emissions in trade"},"3.5) Carbon emissions in trade",1,1,1,1,1,null,1,{"$f":"Weights!G37","v":1},0]
[null,null,{"$f":"tblIndiSets!A39","v":"ENP_15"},{"$f":"tblIndiSets!B39","v":32},2,{"$f":"tblIndiSets!C39","v":"3.6) Share of natural resources in trade"},"3.6) Share of natural resources in trade",1,1,1,1,1,null,1,{"$f":"Weights!G38","v":1},0]
[]
[]
[null,null,{"$f":"tblIndiSets!A56","v":"EP_20"},{"$f":"tblIndiSets!B56","v":13},{"$f":"INDEX(OFFSET(lu_indicode,0,2),D39)","v":2},{"$f":"tblIndiSets!C56","v":"    1.20) Trade costs"},{"$f":"IF(E39=1,UPPER(F39),F39)","v":"    1.20) Trade costs"}]
[null,null,{"$f":"tblIndiSets!A57","v":"EP_20_1"},{"$f":"tblIndiSets!B57","v":14},{"$f":"INDEX(OFFSET(lu_indicode,0,2),D40)","v":3},{"$f":"tblIndiSets!C57","v":"      1.20.1)    Infrastructure"},{"$f":"IF(E40=1,UPPER(F40),F40)","v":"      1.20.1)    Infrastructure"},1,1,1,1,1,null,1,{"$f":"Weights!G42","v":1},0]
[null,null,{"$f":"tblIndiSets!A58","v":"EP_20_2"},{"$f":"tblIndiSets!B58","v":15},3,{"$f":"tblIndiSets!C58","v":"      1.20.2)    Logistics performance"},"      1.20.2)    Logistics performance",1,1,1,1,1,null,1,{"$f":"Weights!G43","v":1},0]
[null,null,{"$f":"tblIndiSets!A59","v":"EP_20_3"},{"$f":"tblIndiSets!B59","v":16},3,{"$f":"tblIndiSets!C59","v":"      1.20.3)    Corruption"},"      1.20.3)    Corruption",1,1,1,1,1,null,1,{"$f":"Weights!G44","v":1},0]
[null,null,{"$f":"tblIndiSets!A60","v":"EP_20_4"},{"$f":"tblIndiSets!B60","v":17},3,{"$f":"tblIndiSets!C60","v":"      1.20.4)    Legal system"},"      1.20.4)    Legal system",1,1,1,1,1,null,1,{"$f":"Weights!G45","v":1},0]
[]
[]
["Notice of weight change"]
[]
[]
["The weightings profile has been changed from it's neutral setting."]

{"sheet":"iWeights2","index":52,"n_rows":49,"n_cols":66,"rows_kept":49,"cut":false,"hidden":true,"merged":[]}
[null,null,null,null,null,null,null,null,null,null,null,null,null,null,null,null,null,null,null,null,null,null,null,null,null,null,null,null,null,null,null,null,null,null,null,null,null,null,null,null,null,null,null,null,null,null,null,null,null,null,null,null,null,null,null,null,"Compare 1","Compare 2","Compare 3","Compare 4"]
["Weight Profile Names",null,null,null,null,null,null,{"$f":"AB2","v":1},{"$f":"AC2","v":1},1,1,2,2,2,2,3,3,3,3,4,4,4,4,5,5,5,5,1,1,1,1,2,2,2,2,3,3,3,3,4,4,4,4,5,5,5,5,null,null,null,null,null,null,null,null,null,"Input from Weights2"]
["Neutral",null,"Code","Row","Level","Indicator/Category Name",null,{"$f":"INDEX($A$3:$A$7,H2)","v":"Neutral"},{"$f":"INDEX($A$3:$A$7,I2)","v":"Neutral"},"Neutral","Neutral","Equal Weighting","Equal Weighting","Equal Weighting","Equal Weighting","LDC","LDC","LDC","LDC","Spare#2","Spare#2","Spare#2","Spare#2","Spare#3","Spare#3","Spare#3","Spare#3",{"$f":"INDEX($A$8:$A$12,AB2)","v":"Set Equal Weighting"},{"$f":"INDEX($A$8:$A$12,AC2)","v":"Set Equal Weighting"},"Set Equal Weighting","Set Equal Weighting","Chris #1","Chris #1","Chris #1","Chris #1","Chris #2","Chris #2","Chris #2","Chris #2","Least developed","Least developed","Least developed","Least developed","Set 5","Set 5","Set 5","Set 5",null,"if Changed from Neutral",null,null,null,null,null,{"$f":"IF(SUM(BC5:BC44)=0,0,1)","v":0}]
["Equal Weighting",0]
["LDC",{"$f":"B4+1","v":1},{"$f":"tblIndiSets!A6","v":"EP"},{"$f":"tblIndiSets!B6","v":2},{"$f":"INDEX(OFFSET(lu_indicode,0,2),D5)","v":1},{"$f":"tblIndiSets!C6","v":"1) ECONOMIC PILLAR"},{"$f":"IF(E5=1,UPPER(F5),F5)","v":"1) ECONOMIC PILLAR"},{"$f":"IF(ISNUMBER(INDEX(iWeights!$H$5:$L$43,$B5,H$2)),INDEX(iWeights!$H$5:$L$43,$B5,H$2),\"\")","v":1},{"$f":"IF(ISNUMBER(INDEX(iWeights!$H$5:$L$43,$B5,I$2)),INDEX(iWeights!$H$5:$L$43,$B5,I$2),\"\")","v":1},{"$f":"IF(ISNUMBER(INDEX(iWeights!$H$5:$L$43,$B5,J$2)),INDEX(iWeights!$H$5:$L$43,$B5,J$2),\"\")","v":1},{"$f":"IF(ISNUMBER(INDEX(iWeights!$H$5:$L$43,$B5,K$2)),INDEX(iWeights!$H$5:$L$43,$B5,K$2),\"\")","v":1},{"$f":"IF(ISNUMBER(INDEX(iWeights!$H$5:$L$43,$B5,L$2)),INDEX(iWeights!$H$5:$L$43,$B5,L$2),\"\")","v":0.58333333333333337},{"$f":"IF(ISNUMBER(INDEX(iWeights!$H$5:$L$43,$B5,M$2)),INDEX(iWeights!$H$5:$L$43,$B5,M$2),\"\")","v":0.58333333333333337},{"$f":"IF(ISNUMBER(INDEX(iWeights!$H$5:$L$43,$B5,N$2)),INDEX(iWeights!$H$5:$L$43,$B5,N$2),\"\")","v":0.58333333333333337},{"$f":"IF(ISNUMBER(INDEX(iWeights!$H$5:$L$43,$B5,O$2)),INDEX(iWeights!$H$5:$L$43,$B5,O$2),\"\")","v":0.58333333333333337},{"$f":"IF(ISNUMBER(INDEX(iWeights!$H$5:$L$43,$B5,P$2)),INDEX(iWeights!$H$5:$L$43,$B5,P$2),\"\")","v":1.8},{"$f":"IF(ISNUMBER(INDEX(iWeights!$H$5:$L$43,$B5,Q$2)),INDEX(iWeights!$H$5:$L$43,$B5,Q$2),\"\")","v":1.8},{"$f":"IF(ISNUMBER(INDEX(iWeights!$H$5:$L$43,$B5,R$2)),INDEX(iWeights!$H$5:$L$43,$B5,R$2),\"\")","v":1.8},{"$f":"IF(ISNUMBER(INDEX(iWeights!$H$5:$L$43,$B5,S$2)),INDEX(iWeights!$H$5:$L$43,$B5,S$2),\"\")","v":1.8},{"$f":"IF(ISNUMBER(INDEX(iWeights!$H$5:$L$43,$B5,T$2)),INDEX(iWeights!$H$5:$L$43,$B5,T$2),\"\")","v":1},{"$f":"IF(ISNUMBER(INDEX(iWeights!$H$5:$L$43,$B5,U$2)),INDEX(iWeights!$H$5:$L$43,$B5,U$2),\"\")","v":1},{"$f":"IF(ISNUMBER(INDEX(iWeights!$H$5:$L$43,$B5,V$2)),INDEX(iWeights!$H$5:$L$43,$B5,V$2),\"\")","v":1},{"$f":"IF(ISNUMBER(INDEX(iWeights!$H$5:$L$43,$B5,W$2)),INDEX(iWeights!$H$5:$L$43,$B5,W$2),\"\")","v":1},{"$f":"IF(ISNUMBER(INDEX(iWeights!$H$5:$L$43,$B5,X$2)),INDEX(iWeights!$H$5:$L$43,$B5,X$2),\"\")","v":1},{"$f":"IF(ISNUMBER(INDEX(iWeights!$H$5:$L$43,$B5,Y$2)),INDEX(iWeights!$H$5:$L$43,$B5,Y$2),\"\")","v":1},{"$f":"IF(ISNUMBER(INDEX(iWeights!$H$5:$L$43,$B5,Z$2)),INDEX(iWeights!$H$5:$L$43,$B5,Z$2),\"\")","v":1},{"$f":"IF(ISNUMBER(INDEX(iWeights!$H$5:$L$43,$B5,AA$2)),INDEX(iWeights!$H$5:$L$43,$B5,AA$2),\"\")","v":1},0.58333333333333337,0.58333333333333337,0.58333333333333337,0.58333333333333337,1,1.2,1.5,1.8,1,1.2,1.5,1.8,1,1,1,1.8,1,1,1,1,null,{"$f":"Weights2!G7","v":1},{"$f":"Weights2!K7","v":1},{"$f":"Weights2!O7","v":1},{"$f":"Weights2!S7","v":1},null,{"$f":"COUNTIF(AW5:AZ5,1)","v":4},{"$f":"IF(BB5=4,0,1)","v":0},null,{"$f":"Weights2!G7","v":1},{"$f":"Weights2!K7","v":1},{"$f":"Weights2!O7","v":1},{"$f":"Weights2!S7","v":1},null,{"$f":"iWeights!H5","v":1},{"$f":"iWeights!I5","v":0.58333333333333337},{"$f":"iWeights!J5","v":1.8},{"$f":"iWeights!K5","v":1},{"$f":"iWeights!L5","v":1}]
["Spare#2",{"$f":"B5+1","v":2},{"$f":"tblIndiSets!A7","v":"SP"},{"$f":"tblIndiSets!B7","v":21},{"$f":"INDEX(OFFSET(lu_indicode,0,2),D6)","v":1},{"$f":"tblIndiSets!C7","v":"2) SOCIAL PILLAR"},{"$f":"IF(E6=1,UPPER(F6),F6)","v":"2) SOCIAL PILLAR"},{"$f":"IF(ISNUMBER(INDEX(iWeights!$H$5:$L$43,$B6,H$2)),INDEX(iWeights!$H$5:$L$43,$B6,H$2),\"\")","v":1},{"$f":"IF(ISNUMBER(INDEX(iWeights!$H$5:$L$43,$B6,I$2)),INDEX(iWeights!$H$5:$L$43,$B6,I$2),\"\")","v":1},{"$f":"IF(ISNUMBER(INDEX(iWeights!$H$5:$L$43,$B6,J$2)),INDEX(iWeights!$H$5:$L$43,$B6,J$2),\"\")","v":1},{"$f":"IF(ISNUMBER(INDEX(iWeights!$H$5:$L$43,$B6,K$2)),INDEX(iWeights!$H$5:$L$43,$B6,K$2),\"\")","v":1},{"$f":"IF(ISNUMBER(INDEX(iWeights!$H$5:$L$43,$B6,L$2)),INDEX(iWeights!$H$5:$L$43,$B6,L$2),\"\")","v":0.16666666666666666},{"$f":"IF(ISNUMBER(INDEX(iWeights!$H$5:$L$43,$B6,M$2)),INDEX(iWeights!$H$5:$L$43,$B6,M$2),\"\")","v":0.16666666666666666},{"$f":"IF(ISNUMBER(INDEX(iWeights!$H$5:$L$43,$B6,N$2)),INDEX(iWeights!$H$5:$L$43,$B6,N$2),\"\")","v":0.16666666666666666},{"$f":"IF(ISNUMBER(INDEX(iWeights!$H$5:$L$43,$B6,O$2)),INDEX(iWeights!$H$5:$L$43,$B6,O$2),\"\")","v":0.16666666666666666},{"$f":"IF(ISNUMBER(INDEX(iWeights!$H$5:$L$43,$B6,P$2)),INDEX(iWeights!$H$5:$L$43,$B6,P$2),\"\")","v":0.6},{"$f":"IF(ISNUMBER(INDEX(iWeights!$H$5:$L$43,$B6,Q$2)),INDEX(iWeights!$H$5:$L$43,$B6,Q$2),\"\")","v":0.6},{"$f":"IF(ISNUMBER(INDEX(iWeights!$H$5:$L$43,$B6,R$2)),INDEX(iWeights!$H$5:$L$43,$B6,R$2),\"\")","v":0.6},{"$f":"IF(ISNUMBER(INDEX(iWeights!$H$5:$L$43,$B6,S$2)),INDEX(iWeights!$H$5:$L$43,$B6,S$2),\"\")","v":0.6},{"$f":"IF(ISNUMBER(INDEX(iWeights!$H$5:$L$43,$B6,T$2)),INDEX(iWeights!$H$5:$L$43,$B6,T$2),\"\")","v":1},{"$f":"IF(ISNUMBER(INDEX(iWeights!$H$5:$L$43,$B6,U$2)),INDEX(iWeights!$H$5:$L$43,$B6,U$2),\"\")","v":1},{"$f":"IF(ISNUMBER(INDEX(iWeights!$H$5:$L$43,$B6,V$2)),INDEX(iWeights!$H$5:$L$43,$B6,V$2),\"\")","v":1},{"$f":"IF(ISNUMBER(INDEX(iWeights!$H$5:$L$43,$B6,W$2)),INDEX(iWeights!$H$5:$L$43,$B6,W$2),\"\")","v":1},{"$f":"IF(ISNUMBER(INDEX(iWeights!$H$5:$L$43,$B6,X$2)),INDEX(iWeights!$H$5:$L$43,$B6,X$2),\"\")","v":1},{"$f":"IF(ISNUMBER(INDEX(iWeights!$H$5:$L$43,$B6,Y$2)),INDEX(iWeights!$H$5:$L$43,$B6,Y$2),\"\")","v":1},{"$f":"IF(ISNUMBER(INDEX(iWeights!$H$5:$L$43,$B6,Z$2)),INDEX(iWeights!$H$5:$L$43,$B6,Z$2),\"\")","v":1},{"$f":"IF(ISNUMBER(INDEX(iWeights!$H$5:$L$43,$B6,AA$2)),INDEX(iWeights!$H$5:$L$43,$B6,AA$2),\"\")","v":1},0.16666666666666666,0.16666666666666666,0.16666666666666666,0.16666666666666666,1,0.9,0.75,0.6,1,1.2,1,0.8,1,1,1,0.6,1,1,1,1,null,{"$f":"Weights2!G8","v":1},{"$f":"Weights2!K8","v":1},{"$f":"Weights2!O8","v":1},{"$f":"Weights2!S8","v":1},null,{"$f":"COUNTIF(AW6:AZ6,1)","v":4},{"$f":"IF(BB6=4,0,1)","v":0},null,{"$f":"Weights2!G8","v":1},{"$f":"Weights2!K8","v":1},{"$f":"Weights2!O8","v":1},{"$f":"Weights2!S8","v":1},null,{"$f":"iWeights!H6","v":1},{"$f":"iWeights!I6","v":0.16666666666666666},{"$f":"iWeights!J6","v":0.6},{"$f":"iWeights!K6","v":1},{"$f":"iWeights!L6","v":1}]
["Spare#3",3,{"$f":"tblIndiSets!A8","v":"ENP"},{"$f":"tblIndiSets!B8","v":26},{"$f":"INDEX(OFFSET(lu_indicode,0,2),D7)","v":1},{"$f":"tblIndiSets!C8","v":"3) ENVIRONMENTAL PILLAR"},"3) ENVIRONMENTAL PILLAR",{"$f":"IF(ISNUMBER(INDEX(iWeights!$H$5:$L$43,$B7,H$2)),INDEX(iWeights!$H$5:$L$43,$B7,H$2),\"\")","v":1},{"$f":"IF(ISNUMBER(INDEX(iWeights!$H$5:$L$43,$B7,I$2)),INDEX(iWeights!$H$5:$L$43,$B7,I$2),\"\")","v":1},{"$f":"IF(ISNUMBER(INDEX(iWeights!$H$5:$L$43,$B7,J$2)),INDEX(iWeights!$H$5:$L$43,$B7,J$2),\"\")","v":1},{"$f":"IF(ISNUMBER(INDEX(iWeights!$H$5:$L$43,$B7,K$2)),INDEX(iWeights!$H$5:$L$43,$B7,K$2),\"\")","v":1},{"$f":"IF(ISNUMBER(INDEX(iWeights!$H$5:$L$43,$B7,L$2)),INDEX(iWeights!$H$5:$L$43,$B7,L$2),\"\")","v":0.25},{"$f":"IF(ISNUMBER(INDEX(iWeights!$H$5:$L$43,$B7,M$2)),INDEX(iWeights!$H$5:$L$43,$B7,M$2),\"\")","v":0.25},{"$f":"IF(ISNUMBER(INDEX(iWeights!$H$5:$L$43,$B7,N$2)),INDEX(iWeights!$H$5:$L$43,$B7,N$2),\"\")","v":0.25},{"$f":"IF(ISNUMBER(INDEX(iWeights!$H$5:$L$43,$B7,O$2)),INDEX(iWeights!$H$5:$L$43,$B7,O$2),\"\")","v":0.25},{"$f":"IF(ISNUMBER(INDEX(iWeights!$H$5:$L$43,$B7,P$2)),INDEX(iWeights!$H$5:$L$43,$B7,P$2),\"\")","v":0.6},{"$f":"IF(ISNUMBER(INDEX(iWeights!$H$5:$L$43,$B7,Q$2)),INDEX(iWeights!$H$5:$L$43,$B7,Q$2),\"\")","v":0.6},{"$f":"IF(ISNUMBER(INDEX(iWeights!$H$5:$L$43,$B7,R$2)),INDEX(iWeights!$H$5:$L$43,$B7,R$2),\"\")","v":0.6},{"$f":"IF(ISNUMBER(INDEX(iWeights!$H$5:$L$43,$B7,S$2)),INDEX(iWeights!$H$5:$L$43,$B7,S$2),\"\")","v":0.6},{"$f":"IF(ISNUMBER(INDEX(iWeights!$H$5:$L$43,$B7,T$2)),INDEX(iWeights!$H$5:$L$43,$B7,T$2),\"\")","v":1},{"$f":"IF(ISNUMBER(INDEX(iWeights!$H$5:$L$43,$B7,U$2)),INDEX(iWeights!$H$5:$L$43,$B7,U$2),\"\")","v":1},{"$f":"IF(ISNUMBER(INDEX(iWeights!$H$5:$L$43,$B7,V$2)),INDEX(iWeights!$H$5:$L$43,$B7,V$2),\"\")","v":1},{"$f":"IF(ISNUMBER(INDEX(iWeights!$H$5:$L$43,$B7,W$2)),INDEX(iWeights!$H$5:$L$43,$B7,W$2),\"\")","v":1},{"$f":"IF(ISNUMBER(INDEX(iWeights!$H$5:$L$43,$B7,X$2)),INDEX(iWeights!$H$5:$L$43,$B7,X$2),\"\")","v":1},{"$f":"IF(ISNUMBER(INDEX(iWeights!$H$5:$L$43,$B7,Y$2)),INDEX(iWeights!$H$5:$L$43,$B7,Y$2),\"\")","v":1},{"$f":"IF(ISNUMBER(INDEX(iWeights!$H$5:$L$43,$B7,Z$2)),INDEX(iWeights!$H$5:$L$43,$B7,Z$2),\"\")","v":1},{"$f":"IF(ISNUMBER(INDEX(iWeights!$H$5:$L$43,$B7,AA$2)),INDEX(iWeights!$H$5:$L$43,$B7,AA$2),\"\")","v":1},0.25,0.25,0.25,0.25,1,0.9,0.75,0.6,1,0.6,0.5,0.4,1,1,1,0.6,1,1,1,1,null,{"$f":"Weights2!G9","v":1},{"$f":"Weights2!K9","v":1},{"$f":"Weights2!O9","v":1},{"$f":"Weights2!S9","v":1},null,4,0,null,{"$f":"Weights2!G9","v":1},{"$f":"Weights2!K9","v":1},{"$f":"Weights2!O9","v":1},{"$f":"Weights2!S9","v":1},null,{"$f":"iWeights!H7","v":1},{"$f":"iWeights!I7","v":0.25},{"$f":"iWeights!J7","v":0.6},{"$f":"iWeights!K7","v":1},{"$f":"iWeights!L7","v":1}]
["Set Equal Weighting",4,null,null,null,null,null,{"$f":"IF(ISNUMBER(INDEX(iWeights!$H$5:$L$43,$B8,H$2)),INDEX(iWeights!$H$5:$L$43,$B8,H$2),\"\")","v":""},{"$f":"IF(ISNUMBER(INDEX(iWeights!$H$5:$L$43,$B8,I$2)),INDEX(iWeights!$H$5:$L$43,$B8,I$2),\"\")","v":""},{"$f":"IF(ISNUMBER(INDEX(iWeights!$H$5:$L$43,$B8,J$2)),INDEX(iWeights!$H$5:$L$43,$B8,J$2),\"\")","v":""},{"$f":"IF(ISNUMBER(INDEX(iWeights!$H$5:$L$43,$B8,K$2)),INDEX(iWeights!$H$5:$L$43,$B8,K$2),\"\")","v":""},{"$f":"IF(ISNUMBER(INDEX(iWeights!$H$5:$L$43,$B8,L$2)),INDEX(iWeights!$H$5:$L$43,$B8,L$2),\"\")","v":""},{"$f":"IF(ISNUMBER(INDEX(iWeights!$H$5:$L$43,$B8,M$2)),INDEX(iWeights!$H$5:$L$43,$B8,M$2),\"\")","v":""},{"$f":"IF(ISNUMBER(INDEX(iWeights!$H$5:$L$43,$B8,N$2)),INDEX(iWeights!$H$5:$L$43,$B8,N$2),\"\")","v":""},{"$f":"IF(ISNUMBER(INDEX(iWeights!$H$5:$L$43,$B8,O$2)),INDEX(iWeights!$H$5:$L$43,$B8,O$2),\"\")","v":""},{"$f":"IF(ISNUMBER(INDEX(iWeights!$H$5:$L$43,$B8,P$2)),INDEX(iWeights!$H$5:$L$43,$B8,P$2),\"\")","v":""},{"$f":"IF(ISNUMBER(INDEX(iWeights!$H$5:$L$43,$B8,Q$2)),INDEX(iWeights!$H$5:$L$43,$B8,Q$2),\"\")","v":""},{"$f":"IF(ISNUMBER(INDEX(iWeights!$H$5:$L$43,$B8,R$2)),INDEX(iWeights!$H$5:$L$43,$B8,R$2),\"\")","v":""},{"$f":"IF(ISNUMBER(INDEX(iWeights!$H$5:$L$43,$B8,S$2)),INDEX(iWeights!$H$5:$L$43,$B8,S$2),\"\")","v":""},{"$f":"IF(ISNUMBER(INDEX(iWeights!$H$5:$L$43,$B8,T$2)),INDEX(iWeights!$H$5:$L$43,$B8,T$2),\"\")","v":""},{"$f":"IF(ISNUMBER(INDEX(iWeights!$H$5:$L$43,$B8,U$2)),INDEX(iWeights!$H$5:$L$43,$B8,U$2),\"\")","v":""},{"$f":"IF(ISNUMBER(INDEX(iWeights!$H$5:$L$43,$B8,V$2)),INDEX(iWeights!$H$5:$L$43,$B8,V$2),\"\")","v":""},{"$f":"IF(ISNUMBER(INDEX(iWeights!$H$5:$L$43,$B8,W$2)),INDEX(iWeights!$H$5:$L$43,$B8,W$2),\"\")","v":""},{"$f":"IF(ISNUMBER(INDEX(iWeights!$H$5:$L$43,$B8,X$2)),INDEX(iWeights!$H$5:$L$43,$B8,X$2),\"\")","v":""},{"$f":"IF(ISNUMBER(INDEX(iWeights!$H$5:$L$43,$B8,Y$2)),INDEX(iWeights!$H$5:$L$43,$B8,Y$2),\"\")","v":""},{"$f":"IF(ISNUMBER(INDEX(iWeights!$H$5:$L$43,$B8,Z$2)),INDEX(iWeights!$H$5:$L$43,$B8,Z$2),\"\")","v":""},{"$f":"IF(ISNUMBER(INDEX(iWeights!$H$5:$L$43,$B8,AA$2)),INDEX(iWeights!$H$5:$L$43,$B8,AA$2),\"\")","v":""}]
["Chris #1",5,null,null,null,null,null,{"$f":"IF(ISNUMBER(INDEX(iWeights!$H$5:$L$43,$B9,H$2)),INDEX(iWeights!$H$5:$L$43,$B9,H$2),\"\")","v":""},{"$f":"IF(ISNUMBER(INDEX(iWeights!$H$5:$L$43,$B9,I$2)),INDEX(iWeights!$H$5:$L$43,$B9,I$2),\"\")","v":""},{"$f":"IF(ISNUMBER(INDEX(iWeights!$H$5:$L$43,$B9,J$2)),INDEX(iWeights!$H$5:$L$43,$B9,J$2),\"\")","v":""},{"$f":"IF(ISNUMBER(INDEX(iWeights!$H$5:$L$43,$B9,K$2)),INDEX(iWeights!$H$5:$L$43,$B9,K$2),\"\")","v":""},{"$f":"IF(ISNUMBER(INDEX(iWeights!$H$5:$L$43,$B9,L$2)),INDEX(iWeights!$H$5:$L$43,$B9,L$2),\"\")","v":""},{"$f":"IF(ISNUMBER(INDEX(iWeights!$H$5:$L$43,$B9,M$2)),INDEX(iWeights!$H$5:$L$43,$B9,M$2),\"\")","v":""},{"$f":"IF(ISNUMBER(INDEX(iWeights!$H$5:$L$43,$B9,N$2)),INDEX(iWeights!$H$5:$L$43,$B9,N$2),\"\")","v":""},{"$f":"IF(ISNUMBER(INDEX(iWeights!$H$5:$L$43,$B9,O$2)),INDEX(iWeights!$H$5:$L$43,$B9,O$2),\"\")","v":""},{"$f":"IF(ISNUMBER(INDEX(iWeights!$H$5:$L$43,$B9,P$2)),INDEX(iWeights!$H$5:$L$43,$B9,P$2),\"\")","v":""},{"$f":"IF(ISNUMBER(INDEX(iWeights!$H$5:$L$43,$B9,Q$2)),INDEX(iWeights!$H$5:$L$43,$B9,Q$2),\"\")","v":""},{"$f":"IF(ISNUMBER(INDEX(iWeights!$H$5:$L$43,$B9,R$2)),INDEX(iWeights!$H$5:$L$43,$B9,R$2),\"\")","v":""},{"$f":"IF(ISNUMBER(INDEX(iWeights!$H$5:$L$43,$B9,S$2)),INDEX(iWeights!$H$5:$L$43,$B9,S$2),\"\")","v":""},{"$f":"IF(ISNUMBER(INDEX(iWeights!$H$5:$L$43,$B9,T$2)),INDEX(iWeights!$H$5:$L$43,$B9,T$2),\"\")","v":""},{"$f":"IF(ISNUMBER(INDEX(iWeights!$H$5:$L$43,$B9,U$2)),INDEX(iWeights!$H$5:$L$43,$B9,U$2),\"\")","v":""},{"$f":"IF(ISNUMBER(INDEX(iWeights!$H$5:$L$43,$B9,V$2)),INDEX(iWeights!$H$5:$L$43,$B9,V$2),\"\")","v":""},{"$f":"IF(ISNUMBER(INDEX(iWeights!$H$5:$L$43,$B9,W$2)),INDEX(iWeights!$H$5:$L$43,$B9,W$2),\"\")","v":""},{"$f":"IF(ISNUMBER(INDEX(iWeights!$H$5:$L$43,$B9,X$2)),INDEX(iWeights!$H$5:$L$43,$B9,X$2),\"\")","v":""},{"$f":"IF(ISNUMBER(INDEX(iWeights!$H$5:$L$43,$B9,Y$2)),INDEX(iWeights!$H$5:$L$43,$B9,Y$2),\"\")","v":""},{"$f":"IF(ISNUMBER(INDEX(iWeights!$H$5:$L$43,$B9,Z$2)),INDEX(iWeights!$H$5:$L$43,$B9,Z$2),\"\")","v":""},{"$f":"IF(ISNUMBER(INDEX(iWeights!$H$5:$L$43,$B9,AA$2)),INDEX(iWeights!$H$5:$L$43,$B9,AA$2),\"\")","v":""}]
["Chris #2",6,{"$f":"tblIndiSets!A13","v":"EP"},{"$f":"tblIndiSets!B13","v":2},{"$f":"INDEX(OFFSET(lu_indicode,0,2),D10)","v":1},{"$f":"tblIndiSets!C13","v":"1) ECONOMIC PILLAR"},"1) ECONOMIC PILLAR",{"$f":"IF(ISNUMBER(INDEX(iWeights!$H$5:$L$43,$B10,H$2)),INDEX(iWeights!$H$5:$L$43,$B10,H$2),\"\")","v":""},{"$f":"IF(ISNUMBER(INDEX(iWeights!$H$5:$L$43,$B10,I$2)),INDEX(iWeights!$H$5:$L$43,$B10,I$2),\"\")","v":""},{"$f":"IF(ISNUMBER(INDEX(iWeights!$H$5:$L$43,$B10,J$2)),INDEX(iWeights!$H$5:$L$43,$B10,J$2),\"\")","v":""},{"$f":"IF(ISNUMBER(INDEX(iWeights!$H$5:$L$43,$B10,K$2)),INDEX(iWeights!$H$5:$L$43,$B10,K$2),\"\")","v":""},{"$f":"IF(ISNUMBER(INDEX(iWeights!$H$5:$L$43,$B10,L$2)),INDEX(iWeights!$H$5:$L$43,$B10,L$2),\"\")","v":""},{"$f":"IF(ISNUMBER(INDEX(iWeights!$H$5:$L$43,$B10,M$2)),INDEX(iWeights!$H$5:$L$43,$B10,M$2),\"\")","v":""},{"$f":"IF(ISNUMBER(INDEX(iWeights!$H$5:$L$43,$B10,N$2)),INDEX(iWeights!$H$5:$L$43,$B10,N$2),\"\")","v":""},{"$f":"IF(ISNUMBER(INDEX(iWeights!$H$5:$L$43,$B10,O$2)),INDEX(iWeights!$H$5:$L$43,$B10,O$2),\"\")","v":""},{"$f":"IF(ISNUMBER(INDEX(iWeights!$H$5:$L$43,$B10,P$2)),INDEX(iWeights!$H$5:$L$43,$B10,P$2),\"\")","v":""},{"$f":"IF(ISNUMBER(INDEX(iWeights!$H$5:$L$43,$B10,Q$2)),INDEX(iWeights!$H$5:$L$43,$B10,Q$2),\"\")","v":""},{"$f":"IF(ISNUMBER(INDEX(iWeights!$H$5:$L$43,$B10,R$2)),INDEX(iWeights!$H$5:$L$43,$B10,R$2),\"\")","v":""},{"$f":"IF(ISNUMBER(INDEX(iWeights!$H$5:$L$43,$B10,S$2)),INDEX(iWeights!$H$5:$L$43,$B10,S$2),\"\")","v":""},{"$f":"IF(ISNUMBER(INDEX(iWeights!$H$5:$L$43,$B10,T$2)),INDEX(iWeights!$H$5:$L$43,$B10,T$2),\"\")","v":""},{"$f":"IF(ISNUMBER(INDEX(iWeights!$H$5:$L$43,$B10,U$2)),INDEX(iWeights!$H$5:$L$43,$B10,U$2),\"\")","v":""},{"$f":"IF(ISNUMBER(INDEX(iWeights!$H$5:$L$43,$B10,V$2)),INDEX(iWeights!$H$5:$L$43,$B10,V$2),\"\")","v":""},{"$f":"IF(ISNUMBER(INDEX(iWeights!$H$5:$L$43,$B10,W$2)),INDEX(iWeights!$H$5:$L$43,$B10,W$2),\"\")","v":""},{"$f":"IF(ISNUMBER(INDEX(iWeights!$H$5:$L$43,$B10,X$2)),INDEX(iWeights!$H$5:$L$43,$B10,X$2),\"\")","v":""},{"$f":"IF(ISNUMBER(INDEX(iWeights!$H$5:$L$43,$B10,Y$2)),INDEX(iWeights!$H$5:$L$43,$B10,Y$2),\"\")","v":""},{"$f":"IF(ISNUMBER(INDEX(iWeights!$H$5:$L$43,$B10,Z$2)),INDEX(iWeights!$H$5:$L$43,$B10,Z$2),\"\")","v":""},{"$f":"IF(ISNUMBER(INDEX(iWeights!$H$5:$L$43,$B10,AA$2)),INDEX(iWeights!$H$5:$L$43,$B10,AA$2),\"\")","v":""}]
["Least developed",7,{"$f":"tblIndiSets!A14","v":"EP_10"},{"$f":"tblIndiSets!B14","v":3},{"$f":"INDEX(OFFSET(lu_indicode,0,2),D11)","v":2},{"$f":"tblIndiSets!C14","v":"1.10) Growth in per capita GDP"},"1.10) Growth in per capita GDP",{"$f":"IF(ISNUMBER(INDEX(iWeights!$H$5:$L$43,$B11,H$2)),INDEX(iWeights!$H$5:$L$43,$B11,H$2),\"\")","v":1},{"$f":"IF(ISNUMBER(INDEX(iWeights!$H$5:$L$43,$B11,I$2)),INDEX(iWeights!$H$5:$L$43,$B11,I$2),\"\")","v":1},{"$f":"IF(ISNUMBER(INDEX(iWeights!$H$5:$L$43,$B11,J$2)),INDEX(iWeights!$H$5:$L$43,$B11,J$2),\"\")","v":1},{"$f":"IF(ISNUMBER(INDEX(iWeights!$H$5:$L$43,$B11,K$2)),INDEX(iWeights!$H$5:$L$43,$B11,K$2),\"\")","v":1},{"$f":"IF(ISNUMBER(INDEX(iWeights!$H$5:$L$43,$B11,L$2)),INDEX(iWeights!$H$5:$L$43,$B11,L$2),\"\")","v":1},{"$f":"IF(ISNUMBER(INDEX(iWeights!$H$5:$L$43,$B11,M$2)),INDEX(iWeights!$H$5:$L$43,$B11,M$2),\"\")","v":1},{"$f":"IF(ISNUMBER(INDEX(iWeights!$H$5:$L$43,$B11,N$2)),INDEX(iWeights!$H$5:$L$43,$B11,N$2),\"\")","v":1},{"$f":"IF(ISNUMBER(INDEX(iWeights!$H$5:$L$43,$B11,O$2)),INDEX(iWeights!$H$5:$L$43,$B11,O$2),\"\")","v":1},{"$f":"IF(ISNUMBER(INDEX(iWeights!$H$5:$L$43,$B11,P$2)),INDEX(iWeights!$H$5:$L$43,$B11,P$2),\"\")","v":1},{"$f":"IF(ISNUMBER(INDEX(iWeights!$H$5:$L$43,$B11,Q$2)),INDEX(iWeights!$H$5:$L$43,$B11,Q$2),\"\")","v":1},{"$f":"IF(ISNUMBER(INDEX(iWeights!$H$5:$L$43,$B11,R$2)),INDEX(iWeights!$H$5:$L$43,$B11,R$2),\"\")","v":1},{"$f":"IF(ISNUMBER(INDEX(iWeights!$H$5:$L$43,$B11,S$2)),INDEX(iWeights!$H$5:$L$43,$B11,S$2),\"\")","v":1},{"$f":"IF(ISNUMBER(INDEX(iWeights!$H$5:$L$43,$B11,T$2)),INDEX(iWeights!$H$5:$L$43,$B11,T$2),\"\")","v":1},{"$f":"IF(ISNUMBER(INDEX(iWeights!$H$5:$L$43,$B11,U$2)),INDEX(iWeights!$H$5:$L$43,$B11,U$2),\"\")","v":1},{"$f":"IF(ISNUMBER(INDEX(iWeights!$H$5:$L$43,$B11,V$2)),INDEX(iWeights!$H$5:$L$43,$B11,V$2),\"\")","v":1},{"$f":"IF(ISNUMBER(INDEX(iWeights!$H$5:$L$43,$B11,W$2)),INDEX(iWeights!$H$5:$L$43,$B11,W$2),\"\")","v":1},{"$f":"IF(ISNUMBER(INDEX(iWeights!$H$5:$L$43,$B11,X$2)),INDEX(iWeights!$H$5:$L$43,$B11,X$2),\"\")","v":1},{"$f":"IF(ISNUMBER(INDEX(iWeights!$H$5:$L$43,$B11,Y$2)),INDEX(iWeights!$H$5:$L$43,$B11,Y$2),\"\")","v":1},{"$f":"IF(ISNUMBER(INDEX(iWeights!$H$5:$L$43,$B11,Z$2)),INDEX(iWeights!$H$5:$L$43,$B11,Z$2),\"\")","v":1},{"$f":"IF(ISNUMBER(INDEX(iWeights!$H$5:$L$43,$B11,AA$2)),INDEX(iWeights!$H$5:$L$43,$B11,AA$2),\"\")","v":1},1,1,1,1,1,1,1,1,1,1,1,1,1,1,1,1,1,1,1,1,null,{"$f":"Weights2!G13","v":1},{"$f":"Weights2!K13","v":1},{"$f":"Weights2!O13","v":1},{"$f":"Weights2!S13","v":1},null,4,0,null,{"$f":"Weights2!G13","v":1},{"$f":"Weights2!K13","v":1},{"$f":"Weights2!O13","v":1},{"$f":"Weights2!S13","v":1},null,{"$f":"iWeights!H11","v":1},{"$f":"iWeights!I11","v":1},{"$f":"iWeights!J11","v":1},{"$f":"iWeights!K11","v":1},{"$f":"iWeights!L11","v":1}]
["Set 5",8,{"$f":"tblIndiSets!A15","v":"EP_11"},{"$f":"tblIndiSets!B15","v":4},2,{"$f":"tblIndiSets!C15","v":"1.11) Current account liberalisation"},"1.11) Current account liberalisation",{"$f":"IF(ISNUMBER(INDEX(iWeights!$H$5:$L$43,$B12,H$2)),INDEX(iWeights!$H$5:$L$43,$B12,H$2),\"\")","v":1},{"$f":"IF(ISNUMBER(INDEX(iWeights!$H$5:$L$43,$B12,I$2)),INDEX(iWeights!$H$5:$L$43,$B12,I$2),\"\")","v":1},{"$f":"IF(ISNUMBER(INDEX(iWeights!$H$5:$L$43,$B12,J$2)),INDEX(iWeights!$H$5:$L$43,$B12,J$2),\"\")","v":1},{"$f":"IF(ISNUMBER(INDEX(iWeights!$H$5:$L$43,$B12,K$2)),INDEX(iWeights!$H$5:$L$43,$B12,K$2),\"\")","v":1},{"$f":"IF(ISNUMBER(INDEX(iWeights!$H$5:$L$43,$B12,L$2)),INDEX(iWeights!$H$5:$L$43,$B12,L$2),\"\")","v":1},{"$f":"IF(ISNUMBER(INDEX(iWeights!$H$5:$L$43,$B12,M$2)),INDEX(iWeights!$H$5:$L$43,$B12,M$2),\"\")","v":1},{"$f":"IF(ISNUMBER(INDEX(iWeights!$H$5:$L$43,$B12,N$2)),INDEX(iWeights!$H$5:$L$43,$B12,N$2),\"\")","v":1},{"$f":"IF(ISNUMBER(INDEX(iWeights!$H$5:$L$43,$B12,O$2)),INDEX(iWeights!$H$5:$L$43,$B12,O$2),\"\")","v":1},{"$f":"IF(ISNUMBER(INDEX(iWeights!$H$5:$L$43,$B12,P$2)),INDEX(iWeights!$H$5:$L$43,$B12,P$2),\"\")","v":1},{"$f":"IF(ISNUMBER(INDEX(iWeights!$H$5:$L$43,$B12,Q$2)),INDEX(iWeights!$H$5:$L$43,$B12,Q$2),\"\")","v":1},{"$f":"IF(ISNUMBER(INDEX(iWeights!$H$5:$L$43,$B12,R$2)),INDEX(iWeights!$H$5:$L$43,$B12,R$2),\"\")","v":1},{"$f":"IF(ISNUMBER(INDEX(iWeights!$H$5:$L$43,$B12,S$2)),INDEX(iWeights!$H$5:$L$43,$B12,S$2),\"\")","v":1},{"$f":"IF(ISNUMBER(INDEX(iWeights!$H$5:$L$43,$B12,T$2)),INDEX(iWeights!$H$5:$L$43,$B12,T$2),\"\")","v":1},{"$f":"IF(ISNUMBER(INDEX(iWeights!$H$5:$L$43,$B12,U$2)),INDEX(iWeights!$H$5:$L$43,$B12,U$2),\"\")","v":1},{"$f":"IF(ISNUMBER(INDEX(iWeights!$H$5:$L$43,$B12,V$2)),INDEX(iWeights!$H$5:$L$43,$B12,V$2),\"\")","v":1},{"$f":"IF(ISNUMBER(INDEX(iWeights!$H$5:$L$43,$B12,W$2)),INDEX(iWeights!$H$5:$L$43,$B12,W$2),\"\")","v":1},{"$f":"IF(ISNUMBER(INDEX(iWeights!$H$5:$L$43,$B12,X$2)),INDEX(iWeights!$H$5:$L$43,$B12,X$2),\"\")","v":1},{"$f":"IF(ISNUMBER(INDEX(iWeights!$H$5:$L$43,$B12,Y$2)),INDEX(iWeights!$H$5:$L$43,$B12,Y$2),\"\")","v":1},{"$f":"IF(ISNUMBER(INDEX(iWeights!$H$5:$L$43,$B12,Z$2)),INDEX(iWeights!$H$5:$L$43,$B12,Z$2),\"\")","v":1},{"$f":"IF(ISNUMBER(INDEX(iWeights!$H$5:$L$43,$B12,AA$2)),INDEX(iWeights!$H$5:$L$43,$B12,AA$2),\"\")","v":1},1,1,1,1,1,1,1,1,1,1,1,1,1,1,1,1,1,1,1,1,null,{"$f":"Weights2!G14","v":1},{"$f":"Weights2!K14","v":1},{"$f":"Weights2!O14","v":1},{"$f":"Weights2!S14","v":1},null,4,0,null,{"$f":"Weights2!G14","v":1},{"$f":"Weights2!K14","v":1},{"$f":"Weights2!O14","v":1},{"$f":"Weights2!S14","v":1},null,{"$f":"iWeights!H12","v":1},{"$f":"iWeights!I12","v":1},{"$f":"iWeights!J12","v":1},{"$f":"iWeights!K12","v":1},{"$f":"iWeights!L12","v":1}]
[null,9,{"$f":"tblIndiSets!A16","v":"EP_12"},{"$f":"tblIndiSets!B16","v":5},2,{"$f":"tblIndiSets!C16","v":"1.12) Tariff & non-tariff barriers"},"1.12) Tariff & non-tariff barriers",{"$f":"IF(ISNUMBER(INDEX(iWeights!$H$5:$L$43,$B13,H$2)),INDEX(iWeights!$H$5:$L$43,$B13,H$2),\"\")","v":1},{"$f":"IF(ISNUMBER(INDEX(iWeights!$H$5:$L$43,$B13,I$2)),INDEX(iWeights!$H$5:$L$43,$B13,I$2),\"\")","v":1},{"$f":"IF(ISNUMBER(INDEX(iWeights!$H$5:$L$43,$B13,J$2)),INDEX(iWeights!$H$5:$L$43,$B13,J$2),\"\")","v":1},{"$f":"IF(ISNUMBER(INDEX(iWeights!$H$5:$L$43,$B13,K$2)),INDEX(iWeights!$H$5:$L$43,$B13,K$2),\"\")","v":1},{"$f":"IF(ISNUMBER(INDEX(iWeights!$H$5:$L$43,$B13,L$2)),INDEX(iWeights!$H$5:$L$43,$B13,L$2),\"\")","v":1},{"$f":"IF(ISNUMBER(INDEX(iWeights!$H$5:$L$43,$B13,M$2)),INDEX(iWeights!$H$5:$L$43,$B13,M$2),\"\")","v":1},{"$f":"IF(ISNUMBER(INDEX(iWeights!$H$5:$L$43,$B13,N$2)),INDEX(iWeights!$H$5:$L$43,$B13,N$2),\"\")","v":1},{"$f":"IF(ISNUMBER(INDEX(iWeights!$H$5:$L$43,$B13,O$2)),INDEX(iWeights!$H$5:$L$43,$B13,O$2),\"\")","v":1},{"$f":"IF(ISNUMBER(INDEX(iWeights!$H$5:$L$43,$B13,P$2)),INDEX(iWeights!$H$5:$L$43,$B13,P$2),\"\")","v":1},{"$f":"IF(ISNUMBER(INDEX(iWeights!$H$5:$L$43,$B13,Q$2)),INDEX(iWeights!$H$5:$L$43,$B13,Q$2),\"\")","v":1},{"$f":"IF(ISNUMBER(INDEX(iWeights!$H$5:$L$43,$B13,R$2)),INDEX(iWeights!$H$5:$L$43,$B13,R$2),\"\")","v":1},{"$f":"IF(ISNUMBER(INDEX(iWeights!$H$5:$L$43,$B13,S$2)),INDEX(iWeights!$H$5:$L$43,$B13,S$2),\"\")","v":1},{"$f":"IF(ISNUMBER(INDEX(iWeights!$H$5:$L$43,$B13,T$2)),INDEX(iWeights!$H$5:$L$43,$B13,T$2),\"\")","v":1},{"$f":"IF(ISNUMBER(INDEX(iWeights!$H$5:$L$43,$B13,U$2)),INDEX(iWeights!$H$5:$L$43,$B13,U$2),\"\")","v":1},{"$f":"IF(ISNUMBER(INDEX(iWeights!$H$5:$L$43,$B13,V$2)),INDEX(iWeights!$H$5:$L$43,$B13,V$2),\"\")","v":1},{"$f":"IF(ISNUMBER(INDEX(iWeights!$H$5:$L$43,$B13,W$2)),INDEX(iWeights!$H$5:$L$43,$B13,W$2),\"\")","v":1},{"$f":"IF(ISNUMBER(INDEX(iWeights!$H$5:$L$43,$B13,X$2)),INDEX(iWeights!$H$5:$L$43,$B13,X$2),\"\")","v":1},{"$f":"IF(ISNUMBER(INDEX(iWeights!$H$5:$L$43,$B13,Y$2)),INDEX(iWeights!$H$5:$L$43,$B13,Y$2),\"\")","v":1},{"$f":"IF(ISNUMBER(INDEX(iWeights!$H$5:$L$43,$B13,Z$2)),INDEX(iWeights!$H$5:$L$43,$B13,Z$2),\"\")","v":1},{"$f":"IF(ISNUMBER(INDEX(iWeights!$H$5:$L$43,$B13,AA$2)),INDEX(iWeights!$H$5:$L$43,$B13,AA$2),\"\")","v":1},1,1,1,1,1,1,1,1,1,1,1,1,1,1,1,1,1,1,1,1,null,{"$f":"Weights2!G15","v":1},{"$f":"Weights2!K15","v":1},{"$f":"Weights2!O15","v":1},{"$f":"Weights2!S15","v":1},null,4,0,null,{"$f":"Weights2!G15","v":1},{"$f":"Weights2!K15","v":1},{"$f":"Weights2!O15","v":1},{"$f":"Weights2!S15","v":1},null,{"$f":"iWeights!H13","v":1},{"$f":"iWeights!I13","v":1},{"$f":"iWeights!J13","v":1},{"$f":"iWeights!K13","v":1},{"$f":"iWeights!L13","v":1}]
[null,10,{"$f":"tblIndiSets!A17","v":"EP_13"},{"$f":"tblIndiSets!B17","v":6},2,{"$f":"tblIndiSets!C17","v":"1.13) Exchange rate volatility"},"1.13) Exchange rate volatility",{"$f":"IF(ISNUMBER(INDEX(iWeights!$H$5:$L$43,$B14,H$2)),INDEX(iWeights!$H$5:$L$43,$B14,H$2),\"\")","v":1},{"$f":"IF(ISNUMBER(INDEX(iWeights!$H$5:$L$43,$B14,I$2)),INDEX(iWeights!$H$5:$L$43,$B14,I$2),\"\")","v":1},{"$f":"IF(ISNUMBER(INDEX(iWeights!$H$5:$L$43,$B14,J$2)),INDEX(iWeights!$H$5:$L$43,$B14,J$2),\"\")","v":1},{"$f":"IF(ISNUMBER(INDEX(iWeights!$H$5:$L$43,$B14,K$2)),INDEX(iWeights!$H$5:$L$43,$B14,K$2),\"\")","v":1},{"$f":"IF(ISNUMBER(INDEX(iWeights!$H$5:$L$43,$B14,L$2)),INDEX(iWeights!$H$5:$L$43,$B14,L$2),\"\")","v":1},{"$f":"IF(ISNUMBER(INDEX(iWeights!$H$5:$L$43,$B14,M$2)),INDEX(iWeights!$H$5:$L$43,$B14,M$2),\"\")","v":1},{"$f":"IF(ISNUMBER(INDEX(iWeights!$H$5:$L$43,$B14,N$2)),INDEX(iWeights!$H$5:$L$43,$B14,N$2),\"\")","v":1},{"$f":"IF(ISNUMBER(INDEX(iWeights!$H$5:$L$43,$B14,O$2)),INDEX(iWeights!$H$5:$L$43,$B14,O$2),\"\")","v":1},{"$f":"IF(ISNUMBER(INDEX(iWeights!$H$5:$L$43,$B14,P$2)),INDEX(iWeights!$H$5:$L$43,$B14,P$2),\"\")","v":1},{"$f":"IF(ISNUMBER(INDEX(iWeights!$H$5:$L$43,$B14,Q$2)),INDEX(iWeights!$H$5:$L$43,$B14,Q$2),\"\")","v":1},{"$f":"IF(ISNUMBER(INDEX(iWeights!$H$5:$L$43,$B14,R$2)),INDEX(iWeights!$H$5:$L$43,$B14,R$2),\"\")","v":1},{"$f":"IF(ISNUMBER(INDEX(iWeights!$H$5:$L$43,$B14,S$2)),INDEX(iWeights!$H$5:$L$43,$B14,S$2),\"\")","v":1},{"$f":"IF(ISNUMBER(INDEX(iWeights!$H$5:$L$43,$B14,T$2)),INDEX(iWeights!$H$5:$L$43,$B14,T$2),\"\")","v":1},{"$f":"IF(ISNUMBER(INDEX(iWeights!$H$5:$L$43,$B14,U$2)),INDEX(iWeights!$H$5:$L$43,$B14,U$2),\"\")","v":1},{"$f":"IF(ISNUMBER(INDEX(iWeights!$H$5:$L$43,$B14,V$2)),INDEX(iWeights!$H$5:$L$43,$B14,V$2),\"\")","v":1},{"$f":"IF(ISNUMBER(INDEX(iWeights!$H$5:$L$43,$B14,W$2)),INDEX(iWeights!$H$5:$L$43,$B14,W$2),\"\")","v":1},{"$f":"IF(ISNUMBER(INDEX(iWeights!$H$5:$L$43,$B14,X$2)),INDEX(iWeights!$H$5:$L$43,$B14,X$2),\"\")","v":1},{"$f":"IF(ISNUMBER(INDEX(iWeights!$H$5:$L$43,$B14,Y$2)),INDEX(iWeights!$H$5:$L$43,$B14,Y$2),\"\")","v":1},{"$f":"IF(ISNUMBER(INDEX(iWeights!$H$5:$L$43,$B14,Z$2)),INDEX(iWeights!$H$5:$L$43,$B14,Z$2),\"\")","v":1},{"$f":"IF(ISNUMBER(INDEX(iWeights!$H$5:$L$43,$B14,AA$2)),INDEX(iWeights!$H$5:$L$43,$B14,AA$2),\"\")","v":1},1,1,1,1,1,1,1,1,1,1,6,1,1,1,1,1,1,1,1,1,null,{"$f":"Weights2!G16","v":1},{"$f":"Weights2!K16","v":1},{"$f":"Weights2!O16","v":1},{"$f":"Weights2!S16","v":1},null,4,0,null,{"$f":"Weights2!G16","v":1},{"$f":"Weights2!K16","v":1},{"$f":"Weights2!O16","v":1},{"$f":"Weights2!S16","v":1},null,{"$f":"iWeights!H14","v":1},{"$f":"iWeights!I14","v":1},{"$f":"iWeights!J14","v":1},{"$f":"iWeights!K14","v":1},{"$f":"iWeights!L14","v":1}]
[null,11,{"$f":"tblIndiSets!A18","v":"EP_14"},{"$f":"tblIndiSets!B18","v":7},2,{"$f":"tblIndiSets!C18","v":"1.14) Financial sector depth"},"1.14) Financial sector depth",{"$f":"IF(ISNUMBER(INDEX(iWeights!$H$5:$L$43,$B15,H$2)),INDEX(iWeights!$H$5:$L$43,$B15,H$2),\"\")","v":1},{"$f":"IF(ISNUMBER(INDEX(iWeights!$H$5:$L$43,$B15,I$2)),INDEX(iWeights!$H$5:$L$43,$B15,I$2),\"\")","v":1},{"$f":"IF(ISNUMBER(INDEX(iWeights!$H$5:$L$43,$B15,J$2)),INDEX(iWeights!$H$5:$L$43,$B15,J$2),\"\")","v":1},{"$f":"IF(ISNUMBER(INDEX(iWeights!$H$5:$L$43,$B15,K$2)),INDEX(iWeights!$H$5:$L$43,$B15,K$2),\"\")","v":1},{"$f":"IF(ISNUMBER(INDEX(iWeights!$H$5:$L$43,$B15,L$2)),INDEX(iWeights!$H$5:$L$43,$B15,L$2),\"\")","v":1},{"$f":"IF(ISNUMBER(INDEX(iWeights!$H$5:$L$43,$B15,M$2)),INDEX(iWeights!$H$5:$L$43,$B15,M$2),\"\")","v":1},{"$f":"IF(ISNUMBER(INDEX(iWeights!$H$5:$L$43,$B15,N$2)),INDEX(iWeights!$H$5:$L$43,$B15,N$2),\"\")","v":1},{"$f":"IF(ISNUMBER(INDEX(iWeights!$H$5:$L$43,$B15,O$2)),INDEX(iWeights!$H$5:$L$43,$B15,O$2),\"\")","v":1},{"$f":"IF(ISNUMBER(INDEX(iWeights!$H$5:$L$43,$B15,P$2)),INDEX(iWeights!$H$5:$L$43,$B15,P$2),\"\")","v":1},{"$f":"IF(ISNUMBER(INDEX(iWeights!$H$5:$L$43,$B15,Q$2)),INDEX(iWeights!$H$5:$L$43,$B15,Q$2),\"\")","v":1},{"$f":"IF(ISNUMBER(INDEX(iWeights!$H$5:$L$43,$B15,R$2)),INDEX(iWeights!$H$5:$L$43,$B15,R$2),\"\")","v":1},{"$f":"IF(ISNUMBER(INDEX(iWeights!$H$5:$L$43,$B15,S$2)),INDEX(iWeights!$H$5:$L$43,$B15,S$2),\"\")","v":1},{"$f":"IF(ISNUMBER(INDEX(iWeights!$H$5:$L$43,$B15,T$2)),INDEX(iWeights!$H$5:$L$43,$B15,T$2),\"\")","v":1},{"$f":"IF(ISNUMBER(INDEX(iWeights!$H$5:$L$43,$B15,U$2)),INDEX(iWeights!$H$5:$L$43,$B15,U$2),\"\")","v":1},{"$f":"IF(ISNUMBER(INDEX(iWeights!$H$5:$L$43,$B15,V$2)),INDEX(iWeights!$H$5:$L$43,$B15,V$2),\"\")","v":1},{"$f":"IF(ISNUMBER(INDEX(iWeights!$H$5:$L$43,$B15,W$2)),INDEX(iWeights!$H$5:$L$43,$B15,W$2),\"\")","v":1},{"$f":"IF(ISNUMBER(INDEX(iWeights!$H$5:$L$43,$B15,X$2)),INDEX(iWeights!$H$5:$L$43,$B15,X$2),\"\")","v":1},{"$f":"IF(ISNUMBER(INDEX(iWeights!$H$5:$L$43,$B15,Y$2)),INDEX(iWeights!$H$5:$L$43,$B15,Y$2),\"\")","v":1},{"$f":"IF(ISNUMBER(INDEX(iWeights!$H$5:$L$43,$B15,Z$2)),INDEX(iWeights!$H$5:$L$43,$B15,Z$2),\"\")","v":1},{"$f":"IF(ISNUMBER(INDEX(iWeights!$H$5:$L$43,$B15,AA$2)),INDEX(iWeights!$H$5:$L$43,$B15,AA$2),\"\")","v":1},1,1,1,1,1,1,1,1,1,1,1,1,1,1,1,1,1,1,1,1,null,{"$f":"Weights2!G17","v":1},{"$f":"Weights2!K17","v":1},{"$f":"Weights2!O17","v":1},{"$f":"Weights2!S17","v":1},null,4,0,null,{"$f":"Weights2!G17","v":1},{"$f":"Weights2!K17","v":1},{"$f":"Weights2!O17","v":1},{"$f":"Weights2!S17","v":1},null,{"$f":"iWeights!H15","v":1},{"$f":"iWeights!I15","v":1},{"$f":"iWeights!J15","v":1},{"$f":"iWeights!K15","v":1},{"$f":"iWeights!L15","v":1}]
[null,12,{"$f":"tblIndiSets!A19","v":"EP_15"},{"$f":"tblIndiSets!B19","v":8},2,{"$f":"tblIndiSets!C19","v":"1.15) Foreign trade and payments risk"},"1.15) Foreign trade and payments risk",{"$f":"IF(ISNUMBER(INDEX(iWeights!$H$5:$L$43,$B16,H$2)),INDEX(iWeights!$H$5:$L$43,$B16,H$2),\"\")","v":1},{"$f":"IF(ISNUMBER(INDEX(iWeights!$H$5:$L$43,$B16,I$2)),INDEX(iWeights!$H$5:$L$43,$B16,I$2),\"\")","v":1},{"$f":"IF(ISNUMBER(INDEX(iWeights!$H$5:$L$43,$B16,J$2)),INDEX(iWeights!$H$5:$L$43,$B16,J$2),\"\")","v":1},{"$f":"IF(ISNUMBER(INDEX(iWeights!$H$5:$L$43,$B16,K$2)),INDEX(iWeights!$H$5:$L$43,$B16,K$2),\"\")","v":1},{"$f":"IF(ISNUMBER(INDEX(iWeights!$H$5:$L$43,$B16,L$2)),INDEX(iWeights!$H$5:$L$43,$B16,L$2),\"\")","v":1},{"$f":"IF(ISNUMBER(INDEX(iWeights!$H$5:$L$43,$B16,M$2)),INDEX(iWeights!$H$5:$L$43,$B16,M$2),\"\")","v":1},{"$f":"IF(ISNUMBER(INDEX(iWeights!$H$5:$L$43,$B16,N$2)),INDEX(iWeights!$H$5:$L$43,$B16,N$2),\"\")","v":1},{"$f":"IF(ISNUMBER(INDEX(iWeights!$H$5:$L$43,$B16,O$2)),INDEX(iWeights!$H$5:$L$43,$B16,O$2),\"\")","v":1},{"$f":"IF(ISNUMBER(INDEX(iWeights!$H$5:$L$43,$B16,P$2)),INDEX(iWeights!$H$5:$L$43,$B16,P$2),\"\")","v":1},{"$f":"IF(ISNUMBER(INDEX(iWeights!$H$5:$L$43,$B16,Q$2)),INDEX(iWeights!$H$5:$L$43,$B16,Q$2),\"\")","v":1},{"$f":"IF(ISNUMBER(INDEX(iWeights!$H$5:$L$43,$B16,R$2)),INDEX(iWeights!$H$5:$L$43,$B16,R$2),\"\")","v":1},{"$f":"IF(ISNUMBER(INDEX(iWeights!$H$5:$L$43,$B16,S$2)),INDEX(iWeights!$H$5:$L$43,$B16,S$2),\"\")","v":1},{"$f":"IF(ISNUMBER(INDEX(iWeights!$H$5:$L$43,$B16,T$2)),INDEX(iWeights!$H$5:$L$43,$B16,T$2),\"\")","v":1},{"$f":"IF(ISNUMBER(INDEX(iWeights!$H$5:$L$43,$B16,U$2)),INDEX(iWeights!$H$5:$L$43,$B16,U$2),\"\")","v":1},{"$f":"IF(ISNUMBER(INDEX(iWeights!$H$5:$L$43,$B16,V$2)),INDEX(iWeights!$H$5:$L$43,$B16,V$2),\"\")","v":1},{"$f":"IF(ISNUMBER(INDEX(iWeights!$H$5:$L$43,$B16,W$2)),INDEX(iWeights!$H$5:$L$43,$B16,W$2),\"\")","v":1},{"$f":"IF(ISNUMBER(INDEX(iWeights!$H$5:$L$43,$B16,X$2)),INDEX(iWeights!$H$5:$L$43,$B16,X$2),\"\")","v":1},{"$f":"IF(ISNUMBER(INDEX(iWeights!$H$5:$L$43,$B16,Y$2)),INDEX(iWeights!$H$5:$L$43,$B16,Y$2),\"\")","v":1},{"$f":"IF(ISNUMBER(INDEX(iWeights!$H$5:$L$43,$B16,Z$2)),INDEX(iWeights!$H$5:$L$43,$B16,Z$2),\"\")","v":1},{"$f":"IF(ISNUMBER(INDEX(iWeights!$H$5:$L$43,$B16,AA$2)),INDEX(iWeights!$H$5:$L$43,$B16,AA$2),\"\")","v":1},1,1,1,1,1,1,1,1,1,1,6,1,1,1,1,1,1,1,1,1,null,{"$f":"Weights2!G18","v":1},{"$f":"Weights2!K18","v":1},{"$f":"Weights2!O18","v":1},{"$f":"Weights2!S18","v":1},null,4,0,null,{"$f":"Weights2!G18","v":1},{"$f":"Weights2!K18","v":1},{"$f":"Weights2!O18","v":1},{"$f":"Weights2!S18","v":1},null,{"$f":"iWeights!H16","v":1},{"$f":"iWeights!I16","v":1},{"$f":"iWeights!J16","v":1},{"$f":"iWeights!K16","v":1},{"$f":"iWeights!L16","v":1}]
[null,13,{"$f":"tblIndiSets!A20","v":"EP_16"},{"$f":"tblIndiSets!B20","v":9},2,{"$f":"tblIndiSets!C20","v":"1.16) Export market concentration"},"1.16) Export market concentration",{"$f":"IF(ISNUMBER(INDEX(iWeights!$H$5:$L$43,$B17,H$2)),INDEX(iWeights!$H$5:$L$43,$B17,H$2),\"\")","v":1},{"$f":"IF(ISNUMBER(INDEX(iWeights!$H$5:$L$43,$B17,I$2)),INDEX(iWeights!$H$5:$L$43,$B17,I$2),\"\")","v":1},{"$f":"IF(ISNUMBER(INDEX(iWeights!$H$5:$L$43,$B17,J$2)),INDEX(iWeights!$H$5:$L$43,$B17,J$2),\"\")","v":1},{"$f":"IF(ISNUMBER(INDEX(iWeights!$H$5:$L$43,$B17,K$2)),INDEX(iWeights!$H$5:$L$43,$B17,K$2),\"\")","v":1},{"$f":"IF(ISNUMBER(INDEX(iWeights!$H$5:$L$43,$B17,L$2)),INDEX(iWeights!$H$5:$L$43,$B17,L$2),\"\")","v":1},{"$f":"IF(ISNUMBER(INDEX(iWeights!$H$5:$L$43,$B17,M$2)),INDEX(iWeights!$H$5:$L$43,$B17,M$2),\"\")","v":1},{"$f":"IF(ISNUMBER(INDEX(iWeights!$H$5:$L$43,$B17,N$2)),INDEX(iWeights!$H$5:$L$43,$B17,N$2),\"\")","v":1},{"$f":"IF(ISNUMBER(INDEX(iWeights!$H$5:$L$43,$B17,O$2)),INDEX(iWeights!$H$5:$L$43,$B17,O$2),\"\")","v":1},{"$f":"IF(ISNUMBER(INDEX(iWeights!$H$5:$L$43,$B17,P$2)),INDEX(iWeights!$H$5:$L$43,$B17,P$2),\"\")","v":1},{"$f":"IF(ISNUMBER(INDEX(iWeights!$H$5:$L$43,$B17,Q$2)),INDEX(iWeights!$H$5:$L$43,$B17,Q$2),\"\")","v":1},{"$f":"IF(ISNUMBER(INDEX(iWeights!$H$5:$L$43,$B17,R$2)),INDEX(iWeights!$H$5:$L$43,$B17,R$2),\"\")","v":1},{"$f":"IF(ISNUMBER(INDEX(iWeights!$H$5:$L$43,$B17,S$2)),INDEX(iWeights!$H$5:$L$43,$B17,S$2),\"\")","v":1},{"$f":"IF(ISNUMBER(INDEX(iWeights!$H$5:$L$43,$B17,T$2)),INDEX(iWeights!$H$5:$L$43,$B17,T$2),\"\")","v":1},{"$f":"IF(ISNUMBER(INDEX(iWeights!$H$5:$L$43,$B17,U$2)),INDEX(iWeights!$H$5:$L$43,$B17,U$2),\"\")","v":1},{"$f":"IF(ISNUMBER(INDEX(iWeights!$H$5:$L$43,$B17,V$2)),INDEX(iWeights!$H$5:$L$43,$B17,V$2),\"\")","v":1},{"$f":"IF(ISNUMBER(INDEX(iWeights!$H$5:$L$43,$B17,W$2)),INDEX(iWeights!$H$5:$L$43,$B17,W$2),\"\")","v":1},{"$f":"IF(ISNUMBER(INDEX(iWeights!$H$5:$L$43,$B17,X$2)),INDEX(iWeights!$H$5:$L$43,$B17,X$2),\"\")","v":1},{"$f":"IF(ISNUMBER(INDEX(iWeights!$H$5:$L$43,$B17,Y$2)),INDEX(iWeights!$H$5:$L$43,$B17,Y$2),\"\")","v":1},{"$f":"IF(ISNUMBER(INDEX(iWeights!$H$5:$L$43,$B17,Z$2)),INDEX(iWeights!$H$5:$L$43,$B17,Z$2),\"\")","v":1},{"$f":"IF(ISNUMBER(INDEX(iWeights!$H$5:$L$43,$B17,AA$2)),INDEX(iWeights!$H$5:$L$43,$B17,AA$2),\"\")","v":1},1,1,1,1,1,1,1,1,1,1,1,1,1,1,1,1,1,1,1,1,null,{"$f":"Weights2!G19","v":1},{"$f":"Weights2!K19","v":1},{"$f":"Weights2!O19","v":1},{"$f":"Weights2!S19","v":1},null,4,0,null,{"$f":"Weights2!G19","v":1},{"$f":"Weights2!K19","v":1},{"$f":"Weights2!O19","v":1},{"$f":"Weights2!S19","v":1},null,{"$f":"iWeights!H17","v":1},{"$f":"iWeights!I17","v":1},{"$f":"iWeights!J17","v":1},{"$f":"iWeights!K17","v":1},{"$f":"iWeights!L17","v":1}]
[null,14,{"$f":"tblIndiSets!A21","v":"EP_17"},{"$f":"tblIndiSets!B21","v":10},2,{"$f":"tblIndiSets!C21","v":"1.17) Export product concentration"},"1.17) Export product concentration",{"$f":"IF(ISNUMBER(INDEX(iWeights!$H$5:$L$43,$B18,H$2)),INDEX(iWeights!$H$5:$L$43,$B18,H$2),\"\")","v":1},{"$f":"IF(ISNUMBER(INDEX(iWeights!$H$5:$L$43,$B18,I$2)),INDEX(iWeights!$H$5:$L$43,$B18,I$2),\"\")","v":1},{"$f":"IF(ISNUMBER(INDEX(iWeights!$H$5:$L$43,$B18,J$2)),INDEX(iWeights!$H$5:$L$43,$B18,J$2),\"\")","v":1},{"$f":"IF(ISNUMBER(INDEX(iWeights!$H$5:$L$43,$B18,K$2)),INDEX(iWeights!$H$5:$L$43,$B18,K$2),\"\")","v":1},{"$f":"IF(ISNUMBER(INDEX(iWeights!$H$5:$L$43,$B18,L$2)),INDEX(iWeights!$H$5:$L$43,$B18,L$2),\"\")","v":1},{"$f":"IF(ISNUMBER(INDEX(iWeights!$H$5:$L$43,$B18,M$2)),INDEX(iWeights!$H$5:$L$43,$B18,M$2),\"\")","v":1},{"$f":"IF(ISNUMBER(INDEX(iWeights!$H$5:$L$43,$B18,N$2)),INDEX(iWeights!$H$5:$L$43,$B18,N$2),\"\")","v":1},{"$f":"IF(ISNUMBER(INDEX(iWeights!$H$5:$L$43,$B18,O$2)),INDEX(iWeights!$H$5:$L$43,$B18,O$2),\"\")","v":1},{"$f":"IF(ISNUMBER(INDEX(iWeights!$H$5:$L$43,$B18,P$2)),INDEX(iWeights!$H$5:$L$43,$B18,P$2),\"\")","v":1},{"$f":"IF(ISNUMBER(INDEX(iWeights!$H$5:$L$43,$B18,Q$2)),INDEX(iWeights!$H$5:$L$43,$B18,Q$2),\"\")","v":1},{"$f":"IF(ISNUMBER(INDEX(iWeights!$H$5:$L$43,$B18,R$2)),INDEX(iWeights!$H$5:$L$43,$B18,R$2),\"\")","v":1},{"$f":"IF(ISNUMBER(INDEX(iWeights!$H$5:$L$43,$B18,S$2)),INDEX(iWeights!$H$5:$L$43,$B18,S$2),\"\")","v":1},{"$f":"IF(ISNUMBER(INDEX(iWeights!$H$5:$L$43,$B18,T$2)),INDEX(iWeights!$H$5:$L$43,$B18,T$2),\"\")","v":1},{"$f":"IF(ISNUMBER(INDEX(iWeights!$H$5:$L$43,$B18,U$2)),INDEX(iWeights!$H$5:$L$43,$B18,U$2),\"\")","v":1},{"$f":"IF(ISNUMBER(INDEX(iWeights!$H$5:$L$43,$B18,V$2)),INDEX(iWeights!$H$5:$L$43,$B18,V$2),\"\")","v":1},{"$f":"IF(ISNUMBER(INDEX(iWeights!$H$5:$L$43,$B18,W$2)),INDEX(iWeights!$H$5:$L$43,$B18,W$2),\"\")","v":1},{"$f":"IF(ISNUMBER(INDEX(iWeights!$H$5:$L$43,$B18,X$2)),INDEX(iWeights!$H$5:$L$43,$B18,X$2),\"\")","v":1},{"$f":"IF(ISNUMBER(INDEX(iWeights!$H$5:$L$43,$B18,Y$2)),INDEX(iWeights!$H$5:$L$43,$B18,Y$2),\"\")","v":1},{"$f":"IF(ISNUMBER(INDEX(iWeights!$H$5:$L$43,$B18,Z$2)),INDEX(iWeights!$H$5:$L$43,$B18,Z$2),\"\")","v":1},{"$f":"IF(ISNUMBER(INDEX(iWeights!$H$5:$L$43,$B18,AA$2)),INDEX(iWeights!$H$5:$L$43,$B18,AA$2),\"\")","v":1},1,1,1,1,1,1,1,1,1,1,1,1,1,1,1,1,1,1,1,1,null,{"$f":"Weights2!G20","v":1},{"$f":"Weights2!K20","v":1},{"$f":"Weights2!O20","v":1},{"$f":"Weights2!S20","v":1},null,4,0,null,{"$f":"Weights2!G20","v":1},{"$f":"Weights2!K20","v":1},{"$f":"Weights2!O20","v":1},{"$f":"Weights2!S20","v":1},null,{"$f":"iWeights!H18","v":1},{"$f":"iWeights!I18","v":1},{"$f":"iWeights!J18","v":1},{"$f":"iWeights!K18","v":1},{"$f":"iWeights!L18","v":1}]
[null,15,{"$f":"tblIndiSets!A22","v":"EP_18"},{"$f":"tblIndiSets!B22","v":11},2,{"$f":"tblIndiSets!C22","v":"1.18) Foreign Direct Investment"},"1.18) Foreign Direct Investment",{"$f":"IF(ISNUMBER(INDEX(iWeights!$H$5:$L$43,$B19,H$2)),INDEX(iWeights!$H$5:$L$43,$B19,H$2),\"\")","v":1},{"$f":"IF(ISNUMBER(INDEX(iWeights!$H$5:$L$43,$B19,I$2)),INDEX(iWeights!$H$5:$L$43,$B19,I$2),\"\")","v":1},{"$f":"IF(ISNUMBER(INDEX(iWeights!$H$5:$L$43,$B19,J$2)),INDEX(iWeights!$H$5:$L$43,$B19,J$2),\"\")","v":1},{"$f":"IF(ISNUMBER(INDEX(iWeights!$H$5:$L$43,$B19,K$2)),INDEX(iWeights!$H$5:$L$43,$B19,K$2),\"\")","v":1},{"$f":"IF(ISNUMBER(INDEX(iWeights!$H$5:$L$43,$B19,L$2)),INDEX(iWeights!$H$5:$L$43,$B19,L$2),\"\")","v":1},{"$f":"IF(ISNUMBER(INDEX(iWeights!$H$5:$L$43,$B19,M$2)),INDEX(iWeights!$H$5:$L$43,$B19,M$2),\"\")","v":1},{"$f":"IF(ISNUMBER(INDEX(iWeights!$H$5:$L$43,$B19,N$2)),INDEX(iWeights!$H$5:$L$43,$B19,N$2),\"\")","v":1},{"$f":"IF(ISNUMBER(INDEX(iWeights!$H$5:$L$43,$B19,O$2)),INDEX(iWeights!$H$5:$L$43,$B19,O$2),\"\")","v":1},{"$f":"IF(ISNUMBER(INDEX(iWeights!$H$5:$L$43,$B19,P$2)),INDEX(iWeights!$H$5:$L$43,$B19,P$2),\"\")","v":1},{"$f":"IF(ISNUMBER(INDEX(iWeights!$H$5:$L$43,$B19,Q$2)),INDEX(iWeights!$H$5:$L$43,$B19,Q$2),\"\")","v":1},{"$f":"IF(ISNUMBER(INDEX(iWeights!$H$5:$L$43,$B19,R$2)),INDEX(iWeights!$H$5:$L$43,$B19,R$2),\"\")","v":1},{"$f":"IF(ISNUMBER(INDEX(iWeights!$H$5:$L$43,$B19,S$2)),INDEX(iWeights!$H$5:$L$43,$B19,S$2),\"\")","v":1},{"$f":"IF(ISNUMBER(INDEX(iWeights!$H$5:$L$43,$B19,T$2)),INDEX(iWeights!$H$5:$L$43,$B19,T$2),\"\")","v":1},{"$f":"IF(ISNUMBER(INDEX(iWeights!$H$5:$L$43,$B19,U$2)),INDEX(iWeights!$H$5:$L$43,$B19,U$2),\"\")","v":1},{"$f":"IF(ISNUMBER(INDEX(iWeights!$H$5:$L$43,$B19,V$2)),INDEX(iWeights!$H$5:$L$43,$B19,V$2),\"\")","v":1},{"$f":"IF(ISNUMBER(INDEX(iWeights!$H$5:$L$43,$B19,W$2)),INDEX(iWeights!$H$5:$L$43,$B19,W$2),\"\")","v":1},{"$f":"IF(ISNUMBER(INDEX(iWeights!$H$5:$L$43,$B19,X$2)),INDEX(iWeights!$H$5:$L$43,$B19,X$2),\"\")","v":1},{"$f":"IF(ISNUMBER(INDEX(iWeights!$H$5:$L$43,$B19,Y$2)),INDEX(iWeights!$H$5:$L$43,$B19,Y$2),\"\")","v":1},{"$f":"IF(ISNUMBER(INDEX(iWeights!$H$5:$L$43,$B19,Z$2)),INDEX(iWeights!$H$5:$L$43,$B19,Z$2),\"\")","v":1},{"$f":"IF(ISNUMBER(INDEX(iWeights!$H$5:$L$43,$B19,AA$2)),INDEX(iWeights!$H$5:$L$43,$B19,AA$2),\"\")","v":1},1,1,1,1,1,1,1,1,1,1,1,1,1,1,1,1,1,1,1,1,null,{"$f":"Weights2!G21","v":1},{"$f":"Weights2!K21","v":1},{"$f":"Weights2!O21","v":1},{"$f":"Weights2!S21","v":1},null,4,0,null,{"$f":"Weights2!G21","v":1},{"$f":"Weights2!K21","v":1},{"$f":"Weights2!O21","v":1},{"$f":"Weights2!S21","v":1},null,{"$f":"iWeights!H19","v":1},{"$f":"iWeights!I19","v":1},{"$f":"iWeights!J19","v":1},{"$f":"iWeights!K19","v":1},{"$f":"iWeights!L19","v":1}]
[null,16,{"$f":"tblIndiSets!A23","v":"EP_19"},{"$f":"tblIndiSets!B23","v":12},2,{"$f":"tblIndiSets!C23","v":"1.19) Gross fixed capital formation"},"1.19) Gross fixed capital formation",{"$f":"IF(ISNUMBER(INDEX(iWeights!$H$5:$L$43,$B20,H$2)),INDEX(iWeights!$H$5:$L$43,$B20,H$2),\"\")","v":1},{"$f":"IF(ISNUMBER(INDEX(iWeights!$H$5:$L$43,$B20,I$2)),INDEX(iWeights!$H$5:$L$43,$B20,I$2),\"\")","v":1},{"$f":"IF(ISNUMBER(INDEX(iWeights!$H$5:$L$43,$B20,J$2)),INDEX(iWeights!$H$5:$L$43,$B20,J$2),\"\")","v":1},{"$f":"IF(ISNUMBER(INDEX(iWeights!$H$5:$L$43,$B20,K$2)),INDEX(iWeights!$H$5:$L$43,$B20,K$2),\"\")","v":1},{"$f":"IF(ISNUMBER(INDEX(iWeights!$H$5:$L$43,$B20,L$2)),INDEX(iWeights!$H$5:$L$43,$B20,L$2),\"\")","v":1},{"$f":"IF(ISNUMBER(INDEX(iWeights!$H$5:$L$43,$B20,M$2)),INDEX(iWeights!$H$5:$L$43,$B20,M$2),\"\")","v":1},{"$f":"IF(ISNUMBER(INDEX(iWeights!$H$5:$L$43,$B20,N$2)),INDEX(iWeights!$H$5:$L$43,$B20,N$2),\"\")","v":1},{"$f":"IF(ISNUMBER(INDEX(iWeights!$H$5:$L$43,$B20,O$2)),INDEX(iWeights!$H$5:$L$43,$B20,O$2),\"\")","v":1},{"$f":"IF(ISNUMBER(INDEX(iWeights!$H$5:$L$43,$B20,P$2)),INDEX(iWeights!$H$5:$L$43,$B20,P$2),\"\")","v":1},{"$f":"IF(ISNUMBER(INDEX(iWeights!$H$5:$L$43,$B20,Q$2)),INDEX(iWeights!$H$5:$L$43,$B20,Q$2),\"\")","v":1},{"$f":"IF(ISNUMBER(INDEX(iWeights!$H$5:$L$43,$B20,R$2)),INDEX(iWeights!$H$5:$L$43,$B20,R$2),\"\")","v":1},{"$f":"IF(ISNUMBER(INDEX(iWeights!$H$5:$L$43,$B20,S$2)),INDEX(iWeights!$H$5:$L$43,$B20,S$2),\"\")","v":1},{"$f":"IF(ISNUMBER(INDEX(iWeights!$H$5:$L$43,$B20,T$2)),INDEX(iWeights!$H$5:$L$43,$B20,T$2),\"\")","v":1},{"$f":"IF(ISNUMBER(INDEX(iWeights!$H$5:$L$43,$B20,U$2)),INDEX(iWeights!$H$5:$L$43,$B20,U$2),\"\")","v":1},{"$f":"IF(ISNUMBER(INDEX(iWeights!$H$5:$L$43,$B20,V$2)),INDEX(iWeights!$H$5:$L$43,$B20,V$2),\"\")","v":1},{"$f":"IF(ISNUMBER(INDEX(iWeights!$H$5:$L$43,$B20,W$2)),INDEX(iWeights!$H$5:$L$43,$B20,W$2),\"\")","v":1},{"$f":"IF(ISNUMBER(INDEX(iWeights!$H$5:$L$43,$B20,X$2)),INDEX(iWeights!$H$5:$L$43,$B20,X$2),\"\")","v":1},{"$f":"IF(ISNUMBER(INDEX(iWeights!$H$5:$L$43,$B20,Y$2)),INDEX(iWeights!$H$5:$L$43,$B20,Y$2),\"\")","v":1},{"$f":"IF(ISNUMBER(INDEX(iWeights!$H$5:$L$43,$B20,Z$2)),INDEX(iWeights!$H$5:$L$43,$B20,Z$2),\"\")","v":1},{"$f":"IF(ISNUMBER(INDEX(iWeights!$H$5:$L$43,$B20,AA$2)),INDEX(iWeights!$H$5:$L$43,$B20,AA$2),\"\")","v":1},1,1,1,1,1,1,1,1,1,1,1,1,1,1,1,1,1,1,1,1,null,{"$f":"Weights2!G22","v":1},{"$f":"Weights2!K22","v":1},{"$f":"Weights2!O22","v":1},{"$f":"Weights2!S22","v":1},null,4,0,null,{"$f":"Weights2!G22","v":1},{"$f":"Weights2!K22","v":1},{"$f":"Weights2!O22","v":1},{"$f":"Weights2!S22","v":1},null,{"$f":"iWeights!H20","v":1},{"$f":"iWeights!I20","v":1},{"$f":"iWeights!J20","v":1},{"$f":"iWeights!K20","v":1},{"$f":"iWeights!L20","v":1}]
[null,17,{"$f":"tblIndiSets!A24","v":"EP_20"},{"$f":"tblIndiSets!B24","v":13},2,{"$f":"tblIndiSets!C24","v":"1.20) Trade costs"},"1.20) Trade costs",{"$f":"IF(ISNUMBER(INDEX(iWeights!$H$5:$L$43,$B21,H$2)),INDEX(iWeights!$H$5:$L$43,$B21,H$2),\"\")","v":1},{"$f":"IF(ISNUMBER(INDEX(iWeights!$H$5:$L$43,$B21,I$2)),INDEX(iWeights!$H$5:$L$43,$B21,I$2),\"\")","v":1},{"$f":"IF(ISNUMBER(INDEX(iWeights!$H$5:$L$43,$B21,J$2)),INDEX(iWeights!$H$5:$L$43,$B21,J$2),\"\")","v":1},{"$f":"IF(ISNUMBER(INDEX(iWeights!$H$5:$L$43,$B21,K$2)),INDEX(iWeights!$H$5:$L$43,$B21,K$2),\"\")","v":1},{"$f":"IF(ISNUMBER(INDEX(iWeights!$H$5:$L$43,$B21,L$2)),INDEX(iWeights!$H$5:$L$43,$B21,L$2),\"\")","v":1},{"$f":"IF(ISNUMBER(INDEX(iWeights!$H$5:$L$43,$B21,M$2)),INDEX(iWeights!$H$5:$L$43,$B21,M$2),\"\")","v":1},{"$f":"IF(ISNUMBER(INDEX(iWeights!$H$5:$L$43,$B21,N$2)),INDEX(iWeights!$H$5:$L$43,$B21,N$2),\"\")","v":1},{"$f":"IF(ISNUMBER(INDEX(iWeights!$H$5:$L$43,$B21,O$2)),INDEX(iWeights!$H$5:$L$43,$B21,O$2),\"\")","v":1},{"$f":"IF(ISNUMBER(INDEX(iWeights!$H$5:$L$43,$B21,P$2)),INDEX(iWeights!$H$5:$L$43,$B21,P$2),\"\")","v":1},{"$f":"IF(ISNUMBER(INDEX(iWeights!$H$5:$L$43,$B21,Q$2)),INDEX(iWeights!$H$5:$L$43,$B21,Q$2),\"\")","v":1},{"$f":"IF(ISNUMBER(INDEX(iWeights!$H$5:$L$43,$B21,R$2)),INDEX(iWeights!$H$5:$L$43,$B21,R$2),\"\")","v":1},{"$f":"IF(ISNUMBER(INDEX(iWeights!$H$5:$L$43,$B21,S$2)),INDEX(iWeights!$H$5:$L$43,$B21,S$2),\"\")","v":1},{"$f":"IF(ISNUMBER(INDEX(iWeights!$H$5:$L$43,$B21,T$2)),INDEX(iWeights!$H$5:$L$43,$B21,T$2),\"\")","v":1},{"$f":"IF(ISNUMBER(INDEX(iWeights!$H$5:$L$43,$B21,U$2)),INDEX(iWeights!$H$5:$L$43,$B21,U$2),\"\")","v":1},{"$f":"IF(ISNUMBER(INDEX(iWeights!$H$5:$L$43,$B21,V$2)),INDEX(iWeights!$H$5:$L$43,$B21,V$2),\"\")","v":1},{"$f":"IF(ISNUMBER(INDEX(iWeights!$H$5:$L$43,$B21,W$2)),INDEX(iWeights!$H$5:$L$43,$B21,W$2),\"\")","v":1},{"$f":"IF(ISNUMBER(INDEX(iWeights!$H$5:$L$43,$B21,X$2)),INDEX(iWeights!$H$5:$L$43,$B21,X$2),\"\")","v":1},{"$f":"IF(ISNUMBER(INDEX(iWeights!$H$5:$L$43,$B21,Y$2)),INDEX(iWeights!$H$5:$L$43,$B21,Y$2),\"\")","v":1},{"$f":"IF(ISNUMBER(INDEX(iWeights!$H$5:$L$43,$B21,Z$2)),INDEX(iWeights!$H$5:$L$43,$B21,Z$2),\"\")","v":1},{"$f":"IF(ISNUMBER(INDEX(iWeights!$H$5:$L$43,$B21,AA$2)),INDEX(iWeights!$H$5:$L$43,$B21,AA$2),\"\")","v":1},1,1,1,1,1,1,1,1,1,1,1,1,1,{"$f":"IF(ISNUMBER(INDEX(iWeights!$H$5:$L$43,$B21,AO$2)),INDEX(iWeights!$H$5:$L$43,$B21,AO$2),\"\")","v":1},{"$f":"IF(ISNUMBER(INDEX(iWeights!$H$5:$L$43,$B21,AP$2)),INDEX(iWeights!$H$5:$L$43,$B21,AP$2),\"\")","v":1},{"$f":"IF(ISNUMBER(INDEX(iWeights!$H$5:$L$43,$B21,AQ$2)),INDEX(iWeights!$H$5:$L$43,$B21,AQ$2),\"\")","v":1},null,null,null,null,null,{"$f":"Weights2!G23","v":1},{"$f":"Weights2!K23","v":1},{"$f":"Weights2!O23","v":1},{"$f":"Weights2!S23","v":1},null,4,0,null,{"$f":"Weights2!G23","v":1},{"$f":"Weights2!K23","v":1},{"$f":"Weights2!O23","v":1},{"$f":"Weights2!S23","v":1},null,{"$f":"iWeights!H21","v":1},{"$f":"iWeights!I21","v":1},{"$f":"iWeights!J21","v":1},{"$f":"iWeights!K21","v":1},{"$f":"iWeights!L21","v":1}]
[null,18,{"$f":"tblIndiSets!A25","v":"EP_21"},{"$f":"tblIndiSets!B25","v":18},2,{"$f":"tblIndiSets!C25","v":"1.21) Technological innovation"},"1.21) Technological innovation",{"$f":"IF(ISNUMBER(INDEX(iWeights!$H$5:$L$43,$B22,H$2)),INDEX(iWeights!$H$5:$L$43,$B22,H$2),\"\")","v":1},{"$f":"IF(ISNUMBER(INDEX(iWeights!$H$5:$L$43,$B22,I$2)),INDEX(iWeights!$H$5:$L$43,$B22,I$2),\"\")","v":1},{"$f":"IF(ISNUMBER(INDEX(iWeights!$H$5:$L$43,$B22,J$2)),INDEX(iWeights!$H$5:$L$43,$B22,J$2),\"\")","v":1},{"$f":"IF(ISNUMBER(INDEX(iWeights!$H$5:$L$43,$B22,K$2)),INDEX(iWeights!$H$5:$L$43,$B22,K$2),\"\")","v":1},{"$f":"IF(ISNUMBER(INDEX(iWeights!$H$5:$L$43,$B22,L$2)),INDEX(iWeights!$H$5:$L$43,$B22,L$2),\"\")","v":1},{"$f":"IF(ISNUMBER(INDEX(iWeights!$H$5:$L$43,$B22,M$2)),INDEX(iWeights!$H$5:$L$43,$B22,M$2),\"\")","v":1},{"$f":"IF(ISNUMBER(INDEX(iWeights!$H$5:$L$43,$B22,N$2)),INDEX(iWeights!$H$5:$L$43,$B22,N$2),\"\")","v":1},{"$f":"IF(ISNUMBER(INDEX(iWeights!$H$5:$L$43,$B22,O$2)),INDEX(iWeights!$H$5:$L$43,$B22,O$2),\"\")","v":1},{"$f":"IF(ISNUMBER(INDEX(iWeights!$H$5:$L$43,$B22,P$2)),INDEX(iWeights!$H$5:$L$43,$B22,P$2),\"\")","v":1},{"$f":"IF(ISNUMBER(INDEX(iWeights!$H$5:$L$43,$B22,Q$2)),INDEX(iWeights!$H$5:$L$43,$B22,Q$2),\"\")","v":1},{"$f":"IF(ISNUMBER(INDEX(iWeights!$H$5:$L$43,$B22,R$2)),INDEX(iWeights!$H$5:$L$43,$B22,R$2),\"\")","v":1},{"$f":"IF(ISNUMBER(INDEX(iWeights!$H$5:$L$43,$B22,S$2)),INDEX(iWeights!$H$5:$L$43,$B22,S$2),\"\")","v":1},{"$f":"IF(ISNUMBER(INDEX(iWeights!$H$5:$L$43,$B22,T$2)),INDEX(iWeights!$H$5:$L$43,$B22,T$2),\"\")","v":1},{"$f":"IF(ISNUMBER(INDEX(iWeights!$H$5:$L$43,$B22,U$2)),INDEX(iWeights!$H$5:$L$43,$B22,U$2),\"\")","v":1},{"$f":"IF(ISNUMBER(INDEX(iWeights!$H$5:$L$43,$B22,V$2)),INDEX(iWeights!$H$5:$L$43,$B22,V$2),\"\")","v":1},{"$f":"IF(ISNUMBER(INDEX(iWeights!$H$5:$L$43,$B22,W$2)),INDEX(iWeights!$H$5:$L$43,$B22,W$2),\"\")","v":1},{"$f":"IF(ISNUMBER(INDEX(iWeights!$H$5:$L$43,$B22,X$2)),INDEX(iWeights!$H$5:$L$43,$B22,X$2),\"\")","v":1},{"$f":"IF(ISNUMBER(INDEX(iWeights!$H$5:$L$43,$B22,Y$2)),INDEX(iWeights!$H$5:$L$43,$B22,Y$2),\"\")","v":1},{"$f":"IF(ISNUMBER(INDEX(iWeights!$H$5:$L$43,$B22,Z$2)),INDEX(iWeights!$H$5:$L$43,$B22,Z$2),\"\")","v":1},{"$f":"IF(ISNUMBER(INDEX(iWeights!$H$5:$L$43,$B22,AA$2)),INDEX(iWeights!$H$5:$L$43,$B22,AA$2),\"\")","v":1},1,1,1,1,1,1,1,1,1,1,1,1,1,1,1,1,1,1,1,1,null,{"$f":"Weights2!G24","v":1},{"$f":"Weights2!K24","v":1},{"$f":"Weights2!O24","v":1},{"$f":"Weights2!S24","v":1},null,4,0,null,{"$f":"Weights2!G24","v":1},{"$f":"Weights2!K24","v":1},{"$f":"Weights2!O24","v":1},{"$f":"Weights2!S24","v":1},null,{"$f":"iWeights!H22","v":1},{"$f":"iWeights!I22","v":1},{"$f":"iWeights!J22","v":1},{"$f":"iWeights!K22","v":1},{"$f":"iWeights!L22","v":1}]
[null,19,{"$f":"tblIndiSets!A26","v":"EP_22"},{"$f":"tblIndiSets!B26","v":19},2,{"$f":"tblIndiSets!C26","v":"1.22) Technological infrastructure"},"1.22) Technological infrastructure",{"$f":"IF(ISNUMBER(INDEX(iWeights!$H$5:$L$43,$B23,H$2)),INDEX(iWeights!$H$5:$L$43,$B23,H$2),\"\")","v":1},{"$f":"IF(ISNUMBER(INDEX(iWeights!$H$5:$L$43,$B23,I$2)),INDEX(iWeights!$H$5:$L$43,$B23,I$2),\"\")","v":1},{"$f":"IF(ISNUMBER(INDEX(iWeights!$H$5:$L$43,$B23,J$2)),INDEX(iWeights!$H$5:$L$43,$B23,J$2),\"\")","v":1},{"$f":"IF(ISNUMBER(INDEX(iWeights!$H$5:$L$43,$B23,K$2)),INDEX(iWeights!$H$5:$L$43,$B23,K$2),\"\")","v":1},{"$f":"IF(ISNUMBER(INDEX(iWeights!$H$5:$L$43,$B23,L$2)),INDEX(iWeights!$H$5:$L$43,$B23,L$2),\"\")","v":1},{"$f":"IF(ISNUMBER(INDEX(iWeights!$H$5:$L$43,$B23,M$2)),INDEX(iWeights!$H$5:$L$43,$B23,M$2),\"\")","v":1},{"$f":"IF(ISNUMBER(INDEX(iWeights!$H$5:$L$43,$B23,N$2)),INDEX(iWeights!$H$5:$L$43,$B23,N$2),\"\")","v":1},{"$f":"IF(ISNUMBER(INDEX(iWeights!$H$5:$L$43,$B23,O$2)),INDEX(iWeights!$H$5:$L$43,$B23,O$2),\"\")","v":1},{"$f":"IF(ISNUMBER(INDEX(iWeights!$H$5:$L$43,$B23,P$2)),INDEX(iWeights!$H$5:$L$43,$B23,P$2),\"\")","v":1},{"$f":"IF(ISNUMBER(INDEX(iWeights!$H$5:$L$43,$B23,Q$2)),INDEX(iWeights!$H$5:$L$43,$B23,Q$2),\"\")","v":1},{"$f":"IF(ISNUMBER(INDEX(iWeights!$H$5:$L$43,$B23,R$2)),INDEX(iWeights!$H$5:$L$43,$B23,R$2),\"\")","v":1},{"$f":"IF(ISNUMBER(INDEX(iWeights!$H$5:$L$43,$B23,S$2)),INDEX(iWeights!$H$5:$L$43,$B23,S$2),\"\")","v":1},{"$f":"IF(ISNUMBER(INDEX(iWeights!$H$5:$L$43,$B23,T$2)),INDEX(iWeights!$H$5:$L$43,$B23,T$2),\"\")","v":1},{"$f":"IF(ISNUMBER(INDEX(iWeights!$H$5:$L$43,$B23,U$2)),INDEX(iWeights!$H$5:$L$43,$B23,U$2),\"\")","v":1},{"$f":"IF(ISNUMBER(INDEX(iWeights!$H$5:$L$43,$B23,V$2)),INDEX(iWeights!$H$5:$L$43,$B23,V$2),\"\")","v":1},{"$f":"IF(ISNUMBER(INDEX(iWeights!$H$5:$L$43,$B23,W$2)),INDEX(iWeights!$H$5:$L$43,$B23,W$2),\"\")","v":1},{"$f":"IF(ISNUMBER(INDEX(iWeights!$H$5:$L$43,$B23,X$2)),INDEX(iWeights!$H$5:$L$43,$B23,X$2),\"\")","v":1},{"$f":"IF(ISNUMBER(INDEX(iWeights!$H$5:$L$43,$B23,Y$2)),INDEX(iWeights!$H$5:$L$43,$B23,Y$2),\"\")","v":1},{"$f":"IF(ISNUMBER(INDEX(iWeights!$H$5:$L$43,$B23,Z$2)),INDEX(iWeights!$H$5:$L$43,$B23,Z$2),\"\")","v":1},{"$f":"IF(ISNUMBER(INDEX(iWeights!$H$5:$L$43,$B23,AA$2)),INDEX(iWeights!$H$5:$L$43,$B23,AA$2),\"\")","v":1},1,1,1,1,1,1,1,1,1,1,1,1,1,1,1,1,1,1,1,1,null,{"$f":"Weights2!G25","v":1},{"$f":"Weights2!K25","v":1},{"$f":"Weights2!O25","v":1},{"$f":"Weights2!S25","v":1},null,4,0,null,{"$f":"Weights2!G25","v":1},{"$f":"Weights2!K25","v":1},{"$f":"Weights2!O25","v":1},{"$f":"Weights2!S25","v":1},null,{"$f":"iWeights!H23","v":1},{"$f":"iWeights!I23","v":1},{"$f":"iWeights!J23","v":1},{"$f":"iWeights!K23","v":1},{"$f":"iWeights!L23","v":1}]
[null,20,{"$f":"tblIndiSets!A27","v":"EP_23"},{"$f":"tblIndiSets!B27","v":20},2,{"$f":"tblIndiSets!C27","v":"1.23) Growth in labour force"},"1.23) Growth in labour force",{"$f":"IF(ISNUMBER(INDEX(iWeights!$H$5:$L$43,$B24,H$2)),INDEX(iWeights!$H$5:$L$43,$B24,H$2),\"\")","v":1},{"$f":"IF(ISNUMBER(INDEX(iWeights!$H$5:$L$43,$B24,I$2)),INDEX(iWeights!$H$5:$L$43,$B24,I$2),\"\")","v":1},{"$f":"IF(ISNUMBER(INDEX(iWeights!$H$5:$L$43,$B24,J$2)),INDEX(iWeights!$H$5:$L$43,$B24,J$2),\"\")","v":1},{"$f":"IF(ISNUMBER(INDEX(iWeights!$H$5:$L$43,$B24,K$2)),INDEX(iWeights!$H$5:$L$43,$B24,K$2),\"\")","v":1},{"$f":"IF(ISNUMBER(INDEX(iWeights!$H$5:$L$43,$B24,L$2)),INDEX(iWeights!$H$5:$L$43,$B24,L$2),\"\")","v":1},{"$f":"IF(ISNUMBER(INDEX(iWeights!$H$5:$L$43,$B24,M$2)),INDEX(iWeights!$H$5:$L$43,$B24,M$2),\"\")","v":1},{"$f":"IF(ISNUMBER(INDEX(iWeights!$H$5:$L$43,$B24,N$2)),INDEX(iWeights!$H$5:$L$43,$B24,N$2),\"\")","v":1},{"$f":"IF(ISNUMBER(INDEX(iWeights!$H$5:$L$43,$B24,O$2)),INDEX(iWeights!$H$5:$L$43,$B24,O$2),\"\")","v":1},{"$f":"IF(ISNUMBER(INDEX(iWeights!$H$5:$L$43,$B24,P$2)),INDEX(iWeights!$H$5:$L$43,$B24,P$2),\"\")","v":1},{"$f":"IF(ISNUMBER(INDEX(iWeights!$H$5:$L$43,$B24,Q$2)),INDEX(iWeights!$H$5:$L$43,$B24,Q$2),\"\")","v":1},{"$f":"IF(ISNUMBER(INDEX(iWeights!$H$5:$L$43,$B24,R$2)),INDEX(iWeights!$H$5:$L$43,$B24,R$2),\"\")","v":1},{"$f":"IF(ISNUMBER(INDEX(iWeights!$H$5:$L$43,$B24,S$2)),INDEX(iWeights!$H$5:$L$43,$B24,S$2),\"\")","v":1},{"$f":"IF(ISNUMBER(INDEX(iWeights!$H$5:$L$43,$B24,T$2)),INDEX(iWeights!$H$5:$L$43,$B24,T$2),\"\")","v":1},{"$f":"IF(ISNUMBER(INDEX(iWeights!$H$5:$L$43,$B24,U$2)),INDEX(iWeights!$H$5:$L$43,$B24,U$2),\"\")","v":1},{"$f":"IF(ISNUMBER(INDEX(iWeights!$H$5:$L$43,$B24,V$2)),INDEX(iWeights!$H$5:$L$43,$B24,V$2),\"\")","v":1},{"$f":"IF(ISNUMBER(INDEX(iWeights!$H$5:$L$43,$B24,W$2)),INDEX(iWeights!$H$5:$L$43,$B24,W$2),\"\")","v":1},{"$f":"IF(ISNUMBER(INDEX(iWeights!$H$5:$L$43,$B24,X$2)),INDEX(iWeights!$H$5:$L$43,$B24,X$2),\"\")","v":1},{"$f":"IF(ISNUMBER(INDEX(iWeights!$H$5:$L$43,$B24,Y$2)),INDEX(iWeights!$H$5:$L$43,$B24,Y$2),\"\")","v":1},{"$f":"IF(ISNUMBER(INDEX(iWeights!$H$5:$L$43,$B24,Z$2)),INDEX(iWeights!$H$5:$L$43,$B24,Z$2),\"\")","v":1},{"$f":"IF(ISNUMBER(INDEX(iWeights!$H$5:$L$43,$B24,AA$2)),INDEX(iWeights!$H$5:$L$43,$B24,AA$2),\"\")","v":1},1,1,1,1,1,1,1,1,1,1,1,1,1,1,1,1,1,1,1,1,null,{"$f":"Weights2!G26","v":1},{"$f":"Weights2!K26","v":1},{"$f":"Weights2!O26","v":1},{"$f":"Weights2!S26","v":1},null,4,0,null,{"$f":"Weights2!G26","v":1},{"$f":"Weights2!K26","v":1},{"$f":"Weights2!O26","v":1},{"$f":"Weights2!S26","v":1},null,{"$f":"iWeights!H24","v":1},{"$f":"iWeights!I24","v":1},{"$f":"iWeights!J24","v":1},{"$f":"iWeights!K24","v":1},{"$f":"iWeights!L24","v":1}]
[null,21,{"$f":"tblIndiSets!A28","v":"SP"},{"$f":"tblIndiSets!B28","v":21},1,{"$f":"tblIndiSets!C28","v":"2) SOCIAL PILLAR"},"2) SOCIAL PILLAR",{"$f":"IF(ISNUMBER(INDEX(iWeights!$H$5:$L$43,$B25,H$2)),INDEX(iWeights!$H$5:$L$43,$B25,H$2),\"\")","v":""},{"$f":"IF(ISNUMBER(INDEX(iWeights!$H$5:$L$43,$B25,I$2)),INDEX(iWeights!$H$5:$L$43,$B25,I$2),\"\")","v":""},{"$f":"IF(ISNUMBER(INDEX(iWeights!$H$5:$L$43,$B25,J$2)),INDEX(iWeights!$H$5:$L$43,$B25,J$2),\"\")","v":""},{"$f":"IF(ISNUMBER(INDEX(iWeights!$H$5:$L$43,$B25,K$2)),INDEX(iWeights!$H$5:$L$43,$B25,K$2),\"\")","v":""},{"$f":"IF(ISNUMBER(INDEX(iWeights!$H$5:$L$43,$B25,L$2)),INDEX(iWeights!$H$5:$L$43,$B25,L$2),\"\")","v":""},{"$f":"IF(ISNUMBER(INDEX(iWeights!$H$5:$L$43,$B25,M$2)),INDEX(iWeights!$H$5:$L$43,$B25,M$2),\"\")","v":""},{"$f":"IF(ISNUMBER(INDEX(iWeights!$H$5:$L$43,$B25,N$2)),INDEX(iWeights!$H$5:$L$43,$B25,N$2),\"\")","v":""},{"$f":"IF(ISNUMBER(INDEX(iWeights!$H$5:$L$43,$B25,O$2)),INDEX(iWeights!$H$5:$L$43,$B25,O$2),\"\")","v":""},{"$f":"IF(ISNUMBER(INDEX(iWeights!$H$5:$L$43,$B25,P$2)),INDEX(iWeights!$H$5:$L$43,$B25,P$2),\"\")","v":""},{"$f":"IF(ISNUMBER(INDEX(iWeights!$H$5:$L$43,$B25,Q$2)),INDEX(iWeights!$H$5:$L$43,$B25,Q$2),\"\")","v":""},{"$f":"IF(ISNUMBER(INDEX(iWeights!$H$5:$L$43,$B25,R$2)),INDEX(iWeights!$H$5:$L$43,$B25,R$2),\"\")","v":""},{"$f":"IF(ISNUMBER(INDEX(iWeights!$H$5:$L$43,$B25,S$2)),INDEX(iWeights!$H$5:$L$43,$B25,S$2),\"\")","v":""},{"$f":"IF(ISNUMBER(INDEX(iWeights!$H$5:$L$43,$B25,T$2)),INDEX(iWeights!$H$5:$L$43,$B25,T$2),\"\")","v":""},{"$f":"IF(ISNUMBER(INDEX(iWeights!$H$5:$L$43,$B25,U$2)),INDEX(iWeights!$H$5:$L$43,$B25,U$2),\"\")","v":""},{"$f":"IF(ISNUMBER(INDEX(iWeights!$H$5:$L$43,$B25,V$2)),INDEX(iWeights!$H$5:$L$43,$B25,V$2),\"\")","v":""},{"$f":"IF(ISNUMBER(INDEX(iWeights!$H$5:$L$43,$B25,W$2)),INDEX(iWeights!$H$5:$L$43,$B25,W$2),\"\")","v":""},{"$f":"IF(ISNUMBER(INDEX(iWeights!$H$5:$L$43,$B25,X$2)),INDEX(iWeights!$H$5:$L$43,$B25,X$2),\"\")","v":""},{"$f":"IF(ISNUMBER(INDEX(iWeights!$H$5:$L$43,$B25,Y$2)),INDEX(iWeights!$H$5:$L$43,$B25,Y$2),\"\")","v":""},{"$f":"IF(ISNUMBER(INDEX(iWeights!$H$5:$L$43,$B25,Z$2)),INDEX(iWeights!$H$5:$L$43,$B25,Z$2),\"\")","v":""},{"$f":"IF(ISNUMBER(INDEX(iWeights!$H$5:$L$43,$B25,AA$2)),INDEX(iWeights!$H$5:$L$43,$B25,AA$2),\"\")","v":""}]
[null,22,{"$f":"tblIndiSets!A29","v":"SP_10"},{"$f":"tblIndiSets!B29","v":22},2,{"$f":"tblIndiSets!C29","v":"2.1) Inequality (Gini coefficient)"},"2.1) Inequality (Gini coefficient)",{"$f":"IF(ISNUMBER(INDEX(iWeights!$H$5:$L$43,$B26,H$2)),INDEX(iWeights!$H$5:$L$43,$B26,H$2),\"\")","v":1},{"$f":"IF(ISNUMBER(INDEX(iWeights!$H$5:$L$43,$B26,I$2)),INDEX(iWeights!$H$5:$L$43,$B26,I$2),\"\")","v":1},{"$f":"IF(ISNUMBER(INDEX(iWeights!$H$5:$L$43,$B26,J$2)),INDEX(iWeights!$H$5:$L$43,$B26,J$2),\"\")","v":1},{"$f":"IF(ISNUMBER(INDEX(iWeights!$H$5:$L$43,$B26,K$2)),INDEX(iWeights!$H$5:$L$43,$B26,K$2),\"\")","v":1},{"$f":"IF(ISNUMBER(INDEX(iWeights!$H$5:$L$43,$B26,L$2)),INDEX(iWeights!$H$5:$L$43,$B26,L$2),\"\")","v":1},{"$f":"IF(ISNUMBER(INDEX(iWeights!$H$5:$L$43,$B26,M$2)),INDEX(iWeights!$H$5:$L$43,$B26,M$2),\"\")","v":1},{"$f":"IF(ISNUMBER(INDEX(iWeights!$H$5:$L$43,$B26,N$2)),INDEX(iWeights!$H$5:$L$43,$B26,N$2),\"\")","v":1},{"$f":"IF(ISNUMBER(INDEX(iWeights!$H$5:$L$43,$B26,O$2)),INDEX(iWeights!$H$5:$L$43,$B26,O$2),\"\")","v":1},{"$f":"IF(ISNUMBER(INDEX(iWeights!$H$5:$L$43,$B26,P$2)),INDEX(iWeights!$H$5:$L$43,$B26,P$2),\"\")","v":1},{"$f":"IF(ISNUMBER(INDEX(iWeights!$H$5:$L$43,$B26,Q$2)),INDEX(iWeights!$H$5:$L$43,$B26,Q$2),\"\")","v":1},{"$f":"IF(ISNUMBER(INDEX(iWeights!$H$5:$L$43,$B26,R$2)),INDEX(iWeights!$H$5:$L$43,$B26,R$2),\"\")","v":1},{"$f":"IF(ISNUMBER(INDEX(iWeights!$H$5:$L$43,$B26,S$2)),INDEX(iWeights!$H$5:$L$43,$B26,S$2),\"\")","v":1},{"$f":"IF(ISNUMBER(INDEX(iWeights!$H$5:$L$43,$B26,T$2)),INDEX(iWeights!$H$5:$L$43,$B26,T$2),\"\")","v":1},{"$f":"IF(ISNUMBER(INDEX(iWeights!$H$5:$L$43,$B26,U$2)),INDEX(iWeights!$H$5:$L$43,$B26,U$2),\"\")","v":1},{"$f":"IF(ISNUMBER(INDEX(iWeights!$H$5:$L$43,$B26,V$2)),INDEX(iWeights!$H$5:$L$43,$B26,V$2),\"\")","v":1},{"$f":"IF(ISNUMBER(INDEX(iWeights!$H$5:$L$43,$B26,W$2)),INDEX(iWeights!$H$5:$L$43,$B26,W$2),\"\")","v":1},{"$f":"IF(ISNUMBER(INDEX(iWeights!$H$5:$L$43,$B26,X$2)),INDEX(iWeights!$H$5:$L$43,$B26,X$2),\"\")","v":1},{"$f":"IF(ISNUMBER(INDEX(iWeights!$H$5:$L$43,$B26,Y$2)),INDEX(iWeights!$H$5:$L$43,$B26,Y$2),\"\")","v":1},{"$f":"IF(ISNUMBER(INDEX(iWeights!$H$5:$L$43,$B26,Z$2)),INDEX(iWeights!$H$5:$L$43,$B26,Z$2),\"\")","v":1},{"$f":"IF(ISNUMBER(INDEX(iWeights!$H$5:$L$43,$B26,AA$2)),INDEX(iWeights!$H$5:$L$43,$B26,AA$2),\"\")","v":1},1,1,1,1,1,1,1,1,1,1,1,1,1,1,1,1,1,1,1,1,null,{"$f":"Weights2!G28","v":1},{"$f":"Weights2!K28","v":1},{"$f":"Weights2!O28","v":1},{"$f":"Weights2!S28","v":1},null,4,0,null,{"$f":"Weights2!G28","v":1},{"$f":"Weights2!K28","v":1},{"$f":"Weights2!O28","v":1},{"$f":"Weights2!S28","v":1},null,{"$f":"iWeights!H26","v":1},{"$f":"iWeights!I26","v":1},{"$f":"iWeights!J26","v":1},{"$f":"iWeights!K26","v":1},{"$f":"iWeights!L26","v":1}]
[null,23,{"$f":"tblIndiSets!A30","v":"SP_11"},{"$f":"tblIndiSets!B30","v":23},2,{"$f":"tblIndiSets!C30","v":"2.2) Educational attainment"},"2.2) Educational attainment",{"$f":"IF(ISNUMBER(INDEX(iWeights!$H$5:$L$43,$B27,H$2)),INDEX(iWeights!$H$5:$L$43,$B27,H$2),\"\")","v":1},{"$f":"IF(ISNUMBER(INDEX(iWeights!$H$5:$L$43,$B27,I$2)),INDEX(iWeights!$H$5:$L$43,$B27,I$2),\"\")","v":1},{"$f":"IF(ISNUMBER(INDEX(iWeights!$H$5:$L$43,$B27,J$2)),INDEX(iWeights!$H$5:$L$43,$B27,J$2),\"\")","v":1},{"$f":"IF(ISNUMBER(INDEX(iWeights!$H$5:$L$43,$B27,K$2)),INDEX(iWeights!$H$5:$L$43,$B27,K$2),\"\")","v":1},{"$f":"IF(ISNUMBER(INDEX(iWeights!$H$5:$L$43,$B27,L$2)),INDEX(iWeights!$H$5:$L$43,$B27,L$2),\"\")","v":1},{"$f":"IF(ISNUMBER(INDEX(iWeights!$H$5:$L$43,$B27,M$2)),INDEX(iWeights!$H$5:$L$43,$B27,M$2),\"\")","v":1},{"$f":"IF(ISNUMBER(INDEX(iWeights!$H$5:$L$43,$B27,N$2)),INDEX(iWeights!$H$5:$L$43,$B27,N$2),\"\")","v":1},{"$f":"IF(ISNUMBER(INDEX(iWeights!$H$5:$L$43,$B27,O$2)),INDEX(iWeights!$H$5:$L$43,$B27,O$2),\"\")","v":1},{"$f":"IF(ISNUMBER(INDEX(iWeights!$H$5:$L$43,$B27,P$2)),INDEX(iWeights!$H$5:$L$43,$B27,P$2),\"\")","v":1},{"$f":"IF(ISNUMBER(INDEX(iWeights!$H$5:$L$43,$B27,Q$2)),INDEX(iWeights!$H$5:$L$43,$B27,Q$2),\"\")","v":1},{"$f":"IF(ISNUMBER(INDEX(iWeights!$H$5:$L$43,$B27,R$2)),INDEX(iWeights!$H$5:$L$43,$B27,R$2),\"\")","v":1},{"$f":"IF(ISNUMBER(INDEX(iWeights!$H$5:$L$43,$B27,S$2)),INDEX(iWeights!$H$5:$L$43,$B27,S$2),\"\")","v":1},{"$f":"IF(ISNUMBER(INDEX(iWeights!$H$5:$L$43,$B27,T$2)),INDEX(iWeights!$H$5:$L$43,$B27,T$2),\"\")","v":1},{"$f":"IF(ISNUMBER(INDEX(iWeights!$H$5:$L$43,$B27,U$2)),INDEX(iWeights!$H$5:$L$43,$B27,U$2),\"\")","v":1},{"$f":"IF(ISNUMBER(INDEX(iWeights!$H$5:$L$43,$B27,V$2)),INDEX(iWeights!$H$5:$L$43,$B27,V$2),\"\")","v":1},{"$f":"IF(ISNUMBER(INDEX(iWeights!$H$5:$L$43,$B27,W$2)),INDEX(iWeights!$H$5:$L$43,$B27,W$2),\"\")","v":1},{"$f":"IF(ISNUMBER(INDEX(iWeights!$H$5:$L$43,$B27,X$2)),INDEX(iWeights!$H$5:$L$43,$B27,X$2),\"\")","v":1},{"$f":"IF(ISNUMBER(INDEX(iWeights!$H$5:$L$43,$B27,Y$2)),INDEX(iWeights!$H$5:$L$43,$B27,Y$2),\"\")","v":1},{"$f":"IF(ISNUMBER(INDEX(iWeights!$H$5:$L$43,$B27,Z$2)),INDEX(iWeights!$H$5:$L$43,$B27,Z$2),\"\")","v":1},{"$f":"IF(ISNUMBER(INDEX(iWeights!$H$5:$L$43,$B27,AA$2)),INDEX(iWeights!$H$5:$L$43,$B27,AA$2),\"\")","v":1},1,1,1,1,1,1,1,1,1,1,1,1,1,1,1,1,1,1,1,1,null,{"$f":"Weights2!G29","v":1},{"$f":"Weights2!K29","v":1},{"$f":"Weights2!O29","v":1},{"$f":"Weights2!S29","v":1},null,4,0,null,{"$f":"Weights2!G29","v":1},{"$f":"Weights2!K29","v":1},{"$f":"Weights2!O29","v":1},{"$f":"Weights2!S29","v":1},null,{"$f":"iWeights!H27","v":1},{"$f":"iWeights!I27","v":1},{"$f":"iWeights!J27","v":1},{"$f":"iWeights!K27","v":1},{"$f":"iWeights!L27","v":1}]
[null,24,{"$f":"tblIndiSets!A31","v":"SP_12"},{"$f":"tblIndiSets!B31","v":24},2,{"$f":"tblIndiSets!C31","v":"2.3) Labour standards"},"2.3) Labour standards",{"$f":"IF(ISNUMBER(INDEX(iWeights!$H$5:$L$43,$B28,H$2)),INDEX(iWeights!$H$5:$L$43,$B28,H$2),\"\")","v":1},{"$f":"IF(ISNUMBER(INDEX(iWeights!$H$5:$L$43,$B28,I$2)),INDEX(iWeights!$H$5:$L$43,$B28,I$2),\"\")","v":1},{"$f":"IF(ISNUMBER(INDEX(iWeights!$H$5:$L$43,$B28,J$2)),INDEX(iWeights!$H$5:$L$43,$B28,J$2),\"\")","v":1},{"$f":"IF(ISNUMBER(INDEX(iWeights!$H$5:$L$43,$B28,K$2)),INDEX(iWeights!$H$5:$L$43,$B28,K$2),\"\")","v":1},{"$f":"IF(ISNUMBER(INDEX(iWeights!$H$5:$L$43,$B28,L$2)),INDEX(iWeights!$H$5:$L$43,$B28,L$2),\"\")","v":1},{"$f":"IF(ISNUMBER(INDEX(iWeights!$H$5:$L$43,$B28,M$2)),INDEX(iWeights!$H$5:$L$43,$B28,M$2),\"\")","v":1},{"$f":"IF(ISNUMBER(INDEX(iWeights!$H$5:$L$43,$B28,N$2)),INDEX(iWeights!$H$5:$L$43,$B28,N$2),\"\")","v":1},{"$f":"IF(ISNUMBER(INDEX(iWeights!$H$5:$L$43,$B28,O$2)),INDEX(iWeights!$H$5:$L$43,$B28,O$2),\"\")","v":1},{"$f":"IF(ISNUMBER(INDEX(iWeights!$H$5:$L$43,$B28,P$2)),INDEX(iWeights!$H$5:$L$43,$B28,P$2),\"\")","v":1},{"$f":"IF(ISNUMBER(INDEX(iWeights!$H$5:$L$43,$B28,Q$2)),INDEX(iWeights!$H$5:$L$43,$B28,Q$2),\"\")","v":1},{"$f":"IF(ISNUMBER(INDEX(iWeights!$H$5:$L$43,$B28,R$2)),INDEX(iWeights!$H$5:$L$43,$B28,R$2),\"\")","v":1},{"$f":"IF(ISNUMBER(INDEX(iWeights!$H$5:$L$43,$B28,S$2)),INDEX(iWeights!$H$5:$L$43,$B28,S$2),\"\")","v":1},{"$f":"IF(ISNUMBER(INDEX(iWeights!$H$5:$L$43,$B28,T$2)),INDEX(iWeights!$H$5:$L$43,$B28,T$2),\"\")","v":1},{"$f":"IF(ISNUMBER(INDEX(iWeights!$H$5:$L$43,$B28,U$2)),INDEX(iWeights!$H$5:$L$43,$B28,U$2),\"\")","v":1},{"$f":"IF(ISNUMBER(INDEX(iWeights!$H$5:$L$43,$B28,V$2)),INDEX(iWeights!$H$5:$L$43,$B28,V$2),\"\")","v":1},{"$f":"IF(ISNUMBER(INDEX(iWeights!$H$5:$L$43,$B28,W$2)),INDEX(iWeights!$H$5:$L$43,$B28,W$2),\"\")","v":1},{"$f":"IF(ISNUMBER(INDEX(iWeights!$H$5:$L$43,$B28,X$2)),INDEX(iWeights!$H$5:$L$43,$B28,X$2),\"\")","v":1},{"$f":"IF(ISNUMBER(INDEX(iWeights!$H$5:$L$43,$B28,Y$2)),INDEX(iWeights!$H$5:$L$43,$B28,Y$2),\"\")","v":1},{"$f":"IF(ISNUMBER(INDEX(iWeights!$H$5:$L$43,$B28,Z$2)),INDEX(iWeights!$H$5:$L$43,$B28,Z$2),\"\")","v":1},{"$f":"IF(ISNUMBER(INDEX(iWeights!$H$5:$L$43,$B28,AA$2)),INDEX(iWeights!$H$5:$L$43,$B28,AA$2),\"\")","v":1},1,1,1,1,1,1,1,1,1,1,1,1,1,1,1,1,1,1,1,1,null,{"$f":"Weights2!G30","v":1},{"$f":"Weights2!K30","v":1},{"$f":"Weights2!O30","v":1},{"$f":"Weights2!S30","v":1},null,4,0,null,{"$f":"Weights2!G30","v":1},{"$f":"Weights2!K30","v":1},{"$f":"Weights2!O30","v":1},{"$f":"Weights2!S30","v":1},null,{"$f":"iWeights!H28","v":1},{"$f":"iWeights!I28","v":1},{"$f":"iWeights!J28","v":1},{"$f":"iWeights!K28","v":1},{"$f":"iWeights!L28","v":1}]
[null,25,{"$f":"tblIndiSets!A32","v":"SP_13"},{"$f":"tblIndiSets!B32","v":25},2,{"$f":"tblIndiSets!C32","v":"2.4) Political stability"},"2.4) Political stability",{"$f":"IF(ISNUMBER(INDEX(iWeights!$H$5:$L$43,$B29,H$2)),INDEX(iWeights!$H$5:$L$43,$B29,H$2),\"\")","v":1},{"$f":"IF(ISNUMBER(INDEX(iWeights!$H$5:$L$43,$B29,I$2)),INDEX(iWeights!$H$5:$L$43,$B29,I$2),\"\")","v":1},{"$f":"IF(ISNUMBER(INDEX(iWeights!$H$5:$L$43,$B29,J$2)),INDEX(iWeights!$H$5:$L$43,$B29,J$2),\"\")","v":1},{"$f":"IF(ISNUMBER(INDEX(iWeights!$H$5:$L$43,$B29,K$2)),INDEX(iWeights!$H$5:$L$43,$B29,K$2),\"\")","v":1},{"$f":"IF(ISNUMBER(INDEX(iWeights!$H$5:$L$43,$B29,L$2)),INDEX(iWeights!$H$5:$L$43,$B29,L$2),\"\")","v":1},{"$f":"IF(ISNUMBER(INDEX(iWeights!$H$5:$L$43,$B29,M$2)),INDEX(iWeights!$H$5:$L$43,$B29,M$2),\"\")","v":1},{"$f":"IF(ISNUMBER(INDEX(iWeights!$H$5:$L$43,$B29,N$2)),INDEX(iWeights!$H$5:$L$43,$B29,N$2),\"\")","v":1},{"$f":"IF(ISNUMBER(INDEX(iWeights!$H$5:$L$43,$B29,O$2)),INDEX(iWeights!$H$5:$L$43,$B29,O$2),\"\")","v":1},{"$f":"IF(ISNUMBER(INDEX(iWeights!$H$5:$L$43,$B29,P$2)),INDEX(iWeights!$H$5:$L$43,$B29,P$2),\"\")","v":1},{"$f":"IF(ISNUMBER(INDEX(iWeights!$H$5:$L$43,$B29,Q$2)),INDEX(iWeights!$H$5:$L$43,$B29,Q$2),\"\")","v":1},{"$f":"IF(ISNUMBER(INDEX(iWeights!$H$5:$L$43,$B29,R$2)),INDEX(iWeights!$H$5:$L$43,$B29,R$2),\"\")","v":1},{"$f":"IF(ISNUMBER(INDEX(iWeights!$H$5:$L$43,$B29,S$2)),INDEX(iWeights!$H$5:$L$43,$B29,S$2),\"\")","v":1},{"$f":"IF(ISNUMBER(INDEX(iWeights!$H$5:$L$43,$B29,T$2)),INDEX(iWeights!$H$5:$L$43,$B29,T$2),\"\")","v":1},{"$f":"IF(ISNUMBER(INDEX(iWeights!$H$5:$L$43,$B29,U$2)),INDEX(iWeights!$H$5:$L$43,$B29,U$2),\"\")","v":1},{"$f":"IF(ISNUMBER(INDEX(iWeights!$H$5:$L$43,$B29,V$2)),INDEX(iWeights!$H$5:$L$43,$B29,V$2),\"\")","v":1},{"$f":"IF(ISNUMBER(INDEX(iWeights!$H$5:$L$43,$B29,W$2)),INDEX(iWeights!$H$5:$L$43,$B29,W$2),\"\")","v":1},{"$f":"IF(ISNUMBER(INDEX(iWeights!$H$5:$L$43,$B29,X$2)),INDEX(iWeights!$H$5:$L$43,$B29,X$2),\"\")","v":1},{"$f":"IF(ISNUMBER(INDEX(iWeights!$H$5:$L$43,$B29,Y$2)),INDEX(iWeights!$H$5:$L$43,$B29,Y$2),\"\")","v":1},{"$f":"IF(ISNUMBER(INDEX(iWeights!$H$5:$L$43,$B29,Z$2)),INDEX(iWeights!$H$5:$L$43,$B29,Z$2),\"\")","v":1},{"$f":"IF(ISNUMBER(INDEX(iWeights!$H$5:$L$43,$B29,AA$2)),INDEX(iWeights!$H$5:$L$43,$B29,AA$2),\"\")","v":1},1,1,1,1,1,1,1,1,1,1,1,1,1,1,1,1,1,1,1,1,null,{"$f":"Weights2!G31","v":1},{"$f":"Weights2!K31","v":1},{"$f":"Weights2!O31","v":1},{"$f":"Weights2!S31","v":1},null,4,0,null,{"$f":"Weights2!G31","v":1},{"$f":"Weights2!K31","v":1},{"$f":"Weights2!O31","v":1},{"$f":"Weights2!S31","v":1},null,{"$f":"iWeights!H29","v":1},{"$f":"iWeights!I29","v":1},{"$f":"iWeights!J29","v":1},{"$f":"iWeights!K29","v":1},{"$f":"iWeights!L29","v":1}]
[null,26,{"$f":"tblIndiSets!A33","v":"ENP"},{"$f":"tblIndiSets!B33","v":26},1,{"$f":"tblIndiSets!C33","v":"3) ENVIRONMENTAL PILLAR"},"3) ENVIRONMENTAL PILLAR",{"$f":"IF(ISNUMBER(INDEX(iWeights!$H$5:$L$43,$B30,H$2)),INDEX(iWeights!$H$5:$L$43,$B30,H$2),\"\")","v":""},{"$f":"IF(ISNUMBER(INDEX(iWeights!$H$5:$L$43,$B30,I$2)),INDEX(iWeights!$H$5:$L$43,$B30,I$2),\"\")","v":""},{"$f":"IF(ISNUMBER(INDEX(iWeights!$H$5:$L$43,$B30,J$2)),INDEX(iWeights!$H$5:$L$43,$B30,J$2),\"\")","v":""},{"$f":"IF(ISNUMBER(INDEX(iWeights!$H$5:$L$43,$B30,K$2)),INDEX(iWeights!$H$5:$L$43,$B30,K$2),\"\")","v":""},{"$f":"IF(ISNUMBER(INDEX(iWeights!$H$5:$L$43,$B30,L$2)),INDEX(iWeights!$H$5:$L$43,$B30,L$2),\"\")","v":""},{"$f":"IF(ISNUMBER(INDEX(iWeights!$H$5:$L$43,$B30,M$2)),INDEX(iWeights!$H$5:$L$43,$B30,M$2),\"\")","v":""},{"$f":"IF(ISNUMBER(INDEX(iWeights!$H$5:$L$43,$B30,N$2)),INDEX(iWeights!$H$5:$L$43,$B30,N$2),\"\")","v":""},{"$f":"IF(ISNUMBER(INDEX(iWeights!$H$5:$L$43,$B30,O$2)),INDEX(iWeights!$H$5:$L$43,$B30,O$2),\"\")","v":""},{"$f":"IF(ISNUMBER(INDEX(iWeights!$H$5:$L$43,$B30,P$2)),INDEX(iWeights!$H$5:$L$43,$B30,P$2),\"\")","v":""},{"$f":"IF(ISNUMBER(INDEX(iWeights!$H$5:$L$43,$B30,Q$2)),INDEX(iWeights!$H$5:$L$43,$B30,Q$2),\"\")","v":""},{"$f":"IF(ISNUMBER(INDEX(iWeights!$H$5:$L$43,$B30,R$2)),INDEX(iWeights!$H$5:$L$43,$B30,R$2),\"\")","v":""},{"$f":"IF(ISNUMBER(INDEX(iWeights!$H$5:$L$43,$B30,S$2)),INDEX(iWeights!$H$5:$L$43,$B30,S$2),\"\")","v":""},{"$f":"IF(ISNUMBER(INDEX(iWeights!$H$5:$L$43,$B30,T$2)),INDEX(iWeights!$H$5:$L$43,$B30,T$2),\"\")","v":""},{"$f":"IF(ISNUMBER(INDEX(iWeights!$H$5:$L$43,$B30,U$2)),INDEX(iWeights!$H$5:$L$43,$B30,U$2),\"\")","v":""},{"$f":"IF(ISNUMBER(INDEX(iWeights!$H$5:$L$43,$B30,V$2)),INDEX(iWeights!$H$5:$L$43,$B30,V$2),\"\")","v":""},{"$f":"IF(ISNUMBER(INDEX(iWeights!$H$5:$L$43,$B30,W$2)),INDEX(iWeights!$H$5:$L$43,$B30,W$2),\"\")","v":""},{"$f":"IF(ISNUMBER(INDEX(iWeights!$H$5:$L$43,$B30,X$2)),INDEX(iWeights!$H$5:$L$43,$B30,X$2),\"\")","v":""},{"$f":"IF(ISNUMBER(INDEX(iWeights!$H$5:$L$43,$B30,Y$2)),INDEX(iWeights!$H$5:$L$43,$B30,Y$2),\"\")","v":""},{"$f":"IF(ISNUMBER(INDEX(iWeights!$H$5:$L$43,$B30,Z$2)),INDEX(iWeights!$H$5:$L$43,$B30,Z$2),\"\")","v":""},{"$f":"IF(ISNUMBER(INDEX(iWeights!$H$5:$L$43,$B30,AA$2)),INDEX(iWeights!$H$5:$L$43,$B30,AA$2),\"\")","v":""}]
[null,27,{"$f":"tblIndiSets!A34","v":"ENP_10"},{"$f":"tblIndiSets!B34","v":27},2,{"$f":"tblIndiSets!C34","v":"3.1) Air pollution"},"3.1) Air pollution",{"$f":"IF(ISNUMBER(INDEX(iWeights!$H$5:$L$43,$B31,H$2)),INDEX(iWeights!$H$5:$L$43,$B31,H$2),\"\")","v":1},{"$f":"IF(ISNUMBER(INDEX(iWeights!$H$5:$L$43,$B31,I$2)),INDEX(iWeights!$H$5:$L$43,$B31,I$2),\"\")","v":1},{"$f":"IF(ISNUMBER(INDEX(iWeights!$H$5:$L$43,$B31,J$2)),INDEX(iWeights!$H$5:$L$43,$B31,J$2),\"\")","v":1},{"$f":"IF(ISNUMBER(INDEX(iWeights!$H$5:$L$43,$B31,K$2)),INDEX(iWeights!$H$5:$L$43,$B31,K$2),\"\")","v":1},{"$f":"IF(ISNUMBER(INDEX(iWeights!$H$5:$L$43,$B31,L$2)),INDEX(iWeights!$H$5:$L$43,$B31,L$2),\"\")","v":1},{"$f":"IF(ISNUMBER(INDEX(iWeights!$H$5:$L$43,$B31,M$2)),INDEX(iWeights!$H$5:$L$43,$B31,M$2),\"\")","v":1},{"$f":"IF(ISNUMBER(INDEX(iWeights!$H$5:$L$43,$B31,N$2)),INDEX(iWeights!$H$5:$L$43,$B31,N$2),\"\")","v":1},{"$f":"IF(ISNUMBER(INDEX(iWeights!$H$5:$L$43,$B31,O$2)),INDEX(iWeights!$H$5:$L$43,$B31,O$2),\"\")","v":1},{"$f":"IF(ISNUMBER(INDEX(iWeights!$H$5:$L$43,$B31,P$2)),INDEX(iWeights!$H$5:$L$43,$B31,P$2),\"\")","v":1},{"$f":"IF(ISNUMBER(INDEX(iWeights!$H$5:$L$43,$B31,Q$2)),INDEX(iWeights!$H$5:$L$43,$B31,Q$2),\"\")","v":1},{"$f":"IF(ISNUMBER(INDEX(iWeights!$H$5:$L$43,$B31,R$2)),INDEX(iWeights!$H$5:$L$43,$B31,R$2),\"\")","v":1},{"$f":"IF(ISNUMBER(INDEX(iWeights!$H$5:$L$43,$B31,S$2)),INDEX(iWeights!$H$5:$L$43,$B31,S$2),\"\")","v":1},{"$f":"IF(ISNUMBER(INDEX(iWeights!$H$5:$L$43,$B31,T$2)),INDEX(iWeights!$H$5:$L$43,$B31,T$2),\"\")","v":1},{"$f":"IF(ISNUMBER(INDEX(iWeights!$H$5:$L$43,$B31,U$2)),INDEX(iWeights!$H$5:$L$43,$B31,U$2),\"\")","v":1},{"$f":"IF(ISNUMBER(INDEX(iWeights!$H$5:$L$43,$B31,V$2)),INDEX(iWeights!$H$5:$L$43,$B31,V$2),\"\")","v":1},{"$f":"IF(ISNUMBER(INDEX(iWeights!$H$5:$L$43,$B31,W$2)),INDEX(iWeights!$H$5:$L$43,$B31,W$2),\"\")","v":1},{"$f":"IF(ISNUMBER(INDEX(iWeights!$H$5:$L$43,$B31,X$2)),INDEX(iWeights!$H$5:$L$43,$B31,X$2),\"\")","v":1},{"$f":"IF(ISNUMBER(INDEX(iWeights!$H$5:$L$43,$B31,Y$2)),INDEX(iWeights!$H$5:$L$43,$B31,Y$2),\"\")","v":1},{"$f":"IF(ISNUMBER(INDEX(iWeights!$H$5:$L$43,$B31,Z$2)),INDEX(iWeights!$H$5:$L$43,$B31,Z$2),\"\")","v":1},{"$f":"IF(ISNUMBER(INDEX(iWeights!$H$5:$L$43,$B31,AA$2)),INDEX(iWeights!$H$5:$L$43,$B31,AA$2),\"\")","v":1},1,1,1,1,1,1,1,1,1,1,1,1,1,1,1,1,1,1,1,1,null,{"$f":"Weights2!G33","v":1},{"$f":"Weights2!K33","v":1},{"$f":"Weights2!O33","v":1},{"$f":"Weights2!S33","v":1},null,4,0,null,{"$f":"Weights2!G33","v":1},{"$f":"Weights2!K33","v":1},{"$f":"Weights2!O33","v":1},{"$f":"Weights2!S33","v":1},null,{"$f":"iWeights!H31","v":1},{"$f":"iWeights!I31","v":1},{"$f":"iWeights!J31","v":1},{"$f":"iWeights!K31","v":1},{"$f":"iWeights!L31","v":1}]
[null,28,{"$f":"tblIndiSets!A35","v":"ENP_11"},{"$f":"tblIndiSets!B35","v":28},2,{"$f":"tblIndiSets!C35","v":"3.2) Deforestation"},"3.2) Deforestation",{"$f":"IF(ISNUMBER(INDEX(iWeights!$H$5:$L$43,$B32,H$2)),INDEX(iWeights!$H$5:$L$43,$B32,H$2),\"\")","v":1},{"$f":"IF(ISNUMBER(INDEX(iWeights!$H$5:$L$43,$B32,I$2)),INDEX(iWeights!$H$5:$L$43,$B32,I$2),\"\")","v":1},{"$f":"IF(ISNUMBER(INDEX(iWeights!$H$5:$L$43,$B32,J$2)),INDEX(iWeights!$H$5:$L$43,$B32,J$2),\"\")","v":1},{"$f":"IF(ISNUMBER(INDEX(iWeights!$H$5:$L$43,$B32,K$2)),INDEX(iWeights!$H$5:$L$43,$B32,K$2),\"\")","v":1},{"$f":"IF(ISNUMBER(INDEX(iWeights!$H$5:$L$43,$B32,L$2)),INDEX(iWeights!$H$5:$L$43,$B32,L$2),\"\")","v":1},{"$f":"IF(ISNUMBER(INDEX(iWeights!$H$5:$L$43,$B32,M$2)),INDEX(iWeights!$H$5:$L$43,$B32,M$2),\"\")","v":1},{"$f":"IF(ISNUMBER(INDEX(iWeights!$H$5:$L$43,$B32,N$2)),INDEX(iWeights!$H$5:$L$43,$B32,N$2),\"\")","v":1},{"$f":"IF(ISNUMBER(INDEX(iWeights!$H$5:$L$43,$B32,O$2)),INDEX(iWeights!$H$5:$L$43,$B32,O$2),\"\")","v":1},{"$f":"IF(ISNUMBER(INDEX(iWeights!$H$5:$L$43,$B32,P$2)),INDEX(iWeights!$H$5:$L$43,$B32,P$2),\"\")","v":1},{"$f":"IF(ISNUMBER(INDEX(iWeights!$H$5:$L$43,$B32,Q$2)),INDEX(iWeights!$H$5:$L$43,$B32,Q$2),\"\")","v":1},{"$f":"IF(ISNUMBER(INDEX(iWeights!$H$5:$L$43,$B32,R$2)),INDEX(iWeights!$H$5:$L$43,$B32,R$2),\"\")","v":1},{"$f":"IF(ISNUMBER(INDEX(iWeights!$H$5:$L$43,$B32,S$2)),INDEX(iWeights!$H$5:$L$43,$B32,S$2),\"\")","v":1},{"$f":"IF(ISNUMBER(INDEX(iWeights!$H$5:$L$43,$B32,T$2)),INDEX(iWeights!$H$5:$L$43,$B32,T$2),\"\")","v":1},{"$f":"IF(ISNUMBER(INDEX(iWeights!$H$5:$L$43,$B32,U$2)),INDEX(iWeights!$H$5:$L$43,$B32,U$2),\"\")","v":1},{"$f":"IF(ISNUMBER(INDEX(iWeights!$H$5:$L$43,$B32,V$2)),INDEX(iWeights!$H$5:$L$43,$B32,V$2),\"\")","v":1},{"$f":"IF(ISNUMBER(INDEX(iWeights!$H$5:$L$43,$B32,W$2)),INDEX(iWeights!$H$5:$L$43,$B32,W$2),\"\")","v":1},{"$f":"IF(ISNUMBER(INDEX(iWeights!$H$5:$L$43,$B32,X$2)),INDEX(iWeights!$H$5:$L$43,$B32,X$2),\"\")","v":1},{"$f":"IF(ISNUMBER(INDEX(iWeights!$H$5:$L$43,$B32,Y$2)),INDEX(iWeights!$H$5:$L$43,$B32,Y$2),\"\")","v":1},{"$f":"IF(ISNUMBER(INDEX(iWeights!$H$5:$L$43,$B32,Z$2)),INDEX(iWeights!$H$5:$L$43,$B32,Z$2),\"\")","v":1},{"$f":"IF(ISNUMBER(INDEX(iWeights!$H$5:$L$43,$B32,AA$2)),INDEX(iWeights!$H$5:$L$43,$B32,AA$2),\"\")","v":1},1,1,1,1,1,1,1,1,1,1,1,1,1,1,1,1,1,1,1,1,null,{"$f":"Weights2!G34","v":1},{"$f":"Weights2!K34","v":1},{"$f":"Weights2!O34","v":1},{"$f":"Weights2!S34","v":1},null,4,0,null,{"$f":"Weights2!G34","v":1},{"$f":"Weights2!K34","v":1},{"$f":"Weights2!O34","v":1},{"$f":"Weights2!S34","v":1},null,{"$f":"iWeights!H32","v":1},{"$f":"iWeights!I32","v":1},{"$f":"iWeights!J32","v":1},{"$f":"iWeights!K32","v":1},{"$f":"iWeights!L32","v":1}]
[null,29,{"$f":"tblIndiSets!A36","v":"ENP_12"},{"$f":"tblIndiSets!B36","v":29},2,{"$f":"tblIndiSets!C36","v":"3.3) Water pollution"},"3.3) Water pollution",{"$f":"IF(ISNUMBER(INDEX(iWeights!$H$5:$L$43,$B33,H$2)),INDEX(iWeights!$H$5:$L$43,$B33,H$2),\"\")","v":1},{"$f":"IF(ISNUMBER(INDEX(iWeights!$H$5:$L$43,$B33,I$2)),INDEX(iWeights!$H$5:$L$43,$B33,I$2),\"\")","v":1},{"$f":"IF(ISNUMBER(INDEX(iWeights!$H$5:$L$43,$B33,J$2)),INDEX(iWeights!$H$5:$L$43,$B33,J$2),\"\")","v":1},{"$f":"IF(ISNUMBER(INDEX(iWeights!$H$5:$L$43,$B33,K$2)),INDEX(iWeights!$H$5:$L$43,$B33,K$2),\"\")","v":1},{"$f":"IF(ISNUMBER(INDEX(iWeights!$H$5:$L$43,$B33,L$2)),INDEX(iWeights!$H$5:$L$43,$B33,L$2),\"\")","v":1},{"$f":"IF(ISNUMBER(INDEX(iWeights!$H$5:$L$43,$B33,M$2)),INDEX(iWeights!$H$5:$L$43,$B33,M$2),\"\")","v":1},{"$f":"IF(ISNUMBER(INDEX(iWeights!$H$5:$L$43,$B33,N$2)),INDEX(iWeights!$H$5:$L$43,$B33,N$2),\"\")","v":1},{"$f":"IF(ISNUMBER(INDEX(iWeights!$H$5:$L$43,$B33,O$2)),INDEX(iWeights!$H$5:$L$43,$B33,O$2),\"\")","v":1},{"$f":"IF(ISNUMBER(INDEX(iWeights!$H$5:$L$43,$B33,P$2)),INDEX(iWeights!$H$5:$L$43,$B33,P$2),\"\")","v":1},{"$f":"IF(ISNUMBER(INDEX(iWeights!$H$5:$L$43,$B33,Q$2)),INDEX(iWeights!$H$5:$L$43,$B33,Q$2),\"\")","v":1},{"$f":"IF(ISNUMBER(INDEX(iWeights!$H$5:$L$43,$B33,R$2)),INDEX(iWeights!$H$5:$L$43,$B33,R$2),\"\")","v":1},{"$f":"IF(ISNUMBER(INDEX(iWeights!$H$5:$L$43,$B33,S$2)),INDEX(iWeights!$H$5:$L$43,$B33,S$2),\"\")","v":1},{"$f":"IF(ISNUMBER(INDEX(iWeights!$H$5:$L$43,$B33,T$2)),INDEX(iWeights!$H$5:$L$43,$B33,T$2),\"\")","v":1},{"$f":"IF(ISNUMBER(INDEX(iWeights!$H$5:$L$43,$B33,U$2)),INDEX(iWeights!$H$5:$L$43,$B33,U$2),\"\")","v":1},{"$f":"IF(ISNUMBER(INDEX(iWeights!$H$5:$L$43,$B33,V$2)),INDEX(iWeights!$H$5:$L$43,$B33,V$2),\"\")","v":1},{"$f":"IF(ISNUMBER(INDEX(iWeights!$H$5:$L$43,$B33,W$2)),INDEX(iWeights!$H$5:$L$43,$B33,W$2),\"\")","v":1},{"$f":"IF(ISNUMBER(INDEX(iWeights!$H$5:$L$43,$B33,X$2)),INDEX(iWeights!$H$5:$L$43,$B33,X$2),\"\")","v":1},{"$f":"IF(ISNUMBER(INDEX(iWeights!$H$5:$L$43,$B33,Y$2)),INDEX(iWeights!$H$5:$L$43,$B33,Y$2),\"\")","v":1},{"$f":"IF(ISNUMBER(INDEX(iWeights!$H$5:$L$43,$B33,Z$2)),INDEX(iWeights!$H$5:$L$43,$B33,Z$2),\"\")","v":1},{"$f":"IF(ISNUMBER(INDEX(iWeights!$H$5:$L$43,$B33,AA$2)),INDEX(iWeights!$H$5:$L$43,$B33,AA$2),\"\")","v":1},1,1,1,1,1,1,1,1,1,1,1,1,1,1,1,1,1,1,1,1,null,{"$f":"Weights2!G35","v":1},{"$f":"Weights2!K35","v":1},{"$f":"Weights2!O35","v":1},{"$f":"Weights2!S35","v":1},null,4,0,null,{"$f":"Weights2!G35","v":1},{"$f":"Weights2!K35","v":1},{"$f":"Weights2!O35","v":1},{"$f":"Weights2!S35","v":1},null,{"$f":"iWeights!H33","v":1},{"$f":"iWeights!I33","v":1},{"$f":"iWeights!J33","v":1},{"$f":"iWeights!K33","v":1},{"$f":"iWeights!L33","v":1}]
[null,30,{"$f":"tblIndiSets!A37","v":"ENP_13"},{"$f":"tblIndiSets!B37","v":30},2,{"$f":"tblIndiSets!C37","v":"3.4) Environmental standards in trade"},"3.4) Environmental standards in trade",{"$f":"IF(ISNUMBER(INDEX(iWeights!$H$5:$L$43,$B34,H$2)),INDEX(iWeights!$H$5:$L$43,$B34,H$2),\"\")","v":1},{"$f":"IF(ISNUMBER(INDEX(iWeights!$H$5:$L$43,$B34,I$2)),INDEX(iWeights!$H$5:$L$43,$B34,I$2),\"\")","v":1},{"$f":"IF(ISNUMBER(INDEX(iWeights!$H$5:$L$43,$B34,J$2)),INDEX(iWeights!$H$5:$L$43,$B34,J$2),\"\")","v":1},{"$f":"IF(ISNUMBER(INDEX(iWeights!$H$5:$L$43,$B34,K$2)),INDEX(iWeights!$H$5:$L$43,$B34,K$2),\"\")","v":1},{"$f":"IF(ISNUMBER(INDEX(iWeights!$H$5:$L$43,$B34,L$2)),INDEX(iWeights!$H$5:$L$43,$B34,L$2),\"\")","v":1},{"$f":"IF(ISNUMBER(INDEX(iWeights!$H$5:$L$43,$B34,M$2)),INDEX(iWeights!$H$5:$L$43,$B34,M$2),\"\")","v":1},{"$f":"IF(ISNUMBER(INDEX(iWeights!$H$5:$L$43,$B34,N$2)),INDEX(iWeights!$H$5:$L$43,$B34,N$2),\"\")","v":1},{"$f":"IF(ISNUMBER(INDEX(iWeights!$H$5:$L$43,$B34,O$2)),INDEX(iWeights!$H$5:$L$43,$B34,O$2),\"\")","v":1},{"$f":"IF(ISNUMBER(INDEX(iWeights!$H$5:$L$43,$B34,P$2)),INDEX(iWeights!$H$5:$L$43,$B34,P$2),\"\")","v":1},{"$f":"IF(ISNUMBER(INDEX(iWeights!$H$5:$L$43,$B34,Q$2)),INDEX(iWeights!$H$5:$L$43,$B34,Q$2),\"\")","v":1},{"$f":"IF(ISNUMBER(INDEX(iWeights!$H$5:$L$43,$B34,R$2)),INDEX(iWeights!$H$5:$L$43,$B34,R$2),\"\")","v":1},{"$f":"IF(ISNUMBER(INDEX(iWeights!$H$5:$L$43,$B34,S$2)),INDEX(iWeights!$H$5:$L$43,$B34,S$2),\"\")","v":1},{"$f":"IF(ISNUMBER(INDEX(iWeights!$H$5:$L$43,$B34,T$2)),INDEX(iWeights!$H$5:$L$43,$B34,T$2),\"\")","v":1},{"$f":"IF(ISNUMBER(INDEX(iWeights!$H$5:$L$43,$B34,U$2)),INDEX(iWeights!$H$5:$L$43,$B34,U$2),\"\")","v":1},{"$f":"IF(ISNUMBER(INDEX(iWeights!$H$5:$L$43,$B34,V$2)),INDEX(iWeights!$H$5:$L$43,$B34,V$2),\"\")","v":1},{"$f":"IF(ISNUMBER(INDEX(iWeights!$H$5:$L$43,$B34,W$2)),INDEX(iWeights!$H$5:$L$43,$B34,W$2),\"\")","v":1},{"$f":"IF(ISNUMBER(INDEX(iWeights!$H$5:$L$43,$B34,X$2)),INDEX(iWeights!$H$5:$L$43,$B34,X$2),\"\")","v":1},{"$f":"IF(ISNUMBER(INDEX(iWeights!$H$5:$L$43,$B34,Y$2)),INDEX(iWeights!$H$5:$L$43,$B34,Y$2),\"\")","v":1},{"$f":"IF(ISNUMBER(INDEX(iWeights!$H$5:$L$43,$B34,Z$2)),INDEX(iWeights!$H$5:$L$43,$B34,Z$2),\"\")","v":1},{"$f":"IF(ISNUMBER(INDEX(iWeights!$H$5:$L$43,$B34,AA$2)),INDEX(iWeights!$H$5:$L$43,$B34,AA$2),\"\")","v":1},1,1,1,1,1,1,1,1,1,1,1,1,1,1,1,1,1,1,1,1,null,{"$f":"Weights2!G36","v":1},{"$f":"Weights2!K36","v":1},{"$f":"Weights2!O36","v":1},{"$f":"Weights2!S36","v":1},null,4,0,null,{"$f":"Weights2!G36","v":1},{"$f":"Weights2!K36","v":1},{"$f":"Weights2!O36","v":1},{"$f":"Weights2!S36","v":1},null,{"$f":"iWeights!H34","v":1},{"$f":"iWeights!I34","v":1},{"$f":"iWeights!J34","v":1},{"$f":"iWeights!K34","v":1},{"$f":"iWeights!L34","v":1}]
[null,31,{"$f":"tblIndiSets!A38","v":"ENP_14"},{"$f":"tblIndiSets!B38","v":31},2,{"$f":"tblIndiSets!C38","v":"3.5) Carbon emissions in trade"},"3.5) Carbon emissions in trade",{"$f":"IF(ISNUMBER(INDEX(iWeights!$H$5:$L$43,$B35,H$2)),INDEX(iWeights!$H$5:$L$43,$B35,H$2),\"\")","v":1},{"$f":"IF(ISNUMBER(INDEX(iWeights!$H$5:$L$43,$B35,I$2)),INDEX(iWeights!$H$5:$L$43,$B35,I$2),\"\")","v":1},{"$f":"IF(ISNUMBER(INDEX(iWeights!$H$5:$L$43,$B35,J$2)),INDEX(iWeights!$H$5:$L$43,$B35,J$2),\"\")","v":1},{"$f":"IF(ISNUMBER(INDEX(iWeights!$H$5:$L$43,$B35,K$2)),INDEX(iWeights!$H$5:$L$43,$B35,K$2),\"\")","v":1},{"$f":"IF(ISNUMBER(INDEX(iWeights!$H$5:$L$43,$B35,L$2)),INDEX(iWeights!$H$5:$L$43,$B35,L$2),\"\")","v":1},{"$f":"IF(ISNUMBER(INDEX(iWeights!$H$5:$L$43,$B35,M$2)),INDEX(iWeights!$H$5:$L$43,$B35,M$2),\"\")","v":1},{"$f":"IF(ISNUMBER(INDEX(iWeights!$H$5:$L$43,$B35,N$2)),INDEX(iWeights!$H$5:$L$43,$B35,N$2),\"\")","v":1},{"$f":"IF(ISNUMBER(INDEX(iWeights!$H$5:$L$43,$B35,O$2)),INDEX(iWeights!$H$5:$L$43,$B35,O$2),\"\")","v":1},{"$f":"IF(ISNUMBER(INDEX(iWeights!$H$5:$L$43,$B35,P$2)),INDEX(iWeights!$H$5:$L$43,$B35,P$2),\"\")","v":1},{"$f":"IF(ISNUMBER(INDEX(iWeights!$H$5:$L$43,$B35,Q$2)),INDEX(iWeights!$H$5:$L$43,$B35,Q$2),\"\")","v":1},{"$f":"IF(ISNUMBER(INDEX(iWeights!$H$5:$L$43,$B35,R$2)),INDEX(iWeights!$H$5:$L$43,$B35,R$2),\"\")","v":1},{"$f":"IF(ISNUMBER(INDEX(iWeights!$H$5:$L$43,$B35,S$2)),INDEX(iWeights!$H$5:$L$43,$B35,S$2),\"\")","v":1},{"$f":"IF(ISNUMBER(INDEX(iWeights!$H$5:$L$43,$B35,T$2)),INDEX(iWeights!$H$5:$L$43,$B35,T$2),\"\")","v":1},{"$f":"IF(ISNUMBER(INDEX(iWeights!$H$5:$L$43,$B35,U$2)),INDEX(iWeights!$H$5:$L$43,$B35,U$2),\"\")","v":1},{"$f":"IF(ISNUMBER(INDEX(iWeights!$H$5:$L$43,$B35,V$2)),INDEX(iWeights!$H$5:$L$43,$B35,V$2),\"\")","v":1},{"$f":"IF(ISNUMBER(INDEX(iWeights!$H$5:$L$43,$B35,W$2)),INDEX(iWeights!$H$5:$L$43,$B35,W$2),\"\")","v":1},{"$f":"IF(ISNUMBER(INDEX(iWeights!$H$5:$L$43,$B35,X$2)),INDEX(iWeights!$H$5:$L$43,$B35,X$2),\"\")","v":1},{"$f":"IF(ISNUMBER(INDEX(iWeights!$H$5:$L$43,$B35,Y$2)),INDEX(iWeights!$H$5:$L$43,$B35,Y$2),\"\")","v":1},{"$f":"IF(ISNUMBER(INDEX(iWeights!$H$5:$L$43,$B35,Z$2)),INDEX(iWeights!$H$5:$L$43,$B35,Z$2),\"\")","v":1},{"$f":"IF(ISNUMBER(INDEX(iWeights!$H$5:$L$43,$B35,AA$2)),INDEX(iWeights!$H$5:$L$43,$B35,AA$2),\"\")","v":1},1,1,1,1,1,1,1,1,1,1,1,1,1,1,1,1,1,1,1,1,null,{"$f":"Weights2!G37","v":1},{"$f":"Weights2!K37","v":1},{"$f":"Weights2!O37","v":1},{"$f":"Weights2!S37","v":1},null,4,0,null,{"$f":"Weights2!G37","v":1},{"$f":"Weights2!K37","v":1},{"$f":"Weights2!O37","v":1},{"$f":"Weights2!S37","v":1},null,{"$f":"iWeights!H35","v":1},{"$f":"iWeights!I35","v":1},{"$f":"iWeights!J35","v":1},{"$f":"iWeights!K35","v":1},{"$f":"iWeights!L35","v":1}]
[null,32,{"$f":"tblIndiSets!A39","v":"ENP_15"},{"$f":"tblIndiSets!B39","v":32},2,{"$f":"tblIndiSets!C39","v":"3.6) Share of natural resources in trade"},"3.6) Share of natural resources in trade",{"$f":"IF(ISNUMBER(INDEX(iWeights!$H$5:$L$43,$B36,H$2)),INDEX(iWeights!$H$5:$L$43,$B36,H$2),\"\")","v":1},{"$f":"IF(ISNUMBER(INDEX(iWeights!$H$5:$L$43,$B36,I$2)),INDEX(iWeights!$H$5:$L$43,$B36,I$2),\"\")","v":1},{"$f":"IF(ISNUMBER(INDEX(iWeights!$H$5:$L$43,$B36,J$2)),INDEX(iWeights!$H$5:$L$43,$B36,J$2),\"\")","v":1},{"$f":"IF(ISNUMBER(INDEX(iWeights!$H$5:$L$43,$B36,K$2)),INDEX(iWeights!$H$5:$L$43,$B36,K$2),\"\")","v":1},{"$f":"IF(ISNUMBER(INDEX(iWeights!$H$5:$L$43,$B36,L$2)),INDEX(iWeights!$H$5:$L$43,$B36,L$2),\"\")","v":1},{"$f":"IF(ISNUMBER(INDEX(iWeights!$H$5:$L$43,$B36,M$2)),INDEX(iWeights!$H$5:$L$43,$B36,M$2),\"\")","v":1},{"$f":"IF(ISNUMBER(INDEX(iWeights!$H$5:$L$43,$B36,N$2)),INDEX(iWeights!$H$5:$L$43,$B36,N$2),\"\")","v":1},{"$f":"IF(ISNUMBER(INDEX(iWeights!$H$5:$L$43,$B36,O$2)),INDEX(iWeights!$H$5:$L$43,$B36,O$2),\"\")","v":1},{"$f":"IF(ISNUMBER(INDEX(iWeights!$H$5:$L$43,$B36,P$2)),INDEX(iWeights!$H$5:$L$43,$B36,P$2),\"\")","v":1},{"$f":"IF(ISNUMBER(INDEX(iWeights!$H$5:$L$43,$B36,Q$2)),INDEX(iWeights!$H$5:$L$43,$B36,Q$2),\"\")","v":1},{"$f":"IF(ISNUMBER(INDEX(iWeights!$H$5:$L$43,$B36,R$2)),INDEX(iWeights!$H$5:$L$43,$B36,R$2),\"\")","v":1},{"$f":"IF(ISNUMBER(INDEX(iWeights!$H$5:$L$43,$B36,S$2)),INDEX(iWeights!$H$5:$L$43,$B36,S$2),\"\")","v":1},{"$f":"IF(ISNUMBER(INDEX(iWeights!$H$5:$L$43,$B36,T$2)),INDEX(iWeights!$H$5:$L$43,$B36,T$2),\"\")","v":1},{"$f":"IF(ISNUMBER(INDEX(iWeights!$H$5:$L$43,$B36,U$2)),INDEX(iWeights!$H$5:$L$43,$B36,U$2),\"\")","v":1},{"$f":"IF(ISNUMBER(INDEX(iWeights!$H$5:$L$43,$B36,V$2)),INDEX(iWeights!$H$5:$L$43,$B36,V$2),\"\")","v":1},{"$f":"IF(ISNUMBER(INDEX(iWeights!$H$5:$L$43,$B36,W$2)),INDEX(iWeights!$H$5:$L$43,$B36,W$2),\"\")","v":1},{"$f":"IF(ISNUMBER(INDEX(iWeights!$H$5:$L$43,$B36,X$2)),INDEX(iWeights!$H$5:$L$43,$B36,X$2),\"\")","v":1},{"$f":"IF(ISNUMBER(INDEX(iWeights!$H$5:$L$43,$B36,Y$2)),INDEX(iWeights!$H$5:$L$43,$B36,Y$2),\"\")","v":1},{"$f":"IF(ISNUMBER(INDEX(iWeights!$H$5:$L$43,$B36,Z$2)),INDEX(iWeights!$H$5:$L$43,$B36,Z$2),\"\")","v":1},{"$f":"IF(ISNUMBER(INDEX(iWeights!$H$5:$L$43,$B36,AA$2)),INDEX(iWeights!$H$5:$L$43,$B36,AA$2),\"\")","v":1},1,1,1,1,1,1,1,1,1,1,1,1,1,1,1,1,1,1,1,1,null,{"$f":"Weights2!G38","v":1},{"$f":"Weights2!K38","v":1},{"$f":"Weights2!O38","v":1},{"$f":"Weights2!S38","v":1},null,4,0,null,{"$f":"Weights2!G38","v":1},{"$f":"Weights2!K38","v":1},{"$f":"Weights2!O38","v":1},{"$f":"Weights2!S38","v":1},null,{"$f":"iWeights!H36","v":1},{"$f":"iWeights!I36","v":1},{"$f":"iWeights!J36","v":1},{"$f":"iWeights!K36","v":1},{"$f":"iWeights!L36","v":1}]
[null,33,null,null,null,null,null,{"$f":"IF(ISNUMBER(INDEX(iWeights!$H$5:$L$43,$B37,H$2)),INDEX(iWeights!$H$5:$L$43,$B37,H$2),\"\")","v":""},{"$f":"IF(ISNUMBER(INDEX(iWeights!$H$5:$L$43,$B37,I$2)),INDEX(iWeights!$H$5:$L$43,$B37,I$2),\"\")","v":""},{"$f":"IF(ISNUMBER(INDEX(iWeights!$H$5:$L$43,$B37,J$2)),INDEX(iWeights!$H$5:$L$43,$B37,J$2),\"\")","v":""},{"$f":"IF(ISNUMBER(INDEX(iWeights!$H$5:$L$43,$B37,K$2)),INDEX(iWeights!$H$5:$L$43,$B37,K$2),\"\")","v":""},{"$f":"IF(ISNUMBER(INDEX(iWeights!$H$5:$L$43,$B37,L$2)),INDEX(iWeights!$H$5:$L$43,$B37,L$2),\"\")","v":""},{"$f":"IF(ISNUMBER(INDEX(iWeights!$H$5:$L$43,$B37,M$2)),INDEX(iWeights!$H$5:$L$43,$B37,M$2),\"\")","v":""},{"$f":"IF(ISNUMBER(INDEX(iWeights!$H$5:$L$43,$B37,N$2)),INDEX(iWeights!$H$5:$L$43,$B37,N$2),\"\")","v":""},{"$f":"IF(ISNUMBER(INDEX(iWeights!$H$5:$L$43,$B37,O$2)),INDEX(iWeights!$H$5:$L$43,$B37,O$2),\"\")","v":""},{"$f":"IF(ISNUMBER(INDEX(iWeights!$H$5:$L$43,$B37,P$2)),INDEX(iWeights!$H$5:$L$43,$B37,P$2),\"\")","v":""},{"$f":"IF(ISNUMBER(INDEX(iWeights!$H$5:$L$43,$B37,Q$2)),INDEX(iWeights!$H$5:$L$43,$B37,Q$2),\"\")","v":""},{"$f":"IF(ISNUMBER(INDEX(iWeights!$H$5:$L$43,$B37,R$2)),INDEX(iWeights!$H$5:$L$43,$B37,R$2),\"\")","v":""},{"$f":"IF(ISNUMBER(INDEX(iWeights!$H$5:$L$43,$B37,S$2)),INDEX(iWeights!$H$5:$L$43,$B37,S$2),\"\")","v":""},{"$f":"IF(ISNUMBER(INDEX(iWeights!$H$5:$L$43,$B37,T$2)),INDEX(iWeights!$H$5:$L$43,$B37,T$2),\"\")","v":""},{"$f":"IF(ISNUMBER(INDEX(iWeights!$H$5:$L$43,$B37,U$2)),INDEX(iWeights!$H$5:$L$43,$B37,U$2),\"\")","v":""},{"$f":"IF(ISNUMBER(INDEX(iWeights!$H$5:$L$43,$B37,V$2)),INDEX(iWeights!$H$5:$L$43,$B37,V$2),\"\")","v":""},{"$f":"IF(ISNUMBER(INDEX(iWeights!$H$5:$L$43,$B37,W$2)),INDEX(iWeights!$H$5:$L$43,$B37,W$2),\"\")","v":""},{"$f":"IF(ISNUMBER(INDEX(iWeights!$H$5:$L$43,$B37,X$2)),INDEX(iWeights!$H$5:$L$43,$B37,X$2),\"\")","v":""},{"$f":"IF(ISNUMBER(INDEX(iWeights!$H$5:$L$43,$B37,Y$2)),INDEX(iWeights!$H$5:$L$43,$B37,Y$2),\"\")","v":""},{"$f":"IF(ISNUMBER(INDEX(iWeights!$H$5:$L$43,$B37,Z$2)),INDEX(iWeights!$H$5:$L$43,$B37,Z$2),\"\")","v":""},{"$f":"IF(ISNUMBER(INDEX(iWeights!$H$5:$L$43,$B37,AA$2)),INDEX(iWeights!$H$5:$L$43,$B37,AA$2),\"\")","v":""}]
[null,34,null,null,null,null,null,{"$f":"IF(ISNUMBER(INDEX(iWeights!$H$5:$L$43,$B38,H$2)),INDEX(iWeights!$H$5:$L$43,$B38,H$2),\"\")","v":""},{"$f":"IF(ISNUMBER(INDEX(iWeights!$H$5:$L$43,$B38,I$2)),INDEX(iWeights!$H$5:$L$43,$B38,I$2),\"\")","v":""},{"$f":"IF(ISNUMBER(INDEX(iWeights!$H$5:$L$43,$B38,J$2)),INDEX(iWeights!$H$5:$L$43,$B38,J$2),\"\")","v":""},{"$f":"IF(ISNUMBER(INDEX(iWeights!$H$5:$L$43,$B38,K$2)),INDEX(iWeights!$H$5:$L$43,$B38,K$2),\"\")","v":""},{"$f":"IF(ISNUMBER(INDEX(iWeights!$H$5:$L$43,$B38,L$2)),INDEX(iWeights!$H$5:$L$43,$B38,L$2),\"\")","v":""},{"$f":"IF(ISNUMBER(INDEX(iWeights!$H$5:$L$43,$B38,M$2)),INDEX(iWeights!$H$5:$L$43,$B38,M$2),\"\")","v":""},{"$f":"IF(ISNUMBER(INDEX(iWeights!$H$5:$L$43,$B38,N$2)),INDEX(iWeights!$H$5:$L$43,$B38,N$2),\"\")","v":""},{"$f":"IF(ISNUMBER(INDEX(iWeights!$H$5:$L$43,$B38,O$2)),INDEX(iWeights!$H$5:$L$43,$B38,O$2),\"\")","v":""},{"$f":"IF(ISNUMBER(INDEX(iWeights!$H$5:$L$43,$B38,P$2)),INDEX(iWeights!$H$5:$L$43,$B38,P$2),\"\")","v":""},{"$f":"IF(ISNUMBER(INDEX(iWeights!$H$5:$L$43,$B38,Q$2)),INDEX(iWeights!$H$5:$L$43,$B38,Q$2),\"\")","v":""},{"$f":"IF(ISNUMBER(INDEX(iWeights!$H$5:$L$43,$B38,R$2)),INDEX(iWeights!$H$5:$L$43,$B38,R$2),\"\")","v":""},{"$f":"IF(ISNUMBER(INDEX(iWeights!$H$5:$L$43,$B38,S$2)),INDEX(iWeights!$H$5:$L$43,$B38,S$2),\"\")","v":""},{"$f":"IF(ISNUMBER(INDEX(iWeights!$H$5:$L$43,$B38,T$2)),INDEX(iWeights!$H$5:$L$43,$B38,T$2),\"\")","v":""},{"$f":"IF(ISNUMBER(INDEX(iWeights!$H$5:$L$43,$B38,U$2)),INDEX(iWeights!$H$5:$L$43,$B38,U$2),\"\")","v":""},{"$f":"IF(ISNUMBER(INDEX(iWeights!$H$5:$L$43,$B38,V$2)),INDEX(iWeights!$H$5:$L$43,$B38,V$2),\"\")","v":""},{"$f":"IF(ISNUMBER(INDEX(iWeights!$H$5:$L$43,$B38,W$2)),INDEX(iWeights!$H$5:$L$43,$B38,W$2),\"\")","v":""},{"$f":"IF(ISNUMBER(INDEX(iWeights!$H$5:$L$43,$B38,X$2)),INDEX(iWeights!$H$5:$L$43,$B38,X$2),\"\")","v":""},{"$f":"IF(ISNUMBER(INDEX(iWeights!$H$5:$L$43,$B38,Y$2)),INDEX(iWeights!$H$5:$L$43,$B38,Y$2),\"\")","v":""},{"$f":"IF(ISNUMBER(INDEX(iWeights!$H$5:$L$43,$B38,Z$2)),INDEX(iWeights!$H$5:$L$43,$B38,Z$2),\"\")","v":""},{"$f":"IF(ISNUMBER(INDEX(iWeights!$H$5:$L$43,$B38,AA$2)),INDEX(iWeights!$H$5:$L$43,$B38,AA$2),\"\")","v":""}]
[null,35,{"$f":"tblIndiSets!A56","v":"EP_20"},{"$f":"tblIndiSets!B56","v":13},{"$f":"INDEX(OFFSET(lu_indicode,0,2),D39)","v":2},{"$f":"tblIndiSets!C56","v":"    1.20) Trade costs"},"    1.20) Trade costs",{"$f":"IF(ISNUMBER(INDEX(iWeights!$H$5:$L$43,$B39,H$2)),INDEX(iWeights!$H$5:$L$43,$B39,H$2),\"\")","v":""},{"$f":"IF(ISNUMBER(INDEX(iWeights!$H$5:$L$43,$B39,I$2)),INDEX(iWeights!$H$5:$L$43,$B39,I$2),\"\")","v":""},{"$f":"IF(ISNUMBER(INDEX(iWeights!$H$5:$L$43,$B39,J$2)),INDEX(iWeights!$H$5:$L$43,$B39,J$2),\"\")","v":""},{"$f":"IF(ISNUMBER(INDEX(iWeights!$H$5:$L$43,$B39,K$2)),INDEX(iWeights!$H$5:$L$43,$B39,K$2),\"\")","v":""},{"$f":"IF(ISNUMBER(INDEX(iWeights!$H$5:$L$43,$B39,L$2)),INDEX(iWeights!$H$5:$L$43,$B39,L$2),\"\")","v":""},{"$f":"IF(ISNUMBER(INDEX(iWeights!$H$5:$L$43,$B39,M$2)),INDEX(iWeights!$H$5:$L$43,$B39,M$2),\"\")","v":""},{"$f":"IF(ISNUMBER(INDEX(iWeights!$H$5:$L$43,$B39,N$2)),INDEX(iWeights!$H$5:$L$43,$B39,N$2),\"\")","v":""},{"$f":"IF(ISNUMBER(INDEX(iWeights!$H$5:$L$43,$B39,O$2)),INDEX(iWeights!$H$5:$L$43,$B39,O$2),\"\")","v":""},{"$f":"IF(ISNUMBER(INDEX(iWeights!$H$5:$L$43,$B39,P$2)),INDEX(iWeights!$H$5:$L$43,$B39,P$2),\"\")","v":""},{"$f":"IF(ISNUMBER(INDEX(iWeights!$H$5:$L$43,$B39,Q$2)),INDEX(iWeights!$H$5:$L$43,$B39,Q$2),\"\")","v":""},{"$f":"IF(ISNUMBER(INDEX(iWeights!$H$5:$L$43,$B39,R$2)),INDEX(iWeights!$H$5:$L$43,$B39,R$2),\"\")","v":""},{"$f":"IF(ISNUMBER(INDEX(iWeights!$H$5:$L$43,$B39,S$2)),INDEX(iWeights!$H$5:$L$43,$B39,S$2),\"\")","v":""},{"$f":"IF(ISNUMBER(INDEX(iWeights!$H$5:$L$43,$B39,T$2)),INDEX(iWeights!$H$5:$L$43,$B39,T$2),\"\")","v":""},{"$f":"IF(ISNUMBER(INDEX(iWeights!$H$5:$L$43,$B39,U$2)),INDEX(iWeights!$H$5:$L$43,$B39,U$2),\"\")","v":""},{"$f":"IF(ISNUMBER(INDEX(iWeights!$H$5:$L$43,$B39,V$2)),INDEX(iWeights!$H$5:$L$43,$B39,V$2),\"\")","v":""},{"$f":"IF(ISNUMBER(INDEX(iWeights!$H$5:$L$43,$B39,W$2)),INDEX(iWeights!$H$5:$L$43,$B39,W$2),\"\")","v":""},{"$f":"IF(ISNUMBER(INDEX(iWeights!$H$5:$L$43,$B39,X$2)),INDEX(iWeights!$H$5:$L$43,$B39,X$2),\"\")","v":""},{"$f":"IF(ISNUMBER(INDEX(iWeights!$H$5:$L$43,$B39,Y$2)),INDEX(iWeights!$H$5:$L$43,$B39,Y$2),\"\")","v":""},{"$f":"IF(ISNUMBER(INDEX(iWeights!$H$5:$L$43,$B39,Z$2)),INDEX(iWeights!$H$5:$L$43,$B39,Z$2),\"\")","v":""},{"$f":"IF(ISNUMBER(INDEX(iWeights!$H$5:$L$43,$B39,AA$2)),INDEX(iWeights!$H$5:$L$43,$B39,AA$2),\"\")","v":""}]
[null,36,{"$f":"tblIndiSets!A57","v":"EP_20_1"},{"$f":"tblIndiSets!B57","v":14},3,{"$f":"tblIndiSets!C57","v":"      1.20.1)    Infrastructure"},"      1.20.1)    Infrastructure",{"$f":"IF(ISNUMBER(INDEX(iWeights!$H$5:$L$43,$B40,H$2)),INDEX(iWeights!$H$5:$L$43,$B40,H$2),\"\")","v":1},{"$f":"IF(ISNUMBER(INDEX(iWeights!$H$5:$L$43,$B40,I$2)),INDEX(iWeights!$H$5:$L$43,$B40,I$2),\"\")","v":1},{"$f":"IF(ISNUMBER(INDEX(iWeights!$H$5:$L$43,$B40,J$2)),INDEX(iWeights!$H$5:$L$43,$B40,J$2),\"\")","v":1},{"$f":"IF(ISNUMBER(INDEX(iWeights!$H$5:$L$43,$B40,K$2)),INDEX(iWeights!$H$5:$L$43,$B40,K$2),\"\")","v":1},{"$f":"IF(ISNUMBER(INDEX(iWeights!$H$5:$L$43,$B40,L$2)),INDEX(iWeights!$H$5:$L$43,$B40,L$2),\"\")","v":1},{"$f":"IF(ISNUMBER(INDEX(iWeights!$H$5:$L$43,$B40,M$2)),INDEX(iWeights!$H$5:$L$43,$B40,M$2),\"\")","v":1},{"$f":"IF(ISNUMBER(INDEX(iWeights!$H$5:$L$43,$B40,N$2)),INDEX(iWeights!$H$5:$L$43,$B40,N$2),\"\")","v":1},{"$f":"IF(ISNUMBER(INDEX(iWeights!$H$5:$L$43,$B40,O$2)),INDEX(iWeights!$H$5:$L$43,$B40,O$2),\"\")","v":1},{"$f":"IF(ISNUMBER(INDEX(iWeights!$H$5:$L$43,$B40,P$2)),INDEX(iWeights!$H$5:$L$43,$B40,P$2),\"\")","v":1},{"$f":"IF(ISNUMBER(INDEX(iWeights!$H$5:$L$43,$B40,Q$2)),INDEX(iWeights!$H$5:$L$43,$B40,Q$2),\"\")","v":1},{"$f":"IF(ISNUMBER(INDEX(iWeights!$H$5:$L$43,$B40,R$2)),INDEX(iWeights!$H$5:$L$43,$B40,R$2),\"\")","v":1},{"$f":"IF(ISNUMBER(INDEX(iWeights!$H$5:$L$43,$B40,S$2)),INDEX(iWeights!$H$5:$L$43,$B40,S$2),\"\")","v":1},{"$f":"IF(ISNUMBER(INDEX(iWeights!$H$5:$L$43,$B40,T$2)),INDEX(iWeights!$H$5:$L$43,$B40,T$2),\"\")","v":1},{"$f":"IF(ISNUMBER(INDEX(iWeights!$H$5:$L$43,$B40,U$2)),INDEX(iWeights!$H$5:$L$43,$B40,U$2),\"\")","v":1},{"$f":"IF(ISNUMBER(INDEX(iWeights!$H$5:$L$43,$B40,V$2)),INDEX(iWeights!$H$5:$L$43,$B40,V$2),\"\")","v":1},{"$f":"IF(ISNUMBER(INDEX(iWeights!$H$5:$L$43,$B40,W$2)),INDEX(iWeights!$H$5:$L$43,$B40,W$2),\"\")","v":1},{"$f":"IF(ISNUMBER(INDEX(iWeights!$H$5:$L$43,$B40,X$2)),INDEX(iWeights!$H$5:$L$43,$B40,X$2),\"\")","v":1},{"$f":"IF(ISNUMBER(INDEX(iWeights!$H$5:$L$43,$B40,Y$2)),INDEX(iWeights!$H$5:$L$43,$B40,Y$2),\"\")","v":1},{"$f":"IF(ISNUMBER(INDEX(iWeights!$H$5:$L$43,$B40,Z$2)),INDEX(iWeights!$H$5:$L$43,$B40,Z$2),\"\")","v":1},{"$f":"IF(ISNUMBER(INDEX(iWeights!$H$5:$L$43,$B40,AA$2)),INDEX(iWeights!$H$5:$L$43,$B40,AA$2),\"\")","v":1},1,1,1,1,1,1,1,1,1,1,1,1,1,1,1,1,1,1,1,1,null,{"$f":"Weights2!G42","v":1},{"$f":"Weights2!K42","v":1},{"$f":"Weights2!O42","v":1},{"$f":"Weights2!S42","v":1},null,4,0,null,{"$f":"Weights2!G42","v":1},{"$f":"Weights2!K42","v":1},{"$f":"Weights2!O42","v":1},{"$f":"Weights2!S42","v":1},null,{"$f":"iWeights!H40","v":1},{"$f":"iWeights!I40","v":1},{"$f":"iWeights!J40","v":1},{"$f":"iWeights!K40","v":1},{"$f":"iWeights!L40","v":1}]
[null,37,{"$f":"tblIndiSets!A58","v":"EP_20_2"},{"$f":"tblIndiSets!B58","v":15},3,{"$f":"tblIndiSets!C58","v":"      1.20.2)    Logistics performance"},"      1.20.2)    Logistics performance",{"$f":"IF(ISNUMBER(INDEX(iWeights!$H$5:$L$43,$B41,H$2)),INDEX(iWeights!$H$5:$L$43,$B41,H$2),\"\")","v":1},{"$f":"IF(ISNUMBER(INDEX(iWeights!$H$5:$L$43,$B41,I$2)),INDEX(iWeights!$H$5:$L$43,$B41,I$2),\"\")","v":1},{"$f":"IF(ISNUMBER(INDEX(iWeights!$H$5:$L$43,$B41,J$2)),INDEX(iWeights!$H$5:$L$43,$B41,J$2),\"\")","v":1},{"$f":"IF(ISNUMBER(INDEX(iWeights!$H$5:$L$43,$B41,K$2)),INDEX(iWeights!$H$5:$L$43,$B41,K$2),\"\")","v":1},{"$f":"IF(ISNUMBER(INDEX(iWeights!$H$5:$L$43,$B41,L$2)),INDEX(iWeights!$H$5:$L$43,$B41,L$2),\"\")","v":1},{"$f":"IF(ISNUMBER(INDEX(iWeights!$H$5:$L$43,$B41,M$2)),INDEX(iWeights!$H$5:$L$43,$B41,M$2),\"\")","v":1},{"$f":"IF(ISNUMBER(INDEX(iWeights!$H$5:$L$43,$B41,N$2)),INDEX(iWeights!$H$5:$L$43,$B41,N$2),\"\")","v":1},{"$f":"IF(ISNUMBER(INDEX(iWeights!$H$5:$L$43,$B41,O$2)),INDEX(iWeights!$H$5:$L$43,$B41,O$2),\"\")","v":1},{"$f":"IF(ISNUMBER(INDEX(iWeights!$H$5:$L$43,$B41,P$2)),INDEX(iWeights!$H$5:$L$43,$B41,P$2),\"\")","v":1},{"$f":"IF(ISNUMBER(INDEX(iWeights!$H$5:$L$43,$B41,Q$2)),INDEX(iWeights!$H$5:$L$43,$B41,Q$2),\"\")","v":1},{"$f":"IF(ISNUMBER(INDEX(iWeights!$H$5:$L$43,$B41,R$2)),INDEX(iWeights!$H$5:$L$43,$B41,R$2),\"\")","v":1},{"$f":"IF(ISNUMBER(INDEX(iWeights!$H$5:$L$43,$B41,S$2)),INDEX(iWeights!$H$5:$L$43,$B41,S$2),\"\")","v":1},{"$f":"IF(ISNUMBER(INDEX(iWeights!$H$5:$L$43,$B41,T$2)),INDEX(iWeights!$H$5:$L$43,$B41,T$2),\"\")","v":1},{"$f":"IF(ISNUMBER(INDEX(iWeights!$H$5:$L$43,$B41,U$2)),INDEX(iWeights!$H$5:$L$43,$B41,U$2),\"\")","v":1},{"$f":"IF(ISNUMBER(INDEX(iWeights!$H$5:$L$43,$B41,V$2)),INDEX(iWeights!$H$5:$L$43,$B41,V$2),\"\")","v":1},{"$f":"IF(ISNUMBER(INDEX(iWeights!$H$5:$L$43,$B41,W$2)),INDEX(iWeights!$H$5:$L$43,$B41,W$2),\"\")","v":1},{"$f":"IF(ISNUMBER(INDEX(iWeights!$H$5:$L$43,$B41,X$2)),INDEX(iWeights!$H$5:$L$43,$B41,X$2),\"\")","v":1},{"$f":"IF(ISNUMBER(INDEX(iWeights!$H$5:$L$43,$B41,Y$2)),INDEX(iWeights!$H$5:$L$43,$B41,Y$2),\"\")","v":1},{"$f":"IF(ISNUMBER(INDEX(iWeights!$H$5:$L$43,$B41,Z$2)),INDEX(iWeights!$H$5:$L$43,$B41,Z$2),\"\")","v":1},{"$f":"IF(ISNUMBER(INDEX(iWeights!$H$5:$L$43,$B41,AA$2)),INDEX(iWeights!$H$5:$L$43,$B41,AA$2),\"\")","v":1},1,1,1,1,1,1,1,1,1,1,1,1,1,1,1,1,1,1,1,1,null,{"$f":"Weights2!G43","v":1},{"$f":"Weights2!K43","v":1},{"$f":"Weights2!O43","v":1},{"$f":"Weights2!S43","v":1},null,4,0,null,{"$f":"Weights2!G43","v":1},{"$f":"Weights2!K43","v":1},{"$f":"Weights2!O43","v":1},{"$f":"Weights2!S43","v":1},null,{"$f":"iWeights!H41","v":1},{"$f":"iWeights!I41","v":1},{"$f":"iWeights!J41","v":1},{"$f":"iWeights!K41","v":1},{"$f":"iWeights!L41","v":1}]
[null,38,{"$f":"tblIndiSets!A59","v":"EP_20_3"},{"$f":"tblIndiSets!B59","v":16},3,{"$f":"tblIndiSets!C59","v":"      1.20.3)    Corruption"},"      1.20.3)    Corruption",{"$f":"IF(ISNUMBER(INDEX(iWeights!$H$5:$L$43,$B42,H$2)),INDEX(iWeights!$H$5:$L$43,$B42,H$2),\"\")","v":1},{"$f":"IF(ISNUMBER(INDEX(iWeights!$H$5:$L$43,$B42,I$2)),INDEX(iWeights!$H$5:$L$43,$B42,I$2),\"\")","v":1},{"$f":"IF(ISNUMBER(INDEX(iWeights!$H$5:$L$43,$B42,J$2)),INDEX(iWeights!$H$5:$L$43,$B42,J$2),\"\")","v":1},{"$f":"IF(ISNUMBER(INDEX(iWeights!$H$5:$L$43,$B42,K$2)),INDEX(iWeights!$H$5:$L$43,$B42,K$2),\"\")","v":1},{"$f":"IF(ISNUMBER(INDEX(iWeights!$H$5:$L$43,$B42,L$2)),INDEX(iWeights!$H$5:$L$43,$B42,L$2),\"\")","v":1},{"$f":"IF(ISNUMBER(INDEX(iWeights!$H$5:$L$43,$B42,M$2)),INDEX(iWeights!$H$5:$L$43,$B42,M$2),\"\")","v":1},{"$f":"IF(ISNUMBER(INDEX(iWeights!$H$5:$L$43,$B42,N$2)),INDEX(iWeights!$H$5:$L$43,$B42,N$2),\"\")","v":1},{"$f":"IF(ISNUMBER(INDEX(iWeights!$H$5:$L$43,$B42,O$2)),INDEX(iWeights!$H$5:$L$43,$B42,O$2),\"\")","v":1},{"$f":"IF(ISNUMBER(INDEX(iWeights!$H$5:$L$43,$B42,P$2)),INDEX(iWeights!$H$5:$L$43,$B42,P$2),\"\")","v":1},{"$f":"IF(ISNUMBER(INDEX(iWeights!$H$5:$L$43,$B42,Q$2)),INDEX(iWeights!$H$5:$L$43,$B42,Q$2),\"\")","v":1},{"$f":"IF(ISNUMBER(INDEX(iWeights!$H$5:$L$43,$B42,R$2)),INDEX(iWeights!$H$5:$L$43,$B42,R$2),\"\")","v":1},{"$f":"IF(ISNUMBER(INDEX(iWeights!$H$5:$L$43,$B42,S$2)),INDEX(iWeights!$H$5:$L$43,$B42,S$2),\"\")","v":1},{"$f":"IF(ISNUMBER(INDEX(iWeights!$H$5:$L$43,$B42,T$2)),INDEX(iWeights!$H$5:$L$43,$B42,T$2),\"\")","v":1},{"$f":"IF(ISNUMBER(INDEX(iWeights!$H$5:$L$43,$B42,U$2)),INDEX(iWeights!$H$5:$L$43,$B42,U$2),\"\")","v":1},{"$f":"IF(ISNUMBER(INDEX(iWeights!$H$5:$L$43,$B42,V$2)),INDEX(iWeights!$H$5:$L$43,$B42,V$2),\"\")","v":1},{"$f":"IF(ISNUMBER(INDEX(iWeights!$H$5:$L$43,$B42,W$2)),INDEX(iWeights!$H$5:$L$43,$B42,W$2),\"\")","v":1},{"$f":"IF(ISNUMBER(INDEX(iWeights!$H$5:$L$43,$B42,X$2)),INDEX(iWeights!$H$5:$L$43,$B42,X$2),\"\")","v":1},{"$f":"IF(ISNUMBER(INDEX(iWeights!$H$5:$L$43,$B42,Y$2)),INDEX(iWeights!$H$5:$L$43,$B42,Y$2),\"\")","v":1},{"$f":"IF(ISNUMBER(INDEX(iWeights!$H$5:$L$43,$B42,Z$2)),INDEX(iWeights!$H$5:$L$43,$B42,Z$2),\"\")","v":1},{"$f":"IF(ISNUMBER(INDEX(iWeights!$H$5:$L$43,$B42,AA$2)),INDEX(iWeights!$H$5:$L$43,$B42,AA$2),\"\")","v":1},1,1,1,1,1,1,1,1,1,1,1,1,1,1,1,1,1,1,1,1,null,{"$f":"Weights2!G44","v":1},{"$f":"Weights2!K44","v":1},{"$f":"Weights2!O44","v":1},{"$f":"Weights2!S44","v":1},null,4,0,null,{"$f":"Weights2!G44","v":1},{"$f":"Weights2!K44","v":1},{"$f":"Weights2!O44","v":1},{"$f":"Weights2!S44","v":1},null,{"$f":"iWeights!H42","v":1},{"$f":"iWeights!I42","v":1},{"$f":"iWeights!J42","v":1},{"$f":"iWeights!K42","v":1},{"$f":"iWeights!L42","v":1}]
[null,39,{"$f":"tblIndiSets!A60","v":"EP_20_4"},{"$f":"tblIndiSets!B60","v":17},3,{"$f":"tblIndiSets!C60","v":"      1.20.4)    Legal system"},"      1.20.4)    Legal system",{"$f":"IF(ISNUMBER(INDEX(iWeights!$H$5:$L$43,$B43,H$2)),INDEX(iWeights!$H$5:$L$43,$B43,H$2),\"\")","v":1},{"$f":"IF(ISNUMBER(INDEX(iWeights!$H$5:$L$43,$B43,I$2)),INDEX(iWeights!$H$5:$L$43,$B43,I$2),\"\")","v":1},{"$f":"IF(ISNUMBER(INDEX(iWeights!$H$5:$L$43,$B43,J$2)),INDEX(iWeights!$H$5:$L$43,$B43,J$2),\"\")","v":1},{"$f":"IF(ISNUMBER(INDEX(iWeights!$H$5:$L$43,$B43,K$2)),INDEX(iWeights!$H$5:$L$43,$B43,K$2),\"\")","v":1},{"$f":"IF(ISNUMBER(INDEX(iWeights!$H$5:$L$43,$B43,L$2)),INDEX(iWeights!$H$5:$L$43,$B43,L$2),\"\")","v":1},{"$f":"IF(ISNUMBER(INDEX(iWeights!$H$5:$L$43,$B43,M$2)),INDEX(iWeights!$H$5:$L$43,$B43,M$2),\"\")","v":1},{"$f":"IF(ISNUMBER(INDEX(iWeights!$H$5:$L$43,$B43,N$2)),INDEX(iWeights!$H$5:$L$43,$B43,N$2),\"\")","v":1},{"$f":"IF(ISNUMBER(INDEX(iWeights!$H$5:$L$43,$B43,O$2)),INDEX(iWeights!$H$5:$L$43,$B43,O$2),\"\")","v":1},{"$f":"IF(ISNUMBER(INDEX(iWeights!$H$5:$L$43,$B43,P$2)),INDEX(iWeights!$H$5:$L$43,$B43,P$2),\"\")","v":1},{"$f":"IF(ISNUMBER(INDEX(iWeights!$H$5:$L$43,$B43,Q$2)),INDEX(iWeights!$H$5:$L$43,$B43,Q$2),\"\")","v":1},{"$f":"IF(ISNUMBER(INDEX(iWeights!$H$5:$L$43,$B43,R$2)),INDEX(iWeights!$H$5:$L$43,$B43,R$2),\"\")","v":1},{"$f":"IF(ISNUMBER(INDEX(iWeights!$H$5:$L$43,$B43,S$2)),INDEX(iWeights!$H$5:$L$43,$B43,S$2),\"\")","v":1},{"$f":"IF(ISNUMBER(INDEX(iWeights!$H$5:$L$43,$B43,T$2)),INDEX(iWeights!$H$5:$L$43,$B43,T$2),\"\")","v":1},{"$f":"IF(ISNUMBER(INDEX(iWeights!$H$5:$L$43,$B43,U$2)),INDEX(iWeights!$H$5:$L$43,$B43,U$2),\"\")","v":1},{"$f":"IF(ISNUMBER(INDEX(iWeights!$H$5:$L$43,$B43,V$2)),INDEX(iWeights!$H$5:$L$43,$B43,V$2),\"\")","v":1},{"$f":"IF(ISNUMBER(INDEX(iWeights!$H$5:$L$43,$B43,W$2)),INDEX(iWeights!$H$5:$L$43,$B43,W$2),\"\")","v":1},{"$f":"IF(ISNUMBER(INDEX(iWeights!$H$5:$L$43,$B43,X$2)),INDEX(iWeights!$H$5:$L$43,$B43,X$2),\"\")","v":1},{"$f":"IF(ISNUMBER(INDEX(iWeights!$H$5:$L$43,$B43,Y$2)),INDEX(iWeights!$H$5:$L$43,$B43,Y$2),\"\")","v":1},{"$f":"IF(ISNUMBER(INDEX(iWeights!$H$5:$L$43,$B43,Z$2)),INDEX(iWeights!$H$5:$L$43,$B43,Z$2),\"\")","v":1},{"$f":"IF(ISNUMBER(INDEX(iWeights!$H$5:$L$43,$B43,AA$2)),INDEX(iWeights!$H$5:$L$43,$B43,AA$2),\"\")","v":1},1,1,1,1,1,1,1,1,1,1,1,1,1,1,1,1,1,1,1,1,null,{"$f":"Weights2!G45","v":1},{"$f":"Weights2!K45","v":1},{"$f":"Weights2!O45","v":1},{"$f":"Weights2!S45","v":1},null,4,0,null,{"$f":"Weights2!G45","v":1},{"$f":"Weights2!K45","v":1},{"$f":"Weights2!O45","v":1},{"$f":"Weights2!S45","v":1},null,{"$f":"iWeights!H43","v":1},{"$f":"iWeights!I43","v":1},{"$f":"iWeights!J43","v":1},{"$f":"iWeights!K43","v":1},{"$f":"iWeights!L43","v":1}]
[]
[null,null,null,null,null,null,null,null,null,null,null,null,null,null,null,null,null,null,null,null,null,null,null,null,null,null,null,null,null,null,null,null,null,null,null,null,null,null,null,null,null,null,null,null,null,null,null,null,null,null,null,null,null,null,null,"First Occurance",{"$f":"IF(ISNA(MATCH(1,$BJ$45:$BN$45,0)),6,MATCH(1,$BJ$45:$BN$45,0))","v":1},{"$f":"IF(ISNA(MATCH(1,$BJ$46:$BN$46,0)),6,MATCH(1,$BJ$46:$BN$46,0))","v":1},{"$f":"IF(ISNA(MATCH(1,$BJ$47:$BN$47,0)),6,MATCH(1,$BJ$47:$BN$47,0))","v":1},{"$f":"IF(ISNA(MATCH(1,$BJ$48:$BN$48,0)),6,MATCH(1,$BJ$48:$BN$48,0))","v":1},{"$f":"BE1","v":"Compare 1"},{"$f":"IF(AND($BE5=BJ5,$BE6=BJ6,$BE7=BJ7,$BE11=BJ11,$BE12,BJ12,$BE13=BJ13,$BE14=BJ14,$BE15=BJ15,$BE16=BJ16,$BE17=BJ17,$BE18=BJ18,$BE19=BJ19,$BE20=BJ20,$BE21=BJ21,$BE22=BJ22,$BE23=BJ23,$BE24=BJ24,$BE26=BJ26,$BE27=BJ27,$BE28=BJ28,$BE29=BJ29,$BE31=BJ31,$BE32=BJ32,$BE33=BJ33,$BE34=BJ34,$BE35=BJ35,$BE36=BJ36,$BE40=BJ40,$BE41=BJ41,$BE42=BJ42,$BE43=BJ43),1,0)","v":1},{"$f":"IF(AND($BE5=BK5,$BE6=BK6,$BE7=BK7,$BE11=BK11,$BE12,BK12,$BE13=BK13,$BE14=BK14,$BE15=BK15,$BE16=BK16,$BE17=BK17,$BE18=BK18,$BE19=BK19,$BE20=BK20,$BE21=BK21,$BE22=BK22,$BE23=BK23,$BE24=BK24,$BE26=BK26,$BE27=BK27,$BE28=BK28,$BE29=BK29,$BE31=BK31,$BE32=BK32,$BE33=BK33,$BE34=BK34,$BE35=BK35,$BE36=BK36,$BE40=BK40,$BE41=BK41,$BE42=BK42,$BE43=BK43),1,0)","v":0},{"$f":"IF(AND($BE5=BL5,$BE6=BL6,$BE7=BL7,$BE11=BL11,$BE12,BL12,$BE13=BL13,$BE14=BL14,$BE15=BL15,$BE16=BL16,$BE17=BL17,$BE18=BL18,$BE19=BL19,$BE20=BL20,$BE21=BL21,$BE22=BL22,$BE23=BL23,$BE24=BL24,$BE26=BL26,$BE27=BL27,$BE28=BL28,$BE29=BL29,$BE31=BL31,$BE32=BL32,$BE33=BL33,$BE34=BL34,$BE35=BL35,$BE36=BL36,$BE40=BL40,$BE41=BL41,$BE42=BL42,$BE43=BL43),1,0)","v":0},1,1]
["Notice of weight change",null,null,null,null,null,null,null,null,null,null,null,null,null,null,null,null,null,null,null,null,null,null,null,null,null,null,null,null,null,null,null,null,null,null,null,null,null,null,null,null,null,null,null,null,null,null,null,null,null,null,null,null,null,null,null,null,null,null,null,{"$f":"BF1","v":"Compare 2"},{"$f":"IF(AND($BF5=BJ5,$BF6=BJ6,$BF7=BJ7,$BF11=BJ11,$BF12,BJ12,$BF13=BJ13,$BF14=BJ14,$BF15=BJ15,$BF16=BJ16,$BF17=BJ17,$BF18=BJ18,$BF19=BJ19,$BF20=BJ20,$BF21=BJ21,$BF22=BJ22,$BF23=BJ23,$BF24=BJ24,$BF26=BJ26,$BF27=BJ27,$BF28=BJ28,$BF29=BJ29,$BF31=BJ31,$BF32=BJ32,$BF33=BJ33,$BF34=BJ34,$BF35=BJ35,$BF36=BJ36,$BF40=BJ40,$BF41=BJ41,$BF42=BJ42,$BF43=BJ43),1,0)","v":1},{"$f":"IF(AND($BF5=BK5,$BF6=BK6,$BF7=BK7,$BF11=BK11,$BF12,BK12,$BF13=BK13,$BF14=BK14,$BF15=BK15,$BF16=BK16,$BF17=BK17,$BF18=BK18,$BF19=BK19,$BF20=BK20,$BF21=BK21,$BF22=BK22,$BF23=BK23,$BF24=BK24,$BF26=BK26,$BF27=BK27,$BF28=BK28,$BF29=BK29,$BF31=BK31,$BF32=BK32,$BF33=BK33,$BF34=BK34,$BF35=BK35,$BF36=BK36,$BF40=BK40,$BF41=BK41,$BF42=BK42,$BF43=BK43),1,0)","v":0},0,1,1]
[null,null,null,null,null,null,null,null,null,null,null,null,null,null,null,null,null,null,null,null,null,null,null,null,null,null,null,null,null,null,null,null,null,null,null,null,null,null,null,null,null,null,null,null,null,null,null,null,null,null,null,null,null,null,null,null,null,null,null,null,{"$f":"BG1","v":"Compare 3"},{"$f":"IF(AND($BG5=BJ5,$BG6=BJ6,$BG7=BJ7,$BG11=BJ11,$BG12,BJ12,$BG13=BJ13,$BG14=BJ14,$BG15=BJ15,$BG16=BJ16,$BG17=BJ17,$BG18=BJ18,$BG19=BJ19,$BG20=BJ20,$BG21=BJ21,$BG22=BJ22,$BG23=BJ23,$BG24=BJ24,$BG26=BJ26,$BG27=BJ27,$BG28=BJ28,$BG29=BJ29,$BG31=BJ31,$BG32=BJ32,$BG33=BJ33,$BG34=BJ34,$BG35=BJ35,$BG36=BJ36,$BG40=BJ40,$BG41=BJ41,$BG42=BJ42,$BG43=BJ43),1,0)","v":1},{"$f":"IF(AND($BG5=BK5,$BG6=BK6,$BG7=BK7,$BG11=BK11,$BG12,BK12,$BG13=BK13,$BG14=BK14,$BG15=BK15,$BG16=BK16,$BG17=BK17,$BG18=BK18,$BG19=BK19,$BG20=BK20,$BG21=BK21,$BG22=BK22,$BG23=BK23,$BG24=BK24,$BG26=BK26,$BG27=BK27,$BG28=BK28,$BG29=BK29,$BG31=BK31,$BG32=BK32,$BG33=BK33,$BG34=BK34,$BG35=BK35,$BG36=BK36,$BG40=BK40,$BG41=BK41,$BG42=BK42,$BG43=BK43),1,0)","v":0},0,1,1]
[null,null,null,null,null,null,null,null,null,null,null,null,null,null,null,null,null,null,null,null,null,null,null,null,null,null,null,null,null,null,null,null,null,null,null,null,null,null,null,null,null,null,null,null,null,null,null,null,null,null,null,null,null,null,null,null,null,null,null,null,{"$f":"BH1","v":"Compare 4"},{"$f":"IF(AND($BH5=BJ5,$BH6=BJ6,$BH7=BJ7,$BH11=BJ11,$BH12,BJ12,$BH13=BJ13,$BH14=BJ14,$BH15=BJ15,$BH16=BJ16,$BH17=BJ17,$BH18=BJ18,$BH19=BJ19,$BH20=BJ20,$BH21=BJ21,$BH22=BJ22,$BH23=BJ23,$BH24=BJ24,$BH26=BJ26,$BH27=BJ27,$BH28=BJ28,$BH29=BJ29,$BH31=BJ31,$BH32=BJ32,$BH33=BJ33,$BH34=BJ34,$BH35=BJ35,$BH36=BJ36,$BH40=BJ40,$BH41=BJ41,$BH42=BJ42,$BH43=BJ43),1,0)","v":1},{"$f":"IF(AND($BH5=BK5,$BH6=BK6,$BH7=BK7,$BH11=BK11,$BH12,BK12,$BH13=BK13,$BH14=BK14,$BH15=BK15,$BH16=BK16,$BH17=BK17,$BH18=BK18,$BH19=BK19,$BH20=BK20,$BH21=BK21,$BH22=BK22,$BH23=BK23,$BH24=BK24,$BH26=BK26,$BH27=BK27,$BH28=BK28,$BH29=BK29,$BH31=BK31,$BH32=BK32,$BH33=BK33,$BH34=BK34,$BH35=BK35,$BH36=BK36,$BH40=BK40,$BH41=BK41,$BH42=BK42,$BH43=BK43),1,0)","v":0},0,1,1]
["The weightings profile has been changed from it's neutral setting."]

{"sheet":"Weights","index":53,"n_rows":45,"n_cols":10,"rows_kept":45,"cut":false,"hidden":true,"merged":[]}
[]
[]
[null,null,null,null,null,"SELECT WEIGHT PROFILE"]
[]
[]
[null,null,null,null,null,"MAIN CATEGORIES",null,"Weight %"]
[null,null,{"$f":"iWeights!C5","v":"EP"},{"$f":"iWeights!D5","v":2},{"$f":"iWeights!E5","v":1},{"$f":"iWeights!F5","v":"1) ECONOMIC PILLAR"},1.6,{"$f":"INDEX(tblIndicators!BA$2:BA$33,D7)","v":0.53333333333333333},null,{"$f":"REPT(\"|\",H7*50)","v":"||||||||||||||||||||||||||"}]
[null,null,{"$f":"iWeights!C6","v":"SP"},{"$f":"iWeights!D6","v":21},{"$f":"iWeights!E6","v":1},{"$f":"iWeights!F6","v":"2) SOCIAL PILLAR"},0.7,{"$f":"INDEX(tblIndicators!BA$2:BA$33,D8)","v":0.23333333333333331},null,{"$f":"REPT(\"|\",H8*50)","v":"|||||||||||"}]
[null,null,{"$f":"iWeights!C7","v":"ENP"},{"$f":"iWeights!D7","v":26},{"$f":"iWeights!E7","v":1},{"$f":"iWeights!F7","v":"3) ENVIRONMENTAL PILLAR"},0.7,{"$f":"INDEX(tblIndicators!BA$2:BA$33,D9)","v":0.23333333333333331},null,{"$f":"REPT(\"|\",H9*50)","v":"|||||||||||"}]
[]
[null,null,null,null,null,"INDICATORS",null,"Weight %"]
[null,null,{"$f":"iWeights!C10","v":"EP"},{"$f":"iWeights!D10","v":2},{"$f":"iWeights!E10","v":1},{"$f":"iWeights!F10","v":"1) ECONOMIC PILLAR"}]
[null,null,{"$f":"iWeights!C11","v":"EP_10"},{"$f":"iWeights!D11","v":3},{"$f":"iWeights!E11","v":2},{"$f":"iWeights!F11","v":"1.10) Growth in per capita GDP"},1,{"$f":"INDEX(tblIndicators!BA$2:BA$33,D13)","v":7.1428571428571425E-2},null,{"$f":"REPT(\"|\",H13*50)","v":"|||"}]
[null,null,{"$f":"iWeights!C12","v":"EP_11"},{"$f":"iWeights!D12","v":4},{"$f":"iWeights!E12","v":2},{"$f":"iWeights!F12","v":"1.11) Current account liberalisation"},1,{"$f":"INDEX(tblIndicators!BA$2:BA$33,D14)","v":7.1428571428571425E-2},null,{"$f":"REPT(\"|\",H14*50)","v":"|||"}]
[null,null,{"$f":"iWeights!C13","v":"EP_12"},{"$f":"iWeights!D13","v":5},{"$f":"iWeights!E13","v":2},{"$f":"iWeights!F13","v":"1.12) Tariff & non-tariff barriers"},1,{"$f":"INDEX(tblIndicators!BA$2:BA$33,D15)","v":7.1428571428571425E-2},null,"|||"]
[null,null,{"$f":"iWeights!C14","v":"EP_13"},{"$f":"iWeights!D14","v":6},{"$f":"iWeights!E14","v":2},{"$f":"iWeights!F14","v":"1.13) Exchange rate volatility"},1,{"$f":"INDEX(tblIndicators!BA$2:BA$33,D16)","v":7.1428571428571425E-2},null,"|||"]
[null,null,{"$f":"iWeights!C15","v":"EP_14"},{"$f":"iWeights!D15","v":7},{"$f":"iWeights!E15","v":2},{"$f":"iWeights!F15","v":"1.14) Financial sector depth"},1,{"$f":"INDEX(tblIndicators!BA$2:BA$33,D17)","v":7.1428571428571425E-2},null,"|||"]
[null,null,{"$f":"iWeights!C16","v":"EP_15"},{"$f":"iWeights!D16","v":8},{"$f":"iWeights!E16","v":2},{"$f":"iWeights!F16","v":"1.15) Foreign trade and payments risk"},1,{"$f":"INDEX(tblIndicators!BA$2:BA$33,D18)","v":7.1428571428571425E-2},null,"|||"]
[null,null,{"$f":"iWeights!C17","v":"EP_16"},{"$f":"iWeights!D17","v":9},{"$f":"iWeights!E17","v":2},{"$f":"iWeights!F17","v":"1.16) Export market concentration"},1,{"$f":"INDEX(tblIndicators!BA$2:BA$33,D19)","v":7.1428571428571425E-2},null,{"$f":"REPT(\"|\",H19*50)","v":"|||"}]
[null,null,{"$f":"iWeights!C18","v":"EP_17"},{"$f":"iWeights!D18","v":10},{"$f":"iWeights!E18","v":2},{"$f":"iWeights!F18","v":"1.17) Export product concentration"},1,{"$f":"INDEX(tblIndicators!BA$2:BA$33,D20)","v":7.1428571428571425E-2},null,"|||"]
[null,null,{"$f":"iWeights!C19","v":"EP_18"},{"$f":"iWeights!D19","v":11},{"$f":"iWeights!E19","v":2},{"$f":"iWeights!F19","v":"1.18) Foreign Direct Investment"},1,{"$f":"INDEX(tblIndicators!BA$2:BA$33,D21)","v":7.1428571428571425E-2},null,"|||"]
[null,null,{"$f":"iWeights!C20","v":"EP_19"},{"$f":"iWeights!D20","v":12},{"$f":"iWeights!E20","v":2},{"$f":"iWeights!F20","v":"1.19) Gross fixed capital formation"},1,{"$f":"INDEX(tblIndicators!BA$2:BA$33,D22)","v":7.1428571428571425E-2},null,"|||"]
[null,null,{"$f":"iWeights!C21","v":"EP_20"},{"$f":"iWeights!D21","v":13},{"$f":"iWeights!E21","v":2},{"$f":"iWeights!F21","v":"1.20) Trade costs"},1,{"$f":"INDEX(tblIndicators!BA$2:BA$33,D23)","v":7.1428571428571425E-2},null,"|||"]
[null,null,{"$f":"iWeights!C22","v":"EP_21"},{"$f":"iWeights!D22","v":18},{"$f":"iWeights!E22","v":2},{"$f":"iWeights!F22","v":"1.21) Technological innovation"},1,{"$f":"INDEX(tblIndicators!BA$2:BA$33,D24)","v":7.1428571428571425E-2},null,"|||"]
[null,null,{"$f":"iWeights!C23","v":"EP_22"},{"$f":"iWeights!D23","v":19},{"$f":"iWeights!E23","v":2},{"$f":"iWeights!F23","v":"1.22) Technological infrastructure"},1,{"$f":"INDEX(tblIndicators!BA$2:BA$33,D25)","v":7.1428571428571425E-2},null,"|||"]
[null,null,{"$f":"iWeights!C24","v":"EP_23"},{"$f":"iWeights!D24","v":20},{"$f":"iWeights!E24","v":2},{"$f":"iWeights!F24","v":"1.23) Growth in labour force"},1,{"$f":"INDEX(tblIndicators!BA$2:BA$33,D26)","v":7.1428571428571425E-2},null,"|||"]
[null,null,{"$f":"iWeights!C25","v":"SP"},{"$f":"iWeights!D25","v":21},{"$f":"iWeights!E25","v":1},{"$f":"iWeights!F25","v":"2) SOCIAL PILLAR"}]
[null,null,{"$f":"iWeights!C26","v":"SP_10"},{"$f":"iWeights!D26","v":22},{"$f":"iWeights!E26","v":2},{"$f":"iWeights!F26","v":"2.1) Inequality (Gini coefficient)"},1,{"$f":"INDEX(tblIndicators!BA$2:BA$33,D28)","v":0.25},null,"||||||||||||"]
[null,null,{"$f":"iWeights!C27","v":"SP_11"},{"$f":"iWeights!D27","v":23},{"$f":"iWeights!E27","v":2},{"$f":"iWeights!F27","v":"2.2) Educational attainment"},1,{"$f":"INDEX(tblIndicators!BA$2:BA$33,D29)","v":0.25},null,"||||||||||||"]
[null,null,{"$f":"iWeights!C28","v":"SP_12"},{"$f":"iWeights!D28","v":24},{"$f":"iWeights!E28","v":2},{"$f":"iWeights!F28","v":"2.3) Labour standards"},1,{"$f":"INDEX(tblIndicators!BA$2:BA$33,D30)","v":0.25},null,"||||||||||||"]
[null,null,{"$f":"iWeights!C29","v":"SP_13"},{"$f":"iWeights!D29","v":25},{"$f":"iWeights!E29","v":2},{"$f":"iWeights!F29","v":"2.4) Political stability"},1,{"$f":"INDEX(tblIndicators!BA$2:BA$33,D31)","v":0.25},null,"||||||||||||"]
[null,null,{"$f":"iWeights!C30","v":"ENP"},{"$f":"iWeights!D30","v":26},{"$f":"iWeights!E30","v":1},{"$f":"iWeights!F30","v":"3) ENVIRONMENTAL PILLAR"}]
[null,null,{"$f":"iWeights!C31","v":"ENP_10"},{"$f":"iWeights!D31","v":27},{"$f":"iWeights!E31","v":2},{"$f":"iWeights!F31","v":"3.1) Air pollution"},1,{"$f":"INDEX(tblIndicators!BA$2:BA$33,D33)","v":0.16666666666666666},null,"||||||||"]
[null,null,{"$f":"iWeights!C32","v":"ENP_11"},{"$f":"iWeights!D32","v":28},{"$f":"iWeights!E32","v":2},{"$f":"iWeights!F32","v":"3.2) Deforestation"},1,{"$f":"INDEX(tblIndicators!BA$2:BA$33,D34)","v":0.16666666666666666},null,"||||||||"]
[null,null,{"$f":"iWeights!C33","v":"ENP_12"},{"$f":"iWeights!D33","v":29},{"$f":"iWeights!E33","v":2},{"$f":"iWeights!F33","v":"3.3) Water pollution"},1,{"$f":"INDEX(tblIndicators!BA$2:BA$33,D35)","v":0.16666666666666666},null,"||||||||"]
[null,null,{"$f":"iWeights!C34","v":"ENP_13"},{"$f":"iWeights!D34","v":30},{"$f":"iWeights!E34","v":2},{"$f":"iWeights!F34","v":"3.4) Environmental standards in trade"},1,{"$f":"INDEX(tblIndicators!BA$2:BA$33,D36)","v":0.16666666666666666},null,"||||||||"]
[null,null,{"$f":"iWeights!C35","v":"ENP_14"},{"$f":"iWeights!D35","v":31},{"$f":"iWeights!E35","v":2},{"$f":"iWeights!F35","v":"3.5) Carbon emissions in trade"},1,{"$f":"INDEX(tblIndicators!BA$2:BA$33,D37)","v":0.16666666666666666},null,{"$f":"REPT(\"|\",H37*50)","v":"||||||||"}]
[null,null,{"$f":"iWeights!C36","v":"ENP_15"},{"$f":"iWeights!D36","v":32},{"$f":"iWeights!E36","v":2},{"$f":"iWeights!F36","v":"3.6) Share of natural resources in trade"},1,{"$f":"INDEX(tblIndicators!BA$2:BA$33,D38)","v":0.16666666666666666},null,"||||||||"]
[]
[null,null,null,null,null,"SUB-INDICATORS",null,"Weight %"]
[null,null,{"$f":"tblIndiSets!A56","v":"EP_20"},{"$f":"iWeights!D39","v":13},{"$f":"iWeights!E39","v":2},{"$f":"iWeights!F39","v":"    1.20) Trade costs"}]
[null,null,{"$f":"tblIndiSets!A57","v":"EP_20_1"},{"$f":"iWeights!D40","v":14},{"$f":"iWeights!E40","v":3},{"$f":"iWeights!F40","v":"      1.20.1)    Infrastructure"},1,{"$f":"INDEX(tblIndicators!BA$2:BA$33,D42)","v":0.25},null,{"$f":"REPT(\"|\",H42*50)","v":"||||||||||||"}]
[null,null,{"$f":"tblIndiSets!A58","v":"EP_20_2"},{"$f":"iWeights!D41","v":15},{"$f":"iWeights!E41","v":3},{"$f":"iWeights!F41","v":"      1.20.2)    Logistics performance"},1,{"$f":"INDEX(tblIndicators!BA$2:BA$33,D43)","v":0.25},null,{"$f":"REPT(\"|\",H43*50)","v":"||||||||||||"}]
[null,null,{"$f":"tblIndiSets!A59","v":"EP_20_3"},{"$f":"iWeights!D42","v":16},{"$f":"iWeights!E42","v":3},{"$f":"iWeights!F42","v":"      1.20.3)    Corruption"},1,{"$f":"INDEX(tblIndicators!BA$2:BA$33,D44)","v":0.25},null,"||||||||||||"]
[null,null,{"$f":"tblIndiSets!A60","v":"EP_20_4"},{"$f":"iWeights!D43","v":17},{"$f":"iWeights!E43","v":3},{"$f":"iWeights!F43","v":"      1.20.4)    Legal system"},1,{"$f":"INDEX(tblIndicators!BA$2:BA$33,D45)","v":0.25},null,"||||||||||||"]

{"sheet":"iScoresWS2","index":54,"n_rows":39,"n_cols":38,"rows_kept":39,"cut":false,"hidden":true,"merged":[]}
[]
[]
[null,null,null,null,null,null,null,null,null,null,null,null,null,null,null,null,null,null,{"$f":"Data!J3","v":3},{"$f":"Data!K3","v":4},{"$f":"Data!L3","v":5},{"$f":"Data!M3","v":6},{"$f":"Data!N3","v":7},{"$f":"Data!O3","v":8},{"$f":"Data!P3","v":9},{"$f":"Data!Q3","v":10},{"$f":"Data!R3","v":11},{"$f":"Data!S3","v":12},{"$f":"Data!T3","v":13},{"$f":"Data!U3","v":14},{"$f":"Data!V3","v":15},{"$f":"Data!W3","v":16},{"$f":"Data!X3","v":17},{"$f":"Data!Y3","v":18},{"$f":"Data!Z3","v":19},{"$f":"Data!AA3","v":20},{"$f":"Data!AB3","v":21},{"$f":"Data!AC3","v":22}]
[null,{"$f":"tblIndicators!A1","v":"ID"},{"$f":"tblIndicators!B1","v":"IS_BG"},{"$f":"tblIndicators!D1","v":"INDI_CODE"},{"$f":"tblIndicators!E1","v":"PARENT_CODE"},{"$f":"tblIndicators!F1","v":"DEPTH"},{"$f":"tblIndicators!S1","v":"HIGH_IS"},{"$f":"tblIndicators!T1","v":"NORM_ID (1=sumproduct, 2=min max set by data values, 3=min max set by user here)"},{"$f":"tblIndicators!U1","v":"Set Min"},{"$f":"tblIndicators!V1","v":"Set Max"},"MIN","MAX","RANGE","Indicators","Weight",null,null,null,{"$f":"Data!J4","v":"Bangladesh"},{"$f":"Data!K4","v":"Brunei"},{"$f":"Data!L4","v":"Cambodia"},{"$f":"Data!M4","v":"China"},{"$f":"Data!N4","v":"Hong Kong"},{"$f":"Data!O4","v":"India"},{"$f":"Data!P4","v":"Indonesia"},{"$f":"Data!Q4","v":"Japan"},{"$f":"Data!R4","v":"Laos"},{"$f":"Data!S4","v":"Malaysia"},{"$f":"Data!T4","v":"Myanmar"},{"$f":"Data!U4","v":"Pakistan"},{"$f":"Data!V4","v":"Philippines"},{"$f":"Data!W4","v":"Singapore"},{"$f":"Data!X4","v":"South Korea"},{"$f":"Data!Y4","v":"Sri Lanka"},{"$f":"Data!Z4","v":"Taiwan"},{"$f":"Data!AA4","v":"Thailand"},{"$f":"Data!AB4","v":"Vietnam"},{"$f":"Data!AC4","v":"USA"}]
[null,{"$f":"tblIndicators!A2","v":1},{"$f":"tblIndicators!B2","v":0},{"$f":"tblIndicators!D2","v":"TOTAL"},{"$f":"tblIndicators!E2","v":"OVERALL SCORE"},{"$f":"tblIndicators!F2","v":0},{"$f":"tblIndicators!S2","v":""},{"$f":"tblIndicators!T2","v":1},{"$f":"tblIndicators!U2","v":0},{"$f":"tblIndicators!V2","v":0},{"$f":"CHOOSE(H5,\"-\",MIN(Data!J5:AC5),I5)","v":"-"},{"$f":"CHOOSE(H5,\"-\",MAX(Data!J5:AC5),J5)","v":"-"},{"$f":"CHOOSE(H5,\"-\",L5-K5,L5-K5)","v":"-"},{"$f":"tblIndicators!Y2","v":"OVERALL SCORE"},null,null,null,null,{"$f":"IF($H5=0,0,CHOOSE($H5,SUMPRODUCT(CHOOSE(S$39,$O6:$O$36,$P6:$P$36,$Q6:$Q$36,$R6:$R$36)*S6:S$36*($E6:$E$36=$D5)),IF(ISNUMBER(Data!J5),100*ABS($G5-(Data!J5-$K5)/$M5),0),IF(ISNUMBER(Data!J5),100*ABS($G5-(Data!J5-$K5)/$M5),0)))","v":46.166598218470853},{"$f":"IF($H5=0,0,CHOOSE($H5,SUMPRODUCT(CHOOSE(T$39,$O6:$O$36,$P6:$P$36,$Q6:$Q$36,$R6:$R$36)*T6:T$36*($E6:$E$36=$D5)),IF(ISNUMBER(Data!K5),100*ABS($G5-(Data!K5-$K5)/$M5),0),IF(ISNUMBER(Data!K5),100*ABS($G5-(Data!K5-$K5)/$M5),0)))","v":54.246322414278552},{"$f":"IF($H5=0,0,CHOOSE($H5,SUMPRODUCT(CHOOSE(U$39,$O6:$O$36,$P6:$P$36,$Q6:$Q$36,$R6:$R$36)*U6:U$36*($E6:$E$36=$D5)),IF(ISNUMBER(Data!L5),100*ABS($G5-(Data!L5-$K5)/$M5),0),IF(ISNUMBER(Data!L5),100*ABS($G5-(Data!L5-$K5)/$M5),0)))","v":45.979127759726452},{"$f":"IF($H5=0,0,CHOOSE($H5,SUMPRODUCT(CHOOSE(V$39,$O6:$O$36,$P6:$P$36,$Q6:$Q$36,$R6:$R$36)*V6:V$36*($E6:$E$36=$D5)),IF(ISNUMBER(Data!M5),100*ABS($G5-(Data!M5-$K5)/$M5),0),IF(ISNUMBER(Data!M5),100*ABS($G5-(Data!M5-$K5)/$M5),0)))","v":52.555121921982717},{"$f":"IF($H5=0,0,CHOOSE($H5,SUMPRODUCT(CHOOSE(W$39,$O6:$O$36,$P6:$P$36,$Q6:$Q$36,$R6:$R$36)*W6:W$36*($E6:$E$36=$D5)),IF(ISNUMBER(Data!N5),100*ABS($G5-(Data!N5-$K5)/$M5),0),IF(ISNUMBER(Data!N5),100*ABS($G5-(Data!N5-$K5)/$M5),0)))","v":73.581391302193282},{"$f":"IF($H5=0,0,CHOOSE($H5,SUMPRODUCT(CHOOSE(X$39,$O6:$O$36,$P6:$P$36,$Q6:$Q$36,$R6:$R$36)*X6:X$36*($E6:$E$36=$D5)),IF(ISNUMBER(Data!O5),100*ABS($G5-(Data!O5-$K5)/$M5),0),IF(ISNUMBER(Data!O5),100*ABS($G5-(Data!O5-$K5)/$M5),0)))","v":50.513142431352108},{"$f":"IF($H5=0,0,CHOOSE($H5,SUMPRODUCT(CHOOSE(Y$39,$O6:$O$36,$P6:$P$36,$Q6:$Q$36,$R6:$R$36)*Y6:Y$36*($E6:$E$36=$D5)),IF(ISNUMBER(Data!P5),100*ABS($G5-(Data!P5-$K5)/$M5),0),IF(ISNUMBER(Data!P5),100*ABS($G5-(Data!P5-$K5)/$M5),0)))","v":53.249074019796794},{"$f":"IF($H5=0,0,CHOOSE($H5,SUMPRODUCT(CHOOSE(Z$39,$O6:$O$36,$P6:$P$36,$Q6:$Q$36,$R6:$R$36)*Z6:Z$36*($E6:$E$36=$D5)),IF(ISNUMBER(Data!Q5),100*ABS($G5-(Data!Q5-$K5)/$M5),0),IF(ISNUMBER(Data!Q5),100*ABS($G5-(Data!Q5-$K5)/$M5),0)))","v":78.504106072353721},{"$f":"IF($H5=0,0,CHOOSE($H5,SUMPRODUCT(CHOOSE(AA$39,$O6:$O$36,$P6:$P$36,$Q6:$Q$36,$R6:$R$36)*AA6:AA$36*($E6:$E$36=$D5)),IF(ISNUMBER(Data!R5),100*ABS($G5-(Data!R5-$K5)/$M5),0),IF(ISNUMBER(Data!R5),100*ABS($G5-(Data!R5-$K5)/$M5),0)))","v":46.548251804934679},{"$f":"IF($H5=0,0,CHOOSE($H5,SUMPRODUCT(CHOOSE(AB$39,$O6:$O$36,$P6:$P$36,$Q6:$Q$36,$R6:$R$36)*AB6:AB$36*($E6:$E$36=$D5)),IF(ISNUMBER(Data!S5),100*ABS($G5-(Data!S5-$K5)/$M5),0),IF(ISNUMBER(Data!S5),100*ABS($G5-(Data!S5-$K5)/$M5),0)))","v":59.052006624154828},{"$f":"IF($H5=0,0,CHOOSE($H5,SUMPRODUCT(CHOOSE(AC$39,$O6:$O$36,$P6:$P$36,$Q6:$Q$36,$R6:$R$36)*AC6:AC$36*($E6:$E$36=$D5)),IF(ISNUMBER(Data!T5),100*ABS($G5-(Data!T5-$K5)/$M5),0),IF(ISNUMBER(Data!T5),100*ABS($G5-(Data!T5-$K5)/$M5),0)))","v":34.478046643118262},{"$f":"IF($H5=0,0,CHOOSE($H5,SUMPRODUCT(CHOOSE(AD$39,$O6:$O$36,$P6:$P$36,$Q6:$Q$36,$R6:$R$36)*AD6:AD$36*($E6:$E$36=$D5)),IF(ISNUMBER(Data!U5),100*ABS($G5-(Data!U5-$K5)/$M5),0),IF(ISNUMBER(Data!U5),100*ABS($G5-(Data!U5-$K5)/$M5),0)))","v":41.150317655403903},{"$f":"IF($H5=0,0,CHOOSE($H5,SUMPRODUCT(CHOOSE(AE$39,$O6:$O$36,$P6:$P$36,$Q6:$Q$36,$R6:$R$36)*AE6:AE$36*($E6:$E$36=$D5)),IF(ISNUMBER(Data!V5),100*ABS($G5-(Data!V5-$K5)/$M5),0),IF(ISNUMBER(Data!V5),100*ABS($G5-(Data!V5-$K5)/$M5),0)))","v":55.362436079937282},{"$f":"IF($H5=0,0,CHOOSE($H5,SUMPRODUCT(CHOOSE(AF$39,$O6:$O$36,$P6:$P$36,$Q6:$Q$36,$R6:$R$36)*AF6:AF$36*($E6:$E$36=$D5)),IF(ISNUMBER(Data!W5),100*ABS($G5-(Data!W5-$K5)/$M5),0),IF(ISNUMBER(Data!W5),100*ABS($G5-(Data!W5-$K5)/$M5),0)))","v":80.957736329497919},{"$f":"IF($H5=0,0,CHOOSE($H5,SUMPRODUCT(CHOOSE(AG$39,$O6:$O$36,$P6:$P$36,$Q6:$Q$36,$R6:$R$36)*AG6:AG$36*($E6:$E$36=$D5)),IF(ISNUMBER(Data!X5),100*ABS($G5-(Data!X5-$K5)/$M5),0),IF(ISNUMBER(Data!X5),100*ABS($G5-(Data!X5-$K5)/$M5),0)))","v":80.037071378992835},{"$f":"IF($H5=0,0,CHOOSE($H5,SUMPRODUCT(CHOOSE(AH$39,$O6:$O$36,$P6:$P$36,$Q6:$Q$36,$R6:$R$36)*AH6:AH$36*($E6:$E$36=$D5)),IF(ISNUMBER(Data!Y5),100*ABS($G5-(Data!Y5-$K5)/$M5),0),IF(ISNUMBER(Data!Y5),100*ABS($G5-(Data!Y5-$K5)/$M5),0)))","v":58.172440791960966},{"$f":"IF($H5=0,0,CHOOSE($H5,SUMPRODUCT(CHOOSE(AI$39,$O6:$O$36,$P6:$P$36,$Q6:$Q$36,$R6:$R$36)*AI6:AI$36*($E6:$E$36=$D5)),IF(ISNUMBER(Data!Z5),100*ABS($G5-(Data!Z5-$K5)/$M5),0),IF(ISNUMBER(Data!Z5),100*ABS($G5-(Data!Z5-$K5)/$M5),0)))","v":69.366128353953144},{"$f":"IF($H5=0,0,CHOOSE($H5,SUMPRODUCT(CHOOSE(AJ$39,$O6:$O$36,$P6:$P$36,$Q6:$Q$36,$R6:$R$36)*AJ6:AJ$36*($E6:$E$36=$D5)),IF(ISNUMBER(Data!AA5),100*ABS($G5-(Data!AA5-$K5)/$M5),0),IF(ISNUMBER(Data!AA5),100*ABS($G5-(Data!AA5-$K5)/$M5),0)))","v":53.326689694585518},{"$f":"IF($H5=0,0,CHOOSE($H5,SUMPRODUCT(CHOOSE(AK$39,$O6:$O$36,$P6:$P$36,$Q6:$Q$36,$R6:$R$36)*AK6:AK$36*($E6:$E$36=$D5)),IF(ISNUMBER(Data!AB5),100*ABS($G5-(Data!AB5-$K5)/$M5),0),IF(ISNUMBER(Data!AB5),100*ABS($G5-(Data!AB5-$K5)/$M5),0)))","v":57.573308478148704},{"$f":"IF($H5=0,0,CHOOSE($H5,SUMPRODUCT(CHOOSE(AL$39,$O6:$O$36,$P6:$P$36,$Q6:$Q$36,$R6:$R$36)*AL6:AL$36*($E6:$E$36=$D5)),IF(ISNUMBER(Data!AC5),100*ABS($G5-(Data!AC5-$K5)/$M5),0),IF(ISNUMBER(Data!AC5),100*ABS($G5-(Data!AC5-$K5)/$M5),0)))","v":76.36256529664476}]
[null,{"$f":"tblIndicators!A3","v":2},{"$f":"tblIndicators!B3","v":0},{"$f":"tblIndicators!D3","v":"EP"},{"$f":"tblIndicators!E3","v":"TOTAL"},{"$f":"tblIndicators!F3","v":1},{"$f":"tblIndicators!S3","v":""},{"$f":"tblIndicators!T3","v":1},{"$f":"tblIndicators!U3","v":0},{"$f":"tblIndicators!V3","v":0},{"$f":"CHOOSE(H6,\"-\",MIN(Data!J6:AC6),I6)","v":"-"},{"$f":"CHOOSE(H6,\"-\",MAX(Data!J6:AC6),J6)","v":"-"},{"$f":"CHOOSE(H6,\"-\",L6-K6,L6-K6)","v":"-"},{"$f":"tblIndicators!Y3","v":"1) ECONOMIC PILLAR"},{"$f":"tblIndicators!AO3","v":0.33333333333333331},{"$f":"tblIndicators!AR3","v":0.39999999999999997},{"$f":"tblIndicators!AU3","v":0.5},{"$f":"tblIndicators!AX3","v":0.6},{"$f":"IF($H6=0,0,CHOOSE($H6,SUMPRODUCT(CHOOSE(S$39,$O7:$O$36,$P7:$P$36,$Q7:$Q$36,$R7:$R$36)*S7:S$36*($E7:$E$36=$D6)),IF(ISNUMBER(Data!J6),100*ABS($G6-(Data!J6-$K6)/$M6),0),IF(ISNUMBER(Data!J6),100*ABS($G6-(Data!J6-$K6)/$M6),0)))","v":50.444107595168688},{"$f":"IF($H6=0,0,CHOOSE($H6,SUMPRODUCT(CHOOSE(T$39,$O7:$O$36,$P7:$P$36,$Q7:$Q$36,$R7:$R$36)*T7:T$36*($E7:$E$36=$D6)),IF(ISNUMBER(Data!K6),100*ABS($G6-(Data!K6-$K6)/$M6),0),IF(ISNUMBER(Data!K6),100*ABS($G6-(Data!K6-$K6)/$M6),0)))","v":38.510199959455313},{"$f":"IF($H6=0,0,CHOOSE($H6,SUMPRODUCT(CHOOSE(U$39,$O7:$O$36,$P7:$P$36,$Q7:$Q$36,$R7:$R$36)*U7:U$36*($E7:$E$36=$D6)),IF(ISNUMBER(Data!L6),100*ABS($G6-(Data!L6-$K6)/$M6),0),IF(ISNUMBER(Data!L6),100*ABS($G6-(Data!L6-$K6)/$M6),0)))","v":48.223068433764112},{"$f":"IF($H6=0,0,CHOOSE($H6,SUMPRODUCT(CHOOSE(V$39,$O7:$O$36,$P7:$P$36,$Q7:$Q$36,$R7:$R$36)*V7:V$36*($E7:$E$36=$D6)),IF(ISNUMBER(Data!M6),100*ABS($G6-(Data!M6-$K6)/$M6),0),IF(ISNUMBER(Data!M6),100*ABS($G6-(Data!M6-$K6)/$M6),0)))","v":64.245896450811856},{"$f":"IF($H6=0,0,CHOOSE($H6,SUMPRODUCT(CHOOSE(W$39,$O7:$O$36,$P7:$P$36,$Q7:$Q$36,$R7:$R$36)*W7:W$36*($E7:$E$36=$D6)),IF(ISNUMBER(Data!N6),100*ABS($G6-(Data!N6-$K6)/$M6),0),IF(ISNUMBER(Data!N6),100*ABS($G6-(Data!N6-$K6)/$M6),0)))","v":70.872130144939433},{"$f":"IF($H6=0,0,CHOOSE($H6,SUMPRODUCT(CHOOSE(X$39,$O7:$O$36,$P7:$P$36,$Q7:$Q$36,$R7:$R$36)*X7:X$36*($E7:$E$36=$D6)),IF(ISNUMBER(Data!O6),100*ABS($G6-(Data!O6-$K6)/$M6),0),IF(ISNUMBER(Data!O6),100*ABS($G6-(Data!O6-$K6)/$M6),0)))","v":56.003674722210675},{"$f":"IF($H6=0,0,CHOOSE($H6,SUMPRODUCT(CHOOSE(Y$39,$O7:$O$36,$P7:$P$36,$Q7:$Q$36,$R7:$R$36)*Y7:Y$36*($E7:$E$36=$D6)),IF(ISNUMBER(Data!P6),100*ABS($G6-(Data!P6-$K6)/$M6),0),IF(ISNUMBER(Data!P6),100*ABS($G6-(Data!P6-$K6)/$M6),0)))","v":63.138436026739541},{"$f":"IF($H6=0,0,CHOOSE($H6,SUMPRODUCT(CHOOSE(Z$39,$O7:$O$36,$P7:$P$36,$Q7:$Q$36,$R7:$R$36)*Z7:Z$36*($E7:$E$36=$D6)),IF(ISNUMBER(Data!Q6),100*ABS($G6-(Data!Q6-$K6)/$M6),0),IF(ISNUMBER(Data!Q6),100*ABS($G6-(Data!Q6-$K6)/$M6),0)))","v":64.797603072280296},{"$f":"IF($H6=0,0,CHOOSE($H6,SUMPRODUCT(CHOOSE(AA$39,$O7:$O$36,$P7:$P$36,$Q7:$Q$36,$R7:$R$36)*AA7:AA$36*($E7:$E$36=$D6)),IF(ISNUMBER(Data!R6),100*ABS($G6-(Data!R6-$K6)/$M6),0),IF(ISNUMBER(Data!R6),100*ABS($G6-(Data!R6-$K6)/$M6),0)))","v":49.678475880070629},{"$f":"IF($H6=0,0,CHOOSE($H6,SUMPRODUCT(CHOOSE(AB$39,$O7:$O$36,$P7:$P$36,$Q7:$Q$36,$R7:$R$36)*AB7:AB$36*($E7:$E$36=$D6)),IF(ISNUMBER(Data!S6),100*ABS($G6-(Data!S6-$K6)/$M6),0),IF(ISNUMBER(Data!S6),100*ABS($G6-(Data!S6-$K6)/$M6),0)))","v":64.823936668698821},{"$f":"IF($H6=0,0,CHOOSE($H6,SUMPRODUCT(CHOOSE(AC$39,$O7:$O$36,$P7:$P$36,$Q7:$Q$36,$R7:$R$36)*AC7:AC$36*($E7:$E$36=$D6)),IF(ISNUMBER(Data!T6),100*ABS($G6-(Data!T6-$K6)/$M6),0),IF(ISNUMBER(Data!T6),100*ABS($G6-(Data!T6-$K6)/$M6),0)))","v":35.133084629486824},{"$f":"IF($H6=0,0,CHOOSE($H6,SUMPRODUCT(CHOOSE(AD$39,$O7:$O$36,$P7:$P$36,$Q7:$Q$36,$R7:$R$36)*AD7:AD$36*($E7:$E$36=$D6)),IF(ISNUMBER(Data!U6),100*ABS($G6-(Data!U6-$K6)/$M6),0),IF(ISNUMBER(Data!U6),100*ABS($G6-(Data!U6-$K6)/$M6),0)))","v":42.399555826534055},{"$f":"IF($H6=0,0,CHOOSE($H6,SUMPRODUCT(CHOOSE(AE$39,$O7:$O$36,$P7:$P$36,$Q7:$Q$36,$R7:$R$36)*AE7:AE$36*($E7:$E$36=$D6)),IF(ISNUMBER(Data!V6),100*ABS($G6-(Data!V6-$K6)/$M6),0),IF(ISNUMBER(Data!V6),100*ABS($G6-(Data!V6-$K6)/$M6),0)))","v":68.373425354226782},{"$f":"IF($H6=0,0,CHOOSE($H6,SUMPRODUCT(CHOOSE(AF$39,$O7:$O$36,$P7:$P$36,$Q7:$Q$36,$R7:$R$36)*AF7:AF$36*($E7:$E$36=$D6)),IF(ISNUMBER(Data!W6),100*ABS($G6-(Data!W6-$K6)/$M6),0),IF(ISNUMBER(Data!W6),100*ABS($G6-(Data!W6-$K6)/$M6),0)))","v":76.456543365773413},{"$f":"IF($H6=0,0,CHOOSE($H6,SUMPRODUCT(CHOOSE(AG$39,$O7:$O$36,$P7:$P$36,$Q7:$Q$36,$R7:$R$36)*AG7:AG$36*($E7:$E$36=$D6)),IF(ISNUMBER(Data!X6),100*ABS($G6-(Data!X6-$K6)/$M6),0),IF(ISNUMBER(Data!X6),100*ABS($G6-(Data!X6-$K6)/$M6),0)))","v":68.26169504504989},{"$f":"IF($H6=0,0,CHOOSE($H6,SUMPRODUCT(CHOOSE(AH$39,$O7:$O$36,$P7:$P$36,$Q7:$Q$36,$R7:$R$36)*AH7:AH$36*($E7:$E$36=$D6)),IF(ISNUMBER(Data!Y6),100*ABS($G6-(Data!Y6-$K6)/$M6),0),IF(ISNUMBER(Data!Y6),100*ABS($G6-(Data!Y6-$K6)/$M6),0)))","v":65.357957739520273},{"$f":"IF($H6=0,0,CHOOSE($H6,SUMPRODUCT(CHOOSE(AI$39,$O7:$O$36,$P7:$P$36,$Q7:$Q$36,$R7:$R$36)*AI7:AI$36*($E7:$E$36=$D6)),IF(ISNUMBER(Data!Z6),100*ABS($G6-(Data!Z6-$K6)/$M6),0),IF(ISNUMBER(Data!Z6),100*ABS($G6-(Data!Z6-$K6)/$M6),0)))","v":67.222409259592553},{"$f":"IF($H6=0,0,CHOOSE($H6,SUMPRODUCT(CHOOSE(AJ$39,$O7:$O$36,$P7:$P$36,$Q7:$Q$36,$R7:$R$36)*AJ7:AJ$36*($E7:$E$36=$D6)),IF(ISNUMBER(Data!AA6),100*ABS($G6-(Data!AA6-$K6)/$M6),0),IF(ISNUMBER(Data!AA6),100*ABS($G6-(Data!AA6-$K6)/$M6),0)))","v":55.036188707961571},{"$f":"IF($H6=0,0,CHOOSE($H6,SUMPRODUCT(CHOOSE(AK$39,$O7:$O$36,$P7:$P$36,$Q7:$Q$36,$R7:$R$36)*AK7:AK$36*($E7:$E$36=$D6)),IF(ISNUMBER(Data!AB6),100*ABS($G6-(Data!AB6-$K6)/$M6),0),IF(ISNUMBER(Data!AB6),100*ABS($G6-(Data!AB6-$K6)/$M6),0)))","v":64.063781856785795},{"$f":"IF($H6=0,0,CHOOSE($H6,SUMPRODUCT(CHOOSE(AL$39,$O7:$O$36,$P7:$P$36,$Q7:$Q$36,$R7:$R$36)*AL7:AL$36*($E7:$E$36=$D6)),IF(ISNUMBER(Data!AC6),100*ABS($G6-(Data!AC6-$K6)/$M6),0),IF(ISNUMBER(Data!AC6),100*ABS($G6-(Data!AC6-$K6)/$M6),0)))","v":66.071882248638843}]
[null,{"$f":"tblIndicators!A4","v":3},{"$f":"tblIndicators!B4","v":0},{"$f":"tblIndicators!D4","v":"EP_10"},{"$f":"tblIndicators!E4","v":"EP"},{"$f":"tblIndicators!F4","v":2},{"$f":"tblIndicators!S4","v":0},{"$f":"tblIndicators!T4","v":2},{"$f":"tblIndicators!U4","v":0},{"$f":"tblIndicators!V4","v":0},{"$f":"CHOOSE(H7,\"-\",MIN(Data!J7:AC7),I7)","v":-1.63},{"$f":"CHOOSE(H7,\"-\",MAX(Data!J7:AC7),J7)","v":8},{"$f":"CHOOSE(H7,\"-\",L7-K7,L7-K7)","v":9.629999999999999},{"$f":"tblIndicators!Y4","v":"1.10) Growth in per capita GDP"},{"$f":"tblIndicators!AO4","v":7.1428571428571425E-2},{"$f":"tblIndicators!AR4","v":7.1428571428571425E-2},{"$f":"tblIndicators!AU4","v":4.1666666666666664E-2},{"$f":"tblIndicators!AX4","v":7.1428571428571425E-2},{"$f":"IF($H7=0,0,CHOOSE($H7,SUMPRODUCT(CHOOSE(S$39,$O8:$O$36,$P8:$P$36,$Q8:$Q$36,$R8:$R$36)*S8:S$36*($E8:$E$36=$D7)),IF(ISNUMBER(Data!J7),100*ABS($G7-(Data!J7-$K7)/$M7),0),IF(ISNUMBER(Data!J7),100*ABS($G7-(Data!J7-$K7)/$M7),0)))","v":67.70508826583594},{"$f":"IF($H7=0,0,CHOOSE($H7,SUMPRODUCT(CHOOSE(T$39,$O8:$O$36,$P8:$P$36,$Q8:$Q$36,$R8:$R$36)*T8:T$36*($E8:$E$36=$D7)),IF(ISNUMBER(Data!K7),100*ABS($G7-(Data!K7-$K7)/$M7),0),IF(ISNUMBER(Data!K7),100*ABS($G7-(Data!K7-$K7)/$M7),0)))","v":0},{"$f":"IF($H7=0,0,CHOOSE($H7,SUMPRODUCT(CHOOSE(U$39,$O8:$O$36,$P8:$P$36,$Q8:$Q$36,$R8:$R$36)*U8:U$36*($E8:$E$36=$D7)),IF(ISNUMBER(Data!L7),100*ABS($G7-(Data!L7-$K7)/$M7),0),IF(ISNUMBER(Data!L7),100*ABS($G7-(Data!L7-$K7)/$M7),0)))","v":69.989615784008322},{"$f":"IF($H7=0,0,CHOOSE($H7,SUMPRODUCT(CHOOSE(V$39,$O8:$O$36,$P8:$P$36,$Q8:$Q$36,$R8:$R$36)*V8:V$36*($E8:$E$36=$D7)),IF(ISNUMBER(Data!M7),100*ABS($G7-(Data!M7-$K7)/$M7),0),IF(ISNUMBER(Data!M7),100*ABS($G7-(Data!M7-$K7)/$M7),0)))","v":100},{"$f":"IF($H7=0,0,CHOOSE($H7,SUMPRODUCT(CHOOSE(W$39,$O8:$O$36,$P8:$P$36,$Q8:$Q$36,$R8:$R$36)*W8:W$36*($E8:$E$36=$D7)),IF(ISNUMBER(Data!N7),100*ABS($G7-(Data!N7-$K7)/$M7),0),IF(ISNUMBER(Data!N7),100*ABS($G7-(Data!N7-$K7)/$M7),0)))","v":48.494288681204573},{"$f":"IF($H7=0,0,CHOOSE($H7,SUMPRODUCT(CHOOSE(X$39,$O8:$O$36,$P8:$P$36,$Q8:$Q$36,$R8:$R$36)*X8:X$36*($E8:$E$36=$D7)),IF(ISNUMBER(Data!O7),100*ABS($G7-(Data!O7-$K7)/$M7),0),IF(ISNUMBER(Data!O7),100*ABS($G7-(Data!O7-$K7)/$M7),0)))","v":70.404984423676012},{"$f":"IF($H7=0,0,CHOOSE($H7,SUMPRODUCT(CHOOSE(Y$39,$O8:$O$36,$P8:$P$36,$Q8:$Q$36,$R8:$R$36)*Y8:Y$36*($E8:$E$36=$D7)),IF(ISNUMBER(Data!P7),100*ABS($G7-(Data!P7-$K7)/$M7),0),IF(ISNUMBER(Data!P7),100*ABS($G7-(Data!P7-$K7)/$M7),0)))","v":66.043613707165122},{"$f":"IF($H7=0,0,CHOOSE($H7,SUMPRODUCT(CHOOSE(Z$39,$O8:$O$36,$P8:$P$36,$Q8:$Q$36,$R8:$R$36)*Z8:Z$36*($E8:$E$36=$D7)),IF(ISNUMBER(Data!Q7),100*ABS($G7-(Data!Q7-$K7)/$M7),0),IF(ISNUMBER(Data!Q7),100*ABS($G7-(Data!Q7-$K7)/$M7),0)))","v":33.437175493250258},{"$f":"IF($H7=0,0,CHOOSE($H7,SUMPRODUCT(CHOOSE(AA$39,$O8:$O$36,$P8:$P$36,$Q8:$Q$36,$R8:$R$36)*AA8:AA$36*($E8:$E$36=$D7)),IF(ISNUMBER(Data!R7),100*ABS($G7-(Data!R7-$K7)/$M7),0),IF(ISNUMBER(Data!R7),100*ABS($G7-(Data!R7-$K7)/$M7),0)))","v":79.646936656282463},{"$f":"IF($H7=0,0,CHOOSE($H7,SUMPRODUCT(CHOOSE(AB$39,$O8:$O$36,$P8:$P$36,$Q8:$Q$36,$R8:$R$36)*AB8:AB$36*($E8:$E$36=$D7)),IF(ISNUMBER(Data!S7),100*ABS($G7-(Data!S7-$K7)/$M7),0),IF(ISNUMBER(Data!S7),100*ABS($G7-(Data!S7-$K7)/$M7),0)))","v":58.878504672897201},{"$f":"IF($H7=0,0,CHOOSE($H7,SUMPRODUCT(CHOOSE(AC$39,$O8:$O$36,$P8:$P$36,$Q8:$Q$36,$R8:$R$36)*AC8:AC$36*($E8:$E$36=$D7)),IF(ISNUMBER(Data!T7),100*ABS($G7-(Data!T7-$K7)/$M7),0),IF(ISNUMBER(Data!T7),100*ABS($G7-(Data!T7-$K7)/$M7),0)))","v":62.201453790238844},{"$f":"IF($H7=0,0,CHOOSE($H7,SUMPRODUCT(CHOOSE(AD$39,$O8:$O$36,$P8:$P$36,$Q8:$Q$36,$R8:$R$36)*AD8:AD$36*($E8:$E$36=$D7)),IF(ISNUMBER(Data!U7),100*ABS($G7-(Data!U7-$K7)/$M7),0),IF(ISNUMBER(Data!U7),100*ABS($G7-(Data!U7-$K7)/$M7),0)))","v":34.060228452751822},{"$f":"IF($H7=0,0,CHOOSE($H7,SUMPRODUCT(CHOOSE(AE$39,$O8:$O$36,$P8:$P$36,$Q8:$Q$36,$R8:$R$36)*AE8:AE$36*($E8:$E$36=$D7)),IF(ISNUMBER(Data!V7),100*ABS($G7-(Data!V7-$K7)/$M7),0),IF(ISNUMBER(Data!V7),100*ABS($G7-(Data!V7-$K7)/$M7),0)))","v":62.824506749740394},{"$f":"IF($H7=0,0,CHOOSE($H7,SUMPRODUCT(CHOOSE(AF$39,$O8:$O$36,$P8:$P$36,$Q8:$Q$36,$R8:$R$36)*AF8:AF$36*($E8:$E$36=$D7)),IF(ISNUMBER(Data!W7),100*ABS($G7-(Data!W7-$K7)/$M7),0),IF(ISNUMBER(Data!W7),100*ABS($G7-(Data!W7-$K7)/$M7),0)))","v":63.65524402907581},{"$f":"IF($H7=0,0,CHOOSE($H7,SUMPRODUCT(CHOOSE(AG$39,$O8:$O$36,$P8:$P$36,$Q8:$Q$36,$R8:$R$36)*AG8:AG$36*($E8:$E$36=$D7)),IF(ISNUMBER(Data!X7),100*ABS($G7-(Data!X7-$K7)/$M7),0),IF(ISNUMBER(Data!X7),100*ABS($G7-(Data!X7-$K7)/$M7),0)))","v":49.740394600207686},{"$f":"IF($H7=0,0,CHOOSE($H7,SUMPRODUCT(CHOOSE(AH$39,$O8:$O$36,$P8:$P$36,$Q8:$Q$36,$R8:$R$36)*AH8:AH$36*($E8:$E$36=$D7)),IF(ISNUMBER(Data!Y7),100*ABS($G7-(Data!Y7-$K7)/$M7),0),IF(ISNUMBER(Data!Y7),100*ABS($G7-(Data!Y7-$K7)/$M7),0)))","v":77.466251298027018},{"$f":"IF($H7=0,0,CHOOSE($H7,SUMPRODUCT(CHOOSE(AI$39,$O8:$O$36,$P8:$P$36,$Q8:$Q$36,$R8:$R$36)*AI8:AI$36*($E8:$E$36=$D7)),IF(ISNUMBER(Data!Z7),100*ABS($G7-(Data!Z7-$K7)/$M7),0),IF(ISNUMBER(Data!Z7),100*ABS($G7-(Data!Z7-$K7)/$M7),0)))","v":60.747663551401878},{"$f":"IF($H7=0,0,CHOOSE($H7,SUMPRODUCT(CHOOSE(AJ$39,$O8:$O$36,$P8:$P$36,$Q8:$Q$36,$R8:$R$36)*AJ8:AJ$36*($E8:$E$36=$D7)),IF(ISNUMBER(Data!AA7),100*ABS($G7-(Data!AA7-$K7)/$M7),0),IF(ISNUMBER(Data!AA7),100*ABS($G7-(Data!AA7-$K7)/$M7),0)))","v":54.101765316718598},{"$f":"IF($H7=0,0,CHOOSE($H7,SUMPRODUCT(CHOOSE(AK$39,$O8:$O$36,$P8:$P$36,$Q8:$Q$36,$R8:$R$36)*AK8:AK$36*($E8:$E$36=$D7)),IF(ISNUMBER(Data!AB7),100*ABS($G7-(Data!AB7-$K7)/$M7),0),IF(ISNUMBER(Data!AB7),100*ABS($G7-(Data!AB7-$K7)/$M7),0)))","v":65.73208722741434},{"$f":"IF($H7=0,0,CHOOSE($H7,SUMPRODUCT(CHOOSE(AL$39,$O8:$O$36,$P8:$P$36,$Q8:$Q$36,$R8:$R$36)*AL8:AL$36*($E8:$E$36=$D7)),IF(ISNUMBER(Data!AC7),100*ABS($G7-(Data!AC7-$K7)/$M7),0),IF(ISNUMBER(Data!AC7),100*ABS($G7-(Data!AC7-$K7)/$M7),0)))","v":30.321910695742471}]
[null,{"$f":"tblIndicators!A5","v":4},{"$f":"tblIndicators!B5","v":0},{"$f":"tblIndicators!D5","v":"EP_11"},{"$f":"tblIndicators!E5","v":"EP"},{"$f":"tblIndicators!F5","v":2},{"$f":"tblIndicators!S5","v":0},{"$f":"tblIndicators!T5","v":3},{"$f":"tblIndicators!U5","v":1},{"$f":"tblIndicators!V5","v":5},{"$f":"CHOOSE(H8,\"-\",MIN(Data!J8:AC8),I8)","v":1},{"$f":"CHOOSE(H8,\"-\",MAX(Data!J8:AC8),J8)","v":5},{"$f":"CHOOSE(H8,\"-\",L8-K8,L8-K8)","v":4},{"$f":"tblIndicators!Y5","v":"1.11) Current account liberalisation"},{"$f":"tblIndicators!AO5","v":7.1428571428571425E-2},{"$f":"tblIndicators!AR5","v":7.1428571428571425E-2},{"$f":"tblIndicators!AU5","v":4.1666666666666664E-2},{"$f":"tblIndicators!AX5","v":7.1428571428571425E-2},{"$f":"IF($H8=0,0,CHOOSE($H8,SUMPRODUCT(CHOOSE(S$39,$O9:$O$36,$P9:$P$36,$Q9:$Q$36,$R9:$R$36)*S9:S$36*($E9:$E$36=$D8)),IF(ISNUMBER(Data!J8),100*ABS($G8-(Data!J8-$K8)/$M8),0),IF(ISNUMBER(Data!J8),100*ABS($G8-(Data!J8-$K8)/$M8),0)))","v":75},{"$f":"IF($H8=0,0,CHOOSE($H8,SUMPRODUCT(CHOOSE(T$39,$O9:$O$36,$P9:$P$36,$Q9:$Q$36,$R9:$R$36)*T9:T$36*($E9:$E$36=$D8)),IF(ISNUMBER(Data!K8),100*ABS($G8-(Data!K8-$K8)/$M8),0),IF(ISNUMBER(Data!K8),100*ABS($G8-(Data!K8-$K8)/$M8),0)))","v":100},{"$f":"IF($H8=0,0,CHOOSE($H8,SUMPRODUCT(CHOOSE(U$39,$O9:$O$36,$P9:$P$36,$Q9:$Q$36,$R9:$R$36)*U9:U$36*($E9:$E$36=$D8)),IF(ISNUMBER(Data!L8),100*ABS($G8-(Data!L8-$K8)/$M8),0),IF(ISNUMBER(Data!L8),100*ABS($G8-(Data!L8-$K8)/$M8),0)))","v":100},{"$f":"IF($H8=0,0,CHOOSE($H8,SUMPRODUCT(CHOOSE(V$39,$O9:$O$36,$P9:$P$36,$Q9:$Q$36,$R9:$R$36)*V9:V$36*($E9:$E$36=$D8)),IF(ISNUMBER(Data!M8),100*ABS($G8-(Data!M8-$K8)/$M8),0),IF(ISNUMBER(Data!M8),100*ABS($G8-(Data!M8-$K8)/$M8),0)))","v":85.000000000000014},{"$f":"IF($H8=0,0,CHOOSE($H8,SUMPRODUCT(CHOOSE(W$39,$O9:$O$36,$P9:$P$36,$Q9:$Q$36,$R9:$R$36)*W9:W$36*($E9:$E$36=$D8)),IF(ISNUMBER(Data!N8),100*ABS($G8-(Data!N8-$K8)/$M8),0),IF(ISNUMBER(Data!N8),100*ABS($G8-(Data!N8-$K8)/$M8),0)))","v":100},{"$f":"IF($H8=0,0,CHOOSE($H8,SUMPRODUCT(CHOOSE(X$39,$O9:$O$36,$P9:$P$36,$Q9:$Q$36,$R9:$R$36)*X9:X$36*($E9:$E$36=$D8)),IF(ISNUMBER(Data!O8),100*ABS($G8-(Data!O8-$K8)/$M8),0),IF(ISNUMBER(Data!O8),100*ABS($G8-(Data!O8-$K8)/$M8),0)))","v":75},{"$f":"IF($H8=0,0,CHOOSE($H8,SUMPRODUCT(CHOOSE(Y$39,$O9:$O$36,$P9:$P$36,$Q9:$Q$36,$R9:$R$36)*Y9:Y$36*($E9:$E$36=$D8)),IF(ISNUMBER(Data!P8),100*ABS($G8-(Data!P8-$K8)/$M8),0),IF(ISNUMBER(Data!P8),100*ABS($G8-(Data!P8-$K8)/$M8),0)))","v":75},{"$f":"IF($H8=0,0,CHOOSE($H8,SUMPRODUCT(CHOOSE(Z$39,$O9:$O$36,$P9:$P$36,$Q9:$Q$36,$R9:$R$36)*Z9:Z$36*($E9:$E$36=$D8)),IF(ISNUMBER(Data!Q8),100*ABS($G8-(Data!Q8-$K8)/$M8),0),IF(ISNUMBER(Data!Q8),100*ABS($G8-(Data!Q8-$K8)/$M8),0)))","v":100},{"$f":"IF($H8=0,0,CHOOSE($H8,SUMPRODUCT(CHOOSE(AA$39,$O9:$O$36,$P9:$P$36,$Q9:$Q$36,$R9:$R$36)*AA9:AA$36*($E9:$E$36=$D8)),IF(ISNUMBER(Data!R8),100*ABS($G8-(Data!R8-$K8)/$M8),0),IF(ISNUMBER(Data!R8),100*ABS($G8-(Data!R8-$K8)/$M8),0)))","v":100},{"$f":"IF($H8=0,0,CHOOSE($H8,SUMPRODUCT(CHOOSE(AB$39,$O9:$O$36,$P9:$P$36,$Q9:$Q$36,$R9:$R$36)*AB9:AB$36*($E9:$E$36=$D8)),IF(ISNUMBER(Data!S8),100*ABS($G8-(Data!S8-$K8)/$M8),0),IF(ISNUMBER(Data!S8),100*ABS($G8-(Data!S8-$K8)/$M8),0)))","v":100},{"$f":"IF($H8=0,0,CHOOSE($H8,SUMPRODUCT(CHOOSE(AC$39,$O9:$O$36,$P9:$P$36,$Q9:$Q$36,$R9:$R$36)*AC9:AC$36*($E9:$E$36=$D8)),IF(ISNUMBER(Data!T8),100*ABS($G8-(Data!T8-$K8)/$M8),0),IF(ISNUMBER(Data!T8),100*ABS($G8-(Data!T8-$K8)/$M8),0)))","v":75},{"$f":"IF($H8=0,0,CHOOSE($H8,SUMPRODUCT(CHOOSE(AD$39,$O9:$O$36,$P9:$P$36,$Q9:$Q$36,$R9:$R$36)*AD9:AD$36*($E9:$E$36=$D8)),IF(ISNUMBER(Data!U8),100*ABS($G8-(Data!U8-$K8)/$M8),0),IF(ISNUMBER(Data!U8),100*ABS($G8-(Data!U8-$K8)/$M8),0)))","v":50},{"$f":"IF($H8=0,0,CHOOSE($H8,SUMPRODUCT(CHOOSE(AE$39,$O9:$O$36,$P9:$P$36,$Q9:$Q$36,$R9:$R$36)*AE9:AE$36*($E9:$E$36=$D8)),IF(ISNUMBER(Data!V8),100*ABS($G8-(Data!V8-$K8)/$M8),0),IF(ISNUMBER(Data!V8),100*ABS($G8-(Data!V8-$K8)/$M8),0)))","v":85.000000000000014},{"$f":"IF($H8=0,0,CHOOSE($H8,SUMPRODUCT(CHOOSE(AF$39,$O9:$O$36,$P9:$P$36,$Q9:$Q$36,$R9:$R$36)*AF9:AF$36*($E9:$E$36=$D8)),IF(ISNUMBER(Data!W8),100*ABS($G8-(Data!W8-$K8)/$M8),0),IF(ISNUMBER(Data!W8),100*ABS($G8-(Data!W8-$K8)/$M8),0)))","v":100},{"$f":"IF($H8=0,0,CHOOSE($H8,SUMPRODUCT(CHOOSE(AG$39,$O9:$O$36,$P9:$P$36,$Q9:$Q$36,$R9:$R$36)*AG9:AG$36*($E9:$E$36=$D8)),IF(ISNUMBER(Data!X8),100*ABS($G8-(Data!X8-$K8)/$M8),0),IF(ISNUMBER(Data!X8),100*ABS($G8-(Data!X8-$K8)/$M8),0)))","v":85.000000000000014},{"$f":"IF($H8=0,0,CHOOSE($H8,SUMPRODUCT(CHOOSE(AH$39,$O9:$O$36,$P9:$P$36,$Q9:$Q$36,$R9:$R$36)*AH9:AH$36*($E9:$E$36=$D8)),IF(ISNUMBER(Data!Y8),100*ABS($G8-(Data!Y8-$K8)/$M8),0),IF(ISNUMBER(Data!Y8),100*ABS($G8-(Data!Y8-$K8)/$M8),0)))","v":100},{"$f":"IF($H8=0,0,CHOOSE($H8,SUMPRODUCT(CHOOSE(AI$39,$O9:$O$36,$P9:$P$36,$Q9:$Q$36,$R9:$R$36)*AI9:AI$36*($E9:$E$36=$D8)),IF(ISNUMBER(Data!Z8),100*ABS($G8-(Data!Z8-$K8)/$M8),0),IF(ISNUMBER(Data!Z8),100*ABS($G8-(Data!Z8-$K8)/$M8),0)))","v":100},{"$f":"IF($H8=0,0,CHOOSE($H8,SUMPRODUCT(CHOOSE(AJ$39,$O9:$O$36,$P9:$P$36,$Q9:$Q$36,$R9:$R$36)*AJ9:AJ$36*($E9:$E$36=$D8)),IF(ISNUMBER(Data!AA8),100*ABS($G8-(Data!AA8-$K8)/$M8),0),IF(ISNUMBER(Data!AA8),100*ABS($G8-(Data!AA8-$K8)/$M8),0)))","v":100},{"$f":"IF($H8=0,0,CHOOSE($H8,SUMPRODUCT(CHOOSE(AK$39,$O9:$O$36,$P9:$P$36,$Q9:$Q$36,$R9:$R$36)*AK9:AK$36*($E9:$E$36=$D8)),IF(ISNUMBER(Data!AB8),100*ABS($G8-(Data!AB8-$K8)/$M8),0),IF(ISNUMBER(Data!AB8),100*ABS($G8-(Data!AB8-$K8)/$M8),0)))","v":100},{"$f":"IF($H8=0,0,CHOOSE($H8,SUMPRODUCT(CHOOSE(AL$39,$O9:$O$36,$P9:$P$36,$Q9:$Q$36,$R9:$R$36)*AL9:AL$36*($E9:$E$36=$D8)),IF(ISNUMBER(Data!AC8),100*ABS($G8-(Data!AC8-$K8)/$M8),0),IF(ISNUMBER(Data!AC8),100*ABS($G8-(Data!AC8-$K8)/$M8),0)))","v":100}]
[null,{"$f":"tblIndicators!A6","v":5},{"$f":"tblIndicators!B6","v":0},{"$f":"tblIndicators!D6","v":"EP_12"},{"$f":"tblIndicators!E6","v":"EP"},{"$f":"tblIndicators!F6","v":2},{"$f":"tblIndicators!S6","v":0},{"$f":"tblIndicators!T6","v":3},{"$f":"tblIndicators!U6","v":1},{"$f":"tblIndicators!V6","v":5},{"$f":"CHOOSE(H9,\"-\",MIN(Data!J9:AC9),I9)","v":1},{"$f":"CHOOSE(H9,\"-\",MAX(Data!J9:AC9),J9)","v":5},4,{"$f":"tblIndicators!Y6","v":"1.12) Tariff & non-tariff barriers"},{"$f":"tblIndicators!AO6","v":7.1428571428571425E-2},{"$f":"tblIndicators!AR6","v":7.1428571428571425E-2},{"$f":"tblIndicators!AU6","v":4.1666666666666664E-2},{"$f":"tblIndicators!AX6","v":7.1428571428571425E-2},{"$f":"IF($H9=0,0,CHOOSE($H9,SUMPRODUCT(CHOOSE(S$39,$O10:$O$36,$P10:$P$36,$Q10:$Q$36,$R10:$R$36)*S10:S$36*($E10:$E$36=$D9)),IF(ISNUMBER(Data!J9),100*ABS($G9-(Data!J9-$K9)/$M9),0),IF(ISNUMBER(Data!J9),100*ABS($G9-(Data!J9-$K9)/$M9),0)))","v":25},{"$f":"IF($H9=0,0,CHOOSE($H9,SUMPRODUCT(CHOOSE(T$39,$O10:$O$36,$P10:$P$36,$Q10:$Q$36,$R10:$R$36)*T10:T$36*($E10:$E$36=$D9)),IF(ISNUMBER(Data!K9),100*ABS($G9-(Data!K9-$K9)/$M9),0),IF(ISNUMBER(Data!K9),100*ABS($G9-(Data!K9-$K9)/$M9),0)))","v":50},{"$f":"IF($H9=0,0,CHOOSE($H9,SUMPRODUCT(CHOOSE(U$39,$O10:$O$36,$P10:$P$36,$Q10:$Q$36,$R10:$R$36)*U10:U$36*($E10:$E$36=$D9)),IF(ISNUMBER(Data!L9),100*ABS($G9-(Data!L9-$K9)/$M9),0),IF(ISNUMBER(Data!L9),100*ABS($G9-(Data!L9-$K9)/$M9),0)))","v":50},{"$f":"IF($H9=0,0,CHOOSE($H9,SUMPRODUCT(CHOOSE(V$39,$O10:$O$36,$P10:$P$36,$Q10:$Q$36,$R10:$R$36)*V10:V$36*($E10:$E$36=$D9)),IF(ISNUMBER(Data!M9),100*ABS($G9-(Data!M9-$K9)/$M9),0),IF(ISNUMBER(Data!M9),100*ABS($G9-(Data!M9-$K9)/$M9),0)))","v":50},{"$f":"IF($H9=0,0,CHOOSE($H9,SUMPRODUCT(CHOOSE(W$39,$O10:$O$36,$P10:$P$36,$Q10:$Q$36,$R10:$R$36)*W10:W$36*($E10:$E$36=$D9)),IF(ISNUMBER(Data!N9),100*ABS($G9-(Data!N9-$K9)/$M9),0),IF(ISNUMBER(Data!N9),100*ABS($G9-(Data!N9-$K9)/$M9),0)))","v":100},{"$f":"IF($H9=0,0,CHOOSE($H9,SUMPRODUCT(CHOOSE(X$39,$O10:$O$36,$P10:$P$36,$Q10:$Q$36,$R10:$R$36)*X10:X$36*($E10:$E$36=$D9)),IF(ISNUMBER(Data!O9),100*ABS($G9-(Data!O9-$K9)/$M9),0),IF(ISNUMBER(Data!O9),100*ABS($G9-(Data!O9-$K9)/$M9),0)))","v":25},{"$f":"IF($H9=0,0,CHOOSE($H9,SUMPRODUCT(CHOOSE(Y$39,$O10:$O$36,$P10:$P$36,$Q10:$Q$36,$R10:$R$36)*Y10:Y$36*($E10:$E$36=$D9)),IF(ISNUMBER(Data!P9),100*ABS($G9-(Data!P9-$K9)/$M9),0),IF(ISNUMBER(Data!P9),100*ABS($G9-(Data!P9-$K9)/$M9),0)))","v":75},{"$f":"IF($H9=0,0,CHOOSE($H9,SUMPRODUCT(CHOOSE(Z$39,$O10:$O$36,$P10:$P$36,$Q10:$Q$36,$R10:$R$36)*Z10:Z$36*($E10:$E$36=$D9)),IF(ISNUMBER(Data!Q9),100*ABS($G9-(Data!Q9-$K9)/$M9),0),IF(ISNUMBER(Data!Q9),100*ABS($G9-(Data!Q9-$K9)/$M9),0)))","v":75},{"$f":"IF($H9=0,0,CHOOSE($H9,SUMPRODUCT(CHOOSE(AA$39,$O10:$O$36,$P10:$P$36,$Q10:$Q$36,$R10:$R$36)*AA10:AA$36*($E10:$E$36=$D9)),IF(ISNUMBER(Data!R9),100*ABS($G9-(Data!R9-$K9)/$M9),0),IF(ISNUMBER(Data!R9),100*ABS($G9-(Data!R9-$K9)/$M9),0)))","v":75},{"$f":"IF($H9=0,0,CHOOSE($H9,SUMPRODUCT(CHOOSE(AB$39,$O10:$O$36,$P10:$P$36,$Q10:$Q$36,$R10:$R$36)*AB10:AB$36*($E10:$E$36=$D9)),IF(ISNUMBER(Data!S9),100*ABS($G9-(Data!S9-$K9)/$M9),0),IF(ISNUMBER(Data!S9),100*ABS($G9-(Data!S9-$K9)/$M9),0)))","v":75},{"$f":"IF($H9=0,0,CHOOSE($H9,SUMPRODUCT(CHOOSE(AC$39,$O10:$O$36,$P10:$P$36,$Q10:$Q$36,$R10:$R$36)*AC10:AC$36*($E10:$E$36=$D9)),IF(ISNUMBER(Data!T9),100*ABS($G9-(Data!T9-$K9)/$M9),0),IF(ISNUMBER(Data!T9),100*ABS($G9-(Data!T9-$K9)/$M9),0)))","v":75},{"$f":"IF($H9=0,0,CHOOSE($H9,SUMPRODUCT(CHOOSE(AD$39,$O10:$O$36,$P10:$P$36,$Q10:$Q$36,$R10:$R$36)*AD10:AD$36*($E10:$E$36=$D9)),IF(ISNUMBER(Data!U9),100*ABS($G9-(Data!U9-$K9)/$M9),0),IF(ISNUMBER(Data!U9),100*ABS($G9-(Data!U9-$K9)/$M9),0)))","v":25},{"$f":"IF($H9=0,0,CHOOSE($H9,SUMPRODUCT(CHOOSE(AE$39,$O10:$O$36,$P10:$P$36,$Q10:$Q$36,$R10:$R$36)*AE10:AE$36*($E10:$E$36=$D9)),IF(ISNUMBER(Data!V9),100*ABS($G9-(Data!V9-$K9)/$M9),0),IF(ISNUMBER(Data!V9),100*ABS($G9-(Data!V9-$K9)/$M9),0)))","v":75},{"$f":"IF($H9=0,0,CHOOSE($H9,SUMPRODUCT(CHOOSE(AF$39,$O10:$O$36,$P10:$P$36,$Q10:$Q$36,$R10:$R$36)*AF10:AF$36*($E10:$E$36=$D9)),IF(ISNUMBER(Data!W9),100*ABS($G9-(Data!W9-$K9)/$M9),0),IF(ISNUMBER(Data!W9),100*ABS($G9-(Data!W9-$K9)/$M9),0)))","v":100},{"$f":"IF($H9=0,0,CHOOSE($H9,SUMPRODUCT(CHOOSE(AG$39,$O10:$O$36,$P10:$P$36,$Q10:$Q$36,$R10:$R$36)*AG10:AG$36*($E10:$E$36=$D9)),IF(ISNUMBER(Data!X9),100*ABS($G9-(Data!X9-$K9)/$M9),0),IF(ISNUMBER(Data!X9),100*ABS($G9-(Data!X9-$K9)/$M9),0)))","v":75},{"$f":"IF($H9=0,0,CHOOSE($H9,SUMPRODUCT(CHOOSE(AH$39,$O10:$O$36,$P10:$P$36,$Q10:$Q$36,$R10:$R$36)*AH10:AH$36*($E10:$E$36=$D9)),IF(ISNUMBER(Data!Y9),100*ABS($G9-(Data!Y9-$K9)/$M9),0),IF(ISNUMBER(Data!Y9),100*ABS($G9-(Data!Y9-$K9)/$M9),0)))","v":50},{"$f":"IF($H9=0,0,CHOOSE($H9,SUMPRODUCT(CHOOSE(AI$39,$O10:$O$36,$P10:$P$36,$Q10:$Q$36,$R10:$R$36)*AI10:AI$36*($E10:$E$36=$D9)),IF(ISNUMBER(Data!Z9),100*ABS($G9-(Data!Z9-$K9)/$M9),0),IF(ISNUMBER(Data!Z9),100*ABS($G9-(Data!Z9-$K9)/$M9),0)))","v":75},{"$f":"IF($H9=0,0,CHOOSE($H9,SUMPRODUCT(CHOOSE(AJ$39,$O10:$O$36,$P10:$P$36,$Q10:$Q$36,$R10:$R$36)*AJ10:AJ$36*($E10:$E$36=$D9)),IF(ISNUMBER(Data!AA9),100*ABS($G9-(Data!AA9-$K9)/$M9),0),IF(ISNUMBER(Data!AA9),100*ABS($G9-(Data!AA9-$K9)/$M9),0)))","v":60},{"$f":"IF($H9=0,0,CHOOSE($H9,SUMPRODUCT(CHOOSE(AK$39,$O10:$O$36,$P10:$P$36,$Q10:$Q$36,$R10:$R$36)*AK10:AK$36*($E10:$E$36=$D9)),IF(ISNUMBER(Data!AB9),100*ABS($G9-(Data!AB9-$K9)/$M9),0),IF(ISNUMBER(Data!AB9),100*ABS($G9-(Data!AB9-$K9)/$M9),0)))","v":35},{"$f":"IF($H9=0,0,CHOOSE($H9,SUMPRODUCT(CHOOSE(AL$39,$O10:$O$36,$P10:$P$36,$Q10:$Q$36,$R10:$R$36)*AL10:AL$36*($E10:$E$36=$D9)),IF(ISNUMBER(Data!AC9),100*ABS($G9-(Data!AC9-$K9)/$M9),0),IF(ISNUMBER(Data!AC9),100*ABS($G9-(Data!AC9-$K9)/$M9),0)))","v":75}]
[null,{"$f":"tblIndicators!A7","v":6},{"$f":"tblIndicators!B7","v":0},{"$f":"tblIndicators!D7","v":"EP_13"},{"$f":"tblIndicators!E7","v":"EP"},{"$f":"tblIndicators!F7","v":2},{"$f":"tblIndicators!S7","v":1},{"$f":"tblIndicators!T7","v":2},{"$f":"tblIndicators!U7","v":0},{"$f":"tblIndicators!V7","v":0},{"$f":"CHOOSE(H10,\"-\",MIN(Data!J10:AC10),I10)","v":0.01},{"$f":"CHOOSE(H10,\"-\",MAX(Data!J10:AC10),J10)","v":0.30199999999999999},0.29199999999999998,{"$f":"tblIndicators!Y7","v":"1.13) Exchange rate volatility"},{"$f":"tblIndicators!AO7","v":7.1428571428571425E-2},{"$f":"tblIndicators!AR7","v":7.1428571428571425E-2},{"$f":"tblIndicators!AU7","v":0.25},{"$f":"tblIndicators!AX7","v":7.1428571428571425E-2},{"$f":"IF($H10=0,0,CHOOSE($H10,SUMPRODUCT(CHOOSE(S$39,$O11:$O$36,$P11:$P$36,$Q11:$Q$36,$R11:$R$36)*S11:S$36*($E11:$E$36=$D10)),IF(ISNUMBER(Data!J10),100*ABS($G10-(Data!J10-$K10)/$M10),0),IF(ISNUMBER(Data!J10),100*ABS($G10-(Data!J10-$K10)/$M10),0)))","v":95.890410958904113},{"$f":"IF($H10=0,0,CHOOSE($H10,SUMPRODUCT(CHOOSE(T$39,$O11:$O$36,$P11:$P$36,$Q11:$Q$36,$R11:$R$36)*T11:T$36*($E11:$E$36=$D10)),IF(ISNUMBER(Data!K10),100*ABS($G10-(Data!K10-$K10)/$M10),0),IF(ISNUMBER(Data!K10),100*ABS($G10-(Data!K10-$K10)/$M10),0)))","v":97.260273972602747},{"$f":"IF($H10=0,0,CHOOSE($H10,SUMPRODUCT(CHOOSE(U$39,$O11:$O$36,$P11:$P$36,$Q11:$Q$36,$R11:$R$36)*U11:U$36*($E11:$E$36=$D10)),IF(ISNUMBER(Data!L10),100*ABS($G10-(Data!L10-$K10)/$M10),0),IF(ISNUMBER(Data!L10),100*ABS($G10-(Data!L10-$K10)/$M10),0)))","v":98.630136986301366},{"$f":"IF($H10=0,0,CHOOSE($H10,SUMPRODUCT(CHOOSE(V$39,$O11:$O$36,$P11:$P$36,$Q11:$Q$36,$R11:$R$36)*V11:V$36*($E11:$E$36=$D10)),IF(ISNUMBER(Data!M10),100*ABS($G10-(Data!M10-$K10)/$M10),0),IF(ISNUMBER(Data!M10),100*ABS($G10-(Data!M10-$K10)/$M10),0)))","v":96.575342465753423},{"$f":"IF($H10=0,0,CHOOSE($H10,SUMPRODUCT(CHOOSE(W$39,$O11:$O$36,$P11:$P$36,$Q11:$Q$36,$R11:$R$36)*W11:W$36*($E11:$E$36=$D10)),IF(ISNUMBER(Data!N10),100*ABS($G10-(Data!N10-$K10)/$M10),0),IF(ISNUMBER(Data!N10),100*ABS($G10-(Data!N10-$K10)/$M10),0)))","v":100},{"$f":"IF($H10=0,0,CHOOSE($H10,SUMPRODUCT(CHOOSE(X$39,$O11:$O$36,$P11:$P$36,$Q11:$Q$36,$R11:$R$36)*X11:X$36*($E11:$E$36=$D10)),IF(ISNUMBER(Data!O10),100*ABS($G10-(Data!O10-$K10)/$M10),0),IF(ISNUMBER(Data!O10),100*ABS($G10-(Data!O10-$K10)/$M10),0)))","v":91.780821917808225},{"$f":"IF($H10=0,0,CHOOSE($H10,SUMPRODUCT(CHOOSE(Y$39,$O11:$O$36,$P11:$P$36,$Q11:$Q$36,$R11:$R$36)*Y11:Y$36*($E11:$E$36=$D10)),IF(ISNUMBER(Data!P10),100*ABS($G10-(Data!P10-$K10)/$M10),0),IF(ISNUMBER(Data!P10),100*ABS($G10-(Data!P10-$K10)/$M10),0)))","v":95.205479452054803},{"$f":"IF($H10=0,0,CHOOSE($H10,SUMPRODUCT(CHOOSE(Z$39,$O11:$O$36,$P11:$P$36,$Q11:$Q$36,$R11:$R$36)*Z11:Z$36*($E11:$E$36=$D10)),IF(ISNUMBER(Data!Q10),100*ABS($G10-(Data!Q10-$K10)/$M10),0),IF(ISNUMBER(Data!Q10),100*ABS($G10-(Data!Q10-$K10)/$M10),0)))","v":93.150684931506845},{"$f":"IF($H10=0,0,CHOOSE($H10,SUMPRODUCT(CHOOSE(AA$39,$O11:$O$36,$P11:$P$36,$Q11:$Q$36,$R11:$R$36)*AA11:AA$36*($E11:$E$36=$D10)),IF(ISNUMBER(Data!R10),100*ABS($G10-(Data!R10-$K10)/$M10),0),IF(ISNUMBER(Data!R10),100*ABS($G10-(Data!R10-$K10)/$M10),0)))","v":98.63013698630138},{"$f":"IF($H10=0,0,CHOOSE($H10,SUMPRODUCT(CHOOSE(AB$39,$O11:$O$36,$P11:$P$36,$Q11:$Q$36,$R11:$R$36)*AB11:AB$36*($E11:$E$36=$D10)),IF(ISNUMBER(Data!S10),100*ABS($G10-(Data!S10-$K10)/$M10),0),IF(ISNUMBER(Data!S10),100*ABS($G10-(Data!S10-$K10)/$M10),0)))","v":96.575342465753423},{"$f":"IF($H10=0,0,CHOOSE($H10,SUMPRODUCT(CHOOSE(AC$39,$O11:$O$36,$P11:$P$36,$Q11:$Q$36,$R11:$R$36)*AC11:AC$36*($E11:$E$36=$D10)),IF(ISNUMBER(Data!T10),100*ABS($G10-(Data!T10-$K10)/$M10),0),IF(ISNUMBER(Data!T10),100*ABS($G10-(Data!T10-$K10)/$M10),0)))","v":0},{"$f":"IF($H10=0,0,CHOOSE($H10,SUMPRODUCT(CHOOSE(AD$39,$O11:$O$36,$P11:$P$36,$Q11:$Q$36,$R11:$R$36)*AD11:AD$36*($E11:$E$36=$D10)),IF(ISNUMBER(Data!U10),100*ABS($G10-(Data!U10-$K10)/$M10),0),IF(ISNUMBER(Data!U10),100*ABS($G10-(Data!U10-$K10)/$M10),0)))","v":98.630136986301366},{"$f":"IF($H10=0,0,CHOOSE($H10,SUMPRODUCT(CHOOSE(AE$39,$O11:$O$36,$P11:$P$36,$Q11:$Q$36,$R11:$R$36)*AE11:AE$36*($E11:$E$36=$D10)),IF(ISNUMBER(Data!V10),100*ABS($G10-(Data!V10-$K10)/$M10),0),IF(ISNUMBER(Data!V10),100*ABS($G10-(Data!V10-$K10)/$M10),0)))","v":96.575342465753423},{"$f":"IF($H10=0,0,CHOOSE($H10,SUMPRODUCT(CHOOSE(AF$39,$O11:$O$36,$P11:$P$36,$Q11:$Q$36,$R11:$R$36)*AF11:AF$36*($E11:$E$36=$D10)),IF(ISNUMBER(Data!W10),100*ABS($G10-(Data!W10-$K10)/$M10),0),IF(ISNUMBER(Data!W10),100*ABS($G10-(Data!W10-$K10)/$M10),0)))","v":97.260273972602747},{"$f":"IF($H10=0,0,CHOOSE($H10,SUMPRODUCT(CHOOSE(AG$39,$O11:$O$36,$P11:$P$36,$Q11:$Q$36,$R11:$R$36)*AG11:AG$36*($E11:$E$36=$D10)),IF(ISNUMBER(Data!X10),100*ABS($G10-(Data!X10-$K10)/$M10),0),IF(ISNUMBER(Data!X10),100*ABS($G10-(Data!X10-$K10)/$M10),0)))","v":95.205479452054803},{"$f":"IF($H10=0,0,CHOOSE($H10,SUMPRODUCT(CHOOSE(AH$39,$O11:$O$36,$P11:$P$36,$Q11:$Q$36,$R11:$R$36)*AH11:AH$36*($E11:$E$36=$D10)),IF(ISNUMBER(Data!Y10),100*ABS($G10-(Data!Y10-$K10)/$M10),0),IF(ISNUMBER(Data!Y10),100*ABS($G10-(Data!Y10-$K10)/$M10),0)))","v":96.575342465753423},{"$f":"IF($H10=0,0,CHOOSE($H10,SUMPRODUCT(CHOOSE(AI$39,$O11:$O$36,$P11:$P$36,$Q11:$Q$36,$R11:$R$36)*AI11:AI$36*($E11:$E$36=$D10)),IF(ISNUMBER(Data!Z10),100*ABS($G10-(Data!Z10-$K10)/$M10),0),IF(ISNUMBER(Data!Z10),100*ABS($G10-(Data!Z10-$K10)/$M10),0)))","v":98.630136986301366},{"$f":"IF($H10=0,0,CHOOSE($H10,SUMPRODUCT(CHOOSE(AJ$39,$O11:$O$36,$P11:$P$36,$Q11:$Q$36,$R11:$R$36)*AJ11:AJ$36*($E11:$E$36=$D10)),IF(ISNUMBER(Data!AA10),100*ABS($G10-(Data!AA10-$K10)/$M10),0),IF(ISNUMBER(Data!AA10),100*ABS($G10-(Data!AA10-$K10)/$M10),0)))","v":95.205479452054803},{"$f":"IF($H10=0,0,CHOOSE($H10,SUMPRODUCT(CHOOSE(AK$39,$O11:$O$36,$P11:$P$36,$Q11:$Q$36,$R11:$R$36)*AK11:AK$36*($E11:$E$36=$D10)),IF(ISNUMBER(Data!AB10),100*ABS($G10-(Data!AB10-$K10)/$M10),0),IF(ISNUMBER(Data!AB10),100*ABS($G10-(Data!AB10-$K10)/$M10),0)))","v":97.945205479452056},{"$f":"IF($H10=0,0,CHOOSE($H10,SUMPRODUCT(CHOOSE(AL$39,$O11:$O$36,$P11:$P$36,$Q11:$Q$36,$R11:$R$36)*AL11:AL$36*($E11:$E$36=$D10)),IF(ISNUMBER(Data!AC10),100*ABS($G10-(Data!AC10-$K10)/$M10),0),IF(ISNUMBER(Data!AC10),100*ABS($G10-(Data!AC10-$K10)/$M10),0)))","v":95.890410958904098}]
[null,{"$f":"tblIndicators!A8","v":7},{"$f":"tblIndicators!B8","v":0},{"$f":"tblIndicators!D8","v":"EP_14"},{"$f":"tblIndicators!E8","v":"EP"},{"$f":"tblIndicators!F8","v":2},{"$f":"tblIndicators!S8","v":0},{"$f":"tblIndicators!T8","v":2},{"$f":"tblIndicators!U8","v":0},{"$f":"tblIndicators!V8","v":0},{"$f":"CHOOSE(H11,\"-\",MIN(Data!J11:AC11),I11)","v":14},{"$f":"CHOOSE(H11,\"-\",MAX(Data!J11:AC11),J11)","v":234},220,{"$f":"tblIndicators!Y8","v":"1.14) Financial sector depth"},{"$f":"tblIndicators!AO8","v":7.1428571428571425E-2},{"$f":"tblIndicators!AR8","v":7.1428571428571425E-2},{"$f":"tblIndicators!AU8","v":4.1666666666666664E-2},{"$f":"tblIndicators!AX8","v":7.1428571428571425E-2},{"$f":"IF($H11=0,0,CHOOSE($H11,SUMPRODUCT(CHOOSE(S$39,$O12:$O$36,$P12:$P$36,$Q12:$Q$36,$R12:$R$36)*S12:S$36*($E12:$E$36=$D11)),IF(ISNUMBER(Data!J11),100*ABS($G11-(Data!J11-$K11)/$M11),0),IF(ISNUMBER(Data!J11),100*ABS($G11-(Data!J11-$K11)/$M11),0)))","v":12.727272727272727},{"$f":"IF($H11=0,0,CHOOSE($H11,SUMPRODUCT(CHOOSE(T$39,$O12:$O$36,$P12:$P$36,$Q12:$Q$36,$R12:$R$36)*T12:T$36*($E12:$E$36=$D11)),IF(ISNUMBER(Data!K11),100*ABS($G11-(Data!K11-$K11)/$M11),0),IF(ISNUMBER(Data!K11),100*ABS($G11-(Data!K11-$K11)/$M11),0)))","v":8.6363636363636367},{"$f":"IF($H11=0,0,CHOOSE($H11,SUMPRODUCT(CHOOSE(U$39,$O12:$O$36,$P12:$P$36,$Q12:$Q$36,$R12:$R$36)*U12:U$36*($E12:$E$36=$D11)),IF(ISNUMBER(Data!L11),100*ABS($G11-(Data!L11-$K11)/$M11),0),IF(ISNUMBER(Data!L11),100*ABS($G11-(Data!L11-$K11)/$M11),0)))","v":18.181818181818183},{"$f":"IF($H11=0,0,CHOOSE($H11,SUMPRODUCT(CHOOSE(V$39,$O12:$O$36,$P12:$P$36,$Q12:$Q$36,$R12:$R$36)*V12:V$36*($E12:$E$36=$D11)),IF(ISNUMBER(Data!M11),100*ABS($G11-(Data!M11-$K11)/$M11),0),IF(ISNUMBER(Data!M11),100*ABS($G11-(Data!M11-$K11)/$M11),0)))","v":58.18181818181818},{"$f":"IF($H11=0,0,CHOOSE($H11,SUMPRODUCT(CHOOSE(W$39,$O12:$O$36,$P12:$P$36,$Q12:$Q$36,$R12:$R$36)*W12:W$36*($E12:$E$36=$D11)),IF(ISNUMBER(Data!N11),100*ABS($G11-(Data!N11-$K11)/$M11),0),IF(ISNUMBER(Data!N11),100*ABS($G11-(Data!N11-$K11)/$M11),0)))","v":100},{"$f":"IF($H11=0,0,CHOOSE($H11,SUMPRODUCT(CHOOSE(X$39,$O12:$O$36,$P12:$P$36,$Q12:$Q$36,$R12:$R$36)*X12:X$36*($E12:$E$36=$D11)),IF(ISNUMBER(Data!O11),100*ABS($G11-(Data!O11-$K11)/$M11),0),IF(ISNUMBER(Data!O11),100*ABS($G11-(Data!O11-$K11)/$M11),0)))","v":16.818181818181817},{"$f":"IF($H11=0,0,CHOOSE($H11,SUMPRODUCT(CHOOSE(Y$39,$O12:$O$36,$P12:$P$36,$Q12:$Q$36,$R12:$R$36)*Y12:Y$36*($E12:$E$36=$D11)),IF(ISNUMBER(Data!P11),100*ABS($G11-(Data!P11-$K11)/$M11),0),IF(ISNUMBER(Data!P11),100*ABS($G11-(Data!P11-$K11)/$M11),0)))","v":11.818181818181818},{"$f":"IF($H11=0,0,CHOOSE($H11,SUMPRODUCT(CHOOSE(Z$39,$O12:$O$36,$P12:$P$36,$Q12:$Q$36,$R12:$R$36)*Z12:Z$36*($E12:$E$36=$D11)),IF(ISNUMBER(Data!Q11),100*ABS($G11-(Data!Q11-$K11)/$M11),0),IF(ISNUMBER(Data!Q11),100*ABS($G11-(Data!Q11-$K11)/$M11),0)))","v":79.090909090909093},{"$f":"IF($H11=0,0,CHOOSE($H11,SUMPRODUCT(CHOOSE(AA$39,$O12:$O$36,$P12:$P$36,$Q12:$Q$36,$R12:$R$36)*AA12:AA$36*($E12:$E$36=$D11)),IF(ISNUMBER(Data!R11),100*ABS($G11-(Data!R11-$K11)/$M11),0),IF(ISNUMBER(Data!R11),100*ABS($G11-(Data!R11-$K11)/$M11),0)))","v":3.1818181818181817},{"$f":"IF($H11=0,0,CHOOSE($H11,SUMPRODUCT(CHOOSE(AB$39,$O12:$O$36,$P12:$P$36,$Q12:$Q$36,$R12:$R$36)*AB12:AB$36*($E12:$E$36=$D11)),IF(ISNUMBER(Data!S11),100*ABS($G11-(Data!S11-$K11)/$M11),0),IF(ISNUMBER(Data!S11),100*ABS($G11-(Data!S11-$K11)/$M11),0)))","v":50.454545454545453},{"$f":"IF($H11=0,0,CHOOSE($H11,SUMPRODUCT(CHOOSE(AC$39,$O12:$O$36,$P12:$P$36,$Q12:$Q$36,$R12:$R$36)*AC12:AC$36*($E12:$E$36=$D11)),IF(ISNUMBER(Data!T11),100*ABS($G11-(Data!T11-$K11)/$M11),0),IF(ISNUMBER(Data!T11),100*ABS($G11-(Data!T11-$K11)/$M11),0)))","v":0},{"$f":"IF($H11=0,0,CHOOSE($H11,SUMPRODUCT(CHOOSE(AD$39,$O12:$O$36,$P12:$P$36,$Q12:$Q$36,$R12:$R$36)*AD12:AD$36*($E12:$E$36=$D11)),IF(ISNUMBER(Data!U11),100*ABS($G11-(Data!U11-$K11)/$M11),0),IF(ISNUMBER(Data!U11),100*ABS($G11-(Data!U11-$K11)/$M11),0)))","v":0.45454545454545453},{"$f":"IF($H11=0,0,CHOOSE($H11,SUMPRODUCT(CHOOSE(AE$39,$O12:$O$36,$P12:$P$36,$Q12:$Q$36,$R12:$R$36)*AE12:AE$36*($E12:$E$36=$D11)),IF(ISNUMBER(Data!V11),100*ABS($G11-(Data!V11-$K11)/$M11),0),IF(ISNUMBER(Data!V11),100*ABS($G11-(Data!V11-$K11)/$M11),0)))","v":11.363636363636363},{"$f":"IF($H11=0,0,CHOOSE($H11,SUMPRODUCT(CHOOSE(AF$39,$O12:$O$36,$P12:$P$36,$Q12:$Q$36,$R12:$R$36)*AF12:AF$36*($E12:$E$36=$D11)),IF(ISNUMBER(Data!W11),100*ABS($G11-(Data!W11-$K11)/$M11),0),IF(ISNUMBER(Data!W11),100*ABS($G11-(Data!W11-$K11)/$M11),0)))","v":53.181818181818187},{"$f":"IF($H11=0,0,CHOOSE($H11,SUMPRODUCT(CHOOSE(AG$39,$O12:$O$36,$P12:$P$36,$Q12:$Q$36,$R12:$R$36)*AG12:AG$36*($E12:$E$36=$D11)),IF(ISNUMBER(Data!X11),100*ABS($G11-(Data!X11-$K11)/$M11),0),IF(ISNUMBER(Data!X11),100*ABS($G11-(Data!X11-$K11)/$M11),0)))","v":56.36363636363636},{"$f":"IF($H11=0,0,CHOOSE($H11,SUMPRODUCT(CHOOSE(AH$39,$O12:$O$36,$P12:$P$36,$Q12:$Q$36,$R12:$R$36)*AH12:AH$36*($E12:$E$36=$D11)),IF(ISNUMBER(Data!Y11),100*ABS($G11-(Data!Y11-$K11)/$M11),0),IF(ISNUMBER(Data!Y11),100*ABS($G11-(Data!Y11-$K11)/$M11),0)))","v":6.3636363636363633},{"$f":"IF($H11=0,0,CHOOSE($H11,SUMPRODUCT(CHOOSE(AI$39,$O12:$O$36,$P12:$P$36,$Q12:$Q$36,$R12:$R$36)*AI12:AI$36*($E12:$E$36=$D11)),IF(ISNUMBER(Data!Z11),100*ABS($G11-(Data!Z11-$K11)/$M11),0),IF(ISNUMBER(Data!Z11),100*ABS($G11-(Data!Z11-$K11)/$M11),0)))","v":66.181818181818173},{"$f":"IF($H11=0,0,CHOOSE($H11,SUMPRODUCT(CHOOSE(AJ$39,$O12:$O$36,$P12:$P$36,$Q12:$Q$36,$R12:$R$36)*AJ12:AJ$36*($E12:$E$36=$D11)),IF(ISNUMBER(Data!AA11),100*ABS($G11-(Data!AA11-$K11)/$M11),0),IF(ISNUMBER(Data!AA11),100*ABS($G11-(Data!AA11-$K11)/$M11),0)))","v":65.909090909090907},{"$f":"IF($H11=0,0,CHOOSE($H11,SUMPRODUCT(CHOOSE(AK$39,$O12:$O$36,$P12:$P$36,$Q12:$Q$36,$R12:$R$36)*AK12:AK$36*($E12:$E$36=$D11)),IF(ISNUMBER(Data!AB11),100*ABS($G11-(Data!AB11-$K11)/$M11),0),IF(ISNUMBER(Data!AB11),100*ABS($G11-(Data!AB11-$K11)/$M11),0)))","v":39.090909090909093},{"$f":"IF($H11=0,0,CHOOSE($H11,SUMPRODUCT(CHOOSE(AL$39,$O12:$O$36,$P12:$P$36,$Q12:$Q$36,$R12:$R$36)*AL12:AL$36*($E12:$E$36=$D11)),IF(ISNUMBER(Data!AC11),100*ABS($G11-(Data!AC11-$K11)/$M11),0),IF(ISNUMBER(Data!AC11),100*ABS($G11-(Data!AC11-$K11)/$M11),0)))","v":82.727272727272734}]
[null,{"$f":"tblIndicators!A9","v":8},{"$f":"tblIndicators!B9","v":0},{"$f":"tblIndicators!D9","v":"EP_15"},{"$f":"tblIndicators!E9","v":"EP"},{"$f":"tblIndicators!F9","v":2},{"$f":"tblIndicators!S9","v":1},{"$f":"tblIndicators!T9","v":3},{"$f":"tblIndicators!U9","v":1},{"$f":"tblIndicators!V9","v":100},{"$f":"CHOOSE(H12,\"-\",MIN(Data!J12:AC12),I12)","v":1},{"$f":"CHOOSE(H12,\"-\",MAX(Data!J12:AC12),J12)","v":100},99,{"$f":"tblIndicators!Y9","v":"1.15) Foreign trade and payments risk"},{"$f":"tblIndicators!AO9","v":7.1428571428571425E-2},{"$f":"tblIndicators!AR9","v":7.1428571428571425E-2},{"$f":"tblIndicators!AU9","v":0.25},{"$f":"tblIndicators!AX9","v":7.1428571428571425E-2},{"$f":"IF($H12=0,0,CHOOSE($H12,SUMPRODUCT(CHOOSE(S$39,$O13:$O$36,$P13:$P$36,$Q13:$Q$36,$R13:$R$36)*S13:S$36*($E13:$E$36=$D12)),IF(ISNUMBER(Data!J12),100*ABS($G12-(Data!J12-$K12)/$M12),0),IF(ISNUMBER(Data!J12),100*ABS($G12-(Data!J12-$K12)/$M12),0)))","v":43.43434343434344},{"$f":"IF($H12=0,0,CHOOSE($H12,SUMPRODUCT(CHOOSE(T$39,$O13:$O$36,$P13:$P$36,$Q13:$Q$36,$R13:$R$36)*T13:T$36*($E13:$E$36=$D12)),IF(ISNUMBER(Data!K12),100*ABS($G12-(Data!K12-$K12)/$M12),0),IF(ISNUMBER(Data!K12),100*ABS($G12-(Data!K12-$K12)/$M12),0)))","v":79.797979797979806},{"$f":"IF($H12=0,0,CHOOSE($H12,SUMPRODUCT(CHOOSE(U$39,$O13:$O$36,$P13:$P$36,$Q13:$Q$36,$R13:$R$36)*U13:U$36*($E13:$E$36=$D12)),IF(ISNUMBER(Data!L12),100*ABS($G12-(Data!L12-$K12)/$M12),0),IF(ISNUMBER(Data!L12),100*ABS($G12-(Data!L12-$K12)/$M12),0)))","v":58.585858585858588},{"$f":"IF($H12=0,0,CHOOSE($H12,SUMPRODUCT(CHOOSE(V$39,$O13:$O$36,$P13:$P$36,$Q13:$Q$36,$R13:$R$36)*V13:V$36*($E13:$E$36=$D12)),IF(ISNUMBER(Data!M12),100*ABS($G12-(Data!M12-$K12)/$M12),0),IF(ISNUMBER(Data!M12),100*ABS($G12-(Data!M12-$K12)/$M12),0)))","v":67.676767676767668},{"$f":"IF($H12=0,0,CHOOSE($H12,SUMPRODUCT(CHOOSE(W$39,$O13:$O$36,$P13:$P$36,$Q13:$Q$36,$R13:$R$36)*W13:W$36*($E13:$E$36=$D12)),IF(ISNUMBER(Data!N12),100*ABS($G12-(Data!N12-$K12)/$M12),0),IF(ISNUMBER(Data!N12),100*ABS($G12-(Data!N12-$K12)/$M12),0)))","v":93.939393939393938},{"$f":"IF($H12=0,0,CHOOSE($H12,SUMPRODUCT(CHOOSE(X$39,$O13:$O$36,$P13:$P$36,$Q13:$Q$36,$R13:$R$36)*X13:X$36*($E13:$E$36=$D12)),IF(ISNUMBER(Data!O12),100*ABS($G12-(Data!O12-$K12)/$M12),0),IF(ISNUMBER(Data!O12),100*ABS($G12-(Data!O12-$K12)/$M12),0)))","v":50.505050505050498},{"$f":"IF($H12=0,0,CHOOSE($H12,SUMPRODUCT(CHOOSE(Y$39,$O13:$O$36,$P13:$P$36,$Q13:$Q$36,$R13:$R$36)*Y13:Y$36*($E13:$E$36=$D12)),IF(ISNUMBER(Data!P12),100*ABS($G12-(Data!P12-$K12)/$M12),0),IF(ISNUMBER(Data!P12),100*ABS($G12-(Data!P12-$K12)/$M12),0)))","v":57.575757575757571},{"$f":"IF($H12=0,0,CHOOSE($H12,SUMPRODUCT(CHOOSE(Z$39,$O13:$O$36,$P13:$P$36,$Q13:$Q$36,$R13:$R$36)*Z13:Z$36*($E13:$E$36=$D12)),IF(ISNUMBER(Data!Q12),100*ABS($G12-(Data!Q12-$K12)/$M12),0),IF(ISNUMBER(Data!Q12),100*ABS($G12-(Data!Q12-$K12)/$M12),0)))","v":75.757575757575751},{"$f":"IF($H12=0,0,CHOOSE($H12,SUMPRODUCT(CHOOSE(AA$39,$O13:$O$36,$P13:$P$36,$Q13:$Q$36,$R13:$R$36)*AA13:AA$36*($E13:$E$36=$D12)),IF(ISNUMBER(Data!R12),100*ABS($G12-(Data!R12-$K12)/$M12),0),IF(ISNUMBER(Data!R12),100*ABS($G12-(Data!R12-$K12)/$M12),0)))","v":29.292929292929294},{"$f":"IF($H12=0,0,CHOOSE($H12,SUMPRODUCT(CHOOSE(AB$39,$O13:$O$36,$P13:$P$36,$Q13:$Q$36,$R13:$R$36)*AB13:AB$36*($E13:$E$36=$D12)),IF(ISNUMBER(Data!S12),100*ABS($G12-(Data!S12-$K12)/$M12),0),IF(ISNUMBER(Data!S12),100*ABS($G12-(Data!S12-$K12)/$M12),0)))","v":79.797979797979806},{"$f":"IF($H12=0,0,CHOOSE($H12,SUMPRODUCT(CHOOSE(AC$39,$O13:$O$36,$P13:$P$36,$Q13:$Q$36,$R13:$R$36)*AC13:AC$36*($E13:$E$36=$D12)),IF(ISNUMBER(Data!T12),100*ABS($G12-(Data!T12-$K12)/$M12),0),IF(ISNUMBER(Data!T12),100*ABS($G12-(Data!T12-$K12)/$M12),0)))","v":36.363636363636367},{"$f":"IF($H12=0,0,CHOOSE($H12,SUMPRODUCT(CHOOSE(AD$39,$O13:$O$36,$P13:$P$36,$Q13:$Q$36,$R13:$R$36)*AD13:AD$36*($E13:$E$36=$D12)),IF(ISNUMBER(Data!U12),100*ABS($G12-(Data!U12-$K12)/$M12),0),IF(ISNUMBER(Data!U12),100*ABS($G12-(Data!U12-$K12)/$M12),0)))","v":25.252525252525249},{"$f":"IF($H12=0,0,CHOOSE($H12,SUMPRODUCT(CHOOSE(AE$39,$O13:$O$36,$P13:$P$36,$Q13:$Q$36,$R13:$R$36)*AE13:AE$36*($E13:$E$36=$D12)),IF(ISNUMBER(Data!V12),100*ABS($G12-(Data!V12-$K12)/$M12),0),IF(ISNUMBER(Data!V12),100*ABS($G12-(Data!V12-$K12)/$M12),0)))","v":71.717171717171709},{"$f":"IF($H12=0,0,CHOOSE($H12,SUMPRODUCT(CHOOSE(AF$39,$O13:$O$36,$P13:$P$36,$Q13:$Q$36,$R13:$R$36)*AF13:AF$36*($E13:$E$36=$D12)),IF(ISNUMBER(Data!W12),100*ABS($G12-(Data!W12-$K12)/$M12),0),IF(ISNUMBER(Data!W12),100*ABS($G12-(Data!W12-$K12)/$M12),0)))","v":96.969696969696969},{"$f":"IF($H12=0,0,CHOOSE($H12,SUMPRODUCT(CHOOSE(AG$39,$O13:$O$36,$P13:$P$36,$Q13:$Q$36,$R13:$R$36)*AG13:AG$36*($E13:$E$36=$D12)),IF(ISNUMBER(Data!X12),100*ABS($G12-(Data!X12-$K12)/$M12),0),IF(ISNUMBER(Data!X12),100*ABS($G12-(Data!X12-$K12)/$M12),0)))","v":74.74747474747474},{"$f":"IF($H12=0,0,CHOOSE($H12,SUMPRODUCT(CHOOSE(AH$39,$O13:$O$36,$P13:$P$36,$Q13:$Q$36,$R13:$R$36)*AH13:AH$36*($E13:$E$36=$D12)),IF(ISNUMBER(Data!Y12),100*ABS($G12-(Data!Y12-$K12)/$M12),0),IF(ISNUMBER(Data!Y12),100*ABS($G12-(Data!Y12-$K12)/$M12),0)))","v":64.646464646464636},{"$f":"IF($H12=0,0,CHOOSE($H12,SUMPRODUCT(CHOOSE(AI$39,$O13:$O$36,$P13:$P$36,$Q13:$Q$36,$R13:$R$36)*AI13:AI$36*($E13:$E$36=$D12)),IF(ISNUMBER(Data!Z12),100*ABS($G12-(Data!Z12-$K12)/$M12),0),IF(ISNUMBER(Data!Z12),100*ABS($G12-(Data!Z12-$K12)/$M12),0)))","v":82.828282828282823},{"$f":"IF($H12=0,0,CHOOSE($H12,SUMPRODUCT(CHOOSE(AJ$39,$O13:$O$36,$P13:$P$36,$Q13:$Q$36,$R13:$R$36)*AJ13:AJ$36*($E13:$E$36=$D12)),IF(ISNUMBER(Data!AA12),100*ABS($G12-(Data!AA12-$K12)/$M12),0),IF(ISNUMBER(Data!AA12),100*ABS($G12-(Data!AA12-$K12)/$M12),0)))","v":57.575757575757571},{"$f":"IF($H12=0,0,CHOOSE($H12,SUMPRODUCT(CHOOSE(AK$39,$O13:$O$36,$P13:$P$36,$Q13:$Q$36,$R13:$R$36)*AK13:AK$36*($E13:$E$36=$D12)),IF(ISNUMBER(Data!AB12),100*ABS($G12-(Data!AB12-$K12)/$M12),0),IF(ISNUMBER(Data!AB12),100*ABS($G12-(Data!AB12-$K12)/$M12),0)))","v":51.515151515151516},{"$f":"IF($H12=0,0,CHOOSE($H12,SUMPRODUCT(CHOOSE(AL$39,$O13:$O$36,$P13:$P$36,$Q13:$Q$36,$R13:$R$36)*AL13:AL$36*($E13:$E$36=$D12)),IF(ISNUMBER(Data!AC12),100*ABS($G12-(Data!AC12-$K12)/$M12),0),IF(ISNUMBER(Data!AC12),100*ABS($G12-(Data!AC12-$K12)/$M12),0)))","v":79.797979797979806}]
[null,{"$f":"tblIndicators!A10","v":9},{"$f":"tblIndicators!B10","v":0},{"$f":"tblIndicators!D10","v":"EP_16"},{"$f":"tblIndicators!E10","v":"EP"},{"$f":"tblIndicators!F10","v":2},{"$f":"tblIndicators!S10","v":1},{"$f":"tblIndicators!T10","v":2},{"$f":"tblIndicators!U10","v":0},{"$f":"tblIndicators!V10","v":0},{"$f":"CHOOSE(H13,\"-\",MIN(Data!J13:AC13),I13)","v":8.0559999999999992},{"$f":"CHOOSE(H13,\"-\",MAX(Data!J13:AC13),J13)","v":70.599999999999994},62.543999999999997,{"$f":"tblIndicators!Y10","v":"1.16) Export market concentration"},{"$f":"tblIndicators!AO10","v":7.1428571428571425E-2},{"$f":"tblIndicators!AR10","v":7.1428571428571425E-2},{"$f":"tblIndicators!AU10","v":4.1666666666666664E-2},{"$f":"tblIndicators!AX10","v":7.1428571428571425E-2},{"$f":"IF($H13=0,0,CHOOSE($H13,SUMPRODUCT(CHOOSE(S$39,$O14:$O$36,$P14:$P$36,$Q14:$Q$36,$R14:$R$36)*S14:S$36*($E14:$E$36=$D13)),IF(ISNUMBER(Data!J13),100*ABS($G13-(Data!J13-$K13)/$M13),0),IF(ISNUMBER(Data!J13),100*ABS($G13-(Data!J13-$K13)/$M13),0)))","v":96.319391148631368},{"$f":"IF($H13=0,0,CHOOSE($H13,SUMPRODUCT(CHOOSE(T$39,$O14:$O$36,$P14:$P$36,$Q14:$Q$36,$R14:$R$36)*T14:T$36*($E14:$E$36=$D13)),IF(ISNUMBER(Data!K13),100*ABS($G13-(Data!K13-$K13)/$M13),0),IF(ISNUMBER(Data!K13),100*ABS($G13-(Data!K13-$K13)/$M13),0)))","v":0},{"$f":"IF($H13=0,0,CHOOSE($H13,SUMPRODUCT(CHOOSE(U$39,$O14:$O$36,$P14:$P$36,$Q14:$Q$36,$R14:$R$36)*U14:U$36*($E14:$E$36=$D13)),IF(ISNUMBER(Data!L13),100*ABS($G13-(Data!L13-$K13)/$M13),0),IF(ISNUMBER(Data!L13),100*ABS($G13-(Data!L13-$K13)/$M13),0)))","v":94.052187260168836},{"$f":"IF($H13=0,0,CHOOSE($H13,SUMPRODUCT(CHOOSE(V$39,$O14:$O$36,$P14:$P$36,$Q14:$Q$36,$R14:$R$36)*V14:V$36*($E14:$E$36=$D13)),IF(ISNUMBER(Data!M13),100*ABS($G13-(Data!M13-$K13)/$M13),0),IF(ISNUMBER(Data!M13),100*ABS($G13-(Data!M13-$K13)/$M13),0)))","v":95.292913788692758},{"$f":"IF($H13=0,0,CHOOSE($H13,SUMPRODUCT(CHOOSE(W$39,$O14:$O$36,$P14:$P$36,$Q14:$Q$36,$R14:$R$36)*W14:W$36*($E14:$E$36=$D13)),IF(ISNUMBER(Data!N13),100*ABS($G13-(Data!N13-$K13)/$M13),0),IF(ISNUMBER(Data!N13),100*ABS($G13-(Data!N13-$K13)/$M13),0)))","v":84.970580711179338},{"$f":"IF($H13=0,0,CHOOSE($H13,SUMPRODUCT(CHOOSE(X$39,$O14:$O$36,$P14:$P$36,$Q14:$Q$36,$R14:$R$36)*X14:X$36*($E14:$E$36=$D13)),IF(ISNUMBER(Data!O13),100*ABS($G13-(Data!O13-$K13)/$M13),0),IF(ISNUMBER(Data!O13),100*ABS($G13-(Data!O13-$K13)/$M13),0)))","v":100},{"$f":"IF($H13=0,0,CHOOSE($H13,SUMPRODUCT(CHOOSE(Y$39,$O14:$O$36,$P14:$P$36,$Q14:$Q$36,$R14:$R$36)*Y14:Y$36*($E14:$E$36=$D13)),IF(ISNUMBER(Data!P13),100*ABS($G13-(Data!P13-$K13)/$M13),0),IF(ISNUMBER(Data!P13),100*ABS($G13-(Data!P13-$K13)/$M13),0)))","v":95.248145305704782},{"$f":"IF($H13=0,0,CHOOSE($H13,SUMPRODUCT(CHOOSE(Z$39,$O14:$O$36,$P14:$P$36,$Q14:$Q$36,$R14:$R$36)*Z14:Z$36*($E14:$E$36=$D13)),IF(ISNUMBER(Data!Q13),100*ABS($G13-(Data!Q13-$K13)/$M13),0),IF(ISNUMBER(Data!Q13),100*ABS($G13-(Data!Q13-$K13)/$M13),0)))","v":93.223970324891269},{"$f":"IF($H13=0,0,CHOOSE($H13,SUMPRODUCT(CHOOSE(AA$39,$O14:$O$36,$P14:$P$36,$Q14:$Q$36,$R14:$R$36)*AA14:AA$36*($E14:$E$36=$D13)),IF(ISNUMBER(Data!R13),100*ABS($G13-(Data!R13-$K13)/$M13),0),IF(ISNUMBER(Data!R13),100*ABS($G13-(Data!R13-$K13)/$M13),0)))","v":83.720260936300832},{"$f":"IF($H13=0,0,CHOOSE($H13,SUMPRODUCT(CHOOSE(AB$39,$O14:$O$36,$P14:$P$36,$Q14:$Q$36,$R14:$R$36)*AB14:AB$36*($E14:$E$36=$D13)),IF(ISNUMBER(Data!S13),100*ABS($G13-(Data!S13-$K13)/$M13),0),IF(ISNUMBER(Data!S13),100*ABS($G13-(Data!S13-$K13)/$M13),0)))","v":94.451905858275779},{"$f":"IF($H13=0,0,CHOOSE($H13,SUMPRODUCT(CHOOSE(AC$39,$O14:$O$36,$P14:$P$36,$Q14:$Q$36,$R14:$R$36)*AC14:AC$36*($E14:$E$36=$D13)),IF(ISNUMBER(Data!T13),100*ABS($G13-(Data!T13-$K13)/$M13),0),IF(ISNUMBER(Data!T13),100*ABS($G13-(Data!T13-$K13)/$M13),0)))","v":81.318751598874385},{"$f":"IF($H13=0,0,CHOOSE($H13,SUMPRODUCT(CHOOSE(AD$39,$O14:$O$36,$P14:$P$36,$Q14:$Q$36,$R14:$R$36)*AD14:AD$36*($E14:$E$36=$D13)),IF(ISNUMBER(Data!U13),100*ABS($G13-(Data!U13-$K13)/$M13),0),IF(ISNUMBER(Data!U13),100*ABS($G13-(Data!U13-$K13)/$M13),0)))","v":96.357764134049631},{"$f":"IF($H13=0,0,CHOOSE($H13,SUMPRODUCT(CHOOSE(AE$39,$O14:$O$36,$P14:$P$36,$Q14:$Q$36,$R14:$R$36)*AE14:AE$36*($E14:$E$36=$D13)),IF(ISNUMBER(Data!V13),100*ABS($G13-(Data!V13-$K13)/$M13),0),IF(ISNUMBER(Data!V13),100*ABS($G13-(Data!V13-$K13)/$M13),0)))","v":91.378869276029675},{"$f":"IF($H13=0,0,CHOOSE($H13,SUMPRODUCT(CHOOSE(AF$39,$O14:$O$36,$P14:$P$36,$Q14:$Q$36,$R14:$R$36)*AF14:AF$36*($E14:$E$36=$D13)),IF(ISNUMBER(Data!W13),100*ABS($G13-(Data!W13-$K13)/$M13),0),IF(ISNUMBER(Data!W13),100*ABS($G13-(Data!W13-$K13)/$M13),0)))","v":96.8406242005628},{"$f":"IF($H13=0,0,CHOOSE($H13,SUMPRODUCT(CHOOSE(AG$39,$O14:$O$36,$P14:$P$36,$Q14:$Q$36,$R14:$R$36)*AG14:AG$36*($E14:$E$36=$D13)),IF(ISNUMBER(Data!X13),100*ABS($G13-(Data!X13-$K13)/$M13),0),IF(ISNUMBER(Data!X13),100*ABS($G13-(Data!X13-$K13)/$M13),0)))","v":93.773983115886423},{"$f":"IF($H13=0,0,CHOOSE($H13,SUMPRODUCT(CHOOSE(AH$39,$O14:$O$36,$P14:$P$36,$Q14:$Q$36,$R14:$R$36)*AH14:AH$36*($E14:$E$36=$D13)),IF(ISNUMBER(Data!Y13),100*ABS($G13-(Data!Y13-$K13)/$M13),0),IF(ISNUMBER(Data!Y13),100*ABS($G13-(Data!Y13-$K13)/$M13),0)))","v":96.552826809925804},{"$f":"IF($H13=0,0,CHOOSE($H13,SUMPRODUCT(CHOOSE(AI$39,$O14:$O$36,$P14:$P$36,$Q14:$Q$36,$R14:$R$36)*AI14:AI$36*($E14:$E$36=$D13)),IF(ISNUMBER(Data!Z13),100*ABS($G13-(Data!Z13-$K13)/$M13),0),IF(ISNUMBER(Data!Z13),100*ABS($G13-(Data!Z13-$K13)/$M13),0)))","v":88.520081862368897},{"$f":"IF($H13=0,0,CHOOSE($H13,SUMPRODUCT(CHOOSE(AJ$39,$O14:$O$36,$P14:$P$36,$Q14:$Q$36,$R14:$R$36)*AJ14:AJ$36*($E14:$E$36=$D13)),IF(ISNUMBER(Data!AA13),100*ABS($G13-(Data!AA13-$K13)/$M13),0),IF(ISNUMBER(Data!AA13),100*ABS($G13-(Data!AA13-$K13)/$M13),0)))","v":97.937452033768224},{"$f":"IF($H13=0,0,CHOOSE($H13,SUMPRODUCT(CHOOSE(AK$39,$O14:$O$36,$P14:$P$36,$Q14:$Q$36,$R14:$R$36)*AK14:AK$36*($E14:$E$36=$D13)),IF(ISNUMBER(Data!AB13),100*ABS($G13-(Data!AB13-$K13)/$M13),0),IF(ISNUMBER(Data!AB13),100*ABS($G13-(Data!AB13-$K13)/$M13),0)))","v":94.455103607060636},{"$f":"IF($H13=0,0,CHOOSE($H13,SUMPRODUCT(CHOOSE(AL$39,$O14:$O$36,$P14:$P$36,$Q14:$Q$36,$R14:$R$36)*AL14:AL$36*($E14:$E$36=$D13)),IF(ISNUMBER(Data!AC13),100*ABS($G13-(Data!AC13-$K13)/$M13),0),IF(ISNUMBER(Data!AC13),100*ABS($G13-(Data!AC13-$K13)/$M13),0)))","v":95.014709644410331}]
[null,{"$f":"tblIndicators!A11","v":10},{"$f":"tblIndicators!B11","v":0},{"$f":"tblIndicators!D11","v":"EP_17"},{"$f":"tblIndicators!E11","v":"EP"},{"$f":"tblIndicators!F11","v":2},{"$f":"tblIndicators!S11","v":1},{"$f":"tblIndicators!T11","v":2},{"$f":"tblIndicators!U11","v":0},{"$f":"tblIndicators!V11","v":0},{"$f":"CHOOSE(H14,\"-\",MIN(Data!J14:AC14),I14)","v":8.32},{"$f":"CHOOSE(H14,\"-\",MAX(Data!J14:AC14),J14)","v":98.1},89.78,{"$f":"tblIndicators!Y11","v":"1.17) Export product concentration"},{"$f":"tblIndicators!AO11","v":7.1428571428571425E-2},{"$f":"tblIndicators!AR11","v":7.1428571428571425E-2},{"$f":"tblIndicators!AU11","v":4.1666666666666664E-2},{"$f":"tblIndicators!AX11","v":7.1428571428571425E-2},{"$f":"IF($H14=0,0,CHOOSE($H14,SUMPRODUCT(CHOOSE(S$39,$O15:$O$36,$P15:$P$36,$Q15:$Q$36,$R15:$R$36)*S15:S$36*($E15:$E$36=$D14)),IF(ISNUMBER(Data!J14),100*ABS($G14-(Data!J14-$K14)/$M14),0),IF(ISNUMBER(Data!J14),100*ABS($G14-(Data!J14-$K14)/$M14),0)))","v":88.304744932056138},{"$f":"IF($H14=0,0,CHOOSE($H14,SUMPRODUCT(CHOOSE(T$39,$O15:$O$36,$P15:$P$36,$Q15:$Q$36,$R15:$R$36)*T15:T$36*($E15:$E$36=$D14)),IF(ISNUMBER(Data!K14),100*ABS($G14-(Data!K14-$K14)/$M14),0),IF(ISNUMBER(Data!K14),100*ABS($G14-(Data!K14-$K14)/$M14),0)))","v":0},{"$f":"IF($H14=0,0,CHOOSE($H14,SUMPRODUCT(CHOOSE(U$39,$O15:$O$36,$P15:$P$36,$Q15:$Q$36,$R15:$R$36)*U15:U$36*($E15:$E$36=$D14)),IF(ISNUMBER(Data!L14),100*ABS($G14-(Data!L14-$K14)/$M14),0),IF(ISNUMBER(Data!L14),100*ABS($G14-(Data!L14-$K14)/$M14),0)))","v":81.710848741367798},{"$f":"IF($H14=0,0,CHOOSE($H14,SUMPRODUCT(CHOOSE(V$39,$O15:$O$36,$P15:$P$36,$Q15:$Q$36,$R15:$R$36)*V15:V$36*($E15:$E$36=$D14)),IF(ISNUMBER(Data!M14),100*ABS($G14-(Data!M14-$K14)/$M14),0),IF(ISNUMBER(Data!M14),100*ABS($G14-(Data!M14-$K14)/$M14),0)))","v":97.415905546892404},{"$f":"IF($H14=0,0,CHOOSE($H14,SUMPRODUCT(CHOOSE(W$39,$O15:$O$36,$P15:$P$36,$Q15:$Q$36,$R15:$R$36)*W15:W$36*($E15:$E$36=$D14)),IF(ISNUMBER(Data!N14),100*ABS($G14-(Data!N14-$K14)/$M14),0),IF(ISNUMBER(Data!N14),100*ABS($G14-(Data!N14-$K14)/$M14),0)))","v":82.000445533526403},{"$f":"IF($H14=0,0,CHOOSE($H14,SUMPRODUCT(CHOOSE(X$39,$O15:$O$36,$P15:$P$36,$Q15:$Q$36,$R15:$R$36)*X15:X$36*($E15:$E$36=$D14)),IF(ISNUMBER(Data!O14),100*ABS($G14-(Data!O14-$K14)/$M14),0),IF(ISNUMBER(Data!O14),100*ABS($G14-(Data!O14-$K14)/$M14),0)))","v":90.59924259300513},{"$f":"IF($H14=0,0,CHOOSE($H14,SUMPRODUCT(CHOOSE(Y$39,$O15:$O$36,$P15:$P$36,$Q15:$Q$36,$R15:$R$36)*Y15:Y$36*($E15:$E$36=$D14)),IF(ISNUMBER(Data!P14),100*ABS($G14-(Data!P14-$K14)/$M14),0),IF(ISNUMBER(Data!P14),100*ABS($G14-(Data!P14-$K14)/$M14),0)))","v":88.750278458454005},{"$f":"IF($H14=0,0,CHOOSE($H14,SUMPRODUCT(CHOOSE(Z$39,$O15:$O$36,$P15:$P$36,$Q15:$Q$36,$R15:$R$36)*Z15:Z$36*($E15:$E$36=$D14)),IF(ISNUMBER(Data!Q14),100*ABS($G14-(Data!Q14-$K14)/$M14),0),IF(ISNUMBER(Data!Q14),100*ABS($G14-(Data!Q14-$K14)/$M14),0)))","v":83.247939407440413},{"$f":"IF($H14=0,0,CHOOSE($H14,SUMPRODUCT(CHOOSE(AA$39,$O15:$O$36,$P15:$P$36,$Q15:$Q$36,$R15:$R$36)*AA15:AA$36*($E15:$E$36=$D14)),IF(ISNUMBER(Data!R14),100*ABS($G14-(Data!R14-$K14)/$M14),0),IF(ISNUMBER(Data!R14),100*ABS($G14-(Data!R14-$K14)/$M14),0)))","v":95.789708175540213},{"$f":"IF($H14=0,0,CHOOSE($H14,SUMPRODUCT(CHOOSE(AB$39,$O15:$O$36,$P15:$P$36,$Q15:$Q$36,$R15:$R$36)*AB15:AB$36*($E15:$E$36=$D14)),IF(ISNUMBER(Data!S14),100*ABS($G14-(Data!S14-$K14)/$M14),0),IF(ISNUMBER(Data!S14),100*ABS($G14-(Data!S14-$K14)/$M14),0)))","v":88.3938516373357},{"$f":"IF($H14=0,0,CHOOSE($H14,SUMPRODUCT(CHOOSE(AC$39,$O15:$O$36,$P15:$P$36,$Q15:$Q$36,$R15:$R$36)*AC15:AC$36*($E15:$E$36=$D14)),IF(ISNUMBER(Data!T14),100*ABS($G14-(Data!T14-$K14)/$M14),0),IF(ISNUMBER(Data!T14),100*ABS($G14-(Data!T14-$K14)/$M14),0)))","v":92.648696814435283},{"$f":"IF($H14=0,0,CHOOSE($H14,SUMPRODUCT(CHOOSE(AD$39,$O15:$O$36,$P15:$P$36,$Q15:$Q$36,$R15:$R$36)*AD15:AD$36*($E15:$E$36=$D14)),IF(ISNUMBER(Data!U14),100*ABS($G14-(Data!U14-$K14)/$M14),0),IF(ISNUMBER(Data!U14),100*ABS($G14-(Data!U14-$K14)/$M14),0)))","v":99.108932947204281},{"$f":"IF($H14=0,0,CHOOSE($H14,SUMPRODUCT(CHOOSE(AE$39,$O15:$O$36,$P15:$P$36,$Q15:$Q$36,$R15:$R$36)*AE15:AE$36*($E15:$E$36=$D14)),IF(ISNUMBER(Data!V14),100*ABS($G14-(Data!V14-$K14)/$M14),0),IF(ISNUMBER(Data!V14),100*ABS($G14-(Data!V14-$K14)/$M14),0)))","v":90.554689240365335},{"$f":"IF($H14=0,0,CHOOSE($H14,SUMPRODUCT(CHOOSE(AF$39,$O15:$O$36,$P15:$P$36,$Q15:$Q$36,$R15:$R$36)*AF15:AF$36*($E15:$E$36=$D14)),IF(ISNUMBER(Data!W14),100*ABS($G14-(Data!W14-$K14)/$M14),0),IF(ISNUMBER(Data!W14),100*ABS($G14-(Data!W14-$K14)/$M14),0)))","v":90.220539095566949},{"$f":"IF($H14=0,0,CHOOSE($H14,SUMPRODUCT(CHOOSE(AG$39,$O15:$O$36,$P15:$P$36,$Q15:$Q$36,$R15:$R$36)*AG15:AG$36*($E15:$E$36=$D14)),IF(ISNUMBER(Data!X14),100*ABS($G14-(Data!X14-$K14)/$M14),0),IF(ISNUMBER(Data!X14),100*ABS($G14-(Data!X14-$K14)/$M14),0)))","v":84.673646691913561},{"$f":"IF($H14=0,0,CHOOSE($H14,SUMPRODUCT(CHOOSE(AH$39,$O15:$O$36,$P15:$P$36,$Q15:$Q$36,$R15:$R$36)*AH15:AH$36*($E15:$E$36=$D14)),IF(ISNUMBER(Data!Y14),100*ABS($G14-(Data!Y14-$K14)/$M14),0),IF(ISNUMBER(Data!Y14),100*ABS($G14-(Data!Y14-$K14)/$M14),0)))","v":91.445756293161054},{"$f":"IF($H14=0,0,CHOOSE($H14,SUMPRODUCT(CHOOSE(AI$39,$O15:$O$36,$P15:$P$36,$Q15:$Q$36,$R15:$R$36)*AI15:AI$36*($E15:$E$36=$D14)),IF(ISNUMBER(Data!Z14),100*ABS($G14-(Data!Z14-$K14)/$M14),0),IF(ISNUMBER(Data!Z14),100*ABS($G14-(Data!Z14-$K14)/$M14),0)))","v":88.126531521496986},{"$f":"IF($H14=0,0,CHOOSE($H14,SUMPRODUCT(CHOOSE(AJ$39,$O15:$O$36,$P15:$P$36,$Q15:$Q$36,$R15:$R$36)*AJ15:AJ$36*($E15:$E$36=$D14)),IF(ISNUMBER(Data!AA14),100*ABS($G14-(Data!AA14-$K14)/$M14),0),IF(ISNUMBER(Data!AA14),100*ABS($G14-(Data!AA14-$K14)/$M14),0)))","v":81.421251949209179},{"$f":"IF($H14=0,0,CHOOSE($H14,SUMPRODUCT(CHOOSE(AK$39,$O15:$O$36,$P15:$P$36,$Q15:$Q$36,$R15:$R$36)*AK15:AK$36*($E15:$E$36=$D14)),IF(ISNUMBER(Data!AB14),100*ABS($G14-(Data!AB14-$K14)/$M14),0),IF(ISNUMBER(Data!AB14),100*ABS($G14-(Data!AB14-$K14)/$M14),0)))","v":100},{"$f":"IF($H14=0,0,CHOOSE($H14,SUMPRODUCT(CHOOSE(AL$39,$O15:$O$36,$P15:$P$36,$Q15:$Q$36,$R15:$R$36)*AL15:AL$36*($E15:$E$36=$D14)),IF(ISNUMBER(Data!AC14),100*ABS($G14-(Data!AC14-$K14)/$M14),0),IF(ISNUMBER(Data!AC14),100*ABS($G14-(Data!AC14-$K14)/$M14),0)))","v":84.896413455112494}]
[null,{"$f":"tblIndicators!A12","v":11},{"$f":"tblIndicators!B12","v":0},{"$f":"tblIndicators!D12","v":"EP_18"},{"$f":"tblIndicators!E12","v":"EP"},{"$f":"tblIndicators!F12","v":2},{"$f":"tblIndicators!S12","v":0},{"$f":"tblIndicators!T12","v":2},{"$f":"tblIndicators!U12","v":0},{"$f":"tblIndicators!V12","v":0},{"$f":"CHOOSE(H15,\"-\",MIN(Data!J15:AC15),I15)","v":3.0000000000000001E-3},{"$f":"CHOOSE(H15,\"-\",MAX(Data!J15:AC15),J15)","v":34.22},34.216999999999999,{"$f":"tblIndicators!Y12","v":"1.18) Foreign Direct Investment"},{"$f":"tblIndicators!AO12","v":7.1428571428571425E-2},{"$f":"tblIndicators!AR12","v":7.1428571428571425E-2},{"$f":"tblIndicators!AU12","v":4.1666666666666664E-2},{"$f":"tblIndicators!AX12","v":7.1428571428571425E-2},{"$f":"IF($H15=0,0,CHOOSE($H15,SUMPRODUCT(CHOOSE(S$39,$O16:$O$36,$P16:$P$36,$Q16:$Q$36,$R16:$R$36)*S16:S$36*($E16:$E$36=$D15)),IF(ISNUMBER(Data!J15),100*ABS($G15-(Data!J15-$K15)/$M15),0),IF(ISNUMBER(Data!J15),100*ABS($G15-(Data!J15-$K15)/$M15),0)))","v":2.6799544086272911},{"$f":"IF($H15=0,0,CHOOSE($H15,SUMPRODUCT(CHOOSE(T$39,$O16:$O$36,$P16:$P$36,$Q16:$Q$36,$R16:$R$36)*T16:T$36*($E16:$E$36=$D15)),IF(ISNUMBER(Data!K15),100*ABS($G15-(Data!K15-$K15)/$M15),0),IF(ISNUMBER(Data!K15),100*ABS($G15-(Data!K15-$K15)/$M15),0)))","v":0},{"$f":"IF($H15=0,0,CHOOSE($H15,SUMPRODUCT(CHOOSE(U$39,$O16:$O$36,$P16:$P$36,$Q16:$Q$36,$R16:$R$36)*U16:U$36*($E16:$E$36=$D15)),IF(ISNUMBER(Data!L15),100*ABS($G15-(Data!L15-$K15)/$M15),0),IF(ISNUMBER(Data!L15),100*ABS($G15-(Data!L15-$K15)/$M15),0)))","v":22.535581728380631},{"$f":"IF($H15=0,0,CHOOSE($H15,SUMPRODUCT(CHOOSE(V$39,$O16:$O$36,$P16:$P$36,$Q16:$Q$36,$R16:$R$36)*V16:V$36*($E16:$E$36=$D15)),IF(ISNUMBER(Data!M15),100*ABS($G15-(Data!M15-$K15)/$M15),0),IF(ISNUMBER(Data!M15),100*ABS($G15-(Data!M15-$K15)/$M15),0)))","v":11.546891895841247},{"$f":"IF($H15=0,0,CHOOSE($H15,SUMPRODUCT(CHOOSE(W$39,$O16:$O$36,$P16:$P$36,$Q16:$Q$36,$R16:$R$36)*W16:W$36*($E16:$E$36=$D15)),IF(ISNUMBER(Data!N15),100*ABS($G15-(Data!N15-$K15)/$M15),0),IF(ISNUMBER(Data!N15),100*ABS($G15-(Data!N15-$K15)/$M15),0)))","v":100},{"$f":"IF($H15=0,0,CHOOSE($H15,SUMPRODUCT(CHOOSE(X$39,$O16:$O$36,$P16:$P$36,$Q16:$Q$36,$R16:$R$36)*X16:X$36*($E16:$E$36=$D15)),IF(ISNUMBER(Data!O15),100*ABS($G15-(Data!O15-$K15)/$M15),0),IF(ISNUMBER(Data!O15),100*ABS($G15-(Data!O15-$K15)/$M15),0)))","v":4.7257211327702606},{"$f":"IF($H15=0,0,CHOOSE($H15,SUMPRODUCT(CHOOSE(Y$39,$O16:$O$36,$P16:$P$36,$Q16:$Q$36,$R16:$R$36)*Y16:Y$36*($E16:$E$36=$D15)),IF(ISNUMBER(Data!P15),100*ABS($G15-(Data!P15-$K15)/$M15),0),IF(ISNUMBER(Data!P15),100*ABS($G15-(Data!P15-$K15)/$M15),0)))","v":6.8883888125785431},{"$f":"IF($H15=0,0,CHOOSE($H15,SUMPRODUCT(CHOOSE(Z$39,$O16:$O$36,$P16:$P$36,$Q16:$Q$36,$R16:$R$36)*Z16:Z$36*($E16:$E$36=$D15)),IF(ISNUMBER(Data!Q15),100*ABS($G15-(Data!Q15-$K15)/$M15),0),IF(ISNUMBER(Data!Q15),100*ABS($G15-(Data!Q15-$K15)/$M15),0)))","v":0.28348481748838295},{"$f":"IF($H15=0,0,CHOOSE($H15,SUMPRODUCT(CHOOSE(AA$39,$O16:$O$36,$P16:$P$36,$Q16:$Q$36,$R16:$R$36)*AA16:AA$36*($E16:$E$36=$D15)),IF(ISNUMBER(Data!R15),100*ABS($G15-(Data!R15-$K15)/$M15),0),IF(ISNUMBER(Data!R15),100*ABS($G15-(Data!R15-$K15)/$M15),0)))","v":10.629219393868544},{"$f":"IF($H15=0,0,CHOOSE($H15,SUMPRODUCT(CHOOSE(AB$39,$O16:$O$36,$P16:$P$36,$Q16:$Q$36,$R16:$R$36)*AB16:AB$36*($E16:$E$36=$D15)),IF(ISNUMBER(Data!S15),100*ABS($G15-(Data!S15-$K15)/$M15),0),IF(ISNUMBER(Data!S15),100*ABS($G15-(Data!S15-$K15)/$M15),0)))","v":11.33062512786042},{"$f":"IF($H15=0,0,CHOOSE($H15,SUMPRODUCT(CHOOSE(AC$39,$O16:$O$36,$P16:$P$36,$Q16:$Q$36,$R16:$R$36)*AC16:AC$36*($E16:$E$36=$D15)),IF(ISNUMBER(Data!T15),100*ABS($G15-(Data!T15-$K15)/$M15),0),IF(ISNUMBER(Data!T15),100*ABS($G15-(Data!T15-$K15)/$M15),0)))","v":14.837653797819797},{"$f":"IF($H15=0,0,CHOOSE($H15,SUMPRODUCT(CHOOSE(AD$39,$O16:$O$36,$P16:$P$36,$Q16:$Q$36,$R16:$R$36)*AD16:AD$36*($E16:$E$36=$D15)),IF(ISNUMBER(Data!U15),100*ABS($G15-(Data!U15-$K15)/$M15),0),IF(ISNUMBER(Data!U15),100*ABS($G15-(Data!U15-$K15)/$M15),0)))","v":1.9785486746354153},{"$f":"IF($H15=0,0,CHOOSE($H15,SUMPRODUCT(CHOOSE(AE$39,$O16:$O$36,$P16:$P$36,$Q16:$Q$36,$R16:$R$36)*AE16:AE$36*($E16:$E$36=$D15)),IF(ISNUMBER(Data!V15),100*ABS($G15-(Data!V15-$K15)/$M15),0),IF(ISNUMBER(Data!V15),100*ABS($G15-(Data!V15-$K15)/$M15),0)))","v":3.6736125317824477},{"$f":"IF($H15=0,0,CHOOSE($H15,SUMPRODUCT(CHOOSE(AF$39,$O16:$O$36,$P16:$P$36,$Q16:$Q$36,$R16:$R$36)*AF16:AF$36*($E16:$E$36=$D15)),IF(ISNUMBER(Data!W15),100*ABS($G15-(Data!W15-$K15)/$M15),0),IF(ISNUMBER(Data!W15),100*ABS($G15-(Data!W15-$K15)/$M15),0)))","v":60.487476985124353},{"$f":"IF($H15=0,0,CHOOSE($H15,SUMPRODUCT(CHOOSE(AG$39,$O16:$O$36,$P16:$P$36,$Q16:$Q$36,$R16:$R$36)*AG16:AG$36*($E16:$E$36=$D15)),IF(ISNUMBER(Data!X15),100*ABS($G15-(Data!X15-$K15)/$M15),0),IF(ISNUMBER(Data!X15),100*ABS($G15-(Data!X15-$K15)/$M15),0)))","v":2.4461524972966657},{"$f":"IF($H15=0,0,CHOOSE($H15,SUMPRODUCT(CHOOSE(AH$39,$O16:$O$36,$P16:$P$36,$Q16:$Q$36,$R16:$R$36)*AH16:AH$36*($E16:$E$36=$D15)),IF(ISNUMBER(Data!Y15),100*ABS($G15-(Data!Y15-$K15)/$M15),0),IF(ISNUMBER(Data!Y15),100*ABS($G15-(Data!Y15-$K15)/$M15),0)))","v":4.0243153987783851},{"$f":"IF($H15=0,0,CHOOSE($H15,SUMPRODUCT(CHOOSE(AI$39,$O16:$O$36,$P16:$P$36,$Q16:$Q$36,$R16:$R$36)*AI16:AI$36*($E16:$E$36=$D15)),IF(ISNUMBER(Data!Z15),100*ABS($G15-(Data!Z15-$K15)/$M15),0),IF(ISNUMBER(Data!Z15),100*ABS($G15-(Data!Z15-$K15)/$M15),0)))","v":1.1602419849782273},{"$f":"IF($H15=0,0,CHOOSE($H15,SUMPRODUCT(CHOOSE(AJ$39,$O16:$O$36,$P16:$P$36,$Q16:$Q$36,$R16:$R$36)*AJ16:AJ$36*($E16:$E$36=$D15)),IF(ISNUMBER(Data!AA15),100*ABS($G15-(Data!AA15-$K15)/$M15),0),IF(ISNUMBER(Data!AA15),100*ABS($G15-(Data!AA15-$K15)/$M15),0)))","v":7.6482450244030744},{"$f":"IF($H15=0,0,CHOOSE($H15,SUMPRODUCT(CHOOSE(AK$39,$O16:$O$36,$P16:$P$36,$Q16:$Q$36,$R16:$R$36)*AK16:AK$36*($E16:$E$36=$D15)),IF(ISNUMBER(Data!AB15),100*ABS($G15-(Data!AB15-$K15)/$M15),0),IF(ISNUMBER(Data!AB15),100*ABS($G15-(Data!AB15-$K15)/$M15),0)))","v":16.474267177134173},{"$f":"IF($H15=0,0,CHOOSE($H15,SUMPRODUCT(CHOOSE(AL$39,$O16:$O$36,$P16:$P$36,$Q16:$Q$36,$R16:$R$36)*AL16:AL$36*($E16:$E$36=$D15)),IF(ISNUMBER(Data!AC15),100*ABS($G15-(Data!AC15-$K15)/$M15),0),IF(ISNUMBER(Data!AC15),100*ABS($G15-(Data!AC15-$K15)/$M15),0)))","v":4.2581173101090108}]
[null,{"$f":"tblIndicators!A13","v":12},{"$f":"tblIndicators!B13","v":0},{"$f":"tblIndicators!D13","v":"EP_19"},{"$f":"tblIndicators!E13","v":"EP"},{"$f":"tblIndicators!F13","v":2},{"$f":"tblIndicators!S13","v":0},{"$f":"tblIndicators!T13","v":2},{"$f":"tblIndicators!U13","v":0},{"$f":"tblIndicators!V13","v":0},{"$f":"CHOOSE(H16,\"-\",MIN(Data!J16:AC16),I16)","v":13.39},{"$f":"CHOOSE(H16,\"-\",MAX(Data!J16:AC16),J16)","v":44.456000000000003},31.066000000000003,{"$f":"tblIndicators!Y13","v":"1.19) Gross fixed capital formation"},{"$f":"tblIndicators!AO13","v":7.1428571428571425E-2},{"$f":"tblIndicators!AR13","v":7.1428571428571425E-2},{"$f":"tblIndicators!AU13","v":4.1666666666666664E-2},{"$f":"tblIndicators!AX13","v":7.1428571428571425E-2},{"$f":"IF($H16=0,0,CHOOSE($H16,SUMPRODUCT(CHOOSE(S$39,$O17:$O$36,$P17:$P$36,$Q17:$Q$36,$R17:$R$36)*S17:S$36*($E17:$E$36=$D16)),IF(ISNUMBER(Data!J16),100*ABS($G16-(Data!J16-$K16)/$M16),0),IF(ISNUMBER(Data!J16),100*ABS($G16-(Data!J16-$K16)/$M16),0)))","v":46.391553466812596},{"$f":"IF($H16=0,0,CHOOSE($H16,SUMPRODUCT(CHOOSE(T$39,$O17:$O$36,$P17:$P$36,$Q17:$Q$36,$R17:$R$36)*T17:T$36*($E17:$E$36=$D16)),IF(ISNUMBER(Data!K16),100*ABS($G16-(Data!K16-$K16)/$M16),0),IF(ISNUMBER(Data!K16),100*ABS($G16-(Data!K16-$K16)/$M16),0)))","v":70.417820124895385},{"$f":"IF($H16=0,0,CHOOSE($H16,SUMPRODUCT(CHOOSE(U$39,$O17:$O$36,$P17:$P$36,$Q17:$Q$36,$R17:$R$36)*U17:U$36*($E17:$E$36=$D16)),IF(ISNUMBER(Data!L16),100*ABS($G16-(Data!L16-$K16)/$M16),0),IF(ISNUMBER(Data!L16),100*ABS($G16-(Data!L16-$K16)/$M16),0)))","v":12.335028648683439},{"$f":"IF($H16=0,0,CHOOSE($H16,SUMPRODUCT(CHOOSE(V$39,$O17:$O$36,$P17:$P$36,$Q17:$Q$36,$R17:$R$36)*V17:V$36*($E17:$E$36=$D16)),IF(ISNUMBER(Data!M16),100*ABS($G16-(Data!M16-$K16)/$M16),0),IF(ISNUMBER(Data!M16),100*ABS($G16-(Data!M16-$K16)/$M16),0)))","v":100},{"$f":"IF($H16=0,0,CHOOSE($H16,SUMPRODUCT(CHOOSE(W$39,$O17:$O$36,$P17:$P$36,$Q17:$Q$36,$R17:$R$36)*W17:W$36*($E17:$E$36=$D16)),IF(ISNUMBER(Data!N16),100*ABS($G16-(Data!N16-$K16)/$M16),0),IF(ISNUMBER(Data!N16),100*ABS($G16-(Data!N16-$K16)/$M16),0)))","v":33.180969548702762},{"$f":"IF($H16=0,0,CHOOSE($H16,SUMPRODUCT(CHOOSE(X$39,$O17:$O$36,$P17:$P$36,$Q17:$Q$36,$R17:$R$36)*X17:X$36*($E17:$E$36=$D16)),IF(ISNUMBER(Data!O16),100*ABS($G16-(Data!O16-$K16)/$M16),0),IF(ISNUMBER(Data!O16),100*ABS($G16-(Data!O16-$K16)/$M16),0)))","v":56.917530419107685},{"$f":"IF($H16=0,0,CHOOSE($H16,SUMPRODUCT(CHOOSE(Y$39,$O17:$O$36,$P17:$P$36,$Q17:$Q$36,$R17:$R$36)*Y17:Y$36*($E17:$E$36=$D16)),IF(ISNUMBER(Data!P16),100*ABS($G16-(Data!P16-$K16)/$M16),0),IF(ISNUMBER(Data!P16),100*ABS($G16-(Data!P16-$K16)/$M16),0)))","v":59.602137384922415},{"$f":"IF($H16=0,0,CHOOSE($H16,SUMPRODUCT(CHOOSE(Z$39,$O17:$O$36,$P17:$P$36,$Q17:$Q$36,$R17:$R$36)*Z17:Z$36*($E17:$E$36=$D16)),IF(ISNUMBER(Data!Q16),100*ABS($G16-(Data!Q16-$K16)/$M16),0),IF(ISNUMBER(Data!Q16),100*ABS($G16-(Data!Q16-$K16)/$M16),0)))","v":24.946887272259062},{"$f":"IF($H16=0,0,CHOOSE($H16,SUMPRODUCT(CHOOSE(AA$39,$O17:$O$36,$P17:$P$36,$Q17:$Q$36,$R17:$R$36)*AA17:AA$36*($E17:$E$36=$D16)),IF(ISNUMBER(Data!R16),100*ABS($G16-(Data!R16-$K16)/$M16),0),IF(ISNUMBER(Data!R16),100*ABS($G16-(Data!R16-$K16)/$M16),0)))","v":47.634069400630906},{"$f":"IF($H16=0,0,CHOOSE($H16,SUMPRODUCT(CHOOSE(AB$39,$O17:$O$36,$P17:$P$36,$Q17:$Q$36,$R17:$R$36)*AB17:AB$36*($E17:$E$36=$D16)),IF(ISNUMBER(Data!S16),100*ABS($G16-(Data!S16-$K16)/$M16),0),IF(ISNUMBER(Data!S16),100*ABS($G16-(Data!S16-$K16)/$M16),0)))","v":35.723942573874986},{"$f":"IF($H16=0,0,CHOOSE($H16,SUMPRODUCT(CHOOSE(AC$39,$O17:$O$36,$P17:$P$36,$Q17:$Q$36,$R17:$R$36)*AC17:AC$36*($E17:$E$36=$D16)),IF(ISNUMBER(Data!T16),100*ABS($G16-(Data!T16-$K16)/$M16),0),IF(ISNUMBER(Data!T16),100*ABS($G16-(Data!T16-$K16)/$M16),0)))","v":12.071074486576954},{"$f":"IF($H16=0,0,CHOOSE($H16,SUMPRODUCT(CHOOSE(AD$39,$O17:$O$36,$P17:$P$36,$Q17:$Q$36,$R17:$R$36)*AD17:AD$36*($E17:$E$36=$D16)),IF(ISNUMBER(Data!U16),100*ABS($G16-(Data!U16-$K16)/$M16),0),IF(ISNUMBER(Data!U16),100*ABS($G16-(Data!U16-$K16)/$M16),0)))","v":0},{"$f":"IF($H16=0,0,CHOOSE($H16,SUMPRODUCT(CHOOSE(AE$39,$O17:$O$36,$P17:$P$36,$Q17:$Q$36,$R17:$R$36)*AE17:AE$36*($E17:$E$36=$D16)),IF(ISNUMBER(Data!V16),100*ABS($G16-(Data!V16-$K16)/$M16),0),IF(ISNUMBER(Data!V16),100*ABS($G16-(Data!V16-$K16)/$M16),0)))","v":21.380287130625117},{"$f":"IF($H16=0,0,CHOOSE($H16,SUMPRODUCT(CHOOSE(AF$39,$O17:$O$36,$P17:$P$36,$Q17:$Q$36,$R17:$R$36)*AF17:AF$36*($E17:$E$36=$D16)),IF(ISNUMBER(Data!W16),100*ABS($G16-(Data!W16-$K16)/$M16),0),IF(ISNUMBER(Data!W16),100*ABS($G16-(Data!W16-$K16)/$M16),0)))","v":40.700444215541097},{"$f":"IF($H16=0,0,CHOOSE($H16,SUMPRODUCT(CHOOSE(AG$39,$O17:$O$36,$P17:$P$36,$Q17:$Q$36,$R17:$R$36)*AG17:AG$36*($E17:$E$36=$D16)),IF(ISNUMBER(Data!X16),100*ABS($G16-(Data!X16-$K16)/$M16),0),IF(ISNUMBER(Data!X16),100*ABS($G16-(Data!X16-$K16)/$M16),0)))","v":52.617008948689879},{"$f":"IF($H16=0,0,CHOOSE($H16,SUMPRODUCT(CHOOSE(AH$39,$O17:$O$36,$P17:$P$36,$Q17:$Q$36,$R17:$R$36)*AH17:AH$36*($E17:$E$36=$D16)),IF(ISNUMBER(Data!Y16),100*ABS($G16-(Data!Y16-$K16)/$M16),0),IF(ISNUMBER(Data!Y16),100*ABS($G16-(Data!Y16-$K16)/$M16),0)))","v":46.571814845812149},{"$f":"IF($H16=0,0,CHOOSE($H16,SUMPRODUCT(CHOOSE(AI$39,$O17:$O$36,$P17:$P$36,$Q17:$Q$36,$R17:$R$36)*AI17:AI$36*($E17:$E$36=$D16)),IF(ISNUMBER(Data!Z16),100*ABS($G16-(Data!Z16-$K16)/$M16),0),IF(ISNUMBER(Data!Z16),100*ABS($G16-(Data!Z16-$K16)/$M16),0)))","v":29.710938002961434},{"$f":"IF($H16=0,0,CHOOSE($H16,SUMPRODUCT(CHOOSE(AJ$39,$O17:$O$36,$P17:$P$36,$Q17:$Q$36,$R17:$R$36)*AJ17:AJ$36*($E17:$E$36=$D16)),IF(ISNUMBER(Data!AA16),100*ABS($G16-(Data!AA16-$K16)/$M16),0),IF(ISNUMBER(Data!AA16),100*ABS($G16-(Data!AA16-$K16)/$M16),0)))","v":38.479366510010941},{"$f":"IF($H16=0,0,CHOOSE($H16,SUMPRODUCT(CHOOSE(AK$39,$O17:$O$36,$P17:$P$36,$Q17:$Q$36,$R17:$R$36)*AK17:AK$36*($E17:$E$36=$D16)),IF(ISNUMBER(Data!AB16),100*ABS($G16-(Data!AB16-$K16)/$M16),0),IF(ISNUMBER(Data!AB16),100*ABS($G16-(Data!AB16-$K16)/$M16),0)))","v":41.24766625893259},{"$f":"IF($H16=0,0,CHOOSE($H16,SUMPRODUCT(CHOOSE(AL$39,$O17:$O$36,$P17:$P$36,$Q17:$Q$36,$R17:$R$36)*AL17:AL$36*($E17:$E$36=$D16)),IF(ISNUMBER(Data!AC16),100*ABS($G16-(Data!AC16-$K16)/$M16),0),IF(ISNUMBER(Data!AC16),100*ABS($G16-(Data!AC16-$K16)/$M16),0)))","v":4.9056846713448694}]
[null,{"$f":"tblIndicators!A14","v":13},{"$f":"tblIndicators!B14","v":0},{"$f":"tblIndicators!D14","v":"EP_20"},{"$f":"tblIndicators!E14","v":"EP"},{"$f":"tblIndicators!F14","v":2},{"$f":"tblIndicators!S14","v":""},{"$f":"tblIndicators!T14","v":1},{"$f":"tblIndicators!U14","v":0},{"$f":"tblIndicators!V14","v":0},{"$f":"CHOOSE(H17,\"-\",MIN(Data!J17:AC17),I17)","v":"-"},{"$f":"CHOOSE(H17,\"-\",MAX(Data!J17:AC17),J17)","v":"-"},"-",{"$f":"tblIndicators!Y14","v":"1.20) Trade costs"},{"$f":"tblIndicators!AO14","v":7.1428571428571425E-2},{"$f":"tblIndicators!AR14","v":7.1428571428571425E-2},{"$f":"tblIndicators!AU14","v":4.1666666666666664E-2},{"$f":"tblIndicators!AX14","v":7.1428571428571425E-2},{"$f":"IF($H17=0,0,CHOOSE($H17,SUMPRODUCT(CHOOSE(S$39,$O18:$O$36,$P18:$P$36,$Q18:$Q$36,$R18:$R$36)*S18:S$36*($E18:$E$36=$D17)),IF(ISNUMBER(Data!J17),100*ABS($G17-(Data!J17-$K17)/$M17),0),IF(ISNUMBER(Data!J17),100*ABS($G17-(Data!J17-$K17)/$M17),0)))","v":29.466666666666669},{"$f":"IF($H17=0,0,CHOOSE($H17,SUMPRODUCT(CHOOSE(T$39,$O18:$O$36,$P18:$P$36,$Q18:$Q$36,$R18:$R$36)*T18:T$36*($E18:$E$36=$D17)),IF(ISNUMBER(Data!K17),100*ABS($G17-(Data!K17-$K17)/$M17),0),IF(ISNUMBER(Data!K17),100*ABS($G17-(Data!K17-$K17)/$M17),0)))","v":19.53125},{"$f":"IF($H17=0,0,CHOOSE($H17,SUMPRODUCT(CHOOSE(U$39,$O18:$O$36,$P18:$P$36,$Q18:$Q$36,$R18:$R$36)*U18:U$36*($E18:$E$36=$D17)),IF(ISNUMBER(Data!L17),100*ABS($G17-(Data!L17-$K17)/$M17),0),IF(ISNUMBER(Data!L17),100*ABS($G17-(Data!L17-$K17)/$M17),0)))","v":20.731250000000003},{"$f":"IF($H17=0,0,CHOOSE($H17,SUMPRODUCT(CHOOSE(V$39,$O18:$O$36,$P18:$P$36,$Q18:$Q$36,$R18:$R$36)*V18:V$36*($E18:$E$36=$D17)),IF(ISNUMBER(Data!M17),100*ABS($G17-(Data!M17-$K17)/$M17),0),IF(ISNUMBER(Data!M17),100*ABS($G17-(Data!M17-$K17)/$M17),0)))","v":33.969444444444449},{"$f":"IF($H17=0,0,CHOOSE($H17,SUMPRODUCT(CHOOSE(W$39,$O18:$O$36,$P18:$P$36,$Q18:$Q$36,$R18:$R$36)*W18:W$36*($E18:$E$36=$D17)),IF(ISNUMBER(Data!N17),100*ABS($G17-(Data!N17-$K17)/$M17),0),IF(ISNUMBER(Data!N17),100*ABS($G17-(Data!N17-$K17)/$M17),0)))","v":74.011111111111106},{"$f":"IF($H17=0,0,CHOOSE($H17,SUMPRODUCT(CHOOSE(X$39,$O18:$O$36,$P18:$P$36,$Q18:$Q$36,$R18:$R$36)*X18:X$36*($E18:$E$36=$D17)),IF(ISNUMBER(Data!O17),100*ABS($G17-(Data!O17-$K17)/$M17),0),IF(ISNUMBER(Data!O17),100*ABS($G17-(Data!O17-$K17)/$M17),0)))","v":40.052777777777777},{"$f":"IF($H17=0,0,CHOOSE($H17,SUMPRODUCT(CHOOSE(Y$39,$O18:$O$36,$P18:$P$36,$Q18:$Q$36,$R18:$R$36)*Y18:Y$36*($E18:$E$36=$D17)),IF(ISNUMBER(Data!P17),100*ABS($G17-(Data!P17-$K17)/$M17),0),IF(ISNUMBER(Data!P17),100*ABS($G17-(Data!P17-$K17)/$M17),0)))","v":33.038888888888891},{"$f":"IF($H17=0,0,CHOOSE($H17,SUMPRODUCT(CHOOSE(Z$39,$O18:$O$36,$P18:$P$36,$Q18:$Q$36,$R18:$R$36)*Z18:Z$36*($E18:$E$36=$D17)),IF(ISNUMBER(Data!Q17),100*ABS($G17-(Data!Q17-$K17)/$M17),0),IF(ISNUMBER(Data!Q17),100*ABS($G17-(Data!Q17-$K17)/$M17),0)))","v":71.911111111111111},{"$f":"IF($H17=0,0,CHOOSE($H17,SUMPRODUCT(CHOOSE(AA$39,$O18:$O$36,$P18:$P$36,$Q18:$Q$36,$R18:$R$36)*AA18:AA$36*($E18:$E$36=$D17)),IF(ISNUMBER(Data!R17),100*ABS($G17-(Data!R17-$K17)/$M17),0),IF(ISNUMBER(Data!R17),100*ABS($G17-(Data!R17-$K17)/$M17),0)))","v":15.83888888888889},{"$f":"IF($H17=0,0,CHOOSE($H17,SUMPRODUCT(CHOOSE(AB$39,$O18:$O$36,$P18:$P$36,$Q18:$Q$36,$R18:$R$36)*AB18:AB$36*($E18:$E$36=$D17)),IF(ISNUMBER(Data!S17),100*ABS($G17-(Data!S17-$K17)/$M17),0),IF(ISNUMBER(Data!S17),100*ABS($G17-(Data!S17-$K17)/$M17),0)))","v":59.894444444444446},{"$f":"IF($H17=0,0,CHOOSE($H17,SUMPRODUCT(CHOOSE(AC$39,$O18:$O$36,$P18:$P$36,$Q18:$Q$36,$R18:$R$36)*AC18:AC$36*($E18:$E$36=$D17)),IF(ISNUMBER(Data!T17),100*ABS($G17-(Data!T17-$K17)/$M17),0),IF(ISNUMBER(Data!T17),100*ABS($G17-(Data!T17-$K17)/$M17),0)))","v":13.842592591666666},{"$f":"IF($H17=0,0,CHOOSE($H17,SUMPRODUCT(CHOOSE(AD$39,$O18:$O$36,$P18:$P$36,$Q18:$Q$36,$R18:$R$36)*AD18:AD$36*($E18:$E$36=$D17)),IF(ISNUMBER(Data!U17),100*ABS($G17-(Data!U17-$K17)/$M17),0),IF(ISNUMBER(Data!U17),100*ABS($G17-(Data!U17-$K17)/$M17),0)))","v":30.886111111111113},{"$f":"IF($H17=0,0,CHOOSE($H17,SUMPRODUCT(CHOOSE(AE$39,$O18:$O$36,$P18:$P$36,$Q18:$Q$36,$R18:$R$36)*AE18:AE$36*($E18:$E$36=$D17)),IF(ISNUMBER(Data!V17),100*ABS($G17-(Data!V17-$K17)/$M17),0),IF(ISNUMBER(Data!V17),100*ABS($G17-(Data!V17-$K17)/$M17),0)))","v":32.916666666666664},{"$f":"IF($H17=0,0,CHOOSE($H17,SUMPRODUCT(CHOOSE(AF$39,$O18:$O$36,$P18:$P$36,$Q18:$Q$36,$R18:$R$36)*AF18:AF$36*($E18:$E$36=$D17)),IF(ISNUMBER(Data!W17),100*ABS($G17-(Data!W17-$K17)/$M17),0),IF(ISNUMBER(Data!W17),100*ABS($G17-(Data!W17-$K17)/$M17),0)))","v":86.25},{"$f":"IF($H17=0,0,CHOOSE($H17,SUMPRODUCT(CHOOSE(AG$39,$O18:$O$36,$P18:$P$36,$Q18:$Q$36,$R18:$R$36)*AG18:AG$36*($E18:$E$36=$D17)),IF(ISNUMBER(Data!X17),100*ABS($G17-(Data!X17-$K17)/$M17),0),IF(ISNUMBER(Data!X17),100*ABS($G17-(Data!X17-$K17)/$M17),0)))","v":69.044444444444451},{"$f":"IF($H17=0,0,CHOOSE($H17,SUMPRODUCT(CHOOSE(AH$39,$O18:$O$36,$P18:$P$36,$Q18:$Q$36,$R18:$R$36)*AH18:AH$36*($E18:$E$36=$D17)),IF(ISNUMBER(Data!Y17),100*ABS($G17-(Data!Y17-$K17)/$M17),0),IF(ISNUMBER(Data!Y17),100*ABS($G17-(Data!Y17-$K17)/$M17),0)))","v":44.75},{"$f":"IF($H17=0,0,CHOOSE($H17,SUMPRODUCT(CHOOSE(AI$39,$O18:$O$36,$P18:$P$36,$Q18:$Q$36,$R18:$R$36)*AI18:AI$36*($E18:$E$36=$D17)),IF(ISNUMBER(Data!Z17),100*ABS($G17-(Data!Z17-$K17)/$M17),0),IF(ISNUMBER(Data!Z17),100*ABS($G17-(Data!Z17-$K17)/$M17),0)))","v":66.655555555555566},{"$f":"IF($H17=0,0,CHOOSE($H17,SUMPRODUCT(CHOOSE(AJ$39,$O18:$O$36,$P18:$P$36,$Q18:$Q$36,$R18:$R$36)*AJ18:AJ$36*($E18:$E$36=$D17)),IF(ISNUMBER(Data!AA17),100*ABS($G17-(Data!AA17-$K17)/$M17),0),IF(ISNUMBER(Data!AA17),100*ABS($G17-(Data!AA17-$K17)/$M17),0)))","v":43.261111111111113},{"$f":"IF($H17=0,0,CHOOSE($H17,SUMPRODUCT(CHOOSE(AK$39,$O18:$O$36,$P18:$P$36,$Q18:$Q$36,$R18:$R$36)*AK18:AK$36*($E18:$E$36=$D17)),IF(ISNUMBER(Data!AB17),100*ABS($G17-(Data!AB17-$K17)/$M17),0),IF(ISNUMBER(Data!AB17),100*ABS($G17-(Data!AB17-$K17)/$M17),0)))","v":33.111111111111114},{"$f":"IF($H17=0,0,CHOOSE($H17,SUMPRODUCT(CHOOSE(AL$39,$O18:$O$36,$P18:$P$36,$Q18:$Q$36,$R18:$R$36)*AL18:AL$36*($E18:$E$36=$D17)),IF(ISNUMBER(Data!AC17),100*ABS($G17-(Data!AC17-$K17)/$M17),0),IF(ISNUMBER(Data!AC17),100*ABS($G17-(Data!AC17-$K17)/$M17),0)))","v":79.322222222222223}]
[null,{"$f":"tblIndicators!A15","v":14},{"$f":"tblIndicators!B15","v":0},{"$f":"tblIndicators!D15","v":"EP_20_1"},{"$f":"tblIndicators!E15","v":"EP_20"},{"$f":"tblIndicators!F15","v":3},{"$f":"tblIndicators!S15","v":0},{"$f":"tblIndicators!T15","v":3},{"$f":"tblIndicators!U15","v":1},{"$f":"tblIndicators!V15","v":10},{"$f":"CHOOSE(H18,\"-\",MIN(Data!J18:AC18),I18)","v":1},{"$f":"CHOOSE(H18,\"-\",MAX(Data!J18:AC18),J18)","v":10},9,{"$f":"tblIndicators!Y15","v":"1.20.1)    Infrastructure"},{"$f":"tblIndicators!AO15","v":0.25},{"$f":"tblIndicators!AR15","v":0.25},{"$f":"tblIndicators!AU15","v":0.25},{"$f":"tblIndicators!AX15","v":0.25},{"$f":"IF($H18=0,0,CHOOSE($H18,SUMPRODUCT(CHOOSE(S$39,$O19:$O$36,$P19:$P$36,$Q19:$Q$36,$R19:$R$36)*S19:S$36*($E19:$E$36=$D18)),IF(ISNUMBER(Data!J18),100*ABS($G18-(Data!J18-$K18)/$M18),0),IF(ISNUMBER(Data!J18),100*ABS($G18-(Data!J18-$K18)/$M18),0)))","v":16.666666666666664},{"$f":"IF($H18=0,0,CHOOSE($H18,SUMPRODUCT(CHOOSE(T$39,$O19:$O$36,$P19:$P$36,$Q19:$Q$36,$R19:$R$36)*T19:T$36*($E19:$E$36=$D18)),IF(ISNUMBER(Data!K18),100*ABS($G18-(Data!K18-$K18)/$M18),0),IF(ISNUMBER(Data!K18),100*ABS($G18-(Data!K18-$K18)/$M18),0)))","v":28.125},{"$f":"IF($H18=0,0,CHOOSE($H18,SUMPRODUCT(CHOOSE(U$39,$O19:$O$36,$P19:$P$36,$Q19:$Q$36,$R19:$R$36)*U19:U$36*($E19:$E$36=$D18)),IF(ISNUMBER(Data!L18),100*ABS($G18-(Data!L18-$K18)/$M18),0),IF(ISNUMBER(Data!L18),100*ABS($G18-(Data!L18-$K18)/$M18),0)))","v":28.125},{"$f":"IF($H18=0,0,CHOOSE($H18,SUMPRODUCT(CHOOSE(V$39,$O19:$O$36,$P19:$P$36,$Q19:$Q$36,$R19:$R$36)*V19:V$36*($E19:$E$36=$D18)),IF(ISNUMBER(Data!M18),100*ABS($G18-(Data!M18-$K18)/$M18),0),IF(ISNUMBER(Data!M18),100*ABS($G18-(Data!M18-$K18)/$M18),0)))","v":57.777777777777786},{"$f":"IF($H18=0,0,CHOOSE($H18,SUMPRODUCT(CHOOSE(W$39,$O19:$O$36,$P19:$P$36,$Q19:$Q$36,$R19:$R$36)*W19:W$36*($E19:$E$36=$D18)),IF(ISNUMBER(Data!N18),100*ABS($G18-(Data!N18-$K18)/$M18),0),IF(ISNUMBER(Data!N18),100*ABS($G18-(Data!N18-$K18)/$M18),0)))","v":84.444444444444443},{"$f":"IF($H18=0,0,CHOOSE($H18,SUMPRODUCT(CHOOSE(X$39,$O19:$O$36,$P19:$P$36,$Q19:$Q$36,$R19:$R$36)*X19:X$36*($E19:$E$36=$D18)),IF(ISNUMBER(Data!O18),100*ABS($G18-(Data!O18-$K18)/$M18),0),IF(ISNUMBER(Data!O18),100*ABS($G18-(Data!O18-$K18)/$M18),0)))","v":41.111111111111114},{"$f":"IF($H18=0,0,CHOOSE($H18,SUMPRODUCT(CHOOSE(Y$39,$O19:$O$36,$P19:$P$36,$Q19:$Q$36,$R19:$R$36)*Y19:Y$36*($E19:$E$36=$D18)),IF(ISNUMBER(Data!P18),100*ABS($G18-(Data!P18-$K18)/$M18),0),IF(ISNUMBER(Data!P18),100*ABS($G18-(Data!P18-$K18)/$M18),0)))","v":45.55555555555555},{"$f":"IF($H18=0,0,CHOOSE($H18,SUMPRODUCT(CHOOSE(Z$39,$O19:$O$36,$P19:$P$36,$Q19:$Q$36,$R19:$R$36)*Z19:Z$36*($E19:$E$36=$D18)),IF(ISNUMBER(Data!Q18),100*ABS($G18-(Data!Q18-$K18)/$M18),0),IF(ISNUMBER(Data!Q18),100*ABS($G18-(Data!Q18-$K18)/$M18),0)))","v":84.444444444444443},{"$f":"IF($H18=0,0,CHOOSE($H18,SUMPRODUCT(CHOOSE(AA$39,$O19:$O$36,$P19:$P$36,$Q19:$Q$36,$R19:$R$36)*AA19:AA$36*($E19:$E$36=$D18)),IF(ISNUMBER(Data!R18),100*ABS($G18-(Data!R18-$K18)/$M18),0),IF(ISNUMBER(Data!R18),100*ABS($G18-(Data!R18-$K18)/$M18),0)))","v":15.555555555555555},{"$f":"IF($H18=0,0,CHOOSE($H18,SUMPRODUCT(CHOOSE(AB$39,$O19:$O$36,$P19:$P$36,$Q19:$Q$36,$R19:$R$36)*AB19:AB$36*($E19:$E$36=$D18)),IF(ISNUMBER(Data!S18),100*ABS($G18-(Data!S18-$K18)/$M18),0),IF(ISNUMBER(Data!S18),100*ABS($G18-(Data!S18-$K18)/$M18),0)))","v":67.777777777777771},{"$f":"IF($H18=0,0,CHOOSE($H18,SUMPRODUCT(CHOOSE(AC$39,$O19:$O$36,$P19:$P$36,$Q19:$Q$36,$R19:$R$36)*AC19:AC$36*($E19:$E$36=$D18)),IF(ISNUMBER(Data!T18),100*ABS($G18-(Data!T18-$K18)/$M18),0),IF(ISNUMBER(Data!T18),100*ABS($G18-(Data!T18-$K18)/$M18),0)))","v":10.370370366666666},{"$f":"IF($H18=0,0,CHOOSE($H18,SUMPRODUCT(CHOOSE(AD$39,$O19:$O$36,$P19:$P$36,$Q19:$Q$36,$R19:$R$36)*AD19:AD$36*($E19:$E$36=$D18)),IF(ISNUMBER(Data!U18),100*ABS($G18-(Data!U18-$K18)/$M18),0),IF(ISNUMBER(Data!U18),100*ABS($G18-(Data!U18-$K18)/$M18),0)))","v":34.444444444444436},{"$f":"IF($H18=0,0,CHOOSE($H18,SUMPRODUCT(CHOOSE(AE$39,$O19:$O$36,$P19:$P$36,$Q19:$Q$36,$R19:$R$36)*AE19:AE$36*($E19:$E$36=$D18)),IF(ISNUMBER(Data!V18),100*ABS($G18-(Data!V18-$K18)/$M18),0),IF(ISNUMBER(Data!V18),100*ABS($G18-(Data!V18-$K18)/$M18),0)))","v":46.666666666666664},{"$f":"IF($H18=0,0,CHOOSE($H18,SUMPRODUCT(CHOOSE(AF$39,$O19:$O$36,$P19:$P$36,$Q19:$Q$36,$R19:$R$36)*AF19:AF$36*($E19:$E$36=$D18)),IF(ISNUMBER(Data!W18),100*ABS($G18-(Data!W18-$K18)/$M18),0),IF(ISNUMBER(Data!W18),100*ABS($G18-(Data!W18-$K18)/$M18),0)))","v":89.999999999999986},{"$f":"IF($H18=0,0,CHOOSE($H18,SUMPRODUCT(CHOOSE(AG$39,$O19:$O$36,$P19:$P$36,$Q19:$Q$36,$R19:$R$36)*AG19:AG$36*($E19:$E$36=$D18)),IF(ISNUMBER(Data!X18),100*ABS($G18-(Data!X18-$K18)/$M18),0),IF(ISNUMBER(Data!X18),100*ABS($G18-(Data!X18-$K18)/$M18),0)))","v":77.777777777777786},{"$f":"IF($H18=0,0,CHOOSE($H18,SUMPRODUCT(CHOOSE(AH$39,$O19:$O$36,$P19:$P$36,$Q19:$Q$36,$R19:$R$36)*AH19:AH$36*($E19:$E$36=$D18)),IF(ISNUMBER(Data!Y18),100*ABS($G18-(Data!Y18-$K18)/$M18),0),IF(ISNUMBER(Data!Y18),100*ABS($G18-(Data!Y18-$K18)/$M18),0)))","v":50},{"$f":"IF($H18=0,0,CHOOSE($H18,SUMPRODUCT(CHOOSE(AI$39,$O19:$O$36,$P19:$P$36,$Q19:$Q$36,$R19:$R$36)*AI19:AI$36*($E19:$E$36=$D18)),IF(ISNUMBER(Data!Z18),100*ABS($G18-(Data!Z18-$K18)/$M18),0),IF(ISNUMBER(Data!Z18),100*ABS($G18-(Data!Z18-$K18)/$M18),0)))","v":82.222222222222229},{"$f":"IF($H18=0,0,CHOOSE($H18,SUMPRODUCT(CHOOSE(AJ$39,$O19:$O$36,$P19:$P$36,$Q19:$Q$36,$R19:$R$36)*AJ19:AJ$36*($E19:$E$36=$D18)),IF(ISNUMBER(Data!AA18),100*ABS($G18-(Data!AA18-$K18)/$M18),0),IF(ISNUMBER(Data!AA18),100*ABS($G18-(Data!AA18-$K18)/$M18),0)))","v":54.44444444444445},{"$f":"IF($H18=0,0,CHOOSE($H18,SUMPRODUCT(CHOOSE(AK$39,$O19:$O$36,$P19:$P$36,$Q19:$Q$36,$R19:$R$36)*AK19:AK$36*($E19:$E$36=$D18)),IF(ISNUMBER(Data!AB18),100*ABS($G18-(Data!AB18-$K18)/$M18),0),IF(ISNUMBER(Data!AB18),100*ABS($G18-(Data!AB18-$K18)/$M18),0)))","v":44.444444444444443},{"$f":"IF($H18=0,0,CHOOSE($H18,SUMPRODUCT(CHOOSE(AL$39,$O19:$O$36,$P19:$P$36,$Q19:$Q$36,$R19:$R$36)*AL19:AL$36*($E19:$E$36=$D18)),IF(ISNUMBER(Data!AC18),100*ABS($G18-(Data!AC18-$K18)/$M18),0),IF(ISNUMBER(Data!AC18),100*ABS($G18-(Data!AC18-$K18)/$M18),0)))","v":88.888888888888886}]
[null,{"$f":"tblIndicators!A16","v":15},{"$f":"tblIndicators!B16","v":0},{"$f":"tblIndicators!D16","v":"EP_20_2"},{"$f":"tblIndicators!E16","v":"EP_20"},{"$f":"tblIndicators!F16","v":3},{"$f":"tblIndicators!S16","v":0},{"$f":"tblIndicators!T16","v":3},{"$f":"tblIndicators!U16","v":0},{"$f":"tblIndicators!V16","v":5},{"$f":"CHOOSE(H19,\"-\",MIN(Data!J19:AC19),I19)","v":0},{"$f":"CHOOSE(H19,\"-\",MAX(Data!J19:AC19),J19)","v":5},5,{"$f":"tblIndicators!Y16","v":"1.20.2)    Logistics performance"},{"$f":"tblIndicators!AO16","v":0.25},{"$f":"tblIndicators!AR16","v":0.25},{"$f":"tblIndicators!AU16","v":0.25},{"$f":"tblIndicators!AX16","v":0.25},{"$f":"IF($H19=0,0,CHOOSE($H19,SUMPRODUCT(CHOOSE(S$39,$O20:$O$36,$P20:$P$36,$Q20:$Q$36,$R20:$R$36)*S20:S$36*($E20:$E$36=$D19)),IF(ISNUMBER(Data!J19),100*ABS($G19-(Data!J19-$K19)/$M19),0),IF(ISNUMBER(Data!J19),100*ABS($G19-(Data!J19-$K19)/$M19),0)))","v":51.2},{"$f":"IF($H19=0,0,CHOOSE($H19,SUMPRODUCT(CHOOSE(T$39,$O20:$O$36,$P20:$P$36,$Q20:$Q$36,$R20:$R$36)*T20:T$36*($E20:$E$36=$D19)),IF(ISNUMBER(Data!K19),100*ABS($G19-(Data!K19-$K19)/$M19),0),IF(ISNUMBER(Data!K19),100*ABS($G19-(Data!K19-$K19)/$M19),0)))","v":0},{"$f":"IF($H19=0,0,CHOOSE($H19,SUMPRODUCT(CHOOSE(U$39,$O20:$O$36,$P20:$P$36,$Q20:$Q$36,$R20:$R$36)*U20:U$36*($E20:$E$36=$D19)),IF(ISNUMBER(Data!L19),100*ABS($G19-(Data!L19-$K19)/$M19),0),IF(ISNUMBER(Data!L19),100*ABS($G19-(Data!L19-$K19)/$M19),0)))","v":54.800000000000004},{"$f":"IF($H19=0,0,CHOOSE($H19,SUMPRODUCT(CHOOSE(V$39,$O20:$O$36,$P20:$P$36,$Q20:$Q$36,$R20:$R$36)*V20:V$36*($E20:$E$36=$D19)),IF(ISNUMBER(Data!M19),100*ABS($G19-(Data!M19-$K19)/$M19),0),IF(ISNUMBER(Data!M19),100*ABS($G19-(Data!M19-$K19)/$M19),0)))","v":70.599999999999994},{"$f":"IF($H19=0,0,CHOOSE($H19,SUMPRODUCT(CHOOSE(W$39,$O20:$O$36,$P20:$P$36,$Q20:$Q$36,$R20:$R$36)*W20:W$36*($E20:$E$36=$D19)),IF(ISNUMBER(Data!N19),100*ABS($G19-(Data!N19-$K19)/$M19),0),IF(ISNUMBER(Data!N19),100*ABS($G19-(Data!N19-$K19)/$M19),0)))","v":76.599999999999994},{"$f":"IF($H19=0,0,CHOOSE($H19,SUMPRODUCT(CHOOSE(X$39,$O20:$O$36,$P20:$P$36,$Q20:$Q$36,$R20:$R$36)*X20:X$36*($E20:$E$36=$D19)),IF(ISNUMBER(Data!O19),100*ABS($G19-(Data!O19-$K19)/$M19),0),IF(ISNUMBER(Data!O19),100*ABS($G19-(Data!O19-$K19)/$M19),0)))","v":61.6},{"$f":"IF($H19=0,0,CHOOSE($H19,SUMPRODUCT(CHOOSE(Y$39,$O20:$O$36,$P20:$P$36,$Q20:$Q$36,$R20:$R$36)*Y20:Y$36*($E20:$E$36=$D19)),IF(ISNUMBER(Data!P19),100*ABS($G19-(Data!P19-$K19)/$M19),0),IF(ISNUMBER(Data!P19),100*ABS($G19-(Data!P19-$K19)/$M19),0)))","v":61.6},{"$f":"IF($H19=0,0,CHOOSE($H19,SUMPRODUCT(CHOOSE(Z$39,$O20:$O$36,$P20:$P$36,$Q20:$Q$36,$R20:$R$36)*Z20:Z$36*($E20:$E$36=$D19)),IF(ISNUMBER(Data!Q19),100*ABS($G19-(Data!Q19-$K19)/$M19),0),IF(ISNUMBER(Data!Q19),100*ABS($G19-(Data!Q19-$K19)/$M19),0)))","v":78.2},{"$f":"IF($H19=0,0,CHOOSE($H19,SUMPRODUCT(CHOOSE(AA$39,$O20:$O$36,$P20:$P$36,$Q20:$Q$36,$R20:$R$36)*AA20:AA$36*($E20:$E$36=$D19)),IF(ISNUMBER(Data!R19),100*ABS($G19-(Data!R19-$K19)/$M19),0),IF(ISNUMBER(Data!R19),100*ABS($G19-(Data!R19-$K19)/$M19),0)))","v":47.800000000000004},{"$f":"IF($H19=0,0,CHOOSE($H19,SUMPRODUCT(CHOOSE(AB$39,$O20:$O$36,$P20:$P$36,$Q20:$Q$36,$R20:$R$36)*AB20:AB$36*($E20:$E$36=$D19)),IF(ISNUMBER(Data!S19),100*ABS($G19-(Data!S19-$K19)/$M19),0),IF(ISNUMBER(Data!S19),100*ABS($G19-(Data!S19-$K19)/$M19),0)))","v":71.8},{"$f":"IF($H19=0,0,CHOOSE($H19,SUMPRODUCT(CHOOSE(AC$39,$O20:$O$36,$P20:$P$36,$Q20:$Q$36,$R20:$R$36)*AC20:AC$36*($E20:$E$36=$D19)),IF(ISNUMBER(Data!T19),100*ABS($G19-(Data!T19-$K19)/$M19),0),IF(ISNUMBER(Data!T19),100*ABS($G19-(Data!T19-$K19)/$M19),0)))","v":45},{"$f":"IF($H19=0,0,CHOOSE($H19,SUMPRODUCT(CHOOSE(AD$39,$O20:$O$36,$P20:$P$36,$Q20:$Q$36,$R20:$R$36)*AD20:AD$36*($E20:$E$36=$D19)),IF(ISNUMBER(Data!U19),100*ABS($G19-(Data!U19-$K19)/$M19),0),IF(ISNUMBER(Data!U19),100*ABS($G19-(Data!U19-$K19)/$M19),0)))","v":56.600000000000009},{"$f":"IF($H19=0,0,CHOOSE($H19,SUMPRODUCT(CHOOSE(AE$39,$O20:$O$36,$P20:$P$36,$Q20:$Q$36,$R20:$R$36)*AE20:AE$36*($E20:$E$36=$D19)),IF(ISNUMBER(Data!V19),100*ABS($G19-(Data!V19-$K19)/$M19),0),IF(ISNUMBER(Data!V19),100*ABS($G19-(Data!V19-$K19)/$M19),0)))","v":60},{"$f":"IF($H19=0,0,CHOOSE($H19,SUMPRODUCT(CHOOSE(AF$39,$O20:$O$36,$P20:$P$36,$Q20:$Q$36,$R20:$R$36)*AF20:AF$36*($E20:$E$36=$D19)),IF(ISNUMBER(Data!W19),100*ABS($G19-(Data!W19-$K19)/$M19),0),IF(ISNUMBER(Data!W19),100*ABS($G19-(Data!W19-$K19)/$M19),0)))","v":80},{"$f":"IF($H19=0,0,CHOOSE($H19,SUMPRODUCT(CHOOSE(AG$39,$O20:$O$36,$P20:$P$36,$Q20:$Q$36,$R20:$R$36)*AG20:AG$36*($E20:$E$36=$D19)),IF(ISNUMBER(Data!X19),100*ABS($G19-(Data!X19-$K19)/$M19),0),IF(ISNUMBER(Data!X19),100*ABS($G19-(Data!X19-$K19)/$M19),0)))","v":73.400000000000006},{"$f":"IF($H19=0,0,CHOOSE($H19,SUMPRODUCT(CHOOSE(AH$39,$O20:$O$36,$P20:$P$36,$Q20:$Q$36,$R20:$R$36)*AH20:AH$36*($E20:$E$36=$D19)),IF(ISNUMBER(Data!Y19),100*ABS($G19-(Data!Y19-$K19)/$M19),0),IF(ISNUMBER(Data!Y19),100*ABS($G19-(Data!Y19-$K19)/$M19),0)))","v":54},{"$f":"IF($H19=0,0,CHOOSE($H19,SUMPRODUCT(CHOOSE(AI$39,$O20:$O$36,$P20:$P$36,$Q20:$Q$36,$R20:$R$36)*AI20:AI$36*($E20:$E$36=$D19)),IF(ISNUMBER(Data!Z19),100*ABS($G19-(Data!Z19-$K19)/$M19),0),IF(ISNUMBER(Data!Z19),100*ABS($G19-(Data!Z19-$K19)/$M19),0)))","v":74.400000000000006},{"$f":"IF($H19=0,0,CHOOSE($H19,SUMPRODUCT(CHOOSE(AJ$39,$O20:$O$36,$P20:$P$36,$Q20:$Q$36,$R20:$R$36)*AJ20:AJ$36*($E20:$E$36=$D19)),IF(ISNUMBER(Data!AA19),100*ABS($G19-(Data!AA19-$K19)/$M19),0),IF(ISNUMBER(Data!AA19),100*ABS($G19-(Data!AA19-$K19)/$M19),0)))","v":68.600000000000009},{"$f":"IF($H19=0,0,CHOOSE($H19,SUMPRODUCT(CHOOSE(AK$39,$O20:$O$36,$P20:$P$36,$Q20:$Q$36,$R20:$R$36)*AK20:AK$36*($E20:$E$36=$D19)),IF(ISNUMBER(Data!AB19),100*ABS($G19-(Data!AB19-$K19)/$M19),0),IF(ISNUMBER(Data!AB19),100*ABS($G19-(Data!AB19-$K19)/$M19),0)))","v":63},{"$f":"IF($H19=0,0,CHOOSE($H19,SUMPRODUCT(CHOOSE(AL$39,$O20:$O$36,$P20:$P$36,$Q20:$Q$36,$R20:$R$36)*AL20:AL$36*($E20:$E$36=$D19)),IF(ISNUMBER(Data!AC19),100*ABS($G19-(Data!AC19-$K19)/$M19),0),IF(ISNUMBER(Data!AC19),100*ABS($G19-(Data!AC19-$K19)/$M19),0)))","v":78.400000000000006}]
[null,{"$f":"tblIndicators!A17","v":16},{"$f":"tblIndicators!B17","v":0},{"$f":"tblIndicators!D17","v":"EP_20_3"},{"$f":"tblIndicators!E17","v":"EP_20"},{"$f":"tblIndicators!F17","v":3},{"$f":"tblIndicators!S17","v":0},{"$f":"tblIndicators!T17","v":3},{"$f":"tblIndicators!U17","v":1},{"$f":"tblIndicators!V17","v":5},{"$f":"CHOOSE(H20,\"-\",MIN(Data!J20:AC20),I20)","v":1},{"$f":"CHOOSE(H20,\"-\",MAX(Data!J20:AC20),J20)","v":5},4,{"$f":"tblIndicators!Y17","v":"1.20.3)    Corruption"},{"$f":"tblIndicators!AO17","v":0.25},{"$f":"tblIndicators!AR17","v":0.25},{"$f":"tblIndicators!AU17","v":0.25},{"$f":"tblIndicators!AX17","v":0.25},{"$f":"IF($H20=0,0,CHOOSE($H20,SUMPRODUCT(CHOOSE(S$39,$O21:$O$36,$P21:$P$36,$Q21:$Q$36,$R21:$R$36)*S21:S$36*($E21:$E$36=$D20)),IF(ISNUMBER(Data!J20),100*ABS($G20-(Data!J20-$K20)/$M20),0),IF(ISNUMBER(Data!J20),100*ABS($G20-(Data!J20-$K20)/$M20),0)))","v":0},{"$f":"IF($H20=0,0,CHOOSE($H20,SUMPRODUCT(CHOOSE(T$39,$O21:$O$36,$P21:$P$36,$Q21:$Q$36,$R21:$R$36)*T21:T$36*($E21:$E$36=$D20)),IF(ISNUMBER(Data!K20),100*ABS($G20-(Data!K20-$K20)/$M20),0),IF(ISNUMBER(Data!K20),100*ABS($G20-(Data!K20-$K20)/$M20),0)))","v":50},{"$f":"IF($H20=0,0,CHOOSE($H20,SUMPRODUCT(CHOOSE(U$39,$O21:$O$36,$P21:$P$36,$Q21:$Q$36,$R21:$R$36)*U21:U$36*($E21:$E$36=$D20)),IF(ISNUMBER(Data!L20),100*ABS($G20-(Data!L20-$K20)/$M20),0),IF(ISNUMBER(Data!L20),100*ABS($G20-(Data!L20-$K20)/$M20),0)))","v":0},{"$f":"IF($H20=0,0,CHOOSE($H20,SUMPRODUCT(CHOOSE(V$39,$O21:$O$36,$P21:$P$36,$Q21:$Q$36,$R21:$R$36)*V21:V$36*($E21:$E$36=$D20)),IF(ISNUMBER(Data!M20),100*ABS($G20-(Data!M20-$K20)/$M20),0),IF(ISNUMBER(Data!M20),100*ABS($G20-(Data!M20-$K20)/$M20),0)))","v":0},{"$f":"IF($H20=0,0,CHOOSE($H20,SUMPRODUCT(CHOOSE(W$39,$O21:$O$36,$P21:$P$36,$Q21:$Q$36,$R21:$R$36)*W21:W$36*($E21:$E$36=$D20)),IF(ISNUMBER(Data!N20),100*ABS($G20-(Data!N20-$K20)/$M20),0),IF(ISNUMBER(Data!N20),100*ABS($G20-(Data!N20-$K20)/$M20),0)))","v":75},{"$f":"IF($H20=0,0,CHOOSE($H20,SUMPRODUCT(CHOOSE(X$39,$O21:$O$36,$P21:$P$36,$Q21:$Q$36,$R21:$R$36)*X21:X$36*($E21:$E$36=$D20)),IF(ISNUMBER(Data!O20),100*ABS($G20-(Data!O20-$K20)/$M20),0),IF(ISNUMBER(Data!O20),100*ABS($G20-(Data!O20-$K20)/$M20),0)))","v":7.5000000000000009},{"$f":"IF($H20=0,0,CHOOSE($H20,SUMPRODUCT(CHOOSE(Y$39,$O21:$O$36,$P21:$P$36,$Q21:$Q$36,$R21:$R$36)*Y21:Y$36*($E21:$E$36=$D20)),IF(ISNUMBER(Data!P20),100*ABS($G20-(Data!P20-$K20)/$M20),0),IF(ISNUMBER(Data!P20),100*ABS($G20-(Data!P20-$K20)/$M20),0)))","v":0},{"$f":"IF($H20=0,0,CHOOSE($H20,SUMPRODUCT(CHOOSE(Z$39,$O21:$O$36,$P21:$P$36,$Q21:$Q$36,$R21:$R$36)*Z21:Z$36*($E21:$E$36=$D20)),IF(ISNUMBER(Data!Q20),100*ABS($G20-(Data!Q20-$K20)/$M20),0),IF(ISNUMBER(Data!Q20),100*ABS($G20-(Data!Q20-$K20)/$M20),0)))","v":50},{"$f":"IF($H20=0,0,CHOOSE($H20,SUMPRODUCT(CHOOSE(AA$39,$O21:$O$36,$P21:$P$36,$Q21:$Q$36,$R21:$R$36)*AA21:AA$36*($E21:$E$36=$D20)),IF(ISNUMBER(Data!R20),100*ABS($G20-(Data!R20-$K20)/$M20),0),IF(ISNUMBER(Data!R20),100*ABS($G20-(Data!R20-$K20)/$M20),0)))","v":0},{"$f":"IF($H20=0,0,CHOOSE($H20,SUMPRODUCT(CHOOSE(AB$39,$O21:$O$36,$P21:$P$36,$Q21:$Q$36,$R21:$R$36)*AB21:AB$36*($E21:$E$36=$D20)),IF(ISNUMBER(Data!S20),100*ABS($G20-(Data!S20-$K20)/$M20),0),IF(ISNUMBER(Data!S20),100*ABS($G20-(Data!S20-$K20)/$M20),0)))","v":50},{"$f":"IF($H20=0,0,CHOOSE($H20,SUMPRODUCT(CHOOSE(AC$39,$O21:$O$36,$P21:$P$36,$Q21:$Q$36,$R21:$R$36)*AC21:AC$36*($E21:$E$36=$D20)),IF(ISNUMBER(Data!T20),100*ABS($G20-(Data!T20-$K20)/$M20),0),IF(ISNUMBER(Data!T20),100*ABS($G20-(Data!T20-$K20)/$M20),0)))","v":0},{"$f":"IF($H20=0,0,CHOOSE($H20,SUMPRODUCT(CHOOSE(AD$39,$O21:$O$36,$P21:$P$36,$Q21:$Q$36,$R21:$R$36)*AD21:AD$36*($E21:$E$36=$D20)),IF(ISNUMBER(Data!U20),100*ABS($G20-(Data!U20-$K20)/$M20),0),IF(ISNUMBER(Data!U20),100*ABS($G20-(Data!U20-$K20)/$M20),0)))","v":7.5000000000000009},{"$f":"IF($H20=0,0,CHOOSE($H20,SUMPRODUCT(CHOOSE(AE$39,$O21:$O$36,$P21:$P$36,$Q21:$Q$36,$R21:$R$36)*AE21:AE$36*($E21:$E$36=$D20)),IF(ISNUMBER(Data!V20),100*ABS($G20-(Data!V20-$K20)/$M20),0),IF(ISNUMBER(Data!V20),100*ABS($G20-(Data!V20-$K20)/$M20),0)))","v":0},{"$f":"IF($H20=0,0,CHOOSE($H20,SUMPRODUCT(CHOOSE(AF$39,$O21:$O$36,$P21:$P$36,$Q21:$Q$36,$R21:$R$36)*AF21:AF$36*($E21:$E$36=$D20)),IF(ISNUMBER(Data!W20),100*ABS($G20-(Data!W20-$K20)/$M20),0),IF(ISNUMBER(Data!W20),100*ABS($G20-(Data!W20-$K20)/$M20),0)))","v":100},{"$f":"IF($H20=0,0,CHOOSE($H20,SUMPRODUCT(CHOOSE(AG$39,$O21:$O$36,$P21:$P$36,$Q21:$Q$36,$R21:$R$36)*AG21:AG$36*($E21:$E$36=$D20)),IF(ISNUMBER(Data!X20),100*ABS($G20-(Data!X20-$K20)/$M20),0),IF(ISNUMBER(Data!X20),100*ABS($G20-(Data!X20-$K20)/$M20),0)))","v":75},{"$f":"IF($H20=0,0,CHOOSE($H20,SUMPRODUCT(CHOOSE(AH$39,$O21:$O$36,$P21:$P$36,$Q21:$Q$36,$R21:$R$36)*AH21:AH$36*($E21:$E$36=$D20)),IF(ISNUMBER(Data!Y20),100*ABS($G20-(Data!Y20-$K20)/$M20),0),IF(ISNUMBER(Data!Y20),100*ABS($G20-(Data!Y20-$K20)/$M20),0)))","v":25},{"$f":"IF($H20=0,0,CHOOSE($H20,SUMPRODUCT(CHOOSE(AI$39,$O21:$O$36,$P21:$P$36,$Q21:$Q$36,$R21:$R$36)*AI21:AI$36*($E21:$E$36=$D20)),IF(ISNUMBER(Data!Z20),100*ABS($G20-(Data!Z20-$K20)/$M20),0),IF(ISNUMBER(Data!Z20),100*ABS($G20-(Data!Z20-$K20)/$M20),0)))","v":50},{"$f":"IF($H20=0,0,CHOOSE($H20,SUMPRODUCT(CHOOSE(AJ$39,$O21:$O$36,$P21:$P$36,$Q21:$Q$36,$R21:$R$36)*AJ21:AJ$36*($E21:$E$36=$D20)),IF(ISNUMBER(Data!AA20),100*ABS($G20-(Data!AA20-$K20)/$M20),0),IF(ISNUMBER(Data!AA20),100*ABS($G20-(Data!AA20-$K20)/$M20),0)))","v":25},{"$f":"IF($H20=0,0,CHOOSE($H20,SUMPRODUCT(CHOOSE(AK$39,$O21:$O$36,$P21:$P$36,$Q21:$Q$36,$R21:$R$36)*AK21:AK$36*($E21:$E$36=$D20)),IF(ISNUMBER(Data!AB20),100*ABS($G20-(Data!AB20-$K20)/$M20),0),IF(ISNUMBER(Data!AB20),100*ABS($G20-(Data!AB20-$K20)/$M20),0)))","v":0},{"$f":"IF($H20=0,0,CHOOSE($H20,SUMPRODUCT(CHOOSE(AL$39,$O21:$O$36,$P21:$P$36,$Q21:$Q$36,$R21:$R$36)*AL21:AL$36*($E21:$E$36=$D20)),IF(ISNUMBER(Data!AC20),100*ABS($G20-(Data!AC20-$K20)/$M20),0),IF(ISNUMBER(Data!AC20),100*ABS($G20-(Data!AC20-$K20)/$M20),0)))","v":75}]
[null,{"$f":"tblIndicators!A18","v":17},{"$f":"tblIndicators!B18","v":0},{"$f":"tblIndicators!D18","v":"EP_20_4"},{"$f":"tblIndicators!E18","v":"EP_20"},{"$f":"tblIndicators!F18","v":3},{"$f":"tblIndicators!S18","v":0},{"$f":"tblIndicators!T18","v":3},{"$f":"tblIndicators!U18","v":1},{"$f":"tblIndicators!V18","v":5},{"$f":"CHOOSE(H21,\"-\",MIN(Data!J21:AC21),I21)","v":1},{"$f":"CHOOSE(H21,\"-\",MAX(Data!J21:AC21),J21)","v":5},4,{"$f":"tblIndicators!Y18","v":"1.20.4)    Legal system"},{"$f":"tblIndicators!AO18","v":0.25},{"$f":"tblIndicators!AR18","v":0.25},{"$f":"tblIndicators!AU18","v":0.25},{"$f":"tblIndicators!AX18","v":0.25},{"$f":"IF($H21=0,0,CHOOSE($H21,SUMPRODUCT(CHOOSE(S$39,$O22:$O$36,$P22:$P$36,$Q22:$Q$36,$R22:$R$36)*S22:S$36*($E22:$E$36=$D21)),IF(ISNUMBER(Data!J21),100*ABS($G21-(Data!J21-$K21)/$M21),0),IF(ISNUMBER(Data!J21),100*ABS($G21-(Data!J21-$K21)/$M21),0)))","v":50},{"$f":"IF($H21=0,0,CHOOSE($H21,SUMPRODUCT(CHOOSE(T$39,$O22:$O$36,$P22:$P$36,$Q22:$Q$36,$R22:$R$36)*T22:T$36*($E22:$E$36=$D21)),IF(ISNUMBER(Data!K21),100*ABS($G21-(Data!K21-$K21)/$M21),0),IF(ISNUMBER(Data!K21),100*ABS($G21-(Data!K21-$K21)/$M21),0)))","v":0},{"$f":"IF($H21=0,0,CHOOSE($H21,SUMPRODUCT(CHOOSE(U$39,$O22:$O$36,$P22:$P$36,$Q22:$Q$36,$R22:$R$36)*U22:U$36*($E22:$E$36=$D21)),IF(ISNUMBER(Data!L21),100*ABS($G21-(Data!L21-$K21)/$M21),0),IF(ISNUMBER(Data!L21),100*ABS($G21-(Data!L21-$K21)/$M21),0)))","v":0},{"$f":"IF($H21=0,0,CHOOSE($H21,SUMPRODUCT(CHOOSE(V$39,$O22:$O$36,$P22:$P$36,$Q22:$Q$36,$R22:$R$36)*V22:V$36*($E22:$E$36=$D21)),IF(ISNUMBER(Data!M21),100*ABS($G21-(Data!M21-$K21)/$M21),0),IF(ISNUMBER(Data!M21),100*ABS($G21-(Data!M21-$K21)/$M21),0)))","v":7.5000000000000009},{"$f":"IF($H21=0,0,CHOOSE($H21,SUMPRODUCT(CHOOSE(W$39,$O22:$O$36,$P22:$P$36,$Q22:$Q$36,$R22:$R$36)*W22:W$36*($E22:$E$36=$D21)),IF(ISNUMBER(Data!N21),100*ABS($G21-(Data!N21-$K21)/$M21),0),IF(ISNUMBER(Data!N21),100*ABS($G21-(Data!N21-$K21)/$M21),0)))","v":60},{"$f":"IF($H21=0,0,CHOOSE($H21,SUMPRODUCT(CHOOSE(X$39,$O22:$O$36,$P22:$P$36,$Q22:$Q$36,$R22:$R$36)*X22:X$36*($E22:$E$36=$D21)),IF(ISNUMBER(Data!O21),100*ABS($G21-(Data!O21-$K21)/$M21),0),IF(ISNUMBER(Data!O21),100*ABS($G21-(Data!O21-$K21)/$M21),0)))","v":50},{"$f":"IF($H21=0,0,CHOOSE($H21,SUMPRODUCT(CHOOSE(Y$39,$O22:$O$36,$P22:$P$36,$Q22:$Q$36,$R22:$R$36)*Y22:Y$36*($E22:$E$36=$D21)),IF(ISNUMBER(Data!P21),100*ABS($G21-(Data!P21-$K21)/$M21),0),IF(ISNUMBER(Data!P21),100*ABS($G21-(Data!P21-$K21)/$M21),0)))","v":25},{"$f":"IF($H21=0,0,CHOOSE($H21,SUMPRODUCT(CHOOSE(Z$39,$O22:$O$36,$P22:$P$36,$Q22:$Q$36,$R22:$R$36)*Z22:Z$36*($E22:$E$36=$D21)),IF(ISNUMBER(Data!Q21),100*ABS($G21-(Data!Q21-$K21)/$M21),0),IF(ISNUMBER(Data!Q21),100*ABS($G21-(Data!Q21-$K21)/$M21),0)))","v":75},{"$f":"IF($H21=0,0,CHOOSE($H21,SUMPRODUCT(CHOOSE(AA$39,$O22:$O$36,$P22:$P$36,$Q22:$Q$36,$R22:$R$36)*AA22:AA$36*($E22:$E$36=$D21)),IF(ISNUMBER(Data!R21),100*ABS($G21-(Data!R21-$K21)/$M21),0),IF(ISNUMBER(Data!R21),100*ABS($G21-(Data!R21-$K21)/$M21),0)))","v":0},{"$f":"IF($H21=0,0,CHOOSE($H21,SUMPRODUCT(CHOOSE(AB$39,$O22:$O$36,$P22:$P$36,$Q22:$Q$36,$R22:$R$36)*AB22:AB$36*($E22:$E$36=$D21)),IF(ISNUMBER(Data!S21),100*ABS($G21-(Data!S21-$K21)/$M21),0),IF(ISNUMBER(Data!S21),100*ABS($G21-(Data!S21-$K21)/$M21),0)))","v":50},{"$f":"IF($H21=0,0,CHOOSE($H21,SUMPRODUCT(CHOOSE(AC$39,$O22:$O$36,$P22:$P$36,$Q22:$Q$36,$R22:$R$36)*AC22:AC$36*($E22:$E$36=$D21)),IF(ISNUMBER(Data!T21),100*ABS($G21-(Data!T21-$K21)/$M21),0),IF(ISNUMBER(Data!T21),100*ABS($G21-(Data!T21-$K21)/$M21),0)))","v":0},{"$f":"IF($H21=0,0,CHOOSE($H21,SUMPRODUCT(CHOOSE(AD$39,$O22:$O$36,$P22:$P$36,$Q22:$Q$36,$R22:$R$36)*AD22:AD$36*($E22:$E$36=$D21)),IF(ISNUMBER(Data!U21),100*ABS($G21-(Data!U21-$K21)/$M21),0),IF(ISNUMBER(Data!U21),100*ABS($G21-(Data!U21-$K21)/$M21),0)))","v":25},{"$f":"IF($H21=0,0,CHOOSE($H21,SUMPRODUCT(CHOOSE(AE$39,$O22:$O$36,$P22:$P$36,$Q22:$Q$36,$R22:$R$36)*AE22:AE$36*($E22:$E$36=$D21)),IF(ISNUMBER(Data!V21),100*ABS($G21-(Data!V21-$K21)/$M21),0),IF(ISNUMBER(Data!V21),100*ABS($G21-(Data!V21-$K21)/$M21),0)))","v":25},{"$f":"IF($H21=0,0,CHOOSE($H21,SUMPRODUCT(CHOOSE(AF$39,$O22:$O$36,$P22:$P$36,$Q22:$Q$36,$R22:$R$36)*AF22:AF$36*($E22:$E$36=$D21)),IF(ISNUMBER(Data!W21),100*ABS($G21-(Data!W21-$K21)/$M21),0),IF(ISNUMBER(Data!W21),100*ABS($G21-(Data!W21-$K21)/$M21),0)))","v":75},{"$f":"IF($H21=0,0,CHOOSE($H21,SUMPRODUCT(CHOOSE(AG$39,$O22:$O$36,$P22:$P$36,$Q22:$Q$36,$R22:$R$36)*AG22:AG$36*($E22:$E$36=$D21)),IF(ISNUMBER(Data!X21),100*ABS($G21-(Data!X21-$K21)/$M21),0),IF(ISNUMBER(Data!X21),100*ABS($G21-(Data!X21-$K21)/$M21),0)))","v":50},{"$f":"IF($H21=0,0,CHOOSE($H21,SUMPRODUCT(CHOOSE(AH$39,$O22:$O$36,$P22:$P$36,$Q22:$Q$36,$R22:$R$36)*AH22:AH$36*($E22:$E$36=$D21)),IF(ISNUMBER(Data!Y21),100*ABS($G21-(Data!Y21-$K21)/$M21),0),IF(ISNUMBER(Data!Y21),100*ABS($G21-(Data!Y21-$K21)/$M21),0)))","v":50},{"$f":"IF($H21=0,0,CHOOSE($H21,SUMPRODUCT(CHOOSE(AI$39,$O22:$O$36,$P22:$P$36,$Q22:$Q$36,$R22:$R$36)*AI22:AI$36*($E22:$E$36=$D21)),IF(ISNUMBER(Data!Z21),100*ABS($G21-(Data!Z21-$K21)/$M21),0),IF(ISNUMBER(Data!Z21),100*ABS($G21-(Data!Z21-$K21)/$M21),0)))","v":60},{"$f":"IF($H21=0,0,CHOOSE($H21,SUMPRODUCT(CHOOSE(AJ$39,$O22:$O$36,$P22:$P$36,$Q22:$Q$36,$R22:$R$36)*AJ22:AJ$36*($E22:$E$36=$D21)),IF(ISNUMBER(Data!AA21),100*ABS($G21-(Data!AA21-$K21)/$M21),0),IF(ISNUMBER(Data!AA21),100*ABS($G21-(Data!AA21-$K21)/$M21),0)))","v":25},{"$f":"IF($H21=0,0,CHOOSE($H21,SUMPRODUCT(CHOOSE(AK$39,$O22:$O$36,$P22:$P$36,$Q22:$Q$36,$R22:$R$36)*AK22:AK$36*($E22:$E$36=$D21)),IF(ISNUMBER(Data!AB21),100*ABS($G21-(Data!AB21-$K21)/$M21),0),IF(ISNUMBER(Data!AB21),100*ABS($G21-(Data!AB21-$K21)/$M21),0)))","v":25},{"$f":"IF($H21=0,0,CHOOSE($H21,SUMPRODUCT(CHOOSE(AL$39,$O22:$O$36,$P22:$P$36,$Q22:$Q$36,$R22:$R$36)*AL22:AL$36*($E22:$E$36=$D21)),IF(ISNUMBER(Data!AC21),100*ABS($G21-(Data!AC21-$K21)/$M21),0),IF(ISNUMBER(Data!AC21),100*ABS($G21-(Data!AC21-$K21)/$M21),0)))","v":75}]
[null,{"$f":"tblIndicators!A19","v":18},{"$f":"tblIndicators!B19","v":0},{"$f":"tblIndicators!D19","v":"EP_21"},{"$f":"tblIndicators!E19","v":"EP"},{"$f":"tblIndicators!F19","v":2},{"$f":"tblIndicators!S19","v":0},{"$f":"tblIndicators!T19","v":2},{"$f":"tblIndicators!U19","v":0},{"$f":"tblIndicators!V19","v":0},{"$f":"CHOOSE(H22,\"-\",MIN(Data!J22:AC22),I22)","v":0.03},{"$f":"CHOOSE(H22,\"-\",MAX(Data!J22:AC22),J22)","v":4.4000000000000004},4.37,{"$f":"tblIndicators!Y19","v":"1.21) Technological innovation"},{"$f":"tblIndicators!AO19","v":7.1428571428571425E-2},{"$f":"tblIndicators!AR19","v":7.1428571428571425E-2},{"$f":"tblIndicators!AU19","v":4.1666666666666664E-2},{"$f":"tblIndicators!AX19","v":7.1428571428571425E-2},{"$f":"IF($H22=0,0,CHOOSE($H22,SUMPRODUCT(CHOOSE(S$39,$O23:$O$36,$P23:$P$36,$Q23:$Q$36,$R23:$R$36)*S23:S$36*($E23:$E$36=$D22)),IF(ISNUMBER(Data!J22),100*ABS($G22-(Data!J22-$K22)/$M22),0),IF(ISNUMBER(Data!J22),100*ABS($G22-(Data!J22-$K22)/$M22),0)))","v":8.4668192219679632},{"$f":"IF($H22=0,0,CHOOSE($H22,SUMPRODUCT(CHOOSE(T$39,$O23:$O$36,$P23:$P$36,$Q23:$Q$36,$R23:$R$36)*T23:T$36*($E23:$E$36=$D22)),IF(ISNUMBER(Data!K22),100*ABS($G22-(Data!K22-$K22)/$M22),0),IF(ISNUMBER(Data!K22),100*ABS($G22-(Data!K22-$K22)/$M22),0)))","v":0},{"$f":"IF($H22=0,0,CHOOSE($H22,SUMPRODUCT(CHOOSE(U$39,$O23:$O$36,$P23:$P$36,$Q23:$Q$36,$R23:$R$36)*U23:U$36*($E23:$E$36=$D22)),IF(ISNUMBER(Data!L22),100*ABS($G22-(Data!L22-$K22)/$M22),0),IF(ISNUMBER(Data!L22),100*ABS($G22-(Data!L22-$K22)/$M22),0)))","v":0.45766590389016026},{"$f":"IF($H22=0,0,CHOOSE($H22,SUMPRODUCT(CHOOSE(V$39,$O23:$O$36,$P23:$P$36,$Q23:$Q$36,$R23:$R$36)*V23:V$36*($E23:$E$36=$D22)),IF(ISNUMBER(Data!M22),100*ABS($G22-(Data!M22-$K22)/$M22),0),IF(ISNUMBER(Data!M22),100*ABS($G22-(Data!M22-$K22)/$M22),0)))","v":45.080091533180777},{"$f":"IF($H22=0,0,CHOOSE($H22,SUMPRODUCT(CHOOSE(W$39,$O23:$O$36,$P23:$P$36,$Q23:$Q$36,$R23:$R$36)*W23:W$36*($E23:$E$36=$D22)),IF(ISNUMBER(Data!N22),100*ABS($G22-(Data!N22-$K22)/$M22),0),IF(ISNUMBER(Data!N22),100*ABS($G22-(Data!N22-$K22)/$M22),0)))","v":17.620137299771166},{"$f":"IF($H22=0,0,CHOOSE($H22,SUMPRODUCT(CHOOSE(X$39,$O23:$O$36,$P23:$P$36,$Q23:$Q$36,$R23:$R$36)*X23:X$36*($E23:$E$36=$D22)),IF(ISNUMBER(Data!O22),100*ABS($G22-(Data!O22-$K22)/$M22),0),IF(ISNUMBER(Data!O22),100*ABS($G22-(Data!O22-$K22)/$M22),0)))","v":17.620137299771166},{"$f":"IF($H22=0,0,CHOOSE($H22,SUMPRODUCT(CHOOSE(Y$39,$O23:$O$36,$P23:$P$36,$Q23:$Q$36,$R23:$R$36)*Y23:Y$36*($E23:$E$36=$D22)),IF(ISNUMBER(Data!P22),100*ABS($G22-(Data!P22-$K22)/$M22),0),IF(ISNUMBER(Data!P22),100*ABS($G22-(Data!P22-$K22)/$M22),0)))","v":1.1441647597254003},{"$f":"IF($H22=0,0,CHOOSE($H22,SUMPRODUCT(CHOOSE(Z$39,$O23:$O$36,$P23:$P$36,$Q23:$Q$36,$R23:$R$36)*Z23:Z$36*($E23:$E$36=$D22)),IF(ISNUMBER(Data!Q22),100*ABS($G22-(Data!Q22-$K22)/$M22),0),IF(ISNUMBER(Data!Q22),100*ABS($G22-(Data!Q22-$K22)/$M22),0)))","v":77.116704805491992},{"$f":"IF($H22=0,0,CHOOSE($H22,SUMPRODUCT(CHOOSE(AA$39,$O23:$O$36,$P23:$P$36,$Q23:$Q$36,$R23:$R$36)*AA23:AA$36*($E23:$E$36=$D22)),IF(ISNUMBER(Data!R22),100*ABS($G22-(Data!R22-$K22)/$M22),0),IF(ISNUMBER(Data!R22),100*ABS($G22-(Data!R22-$K22)/$M22),0)))","v":0.22883295194508013},{"$f":"IF($H22=0,0,CHOOSE($H22,SUMPRODUCT(CHOOSE(AB$39,$O23:$O$36,$P23:$P$36,$Q23:$Q$36,$R23:$R$36)*AB23:AB$36*($E23:$E$36=$D22)),IF(ISNUMBER(Data!S22),100*ABS($G22-(Data!S22-$K22)/$M22),0),IF(ISNUMBER(Data!S22),100*ABS($G22-(Data!S22-$K22)/$M22),0)))","v":24.48512585812357},{"$f":"IF($H22=0,0,CHOOSE($H22,SUMPRODUCT(CHOOSE(AC$39,$O23:$O$36,$P23:$P$36,$Q23:$Q$36,$R23:$R$36)*AC23:AC$36*($E23:$E$36=$D22)),IF(ISNUMBER(Data!T22),100*ABS($G22-(Data!T22-$K22)/$M22),0),IF(ISNUMBER(Data!T22),100*ABS($G22-(Data!T22-$K22)/$M22),0)))","v":3.8901601830663615},{"$f":"IF($H22=0,0,CHOOSE($H22,SUMPRODUCT(CHOOSE(AD$39,$O23:$O$36,$P23:$P$36,$Q23:$Q$36,$R23:$R$36)*AD23:AD$36*($E23:$E$36=$D22)),IF(ISNUMBER(Data!U22),100*ABS($G22-(Data!U22-$K22)/$M22),0),IF(ISNUMBER(Data!U22),100*ABS($G22-(Data!U22-$K22)/$M22),0)))","v":6.8649885583524046},{"$f":"IF($H22=0,0,CHOOSE($H22,SUMPRODUCT(CHOOSE(AE$39,$O23:$O$36,$P23:$P$36,$Q23:$Q$36,$R23:$R$36)*AE23:AE$36*($E23:$E$36=$D22)),IF(ISNUMBER(Data!V22),100*ABS($G22-(Data!V22-$K22)/$M22),0),IF(ISNUMBER(Data!V22),100*ABS($G22-(Data!V22-$K22)/$M22),0)))","v":1.8306636155606408},{"$f":"IF($H22=0,0,CHOOSE($H22,SUMPRODUCT(CHOOSE(AF$39,$O23:$O$36,$P23:$P$36,$Q23:$Q$36,$R23:$R$36)*AF23:AF$36*($E23:$E$36=$D22)),IF(ISNUMBER(Data!W22),100*ABS($G22-(Data!W22-$K22)/$M22),0),IF(ISNUMBER(Data!W22),100*ABS($G22-(Data!W22-$K22)/$M22),0)))","v":49.656750572082387},{"$f":"IF($H22=0,0,CHOOSE($H22,SUMPRODUCT(CHOOSE(AG$39,$O23:$O$36,$P23:$P$36,$Q23:$Q$36,$R23:$R$36)*AG23:AG$36*($E23:$E$36=$D22)),IF(ISNUMBER(Data!X22),100*ABS($G22-(Data!X22-$K22)/$M22),0),IF(ISNUMBER(Data!X22),100*ABS($G22-(Data!X22-$K22)/$M22),0)))","v":100},{"$f":"IF($H22=0,0,CHOOSE($H22,SUMPRODUCT(CHOOSE(AH$39,$O23:$O$36,$P23:$P$36,$Q23:$Q$36,$R23:$R$36)*AH23:AH$36*($E23:$E$36=$D22)),IF(ISNUMBER(Data!Y22),100*ABS($G22-(Data!Y22-$K22)/$M22),0),IF(ISNUMBER(Data!Y22),100*ABS($G22-(Data!Y22-$K22)/$M22),0)))","v":3.8901601830663615},{"$f":"IF($H22=0,0,CHOOSE($H22,SUMPRODUCT(CHOOSE(AI$39,$O23:$O$36,$P23:$P$36,$Q23:$Q$36,$R23:$R$36)*AI23:AI$36*($E23:$E$36=$D22)),IF(ISNUMBER(Data!Z22),100*ABS($G22-(Data!Z22-$K22)/$M22),0),IF(ISNUMBER(Data!Z22),100*ABS($G22-(Data!Z22-$K22)/$M22),0)))","v":72.540045766590396},{"$f":"IF($H22=0,0,CHOOSE($H22,SUMPRODUCT(CHOOSE(AJ$39,$O23:$O$36,$P23:$P$36,$Q23:$Q$36,$R23:$R$36)*AJ23:AJ$36*($E23:$E$36=$D22)),IF(ISNUMBER(Data!AA22),100*ABS($G22-(Data!AA22-$K22)/$M22),0),IF(ISNUMBER(Data!AA22),100*ABS($G22-(Data!AA22-$K22)/$M22),0)))","v":6.1784897025171626},{"$f":"IF($H22=0,0,CHOOSE($H22,SUMPRODUCT(CHOOSE(AK$39,$O23:$O$36,$P23:$P$36,$Q23:$Q$36,$R23:$R$36)*AK23:AK$36*($E23:$E$36=$D22)),IF(ISNUMBER(Data!AB22),100*ABS($G22-(Data!AB22-$K22)/$M22),0),IF(ISNUMBER(Data!AB22),100*ABS($G22-(Data!AB22-$K22)/$M22),0)))","v":3.8901601830663615},{"$f":"IF($H22=0,0,CHOOSE($H22,SUMPRODUCT(CHOOSE(AL$39,$O23:$O$36,$P23:$P$36,$Q23:$Q$36,$R23:$R$36)*AL23:AL$36*($E23:$E$36=$D22)),IF(ISNUMBER(Data!AC22),100*ABS($G22-(Data!AC22-$K22)/$M22),0),IF(ISNUMBER(Data!AC22),100*ABS($G22-(Data!AC22-$K22)/$M22),0)))","v":63.386727688787182}]
[null,{"$f":"tblIndicators!A20","v":19},{"$f":"tblIndicators!B20","v":0},{"$f":"tblIndicators!D20","v":"EP_22"},{"$f":"tblIndicators!E20","v":"EP"},{"$f":"tblIndicators!F20","v":2},{"$f":"tblIndicators!S20","v":1},{"$f":"tblIndicators!T20","v":2},{"$f":"tblIndicators!U20","v":0},{"$f":"tblIndicators!V20","v":0},{"$f":"CHOOSE(H23,\"-\",MIN(Data!J23:AC23),I23)","v":0},{"$f":"CHOOSE(H23,\"-\",MAX(Data!J23:AC23),J23)","v":4},4,{"$f":"tblIndicators!Y20","v":"1.22) Technological infrastructure"},{"$f":"tblIndicators!AO20","v":7.1428571428571425E-2},{"$f":"tblIndicators!AR20","v":7.1428571428571425E-2},{"$f":"tblIndicators!AU20","v":4.1666666666666664E-2},{"$f":"tblIndicators!AX20","v":7.1428571428571425E-2},{"$f":"IF($H23=0,0,CHOOSE($H23,SUMPRODUCT(CHOOSE(S$39,$O24:$O$36,$P24:$P$36,$Q24:$Q$36,$R24:$R$36)*S24:S$36*($E24:$E$36=$D23)),IF(ISNUMBER(Data!J23),100*ABS($G23-(Data!J23-$K23)/$M23),0),IF(ISNUMBER(Data!J23),100*ABS($G23-(Data!J23-$K23)/$M23),0)))","v":50},{"$f":"IF($H23=0,0,CHOOSE($H23,SUMPRODUCT(CHOOSE(T$39,$O24:$O$36,$P24:$P$36,$Q24:$Q$36,$R24:$R$36)*T24:T$36*($E24:$E$36=$D23)),IF(ISNUMBER(Data!K23),100*ABS($G23-(Data!K23-$K23)/$M23),0),IF(ISNUMBER(Data!K23),100*ABS($G23-(Data!K23-$K23)/$M23),0)))","v":100},{"$f":"IF($H23=0,0,CHOOSE($H23,SUMPRODUCT(CHOOSE(U$39,$O24:$O$36,$P24:$P$36,$Q24:$Q$36,$R24:$R$36)*U24:U$36*($E24:$E$36=$D23)),IF(ISNUMBER(Data!L23),100*ABS($G23-(Data!L23-$K23)/$M23),0),IF(ISNUMBER(Data!L23),100*ABS($G23-(Data!L23-$K23)/$M23),0)))","v":25},{"$f":"IF($H23=0,0,CHOOSE($H23,SUMPRODUCT(CHOOSE(V$39,$O24:$O$36,$P24:$P$36,$Q24:$Q$36,$R24:$R$36)*V24:V$36*($E24:$E$36=$D23)),IF(ISNUMBER(Data!M23),100*ABS($G23-(Data!M23-$K23)/$M23),0),IF(ISNUMBER(Data!M23),100*ABS($G23-(Data!M23-$K23)/$M23),0)))","v":50},{"$f":"IF($H23=0,0,CHOOSE($H23,SUMPRODUCT(CHOOSE(W$39,$O24:$O$36,$P24:$P$36,$Q24:$Q$36,$R24:$R$36)*W24:W$36*($E24:$E$36=$D23)),IF(ISNUMBER(Data!N23),100*ABS($G23-(Data!N23-$K23)/$M23),0),IF(ISNUMBER(Data!N23),100*ABS($G23-(Data!N23-$K23)/$M23),0)))","v":50},{"$f":"IF($H23=0,0,CHOOSE($H23,SUMPRODUCT(CHOOSE(X$39,$O24:$O$36,$P24:$P$36,$Q24:$Q$36,$R24:$R$36)*X24:X$36*($E24:$E$36=$D23)),IF(ISNUMBER(Data!O23),100*ABS($G23-(Data!O23-$K23)/$M23),0),IF(ISNUMBER(Data!O23),100*ABS($G23-(Data!O23-$K23)/$M23),0)))","v":75},{"$f":"IF($H23=0,0,CHOOSE($H23,SUMPRODUCT(CHOOSE(Y$39,$O24:$O$36,$P24:$P$36,$Q24:$Q$36,$R24:$R$36)*Y24:Y$36*($E24:$E$36=$D23)),IF(ISNUMBER(Data!P23),100*ABS($G23-(Data!P23-$K23)/$M23),0),IF(ISNUMBER(Data!P23),100*ABS($G23-(Data!P23-$K23)/$M23),0)))","v":25},{"$f":"IF($H23=0,0,CHOOSE($H23,SUMPRODUCT(CHOOSE(Z$39,$O24:$O$36,$P24:$P$36,$Q24:$Q$36,$R24:$R$36)*Z24:Z$36*($E24:$E$36=$D23)),IF(ISNUMBER(Data!Q23),100*ABS($G23-(Data!Q23-$K23)/$M23),0),IF(ISNUMBER(Data!Q23),100*ABS($G23-(Data!Q23-$K23)/$M23),0)))","v":100},{"$f":"IF($H23=0,0,CHOOSE($H23,SUMPRODUCT(CHOOSE(AA$39,$O24:$O$36,$P24:$P$36,$Q24:$Q$36,$R24:$R$36)*AA24:AA$36*($E24:$E$36=$D23)),IF(ISNUMBER(Data!R23),100*ABS($G23-(Data!R23-$K23)/$M23),0),IF(ISNUMBER(Data!R23),100*ABS($G23-(Data!R23-$K23)/$M23),0)))","v":25},{"$f":"IF($H23=0,0,CHOOSE($H23,SUMPRODUCT(CHOOSE(AB$39,$O24:$O$36,$P24:$P$36,$Q24:$Q$36,$R24:$R$36)*AB24:AB$36*($E24:$E$36=$D23)),IF(ISNUMBER(Data!S23),100*ABS($G23-(Data!S23-$K23)/$M23),0),IF(ISNUMBER(Data!S23),100*ABS($G23-(Data!S23-$K23)/$M23),0)))","v":75},{"$f":"IF($H23=0,0,CHOOSE($H23,SUMPRODUCT(CHOOSE(AC$39,$O24:$O$36,$P24:$P$36,$Q24:$Q$36,$R24:$R$36)*AC24:AC$36*($E24:$E$36=$D23)),IF(ISNUMBER(Data!T23),100*ABS($G23-(Data!T23-$K23)/$M23),0),IF(ISNUMBER(Data!T23),100*ABS($G23-(Data!T23-$K23)/$M23),0)))","v":0},{"$f":"IF($H23=0,0,CHOOSE($H23,SUMPRODUCT(CHOOSE(AD$39,$O24:$O$36,$P24:$P$36,$Q24:$Q$36,$R24:$R$36)*AD24:AD$36*($E24:$E$36=$D23)),IF(ISNUMBER(Data!U23),100*ABS($G23-(Data!U23-$K23)/$M23),0),IF(ISNUMBER(Data!U23),100*ABS($G23-(Data!U23-$K23)/$M23),0)))","v":25},{"$f":"IF($H23=0,0,CHOOSE($H23,SUMPRODUCT(CHOOSE(AE$39,$O24:$O$36,$P24:$P$36,$Q24:$Q$36,$R24:$R$36)*AE24:AE$36*($E24:$E$36=$D23)),IF(ISNUMBER(Data!V23),100*ABS($G23-(Data!V23-$K23)/$M23),0),IF(ISNUMBER(Data!V23),100*ABS($G23-(Data!V23-$K23)/$M23),0)))","v":75},{"$f":"IF($H23=0,0,CHOOSE($H23,SUMPRODUCT(CHOOSE(AF$39,$O24:$O$36,$P24:$P$36,$Q24:$Q$36,$R24:$R$36)*AF24:AF$36*($E24:$E$36=$D23)),IF(ISNUMBER(Data!W23),100*ABS($G23-(Data!W23-$K23)/$M23),0),IF(ISNUMBER(Data!W23),100*ABS($G23-(Data!W23-$K23)/$M23),0)))","v":100},{"$f":"IF($H23=0,0,CHOOSE($H23,SUMPRODUCT(CHOOSE(AG$39,$O24:$O$36,$P24:$P$36,$Q24:$Q$36,$R24:$R$36)*AG24:AG$36*($E24:$E$36=$D23)),IF(ISNUMBER(Data!X23),100*ABS($G23-(Data!X23-$K23)/$M23),0),IF(ISNUMBER(Data!X23),100*ABS($G23-(Data!X23-$K23)/$M23),0)))","v":100},{"$f":"IF($H23=0,0,CHOOSE($H23,SUMPRODUCT(CHOOSE(AH$39,$O24:$O$36,$P24:$P$36,$Q24:$Q$36,$R24:$R$36)*AH24:AH$36*($E24:$E$36=$D23)),IF(ISNUMBER(Data!Y23),100*ABS($G23-(Data!Y23-$K23)/$M23),0),IF(ISNUMBER(Data!Y23),100*ABS($G23-(Data!Y23-$K23)/$M23),0)))","v":50},{"$f":"IF($H23=0,0,CHOOSE($H23,SUMPRODUCT(CHOOSE(AI$39,$O24:$O$36,$P24:$P$36,$Q24:$Q$36,$R24:$R$36)*AI24:AI$36*($E24:$E$36=$D23)),IF(ISNUMBER(Data!Z23),100*ABS($G23-(Data!Z23-$K23)/$M23),0),IF(ISNUMBER(Data!Z23),100*ABS($G23-(Data!Z23-$K23)/$M23),0)))","v":100},{"$f":"IF($H23=0,0,CHOOSE($H23,SUMPRODUCT(CHOOSE(AJ$39,$O24:$O$36,$P24:$P$36,$Q24:$Q$36,$R24:$R$36)*AJ24:AJ$36*($E24:$E$36=$D23)),IF(ISNUMBER(Data!AA23),100*ABS($G23-(Data!AA23-$K23)/$M23),0),IF(ISNUMBER(Data!AA23),100*ABS($G23-(Data!AA23-$K23)/$M23),0)))","v":50},{"$f":"IF($H23=0,0,CHOOSE($H23,SUMPRODUCT(CHOOSE(AK$39,$O24:$O$36,$P24:$P$36,$Q24:$Q$36,$R24:$R$36)*AK24:AK$36*($E24:$E$36=$D23)),IF(ISNUMBER(Data!AB23),100*ABS($G23-(Data!AB23-$K23)/$M23),0),IF(ISNUMBER(Data!AB23),100*ABS($G23-(Data!AB23-$K23)/$M23),0)))","v":75},{"$f":"IF($H23=0,0,CHOOSE($H23,SUMPRODUCT(CHOOSE(AL$39,$O24:$O$36,$P24:$P$36,$Q24:$Q$36,$R24:$R$36)*AL24:AL$36*($E24:$E$36=$D23)),IF(ISNUMBER(Data!AC23),100*ABS($G23-(Data!AC23-$K23)/$M23),0),IF(ISNUMBER(Data!AC23),100*ABS($G23-(Data!AC23-$K23)/$M23),0)))","v":100}]
[null,{"$f":"tblIndicators!A21","v":20},{"$f":"tblIndicators!B21","v":0},{"$f":"tblIndicators!D21","v":"EP_23"},{"$f":"tblIndicators!E21","v":"EP"},{"$f":"tblIndicators!F21","v":2},{"$f":"tblIndicators!S21","v":0},{"$f":"tblIndicators!T21","v":2},{"$f":"tblIndicators!U21","v":0},{"$f":"tblIndicators!V21","v":0},{"$f":"CHOOSE(H24,\"-\",MIN(Data!J24:AC24),I24)","v":-0.106},{"$f":"CHOOSE(H24,\"-\",MAX(Data!J24:AC24),J24)","v":0.45700000000000002},0.56300000000000006,{"$f":"tblIndicators!Y21","v":"1.23) Growth in labour force"},{"$f":"tblIndicators!AO21","v":7.1428571428571425E-2},{"$f":"tblIndicators!AR21","v":7.1428571428571425E-2},{"$f":"tblIndicators!AU21","v":4.1666666666666664E-2},{"$f":"tblIndicators!AX21","v":7.1428571428571425E-2},{"$f":"IF($H24=0,0,CHOOSE($H24,SUMPRODUCT(CHOOSE(S$39,$O25:$O$36,$P25:$P$36,$Q25:$Q$36,$R25:$R$36)*S25:S$36*($E25:$E$36=$D24)),IF(ISNUMBER(Data!J24),100*ABS($G24-(Data!J24-$K24)/$M24),0),IF(ISNUMBER(Data!J24),100*ABS($G24-(Data!J24-$K24)/$M24),0)))","v":64.831261101243328},{"$f":"IF($H24=0,0,CHOOSE($H24,SUMPRODUCT(CHOOSE(T$39,$O25:$O$36,$P25:$P$36,$Q25:$Q$36,$R25:$R$36)*T25:T$36*($E25:$E$36=$D24)),IF(ISNUMBER(Data!K24),100*ABS($G24-(Data!K24-$K24)/$M24),0),IF(ISNUMBER(Data!K24),100*ABS($G24-(Data!K24-$K24)/$M24),0)))","v":13.49911190053286},{"$f":"IF($H24=0,0,CHOOSE($H24,SUMPRODUCT(CHOOSE(U$39,$O25:$O$36,$P25:$P$36,$Q25:$Q$36,$R25:$R$36)*U25:U$36*($E25:$E$36=$D24)),IF(ISNUMBER(Data!L24),100*ABS($G24-(Data!L24-$K24)/$M24),0),IF(ISNUMBER(Data!L24),100*ABS($G24-(Data!L24-$K24)/$M24),0)))","v":22.912966252220247},{"$f":"IF($H24=0,0,CHOOSE($H24,SUMPRODUCT(CHOOSE(V$39,$O25:$O$36,$P25:$P$36,$Q25:$Q$36,$R25:$R$36)*V25:V$36*($E25:$E$36=$D24)),IF(ISNUMBER(Data!M24),100*ABS($G24-(Data!M24-$K24)/$M24),0),IF(ISNUMBER(Data!M24),100*ABS($G24-(Data!M24-$K24)/$M24),0)))","v":8.7033747779751316},{"$f":"IF($H24=0,0,CHOOSE($H24,SUMPRODUCT(CHOOSE(W$39,$O25:$O$36,$P25:$P$36,$Q25:$Q$36,$R25:$R$36)*W25:W$36*($E25:$E$36=$D24)),IF(ISNUMBER(Data!N24),100*ABS($G24-(Data!N24-$K24)/$M24),0),IF(ISNUMBER(Data!N24),100*ABS($G24-(Data!N24-$K24)/$M24),0)))","v":7.9928952042628758},{"$f":"IF($H24=0,0,CHOOSE($H24,SUMPRODUCT(CHOOSE(X$39,$O25:$O$36,$P25:$P$36,$Q25:$Q$36,$R25:$R$36)*X25:X$36*($E25:$E$36=$D24)),IF(ISNUMBER(Data!O24),100*ABS($G24-(Data!O24-$K24)/$M24),0),IF(ISNUMBER(Data!O24),100*ABS($G24-(Data!O24-$K24)/$M24),0)))","v":69.626998223801053},{"$f":"IF($H24=0,0,CHOOSE($H24,SUMPRODUCT(CHOOSE(Y$39,$O25:$O$36,$P25:$P$36,$Q25:$Q$36,$R25:$R$36)*Y25:Y$36*($E25:$E$36=$D24)),IF(ISNUMBER(Data!P24),100*ABS($G24-(Data!P24-$K24)/$M24),0),IF(ISNUMBER(Data!P24),100*ABS($G24-(Data!P24-$K24)/$M24),0)))","v":61.101243339253983},{"$f":"IF($H24=0,0,CHOOSE($H24,SUMPRODUCT(CHOOSE(Z$39,$O25:$O$36,$P25:$P$36,$Q25:$Q$36,$R25:$R$36)*Z25:Z$36*($E25:$E$36=$D24)),IF(ISNUMBER(Data!Q24),100*ABS($G24-(Data!Q24-$K24)/$M24),0),IF(ISNUMBER(Data!Q24),100*ABS($G24-(Data!Q24-$K24)/$M24),0)))","v":0},{"$f":"IF($H24=0,0,CHOOSE($H24,SUMPRODUCT(CHOOSE(AA$39,$O25:$O$36,$P25:$P$36,$Q25:$Q$36,$R25:$R$36)*AA25:AA$36*($E25:$E$36=$D24)),IF(ISNUMBER(Data!R24),100*ABS($G24-(Data!R24-$K24)/$M24),0),IF(ISNUMBER(Data!R24),100*ABS($G24-(Data!R24-$K24)/$M24),0)))","v":30.90586145648312},{"$f":"IF($H24=0,0,CHOOSE($H24,SUMPRODUCT(CHOOSE(AB$39,$O25:$O$36,$P25:$P$36,$Q25:$Q$36,$R25:$R$36)*AB25:AB$36*($E25:$E$36=$D24)),IF(ISNUMBER(Data!S24),100*ABS($G24-(Data!S24-$K24)/$M24),0),IF(ISNUMBER(Data!S24),100*ABS($G24-(Data!S24-$K24)/$M24),0)))","v":57.548845470692712},{"$f":"IF($H24=0,0,CHOOSE($H24,SUMPRODUCT(CHOOSE(AC$39,$O25:$O$36,$P25:$P$36,$Q25:$Q$36,$R25:$R$36)*AC25:AC$36*($E25:$E$36=$D24)),IF(ISNUMBER(Data!T24),100*ABS($G24-(Data!T24-$K24)/$M24),0),IF(ISNUMBER(Data!T24),100*ABS($G24-(Data!T24-$K24)/$M24),0)))","v":24.68916518650089},{"$f":"IF($H24=0,0,CHOOSE($H24,SUMPRODUCT(CHOOSE(AD$39,$O25:$O$36,$P25:$P$36,$Q25:$Q$36,$R25:$R$36)*AD25:AD$36*($E25:$E$36=$D24)),IF(ISNUMBER(Data!U24),100*ABS($G24-(Data!U24-$K24)/$M24),0),IF(ISNUMBER(Data!U24),100*ABS($G24-(Data!U24-$K24)/$M24),0)))","v":100},{"$f":"IF($H24=0,0,CHOOSE($H24,SUMPRODUCT(CHOOSE(AE$39,$O25:$O$36,$P25:$P$36,$Q25:$Q$36,$R25:$R$36)*AE25:AE$36*($E25:$E$36=$D24)),IF(ISNUMBER(Data!V24),100*ABS($G24-(Data!V24-$K24)/$M24),0),IF(ISNUMBER(Data!V24),100*ABS($G24-(Data!V24-$K24)/$M24),0)))","v":80.284191829484882},{"$f":"IF($H24=0,0,CHOOSE($H24,SUMPRODUCT(CHOOSE(AF$39,$O25:$O$36,$P25:$P$36,$Q25:$Q$36,$R25:$R$36)*AF25:AF$36*($E25:$E$36=$D24)),IF(ISNUMBER(Data!W24),100*ABS($G24-(Data!W24-$K24)/$M24),0),IF(ISNUMBER(Data!W24),100*ABS($G24-(Data!W24-$K24)/$M24),0)))","v":35.168738898756658},{"$f":"IF($H24=0,0,CHOOSE($H24,SUMPRODUCT(CHOOSE(AG$39,$O25:$O$36,$P25:$P$36,$Q25:$Q$36,$R25:$R$36)*AG25:AG$36*($E25:$E$36=$D24)),IF(ISNUMBER(Data!X24),100*ABS($G24-(Data!X24-$K24)/$M24),0),IF(ISNUMBER(Data!X24),100*ABS($G24-(Data!X24-$K24)/$M24),0)))","v":17.051509769094135},{"$f":"IF($H24=0,0,CHOOSE($H24,SUMPRODUCT(CHOOSE(AH$39,$O25:$O$36,$P25:$P$36,$Q25:$Q$36,$R25:$R$36)*AH25:AH$36*($E25:$E$36=$D24)),IF(ISNUMBER(Data!Y24),100*ABS($G24-(Data!Y24-$K24)/$M24),0),IF(ISNUMBER(Data!Y24),100*ABS($G24-(Data!Y24-$K24)/$M24),0)))","v":30.195381882770867},{"$f":"IF($H24=0,0,CHOOSE($H24,SUMPRODUCT(CHOOSE(AI$39,$O25:$O$36,$P25:$P$36,$Q25:$Q$36,$R25:$R$36)*AI25:AI$36*($E25:$E$36=$D24)),IF(ISNUMBER(Data!Z24),100*ABS($G24-(Data!Z24-$K24)/$M24),0),IF(ISNUMBER(Data!Z24),100*ABS($G24-(Data!Z24-$K24)/$M24),0)))","v":11.012433392539963},{"$f":"IF($H24=0,0,CHOOSE($H24,SUMPRODUCT(CHOOSE(AJ$39,$O25:$O$36,$P25:$P$36,$Q25:$Q$36,$R25:$R$36)*AJ25:AJ$36*($E25:$E$36=$D24)),IF(ISNUMBER(Data!AA24),100*ABS($G24-(Data!AA24-$K24)/$M24),0),IF(ISNUMBER(Data!AA24),100*ABS($G24-(Data!AA24-$K24)/$M24),0)))","v":12.788632326820601},{"$f":"IF($H24=0,0,CHOOSE($H24,SUMPRODUCT(CHOOSE(AK$39,$O25:$O$36,$P25:$P$36,$Q25:$Q$36,$R25:$R$36)*AK25:AK$36*($E25:$E$36=$D24)),IF(ISNUMBER(Data!AB24),100*ABS($G24-(Data!AB24-$K24)/$M24),0),IF(ISNUMBER(Data!AB24),100*ABS($G24-(Data!AB24-$K24)/$M24),0)))","v":36.767317939609235},{"$f":"IF($H24=0,0,CHOOSE($H24,SUMPRODUCT(CHOOSE(AL$39,$O25:$O$36,$P25:$P$36,$Q25:$Q$36,$R25:$R$36)*AL25:AL$36*($E25:$E$36=$D24)),IF(ISNUMBER(Data!AC24),100*ABS($G24-(Data!AC24-$K24)/$M24),0),IF(ISNUMBER(Data!AC24),100*ABS($G24-(Data!AC24-$K24)/$M24),0)))","v":29.484902309058608}]
[null,{"$f":"tblIndicators!A22","v":21},{"$f":"tblIndicators!B22","v":0},{"$f":"tblIndicators!D22","v":"SP"},{"$f":"tblIndicators!E22","v":"TOTAL"},{"$f":"tblIndicators!F22","v":1},{"$f":"tblIndicators!S22","v":""},{"$f":"tblIndicators!T22","v":1},{"$f":"tblIndicators!U22","v":0},{"$f":"tblIndicators!V22","v":0},{"$f":"CHOOSE(H25,\"-\",MIN(Data!J25:AC25),I25)","v":"-"},{"$f":"CHOOSE(H25,\"-\",MAX(Data!J25:AC25),J25)","v":"-"},"-",{"$f":"tblIndicators!Y22","v":"2) SOCIAL PILLAR"},{"$f":"tblIndicators!AO22","v":0.33333333333333331},{"$f":"tblIndicators!AR22","v":0.39999999999999997},{"$f":"tblIndicators!AU22","v":0.33333333333333331},{"$f":"tblIndicators!AX22","v":0.26666666666666666},{"$f":"IF($H25=0,0,CHOOSE($H25,SUMPRODUCT(CHOOSE(S$39,$O26:$O$36,$P26:$P$36,$Q26:$Q$36,$R26:$R$36)*S26:S$36*($E26:$E$36=$D25)),IF(ISNUMBER(Data!J25),100*ABS($G25-(Data!J25-$K25)/$M25),0),IF(ISNUMBER(Data!J25),100*ABS($G25-(Data!J25-$K25)/$M25),0)))","v":33.492795271712247},{"$f":"IF($H25=0,0,CHOOSE($H25,SUMPRODUCT(CHOOSE(T$39,$O26:$O$36,$P26:$P$36,$Q26:$Q$36,$R26:$R$36)*T26:T$36*($E26:$E$36=$D25)),IF(ISNUMBER(Data!K25),100*ABS($G25-(Data!K25-$K25)/$M25),0),IF(ISNUMBER(Data!K25),100*ABS($G25-(Data!K25-$K25)/$M25),0)))","v":68.171493127416269},{"$f":"IF($H25=0,0,CHOOSE($H25,SUMPRODUCT(CHOOSE(U$39,$O26:$O$36,$P26:$P$36,$Q26:$Q$36,$R26:$R$36)*U26:U$36*($E26:$E$36=$D25)),IF(ISNUMBER(Data!L25),100*ABS($G25-(Data!L25-$K25)/$M25),0),IF(ISNUMBER(Data!L25),100*ABS($G25-(Data!L25-$K25)/$M25),0)))","v":35.530018287653391},{"$f":"IF($H25=0,0,CHOOSE($H25,SUMPRODUCT(CHOOSE(V$39,$O26:$O$36,$P26:$P$36,$Q26:$Q$36,$R26:$R$36)*V26:V$36*($E26:$E$36=$D25)),IF(ISNUMBER(Data!M25),100*ABS($G25-(Data!M25-$K25)/$M25),0),IF(ISNUMBER(Data!M25),100*ABS($G25-(Data!M25-$K25)/$M25),0)))","v":41.135501681500749},{"$f":"IF($H25=0,0,CHOOSE($H25,SUMPRODUCT(CHOOSE(W$39,$O26:$O$36,$P26:$P$36,$Q26:$Q$36,$R26:$R$36)*W26:W$36*($E26:$E$36=$D25)),IF(ISNUMBER(Data!N25),100*ABS($G25-(Data!N25-$K25)/$M25),0),IF(ISNUMBER(Data!N25),100*ABS($G25-(Data!N25-$K25)/$M25),0)))","v":56.428759535628302},{"$f":"IF($H25=0,0,CHOOSE($H25,SUMPRODUCT(CHOOSE(X$39,$O26:$O$36,$P26:$P$36,$Q26:$Q$36,$R26:$R$36)*X26:X$36*($E26:$E$36=$D25)),IF(ISNUMBER(Data!O25),100*ABS($G25-(Data!O25-$K25)/$M25),0),IF(ISNUMBER(Data!O25),100*ABS($G25-(Data!O25-$K25)/$M25),0)))","v":39.823441644177827},{"$f":"IF($H25=0,0,CHOOSE($H25,SUMPRODUCT(CHOOSE(Y$39,$O26:$O$36,$P26:$P$36,$Q26:$Q$36,$R26:$R$36)*Y26:Y$36*($E26:$E$36=$D25)),IF(ISNUMBER(Data!P25),100*ABS($G25-(Data!P25-$K25)/$M25),0),IF(ISNUMBER(Data!P25),100*ABS($G25-(Data!P25-$K25)/$M25),0)))","v":40.026600628526694},{"$f":"IF($H25=0,0,CHOOSE($H25,SUMPRODUCT(CHOOSE(Z$39,$O26:$O$36,$P26:$P$36,$Q26:$Q$36,$R26:$R$36)*Z26:Z$36*($E26:$E$36=$D25)),IF(ISNUMBER(Data!Q25),100*ABS($G25-(Data!Q25-$K25)/$M25),0),IF(ISNUMBER(Data!Q25),100*ABS($G25-(Data!Q25-$K25)/$M25),0)))","v":85.729905011601502},{"$f":"IF($H25=0,0,CHOOSE($H25,SUMPRODUCT(CHOOSE(AA$39,$O26:$O$36,$P26:$P$36,$Q26:$Q$36,$R26:$R$36)*AA26:AA$36*($E26:$E$36=$D25)),IF(ISNUMBER(Data!R25),100*ABS($G25-(Data!R25-$K25)/$M25),0),IF(ISNUMBER(Data!R25),100*ABS($G25-(Data!R25-$K25)/$M25),0)))","v":38.660359484433641},{"$f":"IF($H25=0,0,CHOOSE($H25,SUMPRODUCT(CHOOSE(AB$39,$O26:$O$36,$P26:$P$36,$Q26:$Q$36,$R26:$R$36)*AB26:AB$36*($E26:$E$36=$D25)),IF(ISNUMBER(Data!S25),100*ABS($G25-(Data!S25-$K25)/$M25),0),IF(ISNUMBER(Data!S25),100*ABS($G25-(Data!S25-$K25)/$M25),0)))","v":52.232551176913923},{"$f":"IF($H25=0,0,CHOOSE($H25,SUMPRODUCT(CHOOSE(AC$39,$O26:$O$36,$P26:$P$36,$Q26:$Q$36,$R26:$R$36)*AC26:AC$36*($E26:$E$36=$D25)),IF(ISNUMBER(Data!T25),100*ABS($G25-(Data!T25-$K25)/$M25),0),IF(ISNUMBER(Data!T25),100*ABS($G25-(Data!T25-$K25)/$M25),0)))","v":27.311982802817919},{"$f":"IF($H25=0,0,CHOOSE($H25,SUMPRODUCT(CHOOSE(AD$39,$O26:$O$36,$P26:$P$36,$Q26:$Q$36,$R26:$R$36)*AD26:AD$36*($E26:$E$36=$D25)),IF(ISNUMBER(Data!U25),100*ABS($G25-(Data!U25-$K25)/$M25),0),IF(ISNUMBER(Data!U25),100*ABS($G25-(Data!U25-$K25)/$M25),0)))","v":35},{"$f":"IF($H25=0,0,CHOOSE($H25,SUMPRODUCT(CHOOSE(AE$39,$O26:$O$36,$P26:$P$36,$Q26:$Q$36,$R26:$R$36)*AE26:AE$36*($E26:$E$36=$D25)),IF(ISNUMBER(Data!V25),100*ABS($G25-(Data!V25-$K25)/$M25),0),IF(ISNUMBER(Data!V25),100*ABS($G25-(Data!V25-$K25)/$M25),0)))","v":28.021526313895968},{"$f":"IF($H25=0,0,CHOOSE($H25,SUMPRODUCT(CHOOSE(AF$39,$O26:$O$36,$P26:$P$36,$Q26:$Q$36,$R26:$R$36)*AF26:AF$36*($E26:$E$36=$D25)),IF(ISNUMBER(Data!W25),100*ABS($G25-(Data!W25-$K25)/$M25),0),IF(ISNUMBER(Data!W25),100*ABS($G25-(Data!W25-$K25)/$M25),0)))","v":74.223011319135878},{"$f":"IF($H25=0,0,CHOOSE($H25,SUMPRODUCT(CHOOSE(AG$39,$O26:$O$36,$P26:$P$36,$Q26:$Q$36,$R26:$R$36)*AG26:AG$36*($E26:$E$36=$D25)),IF(ISNUMBER(Data!X25),100*ABS($G25-(Data!X25-$K25)/$M25),0),IF(ISNUMBER(Data!X25),100*ABS($G25-(Data!X25-$K25)/$M25),0)))","v":88.85892116182572},{"$f":"IF($H25=0,0,CHOOSE($H25,SUMPRODUCT(CHOOSE(AH$39,$O26:$O$36,$P26:$P$36,$Q26:$Q$36,$R26:$R$36)*AH26:AH$36*($E26:$E$36=$D25)),IF(ISNUMBER(Data!Y25),100*ABS($G25-(Data!Y25-$K25)/$M25),0),IF(ISNUMBER(Data!Y25),100*ABS($G25-(Data!Y25-$K25)/$M25),0)))","v":44.907774120710442},{"$f":"IF($H25=0,0,CHOOSE($H25,SUMPRODUCT(CHOOSE(AI$39,$O26:$O$36,$P26:$P$36,$Q26:$Q$36,$R26:$R$36)*AI26:AI$36*($E26:$E$36=$D25)),IF(ISNUMBER(Data!Z25),100*ABS($G25-(Data!Z25-$K25)/$M25),0),IF(ISNUMBER(Data!Z25),100*ABS($G25-(Data!Z25-$K25)/$M25),0)))","v":81.566748242558987},{"$f":"IF($H25=0,0,CHOOSE($H25,SUMPRODUCT(CHOOSE(AJ$39,$O26:$O$36,$P26:$P$36,$Q26:$Q$36,$R26:$R$36)*AJ26:AJ$36*($E26:$E$36=$D25)),IF(ISNUMBER(Data!AA25),100*ABS($G25-(Data!AA25-$K25)/$M25),0),IF(ISNUMBER(Data!AA25),100*ABS($G25-(Data!AA25-$K25)/$M25),0)))","v":45.204031803916543},{"$f":"IF($H25=0,0,CHOOSE($H25,SUMPRODUCT(CHOOSE(AK$39,$O26:$O$36,$P26:$P$36,$Q26:$Q$36,$R26:$R$36)*AK26:AK$36*($E26:$E$36=$D25)),IF(ISNUMBER(Data!AB25),100*ABS($G25-(Data!AB25-$K25)/$M25),0),IF(ISNUMBER(Data!AB25),100*ABS($G25-(Data!AB25-$K25)/$M25),0)))","v":48.14771492341378},{"$f":"IF($H25=0,0,CHOOSE($H25,SUMPRODUCT(CHOOSE(AL$39,$O26:$O$36,$P26:$P$36,$Q26:$Q$36,$R26:$R$36)*AL26:AL$36*($E26:$E$36=$D25)),IF(ISNUMBER(Data!AC25),100*ABS($G25-(Data!AC25-$K25)/$M25),0),IF(ISNUMBER(Data!AC25),100*ABS($G25-(Data!AC25-$K25)/$M25),0)))","v":88.087251999324536}]
[null,{"$f":"tblIndicators!A23","v":22},{"$f":"tblIndicators!B23","v":0},{"$f":"tblIndicators!D23","v":"SP_10"},{"$f":"tblIndicators!E23","v":"SP"},{"$f":"tblIndicators!F23","v":2},{"$f":"tblIndicators!S23","v":1},{"$f":"tblIndicators!T23","v":2},{"$f":"tblIndicators!U23","v":0},{"$f":"tblIndicators!V23","v":0},{"$f":"CHOOSE(H26,\"-\",MIN(Data!J26:AC26),I26)","v":29.6},{"$f":"CHOOSE(H26,\"-\",MAX(Data!J26:AC26),J26)","v":53.7},24.1,{"$f":"tblIndicators!Y23","v":"2.1) Inequality (Gini coefficient)"},{"$f":"tblIndicators!AO23","v":0.25},{"$f":"tblIndicators!AR23","v":0.25},{"$f":"tblIndicators!AU23","v":0.25},{"$f":"tblIndicators!AX23","v":0.25},{"$f":"IF($H26=0,0,CHOOSE($H26,SUMPRODUCT(CHOOSE(S$39,$O27:$O$36,$P27:$P$36,$Q27:$Q$36,$R27:$R$36)*S27:S$36*($E27:$E$36=$D26)),IF(ISNUMBER(Data!J26),100*ABS($G26-(Data!J26-$K26)/$M26),0),IF(ISNUMBER(Data!J26),100*ABS($G26-(Data!J26-$K26)/$M26),0)))","v":90.041493775933617},{"$f":"IF($H26=0,0,CHOOSE($H26,SUMPRODUCT(CHOOSE(T$39,$O27:$O$36,$P27:$P$36,$Q27:$Q$36,$R27:$R$36)*T27:T$36*($E27:$E$36=$D26)),IF(ISNUMBER(Data!K26),100*ABS($G26-(Data!K26-$K26)/$M26),0),IF(ISNUMBER(Data!K26),100*ABS($G26-(Data!K26-$K26)/$M26),0)))","v":54.77178423236515},{"$f":"IF($H26=0,0,CHOOSE($H26,SUMPRODUCT(CHOOSE(U$39,$O27:$O$36,$P27:$P$36,$Q27:$Q$36,$R27:$R$36)*U27:U$36*($E27:$E$36=$D26)),IF(ISNUMBER(Data!L26),100*ABS($G26-(Data!L26-$K26)/$M26),0),IF(ISNUMBER(Data!L26),100*ABS($G26-(Data!L26-$K26)/$M26),0)))","v":95.186721991701233},{"$f":"IF($H26=0,0,CHOOSE($H26,SUMPRODUCT(CHOOSE(V$39,$O27:$O$36,$P27:$P$36,$Q27:$Q$36,$R27:$R$36)*V27:V$36*($E27:$E$36=$D26)),IF(ISNUMBER(Data!M26),100*ABS($G26-(Data!M26-$K26)/$M26),0),IF(ISNUMBER(Data!M26),100*ABS($G26-(Data!M26-$K26)/$M26),0)))","v":48.298755186721984},{"$f":"IF($H26=0,0,CHOOSE($H26,SUMPRODUCT(CHOOSE(W$39,$O27:$O$36,$P27:$P$36,$Q27:$Q$36,$R27:$R$36)*W27:W$36*($E27:$E$36=$D26)),IF(ISNUMBER(Data!N26),100*ABS($G26-(Data!N26-$K26)/$M26),0),IF(ISNUMBER(Data!N26),100*ABS($G26-(Data!N26-$K26)/$M26),0)))","v":0},{"$f":"IF($H26=0,0,CHOOSE($H26,SUMPRODUCT(CHOOSE(X$39,$O27:$O$36,$P27:$P$36,$Q27:$Q$36,$R27:$R$36)*X27:X$36*($E27:$E$36=$D26)),IF(ISNUMBER(Data!O26),100*ABS($G26-(Data!O26-$K26)/$M26),0),IF(ISNUMBER(Data!O26),100*ABS($G26-(Data!O26-$K26)/$M26),0)))","v":82.157676348547739},{"$f":"IF($H26=0,0,CHOOSE($H26,SUMPRODUCT(CHOOSE(Y$39,$O27:$O$36,$P27:$P$36,$Q27:$Q$36,$R27:$R$36)*Y27:Y$36*($E27:$E$36=$D26)),IF(ISNUMBER(Data!P26),100*ABS($G26-(Data!P26-$K26)/$M26),0),IF(ISNUMBER(Data!P26),100*ABS($G26-(Data!P26-$K26)/$M26),0)))","v":75.103734439834028},{"$f":"IF($H26=0,0,CHOOSE($H26,SUMPRODUCT(CHOOSE(Z$39,$O27:$O$36,$P27:$P$36,$Q27:$Q$36,$R27:$R$36)*Z27:Z$36*($E27:$E$36=$D26)),IF(ISNUMBER(Data!Q26),100*ABS($G26-(Data!Q26-$K26)/$M26),0),IF(ISNUMBER(Data!Q26),100*ABS($G26-(Data!Q26-$K26)/$M26),0)))","v":83.402489626556019},{"$f":"IF($H26=0,0,CHOOSE($H26,SUMPRODUCT(CHOOSE(AA$39,$O27:$O$36,$P27:$P$36,$Q27:$Q$36,$R27:$R$36)*AA27:AA$36*($E27:$E$36=$D26)),IF(ISNUMBER(Data!R26),100*ABS($G26-(Data!R26-$K26)/$M26),0),IF(ISNUMBER(Data!R26),100*ABS($G26-(Data!R26-$K26)/$M26),0)))","v":65.560165975103743},{"$f":"IF($H26=0,0,CHOOSE($H26,SUMPRODUCT(CHOOSE(AB$39,$O27:$O$36,$P27:$P$36,$Q27:$Q$36,$R27:$R$36)*AB27:AB$36*($E27:$E$36=$D26)),IF(ISNUMBER(Data!S26),100*ABS($G26-(Data!S26-$K26)/$M26),0),IF(ISNUMBER(Data!S26),100*ABS($G26-(Data!S26-$K26)/$M26),0)))","v":30.705394190871395},{"$f":"IF($H26=0,0,CHOOSE($H26,SUMPRODUCT(CHOOSE(AC$39,$O27:$O$36,$P27:$P$36,$Q27:$Q$36,$R27:$R$36)*AC27:AC$36*($E27:$E$36=$D26)),IF(ISNUMBER(Data!T26),100*ABS($G26-(Data!T26-$K26)/$M26),0),IF(ISNUMBER(Data!T26),100*ABS($G26-(Data!T26-$K26)/$M26),0)))","v":65.145228215767645},{"$f":"IF($H26=0,0,CHOOSE($H26,SUMPRODUCT(CHOOSE(AD$39,$O27:$O$36,$P27:$P$36,$Q27:$Q$36,$R27:$R$36)*AD27:AD$36*($E27:$E$36=$D26)),IF(ISNUMBER(Data!U26),100*ABS($G26-(Data!U26-$K26)/$M26),0),IF(ISNUMBER(Data!U26),100*ABS($G26-(Data!U26-$K26)/$M26),0)))","v":100},{"$f":"IF($H26=0,0,CHOOSE($H26,SUMPRODUCT(CHOOSE(AE$39,$O27:$O$36,$P27:$P$36,$Q27:$Q$36,$R27:$R$36)*AE27:AE$36*($E27:$E$36=$D26)),IF(ISNUMBER(Data!V26),100*ABS($G26-(Data!V26-$K26)/$M26),0),IF(ISNUMBER(Data!V26),100*ABS($G26-(Data!V26-$K26)/$M26),0)))","v":44.398340248962661},{"$f":"IF($H26=0,0,CHOOSE($H26,SUMPRODUCT(CHOOSE(AF$39,$O27:$O$36,$P27:$P$36,$Q27:$Q$36,$R27:$R$36)*AF27:AF$36*($E27:$E$36=$D26)),IF(ISNUMBER(Data!W26),100*ABS($G26-(Data!W26-$K26)/$M26),0),IF(ISNUMBER(Data!W26),100*ABS($G26-(Data!W26-$K26)/$M26),0)))","v":24.481327800829899},{"$f":"IF($H26=0,0,CHOOSE($H26,SUMPRODUCT(CHOOSE(AG$39,$O27:$O$36,$P27:$P$36,$Q27:$Q$36,$R27:$R$36)*AG27:AG$36*($E27:$E$36=$D26)),IF(ISNUMBER(Data!X26),100*ABS($G26-(Data!X26-$K26)/$M26),0),IF(ISNUMBER(Data!X26),100*ABS($G26-(Data!X26-$K26)/$M26),0)))","v":95.435684647302907},{"$f":"IF($H26=0,0,CHOOSE($H26,SUMPRODUCT(CHOOSE(AH$39,$O27:$O$36,$P27:$P$36,$Q27:$Q$36,$R27:$R$36)*AH27:AH$36*($E27:$E$36=$D26)),IF(ISNUMBER(Data!Y26),100*ABS($G26-(Data!Y26-$K26)/$M26),0),IF(ISNUMBER(Data!Y26),100*ABS($G26-(Data!Y26-$K26)/$M26),0)))","v":62.655601659751035},{"$f":"IF($H26=0,0,CHOOSE($H26,SUMPRODUCT(CHOOSE(AI$39,$O27:$O$36,$P27:$P$36,$Q27:$Q$36,$R27:$R$36)*AI27:AI$36*($E27:$E$36=$D26)),IF(ISNUMBER(Data!Z26),100*ABS($G26-(Data!Z26-$K26)/$M26),0),IF(ISNUMBER(Data!Z26),100*ABS($G26-(Data!Z26-$K26)/$M26),0)))","v":80.912863070539416},{"$f":"IF($H26=0,0,CHOOSE($H26,SUMPRODUCT(CHOOSE(AJ$39,$O27:$O$36,$P27:$P$36,$Q27:$Q$36,$R27:$R$36)*AJ27:AJ$36*($E27:$E$36=$D26)),IF(ISNUMBER(Data!AA26),100*ABS($G26-(Data!AA26-$K26)/$M26),0),IF(ISNUMBER(Data!AA26),100*ABS($G26-(Data!AA26-$K26)/$M26),0)))","v":59.751037344398362},{"$f":"IF($H26=0,0,CHOOSE($H26,SUMPRODUCT(CHOOSE(AK$39,$O27:$O$36,$P27:$P$36,$Q27:$Q$36,$R27:$R$36)*AK27:AK$36*($E27:$E$36=$D26)),IF(ISNUMBER(Data!AB26),100*ABS($G26-(Data!AB26-$K26)/$M26),0),IF(ISNUMBER(Data!AB26),100*ABS($G26-(Data!AB26-$K26)/$M26),0)))","v":62.240663900414937},{"$f":"IF($H26=0,0,CHOOSE($H26,SUMPRODUCT(CHOOSE(AL$39,$O27:$O$36,$P27:$P$36,$Q27:$Q$36,$R27:$R$36)*AL27:AL$36*($E27:$E$36=$D26)),IF(ISNUMBER(Data!AC26),100*ABS($G26-(Data!AC26-$K26)/$M26),0),IF(ISNUMBER(Data!AC26),100*ABS($G26-(Data!AC26-$K26)/$M26),0)))","v":60.995850622406643}]
[null,{"$f":"tblIndicators!A24","v":23},{"$f":"tblIndicators!B24","v":0},{"$f":"tblIndicators!D24","v":"SP_11"},{"$f":"tblIndicators!E24","v":"SP"},{"$f":"tblIndicators!F24","v":2},{"$f":"tblIndicators!S24","v":0},{"$f":"tblIndicators!T24","v":2},{"$f":"tblIndicators!U24","v":0},{"$f":"tblIndicators!V24","v":0},{"$f":"CHOOSE(H27,\"-\",MIN(Data!J27:AC27),I27)","v":9.8182700000000001},{"$f":"CHOOSE(H27,\"-\",MAX(Data!J27:AC27),J27)","v":96.584969999999998},86.7667,{"$f":"tblIndicators!Y24","v":"2.2) Educational attainment"},{"$f":"tblIndicators!AO24","v":0.25},{"$f":"tblIndicators!AR24","v":0.25},{"$f":"tblIndicators!AU24","v":0.25},{"$f":"tblIndicators!AX24","v":0.25},{"$f":"IF($H27=0,0,CHOOSE($H27,SUMPRODUCT(CHOOSE(S$39,$O28:$O$36,$P28:$P$36,$Q28:$Q$36,$R28:$R$36)*S28:S$36*($E28:$E$36=$D27)),IF(ISNUMBER(Data!J27),100*ABS($G27-(Data!J27-$K27)/$M27),0),IF(ISNUMBER(Data!J27),100*ABS($G27-(Data!J27-$K27)/$M27),0)))","v":3.9296873109153632},{"$f":"IF($H27=0,0,CHOOSE($H27,SUMPRODUCT(CHOOSE(T$39,$O28:$O$36,$P28:$P$36,$Q28:$Q$36,$R28:$R$36)*T28:T$36*($E28:$E$36=$D27)),IF(ISNUMBER(Data!K27),100*ABS($G27-(Data!K27-$K27)/$M27),0),IF(ISNUMBER(Data!K27),100*ABS($G27-(Data!K27-$K27)/$M27),0)))","v":17.914188277299932},{"$f":"IF($H27=0,0,CHOOSE($H27,SUMPRODUCT(CHOOSE(U$39,$O28:$O$36,$P28:$P$36,$Q28:$Q$36,$R28:$R$36)*U28:U$36*($E28:$E$36=$D27)),IF(ISNUMBER(Data!L27),100*ABS($G27-(Data!L27-$K27)/$M27),0),IF(ISNUMBER(Data!L27),100*ABS($G27-(Data!L27-$K27)/$M27),0)))","v":6.9333511589123482},{"$f":"IF($H27=0,0,CHOOSE($H27,SUMPRODUCT(CHOOSE(V$39,$O28:$O$36,$P28:$P$36,$Q28:$Q$36,$R28:$R$36)*V28:V$36*($E28:$E$36=$D27)),IF(ISNUMBER(Data!M27),100*ABS($G27-(Data!M27-$K27)/$M27),0),IF(ISNUMBER(Data!M27),100*ABS($G27-(Data!M27-$K27)/$M27),0)))","v":22.909918205947672},{"$f":"IF($H27=0,0,CHOOSE($H27,SUMPRODUCT(CHOOSE(W$39,$O28:$O$36,$P28:$P$36,$Q28:$Q$36,$R28:$R$36)*W28:W$36*($E28:$E$36=$D27)),IF(ISNUMBER(Data!N27),100*ABS($G27-(Data!N27-$K27)/$M27),0),IF(ISNUMBER(Data!N27),100*ABS($G27-(Data!N27-$K27)/$M27),0)))","v":65.715038142513208},{"$f":"IF($H27=0,0,CHOOSE($H27,SUMPRODUCT(CHOOSE(X$39,$O28:$O$36,$P28:$P$36,$Q28:$Q$36,$R28:$R$36)*X28:X$36*($E28:$E$36=$D27)),IF(ISNUMBER(Data!O27),100*ABS($G27-(Data!O27-$K27)/$M27),0),IF(ISNUMBER(Data!O27),100*ABS($G27-(Data!O27-$K27)/$M27),0)))","v":17.136090228163567},{"$f":"IF($H27=0,0,CHOOSE($H27,SUMPRODUCT(CHOOSE(Y$39,$O28:$O$36,$P28:$P$36,$Q28:$Q$36,$R28:$R$36)*Y28:Y$36*($E28:$E$36=$D27)),IF(ISNUMBER(Data!P27),100*ABS($G27-(Data!P27-$K27)/$M27),0),IF(ISNUMBER(Data!P27),100*ABS($G27-(Data!P27-$K27)/$M27),0)))","v":25.002668074272734},{"$f":"IF($H27=0,0,CHOOSE($H27,SUMPRODUCT(CHOOSE(Z$39,$O28:$O$36,$P28:$P$36,$Q28:$Q$36,$R28:$R$36)*Z28:Z$36*($E28:$E$36=$D27)),IF(ISNUMBER(Data!Q27),100*ABS($G27-(Data!Q27-$K27)/$M27),0),IF(ISNUMBER(Data!Q27),100*ABS($G27-(Data!Q27-$K27)/$M27),0)))","v":59.517130419850005},{"$f":"IF($H27=0,0,CHOOSE($H27,SUMPRODUCT(CHOOSE(AA$39,$O28:$O$36,$P28:$P$36,$Q28:$Q$36,$R28:$R$36)*AA28:AA$36*($E28:$E$36=$D27)),IF(ISNUMBER(Data!R27),100*ABS($G27-(Data!R27-$K27)/$M27),0),IF(ISNUMBER(Data!R27),100*ABS($G27-(Data!R27-$K27)/$M27),0)))","v":9.0812719626308276},{"$f":"IF($H27=0,0,CHOOSE($H27,SUMPRODUCT(CHOOSE(AB$39,$O28:$O$36,$P28:$P$36,$Q28:$Q$36,$R28:$R$36)*AB28:AB$36*($E28:$E$36=$D27)),IF(ISNUMBER(Data!S27),100*ABS($G27-(Data!S27-$K27)/$M27),0),IF(ISNUMBER(Data!S27),100*ABS($G27-(Data!S27-$K27)/$M27),0)))","v":31.558143850117617},{"$f":"IF($H27=0,0,CHOOSE($H27,SUMPRODUCT(CHOOSE(AC$39,$O28:$O$36,$P28:$P$36,$Q28:$Q$36,$R28:$R$36)*AC28:AC$36*($E28:$E$36=$D27)),IF(ISNUMBER(Data!T27),100*ABS($G27-(Data!T27-$K27)/$M27),0),IF(ISNUMBER(Data!T27),100*ABS($G27-(Data!T27-$K27)/$M27),0)))","v":4.1027029955040355},{"$f":"IF($H27=0,0,CHOOSE($H27,SUMPRODUCT(CHOOSE(AD$39,$O28:$O$36,$P28:$P$36,$Q28:$Q$36,$R28:$R$36)*AD28:AD$36*($E28:$E$36=$D27)),IF(ISNUMBER(Data!U27),100*ABS($G27-(Data!U27-$K27)/$M27),0),IF(ISNUMBER(Data!U27),100*ABS($G27-(Data!U27-$K27)/$M27),0)))","v":0},{"$f":"IF($H27=0,0,CHOOSE($H27,SUMPRODUCT(CHOOSE(AE$39,$O28:$O$36,$P28:$P$36,$Q28:$Q$36,$R28:$R$36)*AE28:AE$36*($E28:$E$36=$D27)),IF(ISNUMBER(Data!V27),100*ABS($G27-(Data!V27-$K27)/$M27),0),IF(ISNUMBER(Data!V27),100*ABS($G27-(Data!V27-$K27)/$M27),0)))","v":27.687765006621206},{"$f":"IF($H27=0,0,CHOOSE($H27,SUMPRODUCT(CHOOSE(AF$39,$O28:$O$36,$P28:$P$36,$Q28:$Q$36,$R28:$R$36)*AF28:AF$36*($E28:$E$36=$D27)),IF(ISNUMBER(Data!W27),100*ABS($G27-(Data!W27-$K27)/$M27),0),IF(ISNUMBER(Data!W27),100*ABS($G27-(Data!W27-$K27)/$M27),0)))","v":92.410717475713611},{"$f":"IF($H27=0,0,CHOOSE($H27,SUMPRODUCT(CHOOSE(AG$39,$O28:$O$36,$P28:$P$36,$Q28:$Q$36,$R28:$R$36)*AG28:AG$36*($E28:$E$36=$D27)),IF(ISNUMBER(Data!X27),100*ABS($G27-(Data!X27-$K27)/$M27),0),IF(ISNUMBER(Data!X27),100*ABS($G27-(Data!X27-$K27)/$M27),0)))","v":100},{"$f":"IF($H27=0,0,CHOOSE($H27,SUMPRODUCT(CHOOSE(AH$39,$O28:$O$36,$P28:$P$36,$Q28:$Q$36,$R28:$R$36)*AH28:AH$36*($E28:$E$36=$D27)),IF(ISNUMBER(Data!Y27),100*ABS($G27-(Data!Y27-$K27)/$M27),0),IF(ISNUMBER(Data!Y27),100*ABS($G27-(Data!Y27-$K27)/$M27),0)))","v":10.308828156424065},{"$f":"IF($H27=0,0,CHOOSE($H27,SUMPRODUCT(CHOOSE(AI$39,$O28:$O$36,$P28:$P$36,$Q28:$Q$36,$R28:$R$36)*AI28:AI$36*($E28:$E$36=$D27)),IF(ISNUMBER(Data!Z27),100*ABS($G27-(Data!Z27-$K27)/$M27),0),IF(ISNUMBER(Data!Z27),100*ABS($G27-(Data!Z27-$K27)/$M27),0)))","v":85.354129899696545},{"$f":"IF($H27=0,0,CHOOSE($H27,SUMPRODUCT(CHOOSE(AJ$39,$O28:$O$36,$P28:$P$36,$Q28:$Q$36,$R28:$R$36)*AJ28:AJ$36*($E28:$E$36=$D27)),IF(ISNUMBER(Data!AA27),100*ABS($G27-(Data!AA27-$K27)/$M27),0),IF(ISNUMBER(Data!AA27),100*ABS($G27-(Data!AA27-$K27)/$M27),0)))","v":47.73175653793448},{"$f":"IF($H27=0,0,CHOOSE($H27,SUMPRODUCT(CHOOSE(AK$39,$O28:$O$36,$P28:$P$36,$Q28:$Q$36,$R28:$R$36)*AK28:AK$36*($E28:$E$36=$D27)),IF(ISNUMBER(Data!AB27),100*ABS($G27-(Data!AB27-$K27)/$M27),0),IF(ISNUMBER(Data!AB27),100*ABS($G27-(Data!AB27-$K27)/$M27),0)))","v":17.016862459906854},{"$f":"IF($H27=0,0,CHOOSE($H27,SUMPRODUCT(CHOOSE(AL$39,$O28:$O$36,$P28:$P$36,$Q28:$Q$36,$R28:$R$36)*AL28:AL$36*($E28:$E$36=$D27)),IF(ISNUMBER(Data!AC27),100*ABS($G27-(Data!AC27-$K27)/$M27),0),IF(ISNUMBER(Data!AC27),100*ABS($G27-(Data!AC27-$K27)/$M27),0)))","v":91.353157374891524}]
[null,{"$f":"tblIndicators!A25","v":24},{"$f":"tblIndicators!B25","v":0},{"$f":"tblIndicators!D25","v":"SP_12"},{"$f":"tblIndicators!E25","v":"SP"},{"$f":"tblIndicators!F25","v":2},{"$f":"tblIndicators!S25","v":1},{"$f":"tblIndicators!T25","v":3},{"$f":"tblIndicators!U25","v":1},{"$f":"tblIndicators!V25","v":4},{"$f":"CHOOSE(H28,\"-\",MIN(Data!J28:AC28),I28)","v":1},{"$f":"CHOOSE(H28,\"-\",MAX(Data!J28:AC28),J28)","v":4},3,{"$f":"tblIndicators!Y25","v":"2.3) Labour standards"},{"$f":"tblIndicators!AO25","v":0.25},{"$f":"tblIndicators!AR25","v":0.25},{"$f":"tblIndicators!AU25","v":0.25},{"$f":"tblIndicators!AX25","v":0.25},{"$f":"IF($H28=0,0,CHOOSE($H28,SUMPRODUCT(CHOOSE(S$39,$O29:$O$36,$P29:$P$36,$Q29:$Q$36,$R29:$R$36)*S29:S$36*($E29:$E$36=$D28)),IF(ISNUMBER(Data!J28),100*ABS($G28-(Data!J28-$K28)/$M28),0),IF(ISNUMBER(Data!J28),100*ABS($G28-(Data!J28-$K28)/$M28),0)))","v":0},{"$f":"IF($H28=0,0,CHOOSE($H28,SUMPRODUCT(CHOOSE(T$39,$O29:$O$36,$P29:$P$36,$Q29:$Q$36,$R29:$R$36)*T29:T$36*($E29:$E$36=$D28)),IF(ISNUMBER(Data!K28),100*ABS($G28-(Data!K28-$K28)/$M28),0),IF(ISNUMBER(Data!K28),100*ABS($G28-(Data!K28-$K28)/$M28),0)))","v":100},{"$f":"IF($H28=0,0,CHOOSE($H28,SUMPRODUCT(CHOOSE(U$39,$O29:$O$36,$P29:$P$36,$Q29:$Q$36,$R29:$R$36)*U29:U$36*($E29:$E$36=$D28)),IF(ISNUMBER(Data!L28),100*ABS($G28-(Data!L28-$K28)/$M28),0),IF(ISNUMBER(Data!L28),100*ABS($G28-(Data!L28-$K28)/$M28),0)))","v":0},{"$f":"IF($H28=0,0,CHOOSE($H28,SUMPRODUCT(CHOOSE(V$39,$O29:$O$36,$P29:$P$36,$Q29:$Q$36,$R29:$R$36)*V29:V$36*($E29:$E$36=$D28)),IF(ISNUMBER(Data!M28),100*ABS($G28-(Data!M28-$K28)/$M28),0),IF(ISNUMBER(Data!M28),100*ABS($G28-(Data!M28-$K28)/$M28),0)))","v":33.333333333333336},{"$f":"IF($H28=0,0,CHOOSE($H28,SUMPRODUCT(CHOOSE(W$39,$O29:$O$36,$P29:$P$36,$Q29:$Q$36,$R29:$R$36)*W29:W$36*($E29:$E$36=$D28)),IF(ISNUMBER(Data!N28),100*ABS($G28-(Data!N28-$K28)/$M28),0),IF(ISNUMBER(Data!N28),100*ABS($G28-(Data!N28-$K28)/$M28),0)))","v":100},{"$f":"IF($H28=0,0,CHOOSE($H28,SUMPRODUCT(CHOOSE(X$39,$O29:$O$36,$P29:$P$36,$Q29:$Q$36,$R29:$R$36)*X29:X$36*($E29:$E$36=$D28)),IF(ISNUMBER(Data!O28),100*ABS($G28-(Data!O28-$K28)/$M28),0),IF(ISNUMBER(Data!O28),100*ABS($G28-(Data!O28-$K28)/$M28),0)))","v":0},{"$f":"IF($H28=0,0,CHOOSE($H28,SUMPRODUCT(CHOOSE(Y$39,$O29:$O$36,$P29:$P$36,$Q29:$Q$36,$R29:$R$36)*Y29:Y$36*($E29:$E$36=$D28)),IF(ISNUMBER(Data!P28),100*ABS($G28-(Data!P28-$K28)/$M28),0),IF(ISNUMBER(Data!P28),100*ABS($G28-(Data!P28-$K28)/$M28),0)))","v":0},{"$f":"IF($H28=0,0,CHOOSE($H28,SUMPRODUCT(CHOOSE(Z$39,$O29:$O$36,$P29:$P$36,$Q29:$Q$36,$R29:$R$36)*Z29:Z$36*($E29:$E$36=$D28)),IF(ISNUMBER(Data!Q28),100*ABS($G28-(Data!Q28-$K28)/$M28),0),IF(ISNUMBER(Data!Q28),100*ABS($G28-(Data!Q28-$K28)/$M28),0)))","v":100},{"$f":"IF($H28=0,0,CHOOSE($H28,SUMPRODUCT(CHOOSE(AA$39,$O29:$O$36,$P29:$P$36,$Q29:$Q$36,$R29:$R$36)*AA29:AA$36*($E29:$E$36=$D28)),IF(ISNUMBER(Data!R28),100*ABS($G28-(Data!R28-$K28)/$M28),0),IF(ISNUMBER(Data!R28),100*ABS($G28-(Data!R28-$K28)/$M28),0)))","v":0},{"$f":"IF($H28=0,0,CHOOSE($H28,SUMPRODUCT(CHOOSE(AB$39,$O29:$O$36,$P29:$P$36,$Q29:$Q$36,$R29:$R$36)*AB29:AB$36*($E29:$E$36=$D28)),IF(ISNUMBER(Data!S28),100*ABS($G28-(Data!S28-$K28)/$M28),0),IF(ISNUMBER(Data!S28),100*ABS($G28-(Data!S28-$K28)/$M28),0)))","v":66.666666666666671},{"$f":"IF($H28=0,0,CHOOSE($H28,SUMPRODUCT(CHOOSE(AC$39,$O29:$O$36,$P29:$P$36,$Q29:$Q$36,$R29:$R$36)*AC29:AC$36*($E29:$E$36=$D28)),IF(ISNUMBER(Data!T28),100*ABS($G28-(Data!T28-$K28)/$M28),0),IF(ISNUMBER(Data!T28),100*ABS($G28-(Data!T28-$K28)/$M28),0)))","v":0},{"$f":"IF($H28=0,0,CHOOSE($H28,SUMPRODUCT(CHOOSE(AD$39,$O29:$O$36,$P29:$P$36,$Q29:$Q$36,$R29:$R$36)*AD29:AD$36*($E29:$E$36=$D28)),IF(ISNUMBER(Data!U28),100*ABS($G28-(Data!U28-$K28)/$M28),0),IF(ISNUMBER(Data!U28),100*ABS($G28-(Data!U28-$K28)/$M28),0)))","v":0},{"$f":"IF($H28=0,0,CHOOSE($H28,SUMPRODUCT(CHOOSE(AE$39,$O29:$O$36,$P29:$P$36,$Q29:$Q$36,$R29:$R$36)*AE29:AE$36*($E29:$E$36=$D28)),IF(ISNUMBER(Data!V28),100*ABS($G28-(Data!V28-$K28)/$M28),0),IF(ISNUMBER(Data!V28),100*ABS($G28-(Data!V28-$K28)/$M28),0)))","v":0},{"$f":"IF($H28=0,0,CHOOSE($H28,SUMPRODUCT(CHOOSE(AF$39,$O29:$O$36,$P29:$P$36,$Q29:$Q$36,$R29:$R$36)*AF29:AF$36*($E29:$E$36=$D28)),IF(ISNUMBER(Data!W28),100*ABS($G28-(Data!W28-$K28)/$M28),0),IF(ISNUMBER(Data!W28),100*ABS($G28-(Data!W28-$K28)/$M28),0)))","v":100},{"$f":"IF($H28=0,0,CHOOSE($H28,SUMPRODUCT(CHOOSE(AG$39,$O29:$O$36,$P29:$P$36,$Q29:$Q$36,$R29:$R$36)*AG29:AG$36*($E29:$E$36=$D28)),IF(ISNUMBER(Data!X28),100*ABS($G28-(Data!X28-$K28)/$M28),0),IF(ISNUMBER(Data!X28),100*ABS($G28-(Data!X28-$K28)/$M28),0)))","v":100},{"$f":"IF($H28=0,0,CHOOSE($H28,SUMPRODUCT(CHOOSE(AH$39,$O29:$O$36,$P29:$P$36,$Q29:$Q$36,$R29:$R$36)*AH29:AH$36*($E29:$E$36=$D28)),IF(ISNUMBER(Data!Y28),100*ABS($G28-(Data!Y28-$K28)/$M28),0),IF(ISNUMBER(Data!Y28),100*ABS($G28-(Data!Y28-$K28)/$M28),0)))","v":66.666666666666671},{"$f":"IF($H28=0,0,CHOOSE($H28,SUMPRODUCT(CHOOSE(AI$39,$O29:$O$36,$P29:$P$36,$Q29:$Q$36,$R29:$R$36)*AI29:AI$36*($E29:$E$36=$D28)),IF(ISNUMBER(Data!Z28),100*ABS($G28-(Data!Z28-$K28)/$M28),0),IF(ISNUMBER(Data!Z28),100*ABS($G28-(Data!Z28-$K28)/$M28),0)))","v":100},{"$f":"IF($H28=0,0,CHOOSE($H28,SUMPRODUCT(CHOOSE(AJ$39,$O29:$O$36,$P29:$P$36,$Q29:$Q$36,$R29:$R$36)*AJ29:AJ$36*($E29:$E$36=$D28)),IF(ISNUMBER(Data!AA28),100*ABS($G28-(Data!AA28-$K28)/$M28),0),IF(ISNUMBER(Data!AA28),100*ABS($G28-(Data!AA28-$K28)/$M28),0)))","v":33.333333333333336},{"$f":"IF($H28=0,0,CHOOSE($H28,SUMPRODUCT(CHOOSE(AK$39,$O29:$O$36,$P29:$P$36,$Q29:$Q$36,$R29:$R$36)*AK29:AK$36*($E29:$E$36=$D28)),IF(ISNUMBER(Data!AB28),100*ABS($G28-(Data!AB28-$K28)/$M28),0),IF(ISNUMBER(Data!AB28),100*ABS($G28-(Data!AB28-$K28)/$M28),0)))","v":33.333333333333336},{"$f":"IF($H28=0,0,CHOOSE($H28,SUMPRODUCT(CHOOSE(AL$39,$O29:$O$36,$P29:$P$36,$Q29:$Q$36,$R29:$R$36)*AL29:AL$36*($E29:$E$36=$D28)),IF(ISNUMBER(Data!AC28),100*ABS($G28-(Data!AC28-$K28)/$M28),0),IF(ISNUMBER(Data!AC28),100*ABS($G28-(Data!AC28-$K28)/$M28),0)))","v":100}]
[null,{"$f":"tblIndicators!A26","v":25},{"$f":"tblIndicators!B26","v":0},{"$f":"tblIndicators!D26","v":"SP_13"},{"$f":"tblIndicators!E26","v":"SP"},{"$f":"tblIndicators!F26","v":2},{"$f":"tblIndicators!S26","v":1},{"$f":"tblIndicators!T26","v":3},{"$f":"tblIndicators!U26","v":0},{"$f":"tblIndicators!V26","v":5},{"$f":"CHOOSE(H29,\"-\",MIN(Data!J29:AC29),I29)","v":0},{"$f":"CHOOSE(H29,\"-\",MAX(Data!J29:AC29),J29)","v":5},5,{"$f":"tblIndicators!Y26","v":"2.4) Political stability"},{"$f":"tblIndicators!AO26","v":0.25},{"$f":"tblIndicators!AR26","v":0.25},{"$f":"tblIndicators!AU26","v":0.25},{"$f":"tblIndicators!AX26","v":0.25},{"$f":"IF($H29=0,0,CHOOSE($H29,SUMPRODUCT(CHOOSE(S$39,$O30:$O$36,$P30:$P$36,$Q30:$Q$36,$R30:$R$36)*S30:S$36*($E30:$E$36=$D29)),IF(ISNUMBER(Data!J29),100*ABS($G29-(Data!J29-$K29)/$M29),0),IF(ISNUMBER(Data!J29),100*ABS($G29-(Data!J29-$K29)/$M29),0)))","v":40},{"$f":"IF($H29=0,0,CHOOSE($H29,SUMPRODUCT(CHOOSE(T$39,$O30:$O$36,$P30:$P$36,$Q30:$Q$36,$R30:$R$36)*T30:T$36*($E30:$E$36=$D29)),IF(ISNUMBER(Data!K29),100*ABS($G29-(Data!K29-$K29)/$M29),0),IF(ISNUMBER(Data!K29),100*ABS($G29-(Data!K29-$K29)/$M29),0)))","v":100},{"$f":"IF($H29=0,0,CHOOSE($H29,SUMPRODUCT(CHOOSE(U$39,$O30:$O$36,$P30:$P$36,$Q30:$Q$36,$R30:$R$36)*U30:U$36*($E30:$E$36=$D29)),IF(ISNUMBER(Data!L29),100*ABS($G29-(Data!L29-$K29)/$M29),0),IF(ISNUMBER(Data!L29),100*ABS($G29-(Data!L29-$K29)/$M29),0)))","v":40},{"$f":"IF($H29=0,0,CHOOSE($H29,SUMPRODUCT(CHOOSE(V$39,$O30:$O$36,$P30:$P$36,$Q30:$Q$36,$R30:$R$36)*V30:V$36*($E30:$E$36=$D29)),IF(ISNUMBER(Data!M29),100*ABS($G29-(Data!M29-$K29)/$M29),0),IF(ISNUMBER(Data!M29),100*ABS($G29-(Data!M29-$K29)/$M29),0)))","v":60},{"$f":"IF($H29=0,0,CHOOSE($H29,SUMPRODUCT(CHOOSE(W$39,$O30:$O$36,$P30:$P$36,$Q30:$Q$36,$R30:$R$36)*W30:W$36*($E30:$E$36=$D29)),IF(ISNUMBER(Data!N29),100*ABS($G29-(Data!N29-$K29)/$M29),0),IF(ISNUMBER(Data!N29),100*ABS($G29-(Data!N29-$K29)/$M29),0)))","v":60},{"$f":"IF($H29=0,0,CHOOSE($H29,SUMPRODUCT(CHOOSE(X$39,$O30:$O$36,$P30:$P$36,$Q30:$Q$36,$R30:$R$36)*X30:X$36*($E30:$E$36=$D29)),IF(ISNUMBER(Data!O29),100*ABS($G29-(Data!O29-$K29)/$M29),0),IF(ISNUMBER(Data!O29),100*ABS($G29-(Data!O29-$K29)/$M29),0)))","v":60},{"$f":"IF($H29=0,0,CHOOSE($H29,SUMPRODUCT(CHOOSE(Y$39,$O30:$O$36,$P30:$P$36,$Q30:$Q$36,$R30:$R$36)*Y30:Y$36*($E30:$E$36=$D29)),IF(ISNUMBER(Data!P29),100*ABS($G29-(Data!P29-$K29)/$M29),0),IF(ISNUMBER(Data!P29),100*ABS($G29-(Data!P29-$K29)/$M29),0)))","v":60},{"$f":"IF($H29=0,0,CHOOSE($H29,SUMPRODUCT(CHOOSE(Z$39,$O30:$O$36,$P30:$P$36,$Q30:$Q$36,$R30:$R$36)*Z30:Z$36*($E30:$E$36=$D29)),IF(ISNUMBER(Data!Q29),100*ABS($G29-(Data!Q29-$K29)/$M29),0),IF(ISNUMBER(Data!Q29),100*ABS($G29-(Data!Q29-$K29)/$M29),0)))","v":100},{"$f":"IF($H29=0,0,CHOOSE($H29,SUMPRODUCT(CHOOSE(AA$39,$O30:$O$36,$P30:$P$36,$Q30:$Q$36,$R30:$R$36)*AA30:AA$36*($E30:$E$36=$D29)),IF(ISNUMBER(Data!R29),100*ABS($G29-(Data!R29-$K29)/$M29),0),IF(ISNUMBER(Data!R29),100*ABS($G29-(Data!R29-$K29)/$M29),0)))","v":80},{"$f":"IF($H29=0,0,CHOOSE($H29,SUMPRODUCT(CHOOSE(AB$39,$O30:$O$36,$P30:$P$36,$Q30:$Q$36,$R30:$R$36)*AB30:AB$36*($E30:$E$36=$D29)),IF(ISNUMBER(Data!S29),100*ABS($G29-(Data!S29-$K29)/$M29),0),IF(ISNUMBER(Data!S29),100*ABS($G29-(Data!S29-$K29)/$M29),0)))","v":80},{"$f":"IF($H29=0,0,CHOOSE($H29,SUMPRODUCT(CHOOSE(AC$39,$O30:$O$36,$P30:$P$36,$Q30:$Q$36,$R30:$R$36)*AC30:AC$36*($E30:$E$36=$D29)),IF(ISNUMBER(Data!T29),100*ABS($G29-(Data!T29-$K29)/$M29),0),IF(ISNUMBER(Data!T29),100*ABS($G29-(Data!T29-$K29)/$M29),0)))","v":40},{"$f":"IF($H29=0,0,CHOOSE($H29,SUMPRODUCT(CHOOSE(AD$39,$O30:$O$36,$P30:$P$36,$Q30:$Q$36,$R30:$R$36)*AD30:AD$36*($E30:$E$36=$D29)),IF(ISNUMBER(Data!U29),100*ABS($G29-(Data!U29-$K29)/$M29),0),IF(ISNUMBER(Data!U29),100*ABS($G29-(Data!U29-$K29)/$M29),0)))","v":40},{"$f":"IF($H29=0,0,CHOOSE($H29,SUMPRODUCT(CHOOSE(AE$39,$O30:$O$36,$P30:$P$36,$Q30:$Q$36,$R30:$R$36)*AE30:AE$36*($E30:$E$36=$D29)),IF(ISNUMBER(Data!V29),100*ABS($G29-(Data!V29-$K29)/$M29),0),IF(ISNUMBER(Data!V29),100*ABS($G29-(Data!V29-$K29)/$M29),0)))","v":40},{"$f":"IF($H29=0,0,CHOOSE($H29,SUMPRODUCT(CHOOSE(AF$39,$O30:$O$36,$P30:$P$36,$Q30:$Q$36,$R30:$R$36)*AF30:AF$36*($E30:$E$36=$D29)),IF(ISNUMBER(Data!W29),100*ABS($G29-(Data!W29-$K29)/$M29),0),IF(ISNUMBER(Data!W29),100*ABS($G29-(Data!W29-$K29)/$M29),0)))","v":80},{"$f":"IF($H29=0,0,CHOOSE($H29,SUMPRODUCT(CHOOSE(AG$39,$O30:$O$36,$P30:$P$36,$Q30:$Q$36,$R30:$R$36)*AG30:AG$36*($E30:$E$36=$D29)),IF(ISNUMBER(Data!X29),100*ABS($G29-(Data!X29-$K29)/$M29),0),IF(ISNUMBER(Data!X29),100*ABS($G29-(Data!X29-$K29)/$M29),0)))","v":60},{"$f":"IF($H29=0,0,CHOOSE($H29,SUMPRODUCT(CHOOSE(AH$39,$O30:$O$36,$P30:$P$36,$Q30:$Q$36,$R30:$R$36)*AH30:AH$36*($E30:$E$36=$D29)),IF(ISNUMBER(Data!Y29),100*ABS($G29-(Data!Y29-$K29)/$M29),0),IF(ISNUMBER(Data!Y29),100*ABS($G29-(Data!Y29-$K29)/$M29),0)))","v":40},{"$f":"IF($H29=0,0,CHOOSE($H29,SUMPRODUCT(CHOOSE(AI$39,$O30:$O$36,$P30:$P$36,$Q30:$Q$36,$R30:$R$36)*AI30:AI$36*($E30:$E$36=$D29)),IF(ISNUMBER(Data!Z29),100*ABS($G29-(Data!Z29-$K29)/$M29),0),IF(ISNUMBER(Data!Z29),100*ABS($G29-(Data!Z29-$K29)/$M29),0)))","v":60},{"$f":"IF($H29=0,0,CHOOSE($H29,SUMPRODUCT(CHOOSE(AJ$39,$O30:$O$36,$P30:$P$36,$Q30:$Q$36,$R30:$R$36)*AJ30:AJ$36*($E30:$E$36=$D29)),IF(ISNUMBER(Data!AA29),100*ABS($G29-(Data!AA29-$K29)/$M29),0),IF(ISNUMBER(Data!AA29),100*ABS($G29-(Data!AA29-$K29)/$M29),0)))","v":40},{"$f":"IF($H29=0,0,CHOOSE($H29,SUMPRODUCT(CHOOSE(AK$39,$O30:$O$36,$P30:$P$36,$Q30:$Q$36,$R30:$R$36)*AK30:AK$36*($E30:$E$36=$D29)),IF(ISNUMBER(Data!AB29),100*ABS($G29-(Data!AB29-$K29)/$M29),0),IF(ISNUMBER(Data!AB29),100*ABS($G29-(Data!AB29-$K29)/$M29),0)))","v":80},{"$f":"IF($H29=0,0,CHOOSE($H29,SUMPRODUCT(CHOOSE(AL$39,$O30:$O$36,$P30:$P$36,$Q30:$Q$36,$R30:$R$36)*AL30:AL$36*($E30:$E$36=$D29)),IF(ISNUMBER(Data!AC29),100*ABS($G29-(Data!AC29-$K29)/$M29),0),IF(ISNUMBER(Data!AC29),100*ABS($G29-(Data!AC29-$K29)/$M29),0)))","v":100}]
[null,{"$f":"tblIndicators!A27","v":26},{"$f":"tblIndicators!B27","v":0},{"$f":"tblIndicators!D27","v":"ENP"},{"$f":"tblIndicators!E27","v":"TOTAL"},{"$f":"tblIndicators!F27","v":1},{"$f":"tblIndicators!S27","v":""},{"$f":"tblIndicators!T27","v":1},{"$f":"tblIndicators!U27","v":0},{"$f":"tblIndicators!V27","v":0},{"$f":"CHOOSE(H30,\"-\",MIN(Data!J30:AC30),I30)","v":"-"},{"$f":"CHOOSE(H30,\"-\",MAX(Data!J30:AC30),J30)","v":"-"},"-",{"$f":"tblIndicators!Y27","v":"3) ENVIRONMENTAL PILLAR"},{"$f":"tblIndicators!AO27","v":0.33333333333333331},{"$f":"tblIndicators!AR27","v":0.19999999999999998},{"$f":"tblIndicators!AU27","v":0.16666666666666666},{"$f":"tblIndicators!AX27","v":0.13333333333333333},{"$f":"IF($H30=0,0,CHOOSE($H30,SUMPRODUCT(CHOOSE(S$39,$O31:$O$36,$P31:$P$36,$Q31:$Q$36,$R31:$R$36)*S31:S$36*($E31:$E$36=$D30)),IF(ISNUMBER(Data!J30),100*ABS($G30-(Data!J30-$K30)/$M30),0),IF(ISNUMBER(Data!J30),100*ABS($G30-(Data!J30-$K30)/$M30),0)))","v":52.265411916847839},{"$f":"IF($H30=0,0,CHOOSE($H30,SUMPRODUCT(CHOOSE(T$39,$O31:$O$36,$P31:$P$36,$Q31:$Q$36,$R31:$R$36)*T31:T$36*($E31:$E$36=$D30)),IF(ISNUMBER(Data!K30),100*ABS($G30-(Data!K30-$K30)/$M30),0),IF(ISNUMBER(Data!K30),100*ABS($G30-(Data!K30-$K30)/$M30),0)))","v":56.057274155964066},{"$f":"IF($H30=0,0,CHOOSE($H30,SUMPRODUCT(CHOOSE(U$39,$O31:$O$36,$P31:$P$36,$Q31:$Q$36,$R31:$R$36)*U31:U$36*($E31:$E$36=$D30)),IF(ISNUMBER(Data!L30),100*ABS($G30-(Data!L30-$K30)/$M30),0),IF(ISNUMBER(Data!L30),100*ABS($G30-(Data!L30-$K30)/$M30),0)))","v":56.779613670703114},{"$f":"IF($H30=0,0,CHOOSE($H30,SUMPRODUCT(CHOOSE(V$39,$O31:$O$36,$P31:$P$36,$Q31:$Q$36,$R31:$R$36)*V31:V$36*($E31:$E$36=$D30)),IF(ISNUMBER(Data!M30),100*ABS($G30-(Data!M30-$K30)/$M30),0),IF(ISNUMBER(Data!M30),100*ABS($G30-(Data!M30-$K30)/$M30),0)))","v":52.0128133452884},{"$f":"IF($H30=0,0,CHOOSE($H30,SUMPRODUCT(CHOOSE(W$39,$O31:$O$36,$P31:$P$36,$Q31:$Q$36,$R31:$R$36)*W31:W$36*($E31:$E$36=$D30)),IF(ISNUMBER(Data!N30),100*ABS($G30-(Data!N30-$K30)/$M30),0),IF(ISNUMBER(Data!N30),100*ABS($G30-(Data!N30-$K30)/$M30),0)))","v":93.443284226012111},{"$f":"IF($H30=0,0,CHOOSE($H30,SUMPRODUCT(CHOOSE(X$39,$O31:$O$36,$P31:$P$36,$Q31:$Q$36,$R31:$R$36)*X31:X$36*($E31:$E$36=$D30)),IF(ISNUMBER(Data!O30),100*ABS($G30-(Data!O30-$K30)/$M30),0),IF(ISNUMBER(Data!O30),100*ABS($G30-(Data!O30-$K30)/$M30),0)))","v":47.185148696837132},{"$f":"IF($H30=0,0,CHOOSE($H30,SUMPRODUCT(CHOOSE(Y$39,$O31:$O$36,$P31:$P$36,$Q31:$Q$36,$R31:$R$36)*Y31:Y$36*($E31:$E$36=$D30)),IF(ISNUMBER(Data!P30),100*ABS($G30-(Data!P30-$K30)/$M30),0),IF(ISNUMBER(Data!P30),100*ABS($G30-(Data!P30-$K30)/$M30),0)))","v":50.025934781508795},{"$f":"IF($H30=0,0,CHOOSE($H30,SUMPRODUCT(CHOOSE(Z$39,$O31:$O$36,$P31:$P$36,$Q31:$Q$36,$R31:$R$36)*Z31:Z$36*($E31:$E$36=$D30)),IF(ISNUMBER(Data!Q30),100*ABS($G30-(Data!Q30-$K30)/$M30),0),IF(ISNUMBER(Data!Q30),100*ABS($G30-(Data!Q30-$K30)/$M30),0)))","v":84.984810133179394},{"$f":"IF($H30=0,0,CHOOSE($H30,SUMPRODUCT(CHOOSE(AA$39,$O31:$O$36,$P31:$P$36,$Q31:$Q$36,$R31:$R$36)*AA31:AA$36*($E31:$E$36=$D30)),IF(ISNUMBER(Data!R30),100*ABS($G30-(Data!R30-$K30)/$M30),0),IF(ISNUMBER(Data!R30),100*ABS($G30-(Data!R30-$K30)/$M30),0)))","v":48.238028107825059},{"$f":"IF($H30=0,0,CHOOSE($H30,SUMPRODUCT(CHOOSE(AB$39,$O31:$O$36,$P31:$P$36,$Q31:$Q$36,$R31:$R$36)*AB31:AB$36*($E31:$E$36=$D30)),IF(ISNUMBER(Data!S30),100*ABS($G30-(Data!S30-$K30)/$M30),0),IF(ISNUMBER(Data!S30),100*ABS($G30-(Data!S30-$K30)/$M30),0)))","v":61.147057429548695},{"$f":"IF($H30=0,0,CHOOSE($H30,SUMPRODUCT(CHOOSE(AC$39,$O31:$O$36,$P31:$P$36,$Q31:$Q$36,$R31:$R$36)*AC31:AC$36*($E31:$E$36=$D30)),IF(ISNUMBER(Data!T30),100*ABS($G30-(Data!T30-$K30)/$M30),0),IF(ISNUMBER(Data!T30),100*ABS($G30-(Data!T30-$K30)/$M30),0)))","v":45.862503385060407},{"$f":"IF($H30=0,0,CHOOSE($H30,SUMPRODUCT(CHOOSE(AD$39,$O31:$O$36,$P31:$P$36,$Q31:$Q$36,$R31:$R$36)*AD31:AD$36*($E31:$E$36=$D30)),IF(ISNUMBER(Data!U30),100*ABS($G30-(Data!U30-$K30)/$M30),0),IF(ISNUMBER(Data!U30),100*ABS($G30-(Data!U30-$K30)/$M30),0)))","v":47.829381196126036},{"$f":"IF($H30=0,0,CHOOSE($H30,SUMPRODUCT(CHOOSE(AE$39,$O31:$O$36,$P31:$P$36,$Q31:$Q$36,$R31:$R$36)*AE31:AE$36*($E31:$E$36=$D30)),IF(ISNUMBER(Data!V30),100*ABS($G30-(Data!V30-$K30)/$M30),0),IF(ISNUMBER(Data!V30),100*ABS($G30-(Data!V30-$K30)/$M30),0)))","v":71.011287789151396},{"$f":"IF($H30=0,0,CHOOSE($H30,SUMPRODUCT(CHOOSE(AF$39,$O31:$O$36,$P31:$P$36,$Q31:$Q$36,$R31:$R$36)*AF31:AF$36*($E31:$E$36=$D30)),IF(ISNUMBER(Data!W30),100*ABS($G30-(Data!W30-$K30)/$M30),0),IF(ISNUMBER(Data!W30),100*ABS($G30-(Data!W30-$K30)/$M30),0)))","v":92.193654303584481},{"$f":"IF($H30=0,0,CHOOSE($H30,SUMPRODUCT(CHOOSE(AG$39,$O31:$O$36,$P31:$P$36,$Q31:$Q$36,$R31:$R$36)*AG31:AG$36*($E31:$E$36=$D30)),IF(ISNUMBER(Data!X30),100*ABS($G30-(Data!X30-$K30)/$M30),0),IF(ISNUMBER(Data!X30),100*ABS($G30-(Data!X30-$K30)/$M30),0)))","v":82.990597930102908},{"$f":"IF($H30=0,0,CHOOSE($H30,SUMPRODUCT(CHOOSE(AH$39,$O31:$O$36,$P31:$P$36,$Q31:$Q$36,$R31:$R$36)*AH31:AH$36*($E31:$E$36=$D30)),IF(ISNUMBER(Data!Y30),100*ABS($G30-(Data!Y30-$K30)/$M30),0),IF(ISNUMBER(Data!Y30),100*ABS($G30-(Data!Y30-$K30)/$M30),0)))","v":63.145223291784099},{"$f":"IF($H30=0,0,CHOOSE($H30,SUMPRODUCT(CHOOSE(AI$39,$O31:$O$36,$P31:$P$36,$Q31:$Q$36,$R31:$R$36)*AI31:AI$36*($E31:$E$36=$D30)),IF(ISNUMBER(Data!Z30),100*ABS($G30-(Data!Z30-$K30)/$M30),0),IF(ISNUMBER(Data!Z30),100*ABS($G30-(Data!Z30-$K30)/$M30),0)))","v":59.309227559707892},{"$f":"IF($H30=0,0,CHOOSE($H30,SUMPRODUCT(CHOOSE(AJ$39,$O31:$O$36,$P31:$P$36,$Q31:$Q$36,$R31:$R$36)*AJ31:AJ$36*($E31:$E$36=$D30)),IF(ISNUMBER(Data!AA30),100*ABS($G30-(Data!AA30-$K30)/$M30),0),IF(ISNUMBER(Data!AA30),100*ABS($G30-(Data!AA30-$K30)/$M30),0)))","v":66.153007449171383},{"$f":"IF($H30=0,0,CHOOSE($H30,SUMPRODUCT(CHOOSE(AK$39,$O31:$O$36,$P31:$P$36,$Q31:$Q$36,$R31:$R$36)*AK31:AK$36*($E31:$E$36=$D30)),IF(ISNUMBER(Data!AB30),100*ABS($G30-(Data!AB30-$K30)/$M30),0),IF(ISNUMBER(Data!AB30),100*ABS($G30-(Data!AB30-$K30)/$M30),0)))","v":56.953075451707271},{"$f":"IF($H30=0,0,CHOOSE($H30,SUMPRODUCT(CHOOSE(AL$39,$O31:$O$36,$P31:$P$36,$Q31:$Q$36,$R31:$R$36)*AL31:AL$36*($E31:$E$36=$D30)),IF(ISNUMBER(Data!AC30),100*ABS($G30-(Data!AC30-$K30)/$M30),0),IF(ISNUMBER(Data!AC30),100*ABS($G30-(Data!AC30-$K30)/$M30),0)))","v":74.928561641970887}]
[null,{"$f":"tblIndicators!A28","v":27},{"$f":"tblIndicators!B28","v":0},{"$f":"tblIndicators!D28","v":"ENP_10"},{"$f":"tblIndicators!E28","v":"ENP"},{"$f":"tblIndicators!F28","v":2},{"$f":"tblIndicators!S28","v":1},{"$f":"tblIndicators!T28","v":2},{"$f":"tblIndicators!U28","v":0},{"$f":"tblIndicators!V28","v":0},{"$f":"CHOOSE(H31,\"-\",MIN(Data!J31:AC31),I31)","v":5.16},{"$f":"CHOOSE(H31,\"-\",MAX(Data!J31:AC31),J31)","v":48},42.84,{"$f":"tblIndicators!Y28","v":"3.1) Air pollution"},{"$f":"tblIndicators!AO28","v":0.16666666666666666},{"$f":"tblIndicators!AR28","v":0.16666666666666666},{"$f":"tblIndicators!AU28","v":0.16666666666666666},{"$f":"tblIndicators!AX28","v":0.16666666666666666},{"$f":"IF($H31=0,0,CHOOSE($H31,SUMPRODUCT(CHOOSE(S$39,$O32:$O$36,$P32:$P$36,$Q32:$Q$36,$R32:$R$36)*S32:S$36*($E32:$E$36=$D31)),IF(ISNUMBER(Data!J31),100*ABS($G31-(Data!J31-$K31)/$M31),0),IF(ISNUMBER(Data!J31),100*ABS($G31-(Data!J31-$K31)/$M31),0)))","v":42.903828197945849},{"$f":"IF($H31=0,0,CHOOSE($H31,SUMPRODUCT(CHOOSE(T$39,$O32:$O$36,$P32:$P$36,$Q32:$Q$36,$R32:$R$36)*T32:T$36*($E32:$E$36=$D31)),IF(ISNUMBER(Data!K31),100*ABS($G31-(Data!K31-$K31)/$M31),0),IF(ISNUMBER(Data!K31),100*ABS($G31-(Data!K31-$K31)/$M31),0)))","v":90.569561157796457},{"$f":"IF($H31=0,0,CHOOSE($H31,SUMPRODUCT(CHOOSE(U$39,$O32:$O$36,$P32:$P$36,$Q32:$Q$36,$R32:$R$36)*U32:U$36*($E32:$E$36=$D31)),IF(ISNUMBER(Data!L31),100*ABS($G31-(Data!L31-$K31)/$M31),0),IF(ISNUMBER(Data!L31),100*ABS($G31-(Data!L31-$K31)/$M31),0)))","v":89.659197012138193},{"$f":"IF($H31=0,0,CHOOSE($H31,SUMPRODUCT(CHOOSE(V$39,$O32:$O$36,$P32:$P$36,$Q32:$Q$36,$R32:$R$36)*V32:V$36*($E32:$E$36=$D31)),IF(ISNUMBER(Data!M31),100*ABS($G31-(Data!M31-$K31)/$M31),0),IF(ISNUMBER(Data!M31),100*ABS($G31-(Data!M31-$K31)/$M31),0)))","v":0},{"$f":"IF($H31=0,0,CHOOSE($H31,SUMPRODUCT(CHOOSE(W$39,$O32:$O$36,$P32:$P$36,$Q32:$Q$36,$R32:$R$36)*W32:W$36*($E32:$E$36=$D31)),IF(ISNUMBER(Data!N31),100*ABS($G31-(Data!N31-$K31)/$M31),0),IF(ISNUMBER(Data!N31),100*ABS($G31-(Data!N31-$K31)/$M31),0)))","v":76.1671335200747},{"$f":"IF($H31=0,0,CHOOSE($H31,SUMPRODUCT(CHOOSE(X$39,$O32:$O$36,$P32:$P$36,$Q32:$Q$36,$R32:$R$36)*X32:X$36*($E32:$E$36=$D31)),IF(ISNUMBER(Data!O31),100*ABS($G31-(Data!O31-$K31)/$M31),0),IF(ISNUMBER(Data!O31),100*ABS($G31-(Data!O31-$K31)/$M31),0)))","v":37.394957983193279},{"$f":"IF($H31=0,0,CHOOSE($H31,SUMPRODUCT(CHOOSE(Y$39,$O32:$O$36,$P32:$P$36,$Q32:$Q$36,$R32:$R$36)*Y32:Y$36*($E32:$E$36=$D31)),IF(ISNUMBER(Data!P31),100*ABS($G31-(Data!P31-$K31)/$M31),0),IF(ISNUMBER(Data!P31),100*ABS($G31-(Data!P31-$K31)/$M31),0)))","v":90.546218487394952},{"$f":"IF($H31=0,0,CHOOSE($H31,SUMPRODUCT(CHOOSE(Z$39,$O32:$O$36,$P32:$P$36,$Q32:$Q$36,$R32:$R$36)*Z32:Z$36*($E32:$E$36=$D31)),IF(ISNUMBER(Data!Q31),100*ABS($G31-(Data!Q31-$K31)/$M31),0),IF(ISNUMBER(Data!Q31),100*ABS($G31-(Data!Q31-$K31)/$M31),0)))","v":84.757236227824464},{"$f":"IF($H31=0,0,CHOOSE($H31,SUMPRODUCT(CHOOSE(AA$39,$O32:$O$36,$P32:$P$36,$Q32:$Q$36,$R32:$R$36)*AA32:AA$36*($E32:$E$36=$D31)),IF(ISNUMBER(Data!R31),100*ABS($G31-(Data!R31-$K31)/$M31),0),IF(ISNUMBER(Data!R31),100*ABS($G31-(Data!R31-$K31)/$M31),0)))","v":62.698412698412696},{"$f":"IF($H31=0,0,CHOOSE($H31,SUMPRODUCT(CHOOSE(AB$39,$O32:$O$36,$P32:$P$36,$Q32:$Q$36,$R32:$R$36)*AB32:AB$36*($E32:$E$36=$D31)),IF(ISNUMBER(Data!S31),100*ABS($G31-(Data!S31-$K31)/$M31),0),IF(ISNUMBER(Data!S31),100*ABS($G31-(Data!S31-$K31)/$M31),0)))","v":87.184873949579838},{"$f":"IF($H31=0,0,CHOOSE($H31,SUMPRODUCT(CHOOSE(AC$39,$O32:$O$36,$P32:$P$36,$Q32:$Q$36,$R32:$R$36)*AC32:AC$36*($E32:$E$36=$D31)),IF(ISNUMBER(Data!T31),100*ABS($G31-(Data!T31-$K31)/$M31),0),IF(ISNUMBER(Data!T31),100*ABS($G31-(Data!T31-$K31)/$M31),0)))","v":79.084967320261441},{"$f":"IF($H31=0,0,CHOOSE($H31,SUMPRODUCT(CHOOSE(AD$39,$O32:$O$36,$P32:$P$36,$Q32:$Q$36,$R32:$R$36)*AD32:AD$36*($E32:$E$36=$D31)),IF(ISNUMBER(Data!U31),100*ABS($G31-(Data!U31-$K31)/$M31),0),IF(ISNUMBER(Data!U31),100*ABS($G31-(Data!U31-$K31)/$M31),0)))","v":43.534080298786179},{"$f":"IF($H31=0,0,CHOOSE($H31,SUMPRODUCT(CHOOSE(AE$39,$O32:$O$36,$P32:$P$36,$Q32:$Q$36,$R32:$R$36)*AE32:AE$36*($E32:$E$36=$D31)),IF(ISNUMBER(Data!V31),100*ABS($G31-(Data!V31-$K31)/$M31),0),IF(ISNUMBER(Data!V31),100*ABS($G31-(Data!V31-$K31)/$M31),0)))","v":96.451914098972921},{"$f":"IF($H31=0,0,CHOOSE($H31,SUMPRODUCT(CHOOSE(AF$39,$O32:$O$36,$P32:$P$36,$Q32:$Q$36,$R32:$R$36)*AF32:AF$36*($E32:$E$36=$D31)),IF(ISNUMBER(Data!W31),100*ABS($G31-(Data!W31-$K31)/$M31),0),IF(ISNUMBER(Data!W31),100*ABS($G31-(Data!W31-$K31)/$M31),0)))","v":100},{"$f":"IF($H31=0,0,CHOOSE($H31,SUMPRODUCT(CHOOSE(AG$39,$O32:$O$36,$P32:$P$36,$Q32:$Q$36,$R32:$R$36)*AG32:AG$36*($E32:$E$36=$D31)),IF(ISNUMBER(Data!X31),100*ABS($G31-(Data!X31-$K31)/$M31),0),IF(ISNUMBER(Data!X31),100*ABS($G31-(Data!X31-$K31)/$M31),0)))","v":65.592903828197962},{"$f":"IF($H31=0,0,CHOOSE($H31,SUMPRODUCT(CHOOSE(AH$39,$O32:$O$36,$P32:$P$36,$Q32:$Q$36,$R32:$R$36)*AH32:AH$36*($E32:$E$36=$D31)),IF(ISNUMBER(Data!Y31),100*ABS($G31-(Data!Y31-$K31)/$M31),0),IF(ISNUMBER(Data!Y31),100*ABS($G31-(Data!Y31-$K31)/$M31),0)))","v":90.639589169000928},{"$f":"IF($H31=0,0,CHOOSE($H31,SUMPRODUCT(CHOOSE(AI$39,$O32:$O$36,$P32:$P$36,$Q32:$Q$36,$R32:$R$36)*AI32:AI$36*($E32:$E$36=$D31)),IF(ISNUMBER(Data!Z31),100*ABS($G31-(Data!Z31-$K31)/$M31),0),IF(ISNUMBER(Data!Z31),100*ABS($G31-(Data!Z31-$K31)/$M31),0)))","v":78.034547152194207},{"$f":"IF($H31=0,0,CHOOSE($H31,SUMPRODUCT(CHOOSE(AJ$39,$O32:$O$36,$P32:$P$36,$Q32:$Q$36,$R32:$R$36)*AJ32:AJ$36*($E32:$E$36=$D31)),IF(ISNUMBER(Data!AA31),100*ABS($G31-(Data!AA31-$K31)/$M31),0),IF(ISNUMBER(Data!AA31),100*ABS($G31-(Data!AA31-$K31)/$M31),0)))","v":77.964519140989736},{"$f":"IF($H31=0,0,CHOOSE($H31,SUMPRODUCT(CHOOSE(AK$39,$O32:$O$36,$P32:$P$36,$Q32:$Q$36,$R32:$R$36)*AK32:AK$36*($E32:$E$36=$D31)),IF(ISNUMBER(Data!AB31),100*ABS($G31-(Data!AB31-$K31)/$M31),0),IF(ISNUMBER(Data!AB31),100*ABS($G31-(Data!AB31-$K31)/$M31),0)))","v":70.331465919701202},{"$f":"IF($H31=0,0,CHOOSE($H31,SUMPRODUCT(CHOOSE(AL$39,$O32:$O$36,$P32:$P$36,$Q32:$Q$36,$R32:$R$36)*AL32:AL$36*($E32:$E$36=$D31)),IF(ISNUMBER(Data!AC31),100*ABS($G31-(Data!AC31-$K31)/$M31),0),IF(ISNUMBER(Data!AC31),100*ABS($G31-(Data!AC31-$K31)/$M31),0)))","v":94.607843137254903}]
[null,{"$f":"tblIndicators!A29","v":28},{"$f":"tblIndicators!B29","v":0},{"$f":"tblIndicators!D29","v":"ENP_11"},{"$f":"tblIndicators!E29","v":"ENP"},{"$f":"tblIndicators!F29","v":2},{"$f":"tblIndicators!S29","v":0},{"$f":"tblIndicators!T29","v":2},{"$f":"tblIndicators!U29","v":0},{"$f":"tblIndicators!V29","v":0},{"$f":"CHOOSE(H32,\"-\",MIN(Data!J32:AC32),I32)","v":-13.7},{"$f":"CHOOSE(H32,\"-\",MAX(Data!J32:AC32),J32)","v":0.2},13.899999999999999,{"$f":"tblIndicators!Y29","v":"3.2) Deforestation"},{"$f":"tblIndicators!AO29","v":0.16666666666666666},{"$f":"tblIndicators!AR29","v":0.16666666666666666},{"$f":"tblIndicators!AU29","v":0.16666666666666666},{"$f":"tblIndicators!AX29","v":0.16666666666666666},{"$f":"IF($H32=0,0,CHOOSE($H32,SUMPRODUCT(CHOOSE(S$39,$O33:$O$36,$P33:$P$36,$Q33:$Q$36,$R33:$R$36)*S33:S$36*($E33:$E$36=$D32)),IF(ISNUMBER(Data!J32),100*ABS($G32-(Data!J32-$K32)/$M32),0),IF(ISNUMBER(Data!J32),100*ABS($G32-(Data!J32-$K32)/$M32),0)))","v":78.417266187050359},{"$f":"IF($H32=0,0,CHOOSE($H32,SUMPRODUCT(CHOOSE(T$39,$O33:$O$36,$P33:$P$36,$Q33:$Q$36,$R33:$R$36)*T33:T$36*($E33:$E$36=$D32)),IF(ISNUMBER(Data!K32),100*ABS($G32-(Data!K32-$K32)/$M32),0),IF(ISNUMBER(Data!K32),100*ABS($G32-(Data!K32-$K32)/$M32),0)))","v":87.769784172661872},{"$f":"IF($H32=0,0,CHOOSE($H32,SUMPRODUCT(CHOOSE(U$39,$O33:$O$36,$P33:$P$36,$Q33:$Q$36,$R33:$R$36)*U33:U$36*($E33:$E$36=$D32)),IF(ISNUMBER(Data!L32),100*ABS($G32-(Data!L32-$K32)/$M32),0),IF(ISNUMBER(Data!L32),100*ABS($G32-(Data!L32-$K32)/$M32),0)))","v":0},{"$f":"IF($H32=0,0,CHOOSE($H32,SUMPRODUCT(CHOOSE(V$39,$O33:$O$36,$P33:$P$36,$Q33:$Q$36,$R33:$R$36)*V33:V$36*($E33:$E$36=$D32)),IF(ISNUMBER(Data!M32),100*ABS($G32-(Data!M32-$K32)/$M32),0),IF(ISNUMBER(Data!M32),100*ABS($G32-(Data!M32-$K32)/$M32),0)))","v":80.57553956834532},{"$f":"IF($H32=0,0,CHOOSE($H32,SUMPRODUCT(CHOOSE(W$39,$O33:$O$36,$P33:$P$36,$Q33:$Q$36,$R33:$R$36)*W33:W$36*($E33:$E$36=$D32)),IF(ISNUMBER(Data!N32),100*ABS($G32-(Data!N32-$K32)/$M32),0),IF(ISNUMBER(Data!N32),100*ABS($G32-(Data!N32-$K32)/$M32),0)))","v":100},{"$f":"IF($H32=0,0,CHOOSE($H32,SUMPRODUCT(CHOOSE(X$39,$O33:$O$36,$P33:$P$36,$Q33:$Q$36,$R33:$R$36)*X33:X$36*($E33:$E$36=$D32)),IF(ISNUMBER(Data!O32),100*ABS($G32-(Data!O32-$K32)/$M32),0),IF(ISNUMBER(Data!O32),100*ABS($G32-(Data!O32-$K32)/$M32),0)))","v":87.050359712230218},{"$f":"IF($H32=0,0,CHOOSE($H32,SUMPRODUCT(CHOOSE(Y$39,$O33:$O$36,$P33:$P$36,$Q33:$Q$36,$R33:$R$36)*Y33:Y$36*($E33:$E$36=$D32)),IF(ISNUMBER(Data!P32),100*ABS($G32-(Data!P32-$K32)/$M32),0),IF(ISNUMBER(Data!P32),100*ABS($G32-(Data!P32-$K32)/$M32),0)))","v":58.992805755395686},{"$f":"IF($H32=0,0,CHOOSE($H32,SUMPRODUCT(CHOOSE(Z$39,$O33:$O$36,$P33:$P$36,$Q33:$Q$36,$R33:$R$36)*Z33:Z$36*($E33:$E$36=$D32)),IF(ISNUMBER(Data!Q32),100*ABS($G32-(Data!Q32-$K32)/$M32),0),IF(ISNUMBER(Data!Q32),100*ABS($G32-(Data!Q32-$K32)/$M32),0)))","v":94.24460431654677},{"$f":"IF($H32=0,0,CHOOSE($H32,SUMPRODUCT(CHOOSE(AA$39,$O33:$O$36,$P33:$P$36,$Q33:$Q$36,$R33:$R$36)*AA33:AA$36*($E33:$E$36=$D32)),IF(ISNUMBER(Data!R32),100*ABS($G32-(Data!R32-$K32)/$M32),0),IF(ISNUMBER(Data!R32),100*ABS($G32-(Data!R32-$K32)/$M32),0)))","v":67.625899280575538},{"$f":"IF($H32=0,0,CHOOSE($H32,SUMPRODUCT(CHOOSE(AB$39,$O33:$O$36,$P33:$P$36,$Q33:$Q$36,$R33:$R$36)*AB33:AB$36*($E33:$E$36=$D32)),IF(ISNUMBER(Data!S32),100*ABS($G32-(Data!S32-$K32)/$M32),0),IF(ISNUMBER(Data!S32),100*ABS($G32-(Data!S32-$K32)/$M32),0)))","v":46.762589928057551},{"$f":"IF($H32=0,0,CHOOSE($H32,SUMPRODUCT(CHOOSE(AC$39,$O33:$O$36,$P33:$P$36,$Q33:$Q$36,$R33:$R$36)*AC33:AC$36*($E33:$E$36=$D32)),IF(ISNUMBER(Data!T32),100*ABS($G32-(Data!T32-$K32)/$M32),0),IF(ISNUMBER(Data!T32),100*ABS($G32-(Data!T32-$K32)/$M32),0)))","v":79.856115107913666},{"$f":"IF($H32=0,0,CHOOSE($H32,SUMPRODUCT(CHOOSE(AD$39,$O33:$O$36,$P33:$P$36,$Q33:$Q$36,$R33:$R$36)*AD33:AD$36*($E33:$E$36=$D32)),IF(ISNUMBER(Data!U32),100*ABS($G32-(Data!U32-$K32)/$M32),0),IF(ISNUMBER(Data!U32),100*ABS($G32-(Data!U32-$K32)/$M32),0)))","v":90.647482014388487},{"$f":"IF($H32=0,0,CHOOSE($H32,SUMPRODUCT(CHOOSE(AE$39,$O33:$O$36,$P33:$P$36,$Q33:$Q$36,$R33:$R$36)*AE33:AE$36*($E33:$E$36=$D32)),IF(ISNUMBER(Data!V32),100*ABS($G32-(Data!V32-$K32)/$M32),0),IF(ISNUMBER(Data!V32),100*ABS($G32-(Data!V32-$K32)/$M32),0)))","v":84.892086330935257},{"$f":"IF($H32=0,0,CHOOSE($H32,SUMPRODUCT(CHOOSE(AF$39,$O33:$O$36,$P33:$P$36,$Q33:$Q$36,$R33:$R$36)*AF33:AF$36*($E33:$E$36=$D32)),IF(ISNUMBER(Data!W32),100*ABS($G32-(Data!W32-$K32)/$M32),0),IF(ISNUMBER(Data!W32),100*ABS($G32-(Data!W32-$K32)/$M32),0)))","v":98.561151079136692},{"$f":"IF($H32=0,0,CHOOSE($H32,SUMPRODUCT(CHOOSE(AG$39,$O33:$O$36,$P33:$P$36,$Q33:$Q$36,$R33:$R$36)*AG33:AG$36*($E33:$E$36=$D32)),IF(ISNUMBER(Data!X32),100*ABS($G32-(Data!X32-$K32)/$M32),0),IF(ISNUMBER(Data!X32),100*ABS($G32-(Data!X32-$K32)/$M32),0)))","v":86.330935251798564},{"$f":"IF($H32=0,0,CHOOSE($H32,SUMPRODUCT(CHOOSE(AH$39,$O33:$O$36,$P33:$P$36,$Q33:$Q$36,$R33:$R$36)*AH33:AH$36*($E33:$E$36=$D32)),IF(ISNUMBER(Data!Y32),100*ABS($G32-(Data!Y32-$K32)/$M32),0),IF(ISNUMBER(Data!Y32),100*ABS($G32-(Data!Y32-$K32)/$M32),0)))","v":86.330935251798564},{"$f":"IF($H32=0,0,CHOOSE($H32,SUMPRODUCT(CHOOSE(AI$39,$O33:$O$36,$P33:$P$36,$Q33:$Q$36,$R33:$R$36)*AI33:AI$36*($E33:$E$36=$D32)),IF(ISNUMBER(Data!Z32),100*ABS($G32-(Data!Z32-$K32)/$M32),0),IF(ISNUMBER(Data!Z32),100*ABS($G32-(Data!Z32-$K32)/$M32),0)))","v":92.805755395683448},{"$f":"IF($H32=0,0,CHOOSE($H32,SUMPRODUCT(CHOOSE(AJ$39,$O33:$O$36,$P33:$P$36,$Q33:$Q$36,$R33:$R$36)*AJ33:AJ$36*($E33:$E$36=$D32)),IF(ISNUMBER(Data!AA32),100*ABS($G32-(Data!AA32-$K32)/$M32),0),IF(ISNUMBER(Data!AA32),100*ABS($G32-(Data!AA32-$K32)/$M32),0)))","v":80.57553956834532},{"$f":"IF($H32=0,0,CHOOSE($H32,SUMPRODUCT(CHOOSE(AK$39,$O33:$O$36,$P33:$P$36,$Q33:$Q$36,$R33:$R$36)*AK33:AK$36*($E33:$E$36=$D32)),IF(ISNUMBER(Data!AB32),100*ABS($G32-(Data!AB32-$K32)/$M32),0),IF(ISNUMBER(Data!AB32),100*ABS($G32-(Data!AB32-$K32)/$M32),0)))","v":72.661870503597129},{"$f":"IF($H32=0,0,CHOOSE($H32,SUMPRODUCT(CHOOSE(AL$39,$O33:$O$36,$P33:$P$36,$Q33:$Q$36,$R33:$R$36)*AL33:AL$36*($E33:$E$36=$D32)),IF(ISNUMBER(Data!AC32),100*ABS($G32-(Data!AC32-$K32)/$M32),0),IF(ISNUMBER(Data!AC32),100*ABS($G32-(Data!AC32-$K32)/$M32),0)))","v":69.064748201438846}]
[null,{"$f":"tblIndicators!A30","v":29},{"$f":"tblIndicators!B30","v":0},{"$f":"tblIndicators!D30","v":"ENP_12"},{"$f":"tblIndicators!E30","v":"ENP"},{"$f":"tblIndicators!F30","v":2},{"$f":"tblIndicators!S30","v":0},{"$f":"tblIndicators!T30","v":2},{"$f":"tblIndicators!U30","v":0},{"$f":"tblIndicators!V30","v":0},{"$f":"CHOOSE(H33,\"-\",MIN(Data!J33:AC33),I33)","v":0},{"$f":"CHOOSE(H33,\"-\",MAX(Data!J33:AC33),J33)","v":99.65},99.65,{"$f":"tblIndicators!Y30","v":"3.3) Water pollution"},{"$f":"tblIndicators!AO30","v":0.16666666666666666},{"$f":"tblIndicators!AR30","v":0.16666666666666666},{"$f":"tblIndicators!AU30","v":0.16666666666666666},{"$f":"tblIndicators!AX30","v":0.16666666666666666},{"$f":"IF($H33=0,0,CHOOSE($H33,SUMPRODUCT(CHOOSE(S$39,$O34:$O$36,$P34:$P$36,$Q34:$Q$36,$R34:$R$36)*S34:S$36*($E34:$E$36=$D33)),IF(ISNUMBER(Data!J33),100*ABS($G33-(Data!J33-$K33)/$M33),0),IF(ISNUMBER(Data!J33),100*ABS($G33-(Data!J33-$K33)/$M33),0)))","v":0},{"$f":"IF($H33=0,0,CHOOSE($H33,SUMPRODUCT(CHOOSE(T$39,$O34:$O$36,$P34:$P$36,$Q34:$Q$36,$R34:$R$36)*T34:T$36*($E34:$E$36=$D33)),IF(ISNUMBER(Data!K33),100*ABS($G33-(Data!K33-$K33)/$M33),0),IF(ISNUMBER(Data!K33),100*ABS($G33-(Data!K33-$K33)/$M33),0)))","v":37.97290516808831},{"$f":"IF($H33=0,0,CHOOSE($H33,SUMPRODUCT(CHOOSE(U$39,$O34:$O$36,$P34:$P$36,$Q34:$Q$36,$R34:$R$36)*U34:U$36*($E34:$E$36=$D33)),IF(ISNUMBER(Data!L33),100*ABS($G33-(Data!L33-$K33)/$M33),0),IF(ISNUMBER(Data!L33),100*ABS($G33-(Data!L33-$K33)/$M33),0)))","v":0},{"$f":"IF($H33=0,0,CHOOSE($H33,SUMPRODUCT(CHOOSE(V$39,$O34:$O$36,$P34:$P$36,$Q34:$Q$36,$R34:$R$36)*V34:V$36*($E34:$E$36=$D33)),IF(ISNUMBER(Data!M33),100*ABS($G33-(Data!M33-$K33)/$M33),0),IF(ISNUMBER(Data!M33),100*ABS($G33-(Data!M33-$K33)/$M33),0)))","v":18.243765416593078},{"$f":"IF($H33=0,0,CHOOSE($H33,SUMPRODUCT(CHOOSE(W$39,$O34:$O$36,$P34:$P$36,$Q34:$Q$36,$R34:$R$36)*W34:W$36*($E34:$E$36=$D33)),IF(ISNUMBER(Data!N33),100*ABS($G33-(Data!N33-$K33)/$M33),0),IF(ISNUMBER(Data!N33),100*ABS($G33-(Data!N33-$K33)/$M33),0)))","v":88.095213246362263},{"$f":"IF($H33=0,0,CHOOSE($H33,SUMPRODUCT(CHOOSE(X$39,$O34:$O$36,$P34:$P$36,$Q34:$Q$36,$R34:$R$36)*X34:X$36*($E34:$E$36=$D33)),IF(ISNUMBER(Data!O33),100*ABS($G33-(Data!O33-$K33)/$M33),0),IF(ISNUMBER(Data!O33),100*ABS($G33-(Data!O33-$K33)/$M33),0)))","v":10.526843953838434},{"$f":"IF($H33=0,0,CHOOSE($H33,SUMPRODUCT(CHOOSE(Y$39,$O34:$O$36,$P34:$P$36,$Q34:$Q$36,$R34:$R$36)*Y34:Y$36*($E34:$E$36=$D33)),IF(ISNUMBER(Data!P33),100*ABS($G33-(Data!P33-$K33)/$M33),0),IF(ISNUMBER(Data!P33),100*ABS($G33-(Data!P33-$K33)/$M33),0)))","v":2.0070245860511791E-2},{"$f":"IF($H33=0,0,CHOOSE($H33,SUMPRODUCT(CHOOSE(Z$39,$O34:$O$36,$P34:$P$36,$Q34:$Q$36,$R34:$R$36)*Z34:Z$36*($E34:$E$36=$D33)),IF(ISNUMBER(Data!Q33),100*ABS($G33-(Data!Q33-$K33)/$M33),0),IF(ISNUMBER(Data!Q33),100*ABS($G33-(Data!Q33-$K33)/$M33),0)))","v":71.510286001003507},{"$f":"IF($H33=0,0,CHOOSE($H33,SUMPRODUCT(CHOOSE(AA$39,$O34:$O$36,$P34:$P$36,$Q34:$Q$36,$R34:$R$36)*AA34:AA$36*($E34:$E$36=$D33)),IF(ISNUMBER(Data!R33),100*ABS($G33-(Data!R33-$K33)/$M33),0),IF(ISNUMBER(Data!R33),100*ABS($G33-(Data!R33-$K33)/$M33),0)))","v":0},{"$f":"IF($H33=0,0,CHOOSE($H33,SUMPRODUCT(CHOOSE(AB$39,$O34:$O$36,$P34:$P$36,$Q34:$Q$36,$R34:$R$36)*AB34:AB$36*($E34:$E$36=$D33)),IF(ISNUMBER(Data!S33),100*ABS($G33-(Data!S33-$K33)/$M33),0),IF(ISNUMBER(Data!S33),100*ABS($G33-(Data!S33-$K33)/$M33),0)))","v":8.6703462117410943},{"$f":"IF($H33=0,0,CHOOSE($H33,SUMPRODUCT(CHOOSE(AC$39,$O34:$O$36,$P34:$P$36,$Q34:$Q$36,$R34:$R$36)*AC34:AC$36*($E34:$E$36=$D33)),IF(ISNUMBER(Data!T33),100*ABS($G33-(Data!T33-$K33)/$M33),0),IF(ISNUMBER(Data!T33),100*ABS($G33-(Data!T33-$K33)/$M33),0)))","v":0},{"$f":"IF($H33=0,0,CHOOSE($H33,SUMPRODUCT(CHOOSE(AD$39,$O34:$O$36,$P34:$P$36,$Q34:$Q$36,$R34:$R$36)*AD34:AD$36*($E34:$E$36=$D33)),IF(ISNUMBER(Data!U33),100*ABS($G33-(Data!U33-$K33)/$M33),0),IF(ISNUMBER(Data!U33),100*ABS($G33-(Data!U33-$K33)/$M33),0)))","v":3.532363271450075},{"$f":"IF($H33=0,0,CHOOSE($H33,SUMPRODUCT(CHOOSE(AE$39,$O34:$O$36,$P34:$P$36,$Q34:$Q$36,$R34:$R$36)*AE34:AE$36*($E34:$E$36=$D33)),IF(ISNUMBER(Data!V33),100*ABS($G33-(Data!V33-$K33)/$M33),0),IF(ISNUMBER(Data!V33),100*ABS($G33-(Data!V33-$K33)/$M33),0)))","v":0.5318615153035624},{"$f":"IF($H33=0,0,CHOOSE($H33,SUMPRODUCT(CHOOSE(AF$39,$O34:$O$36,$P34:$P$36,$Q34:$Q$36,$R34:$R$36)*AF34:AF$36*($E34:$E$36=$D33)),IF(ISNUMBER(Data!W33),100*ABS($G33-(Data!W33-$K33)/$M33),0),IF(ISNUMBER(Data!W33),100*ABS($G33-(Data!W33-$K33)/$M33),0)))","v":100},{"$f":"IF($H33=0,0,CHOOSE($H33,SUMPRODUCT(CHOOSE(AG$39,$O34:$O$36,$P34:$P$36,$Q34:$Q$36,$R34:$R$36)*AG34:AG$36*($E34:$E$36=$D33)),IF(ISNUMBER(Data!X33),100*ABS($G33-(Data!X33-$K33)/$M33),0),IF(ISNUMBER(Data!X33),100*ABS($G33-(Data!X33-$K33)/$M33),0)))","v":83.973908680381342},{"$f":"IF($H33=0,0,CHOOSE($H33,SUMPRODUCT(CHOOSE(AH$39,$O34:$O$36,$P34:$P$36,$Q34:$Q$36,$R34:$R$36)*AH34:AH$36*($E34:$E$36=$D33)),IF(ISNUMBER(Data!Y33),100*ABS($G33-(Data!Y33-$K33)/$M33),0),IF(ISNUMBER(Data!Y33),100*ABS($G33-(Data!Y33-$K33)/$M33),0)))","v":0},{"$f":"IF($H33=0,0,CHOOSE($H33,SUMPRODUCT(CHOOSE(AI$39,$O34:$O$36,$P34:$P$36,$Q34:$Q$36,$R34:$R$36)*AI34:AI$36*($E34:$E$36=$D33)),IF(ISNUMBER(Data!Z33),100*ABS($G33-(Data!Z33-$K33)/$M33),0),IF(ISNUMBER(Data!Z33),100*ABS($G33-(Data!Z33-$K33)/$M33),0)))","v":4.6061214249874558},{"$f":"IF($H33=0,0,CHOOSE($H33,SUMPRODUCT(CHOOSE(AJ$39,$O34:$O$36,$P34:$P$36,$Q34:$Q$36,$R34:$R$36)*AJ34:AJ$36*($E34:$E$36=$D33)),IF(ISNUMBER(Data!AA33),100*ABS($G33-(Data!AA33-$K33)/$M33),0),IF(ISNUMBER(Data!AA33),100*ABS($G33-(Data!AA33-$K33)/$M33),0)))","v":16.056196688409432},{"$f":"IF($H33=0,0,CHOOSE($H33,SUMPRODUCT(CHOOSE(AK$39,$O34:$O$36,$P34:$P$36,$Q34:$Q$36,$R34:$R$36)*AK34:AK$36*($E34:$E$36=$D33)),IF(ISNUMBER(Data!AB33),100*ABS($G33-(Data!AB33-$K33)/$M33),0),IF(ISNUMBER(Data!AB33),100*ABS($G33-(Data!AB33-$K33)/$M33),0)))","v":0.14049172102358254},{"$f":"IF($H33=0,0,CHOOSE($H33,SUMPRODUCT(CHOOSE(AL$39,$O34:$O$36,$P34:$P$36,$Q34:$Q$36,$R34:$R$36)*AL34:AL$36*($E34:$E$36=$D33)),IF(ISNUMBER(Data!AC33),100*ABS($G33-(Data!AC33-$K33)/$M33),0),IF(ISNUMBER(Data!AC33),100*ABS($G33-(Data!AC33-$K33)/$M33),0)))","v":63.893627696939284}]
[null,{"$f":"tblIndicators!A31","v":30},{"$f":"tblIndicators!B31","v":0},{"$f":"tblIndicators!D31","v":"ENP_13"},{"$f":"tblIndicators!E31","v":"ENP"},{"$f":"tblIndicators!F31","v":2},{"$f":"tblIndicators!S31","v":0},{"$f":"tblIndicators!T31","v":3},{"$f":"tblIndicators!U31","v":1},{"$f":"tblIndicators!V31","v":7},{"$f":"CHOOSE(H34,\"-\",MIN(Data!J34:AC34),I34)","v":1},{"$f":"CHOOSE(H34,\"-\",MAX(Data!J34:AC34),J34)","v":7},6,{"$f":"tblIndicators!Y31","v":"3.4) Environmental standards in trade"},{"$f":"tblIndicators!AO31","v":0.16666666666666666},{"$f":"tblIndicators!AR31","v":0.16666666666666666},{"$f":"tblIndicators!AU31","v":0.16666666666666666},{"$f":"tblIndicators!AX31","v":0.16666666666666666},{"$f":"IF($H34=0,0,CHOOSE($H34,SUMPRODUCT(CHOOSE(S$39,$O35:$O$36,$P35:$P$36,$Q35:$Q$36,$R35:$R$36)*S35:S$36*($E35:$E$36=$D34)),IF(ISNUMBER(Data!J34),100*ABS($G34-(Data!J34-$K34)/$M34),0),IF(ISNUMBER(Data!J34),100*ABS($G34-(Data!J34-$K34)/$M34),0)))","v":33.333333333333329},{"$f":"IF($H34=0,0,CHOOSE($H34,SUMPRODUCT(CHOOSE(T$39,$O35:$O$36,$P35:$P$36,$Q35:$Q$36,$R35:$R$36)*T35:T$36*($E35:$E$36=$D34)),IF(ISNUMBER(Data!K34),100*ABS($G34-(Data!K34-$K34)/$M34),0),IF(ISNUMBER(Data!K34),100*ABS($G34-(Data!K34-$K34)/$M34),0)))","v":33.333333333333329},{"$f":"IF($H34=0,0,CHOOSE($H34,SUMPRODUCT(CHOOSE(U$39,$O35:$O$36,$P35:$P$36,$Q35:$Q$36,$R35:$R$36)*U35:U$36*($E35:$E$36=$D34)),IF(ISNUMBER(Data!L34),100*ABS($G34-(Data!L34-$K34)/$M34),0),IF(ISNUMBER(Data!L34),100*ABS($G34-(Data!L34-$K34)/$M34),0)))","v":66.666666666666657},{"$f":"IF($H34=0,0,CHOOSE($H34,SUMPRODUCT(CHOOSE(V$39,$O35:$O$36,$P35:$P$36,$Q35:$Q$36,$R35:$R$36)*V35:V$36*($E35:$E$36=$D34)),IF(ISNUMBER(Data!M34),100*ABS($G34-(Data!M34-$K34)/$M34),0),IF(ISNUMBER(Data!M34),100*ABS($G34-(Data!M34-$K34)/$M34),0)))","v":100},{"$f":"IF($H34=0,0,CHOOSE($H34,SUMPRODUCT(CHOOSE(W$39,$O35:$O$36,$P35:$P$36,$Q35:$Q$36,$R35:$R$36)*W35:W$36*($E35:$E$36=$D34)),IF(ISNUMBER(Data!N34),100*ABS($G34-(Data!N34-$K34)/$M34),0),IF(ISNUMBER(Data!N34),100*ABS($G34-(Data!N34-$K34)/$M34),0)))","v":100},{"$f":"IF($H34=0,0,CHOOSE($H34,SUMPRODUCT(CHOOSE(X$39,$O35:$O$36,$P35:$P$36,$Q35:$Q$36,$R35:$R$36)*X35:X$36*($E35:$E$36=$D34)),IF(ISNUMBER(Data!O34),100*ABS($G34-(Data!O34-$K34)/$M34),0),IF(ISNUMBER(Data!O34),100*ABS($G34-(Data!O34-$K34)/$M34),0)))","v":66.666666666666657},{"$f":"IF($H34=0,0,CHOOSE($H34,SUMPRODUCT(CHOOSE(Y$39,$O35:$O$36,$P35:$P$36,$Q35:$Q$36,$R35:$R$36)*Y35:Y$36*($E35:$E$36=$D34)),IF(ISNUMBER(Data!P34),100*ABS($G34-(Data!P34-$K34)/$M34),0),IF(ISNUMBER(Data!P34),100*ABS($G34-(Data!P34-$K34)/$M34),0)))","v":66.666666666666657},{"$f":"IF($H34=0,0,CHOOSE($H34,SUMPRODUCT(CHOOSE(Z$39,$O35:$O$36,$P35:$P$36,$Q35:$Q$36,$R35:$R$36)*Z35:Z$36*($E35:$E$36=$D34)),IF(ISNUMBER(Data!Q34),100*ABS($G34-(Data!Q34-$K34)/$M34),0),IF(ISNUMBER(Data!Q34),100*ABS($G34-(Data!Q34-$K34)/$M34),0)))","v":83.333333333333343},{"$f":"IF($H34=0,0,CHOOSE($H34,SUMPRODUCT(CHOOSE(AA$39,$O35:$O$36,$P35:$P$36,$Q35:$Q$36,$R35:$R$36)*AA35:AA$36*($E35:$E$36=$D34)),IF(ISNUMBER(Data!R34),100*ABS($G34-(Data!R34-$K34)/$M34),0),IF(ISNUMBER(Data!R34),100*ABS($G34-(Data!R34-$K34)/$M34),0)))","v":50},{"$f":"IF($H34=0,0,CHOOSE($H34,SUMPRODUCT(CHOOSE(AB$39,$O35:$O$36,$P35:$P$36,$Q35:$Q$36,$R35:$R$36)*AB35:AB$36*($E35:$E$36=$D34)),IF(ISNUMBER(Data!S34),100*ABS($G34-(Data!S34-$K34)/$M34),0),IF(ISNUMBER(Data!S34),100*ABS($G34-(Data!S34-$K34)/$M34),0)))","v":66.666666666666657},{"$f":"IF($H34=0,0,CHOOSE($H34,SUMPRODUCT(CHOOSE(AC$39,$O35:$O$36,$P35:$P$36,$Q35:$Q$36,$R35:$R$36)*AC35:AC$36*($E35:$E$36=$D34)),IF(ISNUMBER(Data!T34),100*ABS($G34-(Data!T34-$K34)/$M34),0),IF(ISNUMBER(Data!T34),100*ABS($G34-(Data!T34-$K34)/$M34),0)))","v":33.333333333333329},{"$f":"IF($H34=0,0,CHOOSE($H34,SUMPRODUCT(CHOOSE(AD$39,$O35:$O$36,$P35:$P$36,$Q35:$Q$36,$R35:$R$36)*AD35:AD$36*($E35:$E$36=$D34)),IF(ISNUMBER(Data!U34),100*ABS($G34-(Data!U34-$K34)/$M34),0),IF(ISNUMBER(Data!U34),100*ABS($G34-(Data!U34-$K34)/$M34),0)))","v":66.666666666666657},{"$f":"IF($H34=0,0,CHOOSE($H34,SUMPRODUCT(CHOOSE(AE$39,$O35:$O$36,$P35:$P$36,$Q35:$Q$36,$R35:$R$36)*AE35:AE$36*($E35:$E$36=$D34)),IF(ISNUMBER(Data!V34),100*ABS($G34-(Data!V34-$K34)/$M34),0),IF(ISNUMBER(Data!V34),100*ABS($G34-(Data!V34-$K34)/$M34),0)))","v":83.333333333333343},{"$f":"IF($H34=0,0,CHOOSE($H34,SUMPRODUCT(CHOOSE(AF$39,$O35:$O$36,$P35:$P$36,$Q35:$Q$36,$R35:$R$36)*AF35:AF$36*($E35:$E$36=$D34)),IF(ISNUMBER(Data!W34),100*ABS($G34-(Data!W34-$K34)/$M34),0),IF(ISNUMBER(Data!W34),100*ABS($G34-(Data!W34-$K34)/$M34),0)))","v":66.666666666666657},{"$f":"IF($H34=0,0,CHOOSE($H34,SUMPRODUCT(CHOOSE(AG$39,$O35:$O$36,$P35:$P$36,$Q35:$Q$36,$R35:$R$36)*AG35:AG$36*($E35:$E$36=$D34)),IF(ISNUMBER(Data!X34),100*ABS($G34-(Data!X34-$K34)/$M34),0),IF(ISNUMBER(Data!X34),100*ABS($G34-(Data!X34-$K34)/$M34),0)))","v":83.333333333333343},{"$f":"IF($H34=0,0,CHOOSE($H34,SUMPRODUCT(CHOOSE(AH$39,$O35:$O$36,$P35:$P$36,$Q35:$Q$36,$R35:$R$36)*AH35:AH$36*($E35:$E$36=$D34)),IF(ISNUMBER(Data!Y34),100*ABS($G34-(Data!Y34-$K34)/$M34),0),IF(ISNUMBER(Data!Y34),100*ABS($G34-(Data!Y34-$K34)/$M34),0)))","v":50},{"$f":"IF($H34=0,0,CHOOSE($H34,SUMPRODUCT(CHOOSE(AI$39,$O35:$O$36,$P35:$P$36,$Q35:$Q$36,$R35:$R$36)*AI35:AI$36*($E35:$E$36=$D34)),IF(ISNUMBER(Data!Z34),100*ABS($G34-(Data!Z34-$K34)/$M34),0),IF(ISNUMBER(Data!Z34),100*ABS($G34-(Data!Z34-$K34)/$M34),0)))","v":0},{"$f":"IF($H34=0,0,CHOOSE($H34,SUMPRODUCT(CHOOSE(AJ$39,$O35:$O$36,$P35:$P$36,$Q35:$Q$36,$R35:$R$36)*AJ35:AJ$36*($E35:$E$36=$D34)),IF(ISNUMBER(Data!AA34),100*ABS($G34-(Data!AA34-$K34)/$M34),0),IF(ISNUMBER(Data!AA34),100*ABS($G34-(Data!AA34-$K34)/$M34),0)))","v":66.666666666666657},{"$f":"IF($H34=0,0,CHOOSE($H34,SUMPRODUCT(CHOOSE(AK$39,$O35:$O$36,$P35:$P$36,$Q35:$Q$36,$R35:$R$36)*AK35:AK$36*($E35:$E$36=$D34)),IF(ISNUMBER(Data!AB34),100*ABS($G34-(Data!AB34-$K34)/$M34),0),IF(ISNUMBER(Data!AB34),100*ABS($G34-(Data!AB34-$K34)/$M34),0)))","v":66.666666666666657},{"$f":"IF($H34=0,0,CHOOSE($H34,SUMPRODUCT(CHOOSE(AL$39,$O35:$O$36,$P35:$P$36,$Q35:$Q$36,$R35:$R$36)*AL35:AL$36*($E35:$E$36=$D34)),IF(ISNUMBER(Data!AC34),100*ABS($G34-(Data!AC34-$K34)/$M34),0),IF(ISNUMBER(Data!AC34),100*ABS($G34-(Data!AC34-$K34)/$M34),0)))","v":83.333333333333343}]
[null,{"$f":"tblIndicators!A32","v":31},{"$f":"tblIndicators!B32","v":0},{"$f":"tblIndicators!D32","v":"ENP_14"},{"$f":"tblIndicators!E32","v":"ENP"},{"$f":"tblIndicators!F32","v":2},{"$f":"tblIndicators!S32","v":1},{"$f":"tblIndicators!T32","v":2},{"$f":"tblIndicators!U32","v":0},{"$f":"tblIndicators!V32","v":0},{"$f":"CHOOSE(H35,\"-\",MIN(Data!J35:AC35),I35)","v":1.10187E-5},{"$f":"CHOOSE(H35,\"-\",MAX(Data!J35:AC35),J35)","v":1.4227549999999999E-3},1.4117362999999999E-3,{"$f":"tblIndicators!Y32","v":"3.5) Carbon emissions in trade"},{"$f":"tblIndicators!AO32","v":0.16666666666666666},{"$f":"tblIndicators!AR32","v":0.16666666666666666},{"$f":"tblIndicators!AU32","v":0.16666666666666666},{"$f":"tblIndicators!AX32","v":0.16666666666666666},{"$f":"IF($H35=0,0,CHOOSE($H35,SUMPRODUCT(CHOOSE(S$39,$O36:$O$36,$P36:$P$36,$Q36:$Q$36,$R36:$R$36)*S36:S$36*($E36:$E$36=$D35)),IF(ISNUMBER(Data!J35),100*ABS($G35-(Data!J35-$K35)/$M35),0),IF(ISNUMBER(Data!J35),100*ABS($G35-(Data!J35-$K35)/$M35),0)))","v":59.935839292366431},{"$f":"IF($H35=0,0,CHOOSE($H35,SUMPRODUCT(CHOOSE(T$39,$O36:$O$36,$P36:$P$36,$Q36:$Q$36,$R36:$R$36)*T36:T$36*($E36:$E$36=$D35)),IF(ISNUMBER(Data!K35),100*ABS($G35-(Data!K35-$K35)/$M35),0),IF(ISNUMBER(Data!K35),100*ABS($G35-(Data!K35-$K35)/$M35),0)))","v":86.69806110390445},{"$f":"IF($H35=0,0,CHOOSE($H35,SUMPRODUCT(CHOOSE(U$39,$O36:$O$36,$P36:$P$36,$Q36:$Q$36,$R36:$R$36)*U36:U$36*($E36:$E$36=$D35)),IF(ISNUMBER(Data!L35),100*ABS($G35-(Data!L35-$K35)/$M35),0),IF(ISNUMBER(Data!L35),100*ABS($G35-(Data!L35-$K35)/$M35),0)))","v":89.596194416761833},{"$f":"IF($H35=0,0,CHOOSE($H35,SUMPRODUCT(CHOOSE(V$39,$O36:$O$36,$P36:$P$36,$Q36:$Q$36,$R36:$R$36)*V36:V$36*($E36:$E$36=$D35)),IF(ISNUMBER(Data!M35),100*ABS($G35-(Data!M35-$K35)/$M35),0),IF(ISNUMBER(Data!M35),100*ABS($G35-(Data!M35-$K35)/$M35),0)))","v":13.25757508679205},{"$f":"IF($H35=0,0,CHOOSE($H35,SUMPRODUCT(CHOOSE(W$39,$O36:$O$36,$P36:$P$36,$Q36:$Q$36,$R36:$R$36)*W36:W$36*($E36:$E$36=$D35)),IF(ISNUMBER(Data!N35),100*ABS($G35-(Data!N35-$K35)/$M35),0),IF(ISNUMBER(Data!N35),100*ABS($G35-(Data!N35-$K35)/$M35),0)))","v":99.30975069494211},{"$f":"IF($H35=0,0,CHOOSE($H35,SUMPRODUCT(CHOOSE(X$39,$O36:$O$36,$P36:$P$36,$Q36:$Q$36,$R36:$R$36)*X36:X$36*($E36:$E$36=$D35)),IF(ISNUMBER(Data!O35),100*ABS($G35-(Data!O35-$K35)/$M35),0),IF(ISNUMBER(Data!O35),100*ABS($G35-(Data!O35-$K35)/$M35),0)))","v":11.013529934733556},{"$f":"IF($H35=0,0,CHOOSE($H35,SUMPRODUCT(CHOOSE(Y$39,$O36:$O$36,$P36:$P$36,$Q36:$Q$36,$R36:$R$36)*Y36:Y$36*($E36:$E$36=$D35)),IF(ISNUMBER(Data!P35),100*ABS($G35-(Data!P35-$K35)/$M35),0),IF(ISNUMBER(Data!P35),100*ABS($G35-(Data!P35-$K35)/$M35),0)))","v":49.63242781247461},{"$f":"IF($H35=0,0,CHOOSE($H35,SUMPRODUCT(CHOOSE(Z$39,$O36:$O$36,$P36:$P$36,$Q36:$Q$36,$R36:$R$36)*Z36:Z$36*($E36:$E$36=$D35)),IF(ISNUMBER(Data!Q35),100*ABS($G35-(Data!Q35-$K35)/$M35),0),IF(ISNUMBER(Data!Q35),100*ABS($G35-(Data!Q35-$K35)/$M35),0)))","v":76.129444287860267},{"$f":"IF($H35=0,0,CHOOSE($H35,SUMPRODUCT(CHOOSE(AA$39,$O36:$O$36,$P36:$P$36,$Q36:$Q$36,$R36:$R$36)*AA36:AA$36*($E36:$E$36=$D35)),IF(ISNUMBER(Data!R35),100*ABS($G35-(Data!R35-$K35)/$M35),0),IF(ISNUMBER(Data!R35),100*ABS($G35-(Data!R35-$K35)/$M35),0)))","v":91.114324962813527},{"$f":"IF($H35=0,0,CHOOSE($H35,SUMPRODUCT(CHOOSE(AB$39,$O36:$O$36,$P36:$P$36,$Q36:$Q$36,$R36:$R$36)*AB36:AB$36*($E36:$E$36=$D35)),IF(ISNUMBER(Data!S35),100*ABS($G35-(Data!S35-$K35)/$M35),0),IF(ISNUMBER(Data!S35),100*ABS($G35-(Data!S35-$K35)/$M35),0)))","v":84.315108990255467},{"$f":"IF($H35=0,0,CHOOSE($H35,SUMPRODUCT(CHOOSE(AC$39,$O36:$O$36,$P36:$P$36,$Q36:$Q$36,$R36:$R$36)*AC36:AC$36*($E36:$E$36=$D35)),IF(ISNUMBER(Data!T35),100*ABS($G35-(Data!T35-$K35)/$M35),0),IF(ISNUMBER(Data!T35),100*ABS($G35-(Data!T35-$K35)/$M35),0)))","v":76.935827179622706},{"$f":"IF($H35=0,0,CHOOSE($H35,SUMPRODUCT(CHOOSE(AD$39,$O36:$O$36,$P36:$P$36,$Q36:$Q$36,$R36:$R$36)*AD36:AD$36*($E36:$E$36=$D35)),IF(ISNUMBER(Data!U35),100*ABS($G35-(Data!U35-$K35)/$M35),0),IF(ISNUMBER(Data!U35),100*ABS($G35-(Data!U35-$K35)/$M35),0)))","v":0},{"$f":"IF($H35=0,0,CHOOSE($H35,SUMPRODUCT(CHOOSE(AE$39,$O36:$O$36,$P36:$P$36,$Q36:$Q$36,$R36:$R$36)*AE36:AE$36*($E36:$E$36=$D35)),IF(ISNUMBER(Data!V35),100*ABS($G35-(Data!V35-$K35)/$M35),0),IF(ISNUMBER(Data!V35),100*ABS($G35-(Data!V35-$K35)/$M35),0)))","v":73.062370075771227},{"$f":"IF($H35=0,0,CHOOSE($H35,SUMPRODUCT(CHOOSE(AF$39,$O36:$O$36,$P36:$P$36,$Q36:$Q$36,$R36:$R$36)*AF36:AF$36*($E36:$E$36=$D35)),IF(ISNUMBER(Data!W35),100*ABS($G35-(Data!W35-$K35)/$M35),0),IF(ISNUMBER(Data!W35),100*ABS($G35-(Data!W35-$K35)/$M35),0)))","v":100},{"$f":"IF($H35=0,0,CHOOSE($H35,SUMPRODUCT(CHOOSE(AG$39,$O36:$O$36,$P36:$P$36,$Q36:$Q$36,$R36:$R$36)*AG36:AG$36*($E36:$E$36=$D35)),IF(ISNUMBER(Data!X35),100*ABS($G35-(Data!X35-$K35)/$M35),0),IF(ISNUMBER(Data!X35),100*ABS($G35-(Data!X35-$K35)/$M35),0)))","v":83.987214892752988},{"$f":"IF($H35=0,0,CHOOSE($H35,SUMPRODUCT(CHOOSE(AH$39,$O36:$O$36,$P36:$P$36,$Q36:$Q$36,$R36:$R$36)*AH36:AH$36*($E36:$E$36=$D35)),IF(ISNUMBER(Data!Y35),100*ABS($G35-(Data!Y35-$K35)/$M35),0),IF(ISNUMBER(Data!Y35),100*ABS($G35-(Data!Y35-$K35)/$M35),0)))","v":79.212385485872957},{"$f":"IF($H35=0,0,CHOOSE($H35,SUMPRODUCT(CHOOSE(AI$39,$O36:$O$36,$P36:$P$36,$Q36:$Q$36,$R36:$R$36)*AI36:AI$36*($E36:$E$36=$D35)),IF(ISNUMBER(Data!Z35),100*ABS($G35-(Data!Z35-$K35)/$M35),0),IF(ISNUMBER(Data!Z35),100*ABS($G35-(Data!Z35-$K35)/$M35),0)))","v":84.704558492970676},{"$f":"IF($H35=0,0,CHOOSE($H35,SUMPRODUCT(CHOOSE(AJ$39,$O36:$O$36,$P36:$P$36,$Q36:$Q$36,$R36:$R$36)*AJ36:AJ$36*($E36:$E$36=$D35)),IF(ISNUMBER(Data!AA35),100*ABS($G35-(Data!AA35-$K35)/$M35),0),IF(ISNUMBER(Data!AA35),100*ABS($G35-(Data!AA35-$K35)/$M35),0)))","v":78.301237986159308},{"$f":"IF($H35=0,0,CHOOSE($H35,SUMPRODUCT(CHOOSE(AK$39,$O36:$O$36,$P36:$P$36,$Q36:$Q$36,$R36:$R$36)*AK36:AK$36*($E36:$E$36=$D35)),IF(ISNUMBER(Data!AB35),100*ABS($G35-(Data!AB35-$K35)/$M35),0),IF(ISNUMBER(Data!AB35),100*ABS($G35-(Data!AB35-$K35)/$M35),0)))","v":69.15144138462685},{"$f":"IF($H35=0,0,CHOOSE($H35,SUMPRODUCT(CHOOSE(AL$39,$O36:$O$36,$P36:$P$36,$Q36:$Q$36,$R36:$R$36)*AL36:AL$36*($E36:$E$36=$D35)),IF(ISNUMBER(Data!AC35),100*ABS($G35-(Data!AC35-$K35)/$M35),0),IF(ISNUMBER(Data!AC35),100*ABS($G35-(Data!AC35-$K35)/$M35),0)))","v":52.597287467921582}]
[null,{"$f":"tblIndicators!A33","v":32},{"$f":"tblIndicators!B33","v":0},{"$f":"tblIndicators!D33","v":"ENP_15"},{"$f":"tblIndicators!E33","v":"ENP"},{"$f":"tblIndicators!F33","v":2},{"$f":"tblIndicators!S33","v":1},{"$f":"tblIndicators!T33","v":2},{"$f":"tblIndicators!U33","v":0},{"$f":"tblIndicators!V33","v":0},{"$f":"CHOOSE(H36,\"-\",MIN(Data!J36:AC36),I36)","v":6.2638868E-2},{"$f":"CHOOSE(H36,\"-\",MAX(Data!J36:AC36),J36)","v":0.87965807900000004},0.81701921100000008,{"$f":"tblIndicators!Y33","v":"3.6) Share of natural resources in trade"},{"$f":"tblIndicators!AO33","v":0.16666666666666666},{"$f":"tblIndicators!AR33","v":0.16666666666666666},{"$f":"tblIndicators!AU33","v":0.16666666666666666},{"$f":"tblIndicators!AX33","v":0.16666666666666666},{"$f":"IF($H36=0,0,CHOOSE($H36,SUMPRODUCT(CHOOSE(S$39,$O$36:$O37,$P$36:$P37,$Q$36:$Q37,$R$36:$R37)*S$36:S37*($E$36:$E37=$D36)),IF(ISNUMBER(Data!J36),100*ABS($G36-(Data!J36-$K36)/$M36),0),IF(ISNUMBER(Data!J36),100*ABS($G36-(Data!J36-$K36)/$M36),0)))","v":99.002204490391108},{"$f":"IF($H36=0,0,CHOOSE($H36,SUMPRODUCT(CHOOSE(T$39,$O$36:$O37,$P$36:$P37,$Q$36:$Q37,$R$36:$R37)*T$36:T37*($E$36:$E37=$D36)),IF(ISNUMBER(Data!K36),100*ABS($G36-(Data!K36-$K36)/$M36),0),IF(ISNUMBER(Data!K36),100*ABS($G36-(Data!K36-$K36)/$M36),0)))","v":0},{"$f":"IF($H36=0,0,CHOOSE($H36,SUMPRODUCT(CHOOSE(U$39,$O$36:$O37,$P$36:$P37,$Q$36:$Q37,$R$36:$R37)*U$36:U37*($E$36:$E37=$D36)),IF(ISNUMBER(Data!L36),100*ABS($G36-(Data!L36-$K36)/$M36),0),IF(ISNUMBER(Data!L36),100*ABS($G36-(Data!L36-$K36)/$M36),0)))","v":94.755623928652028},{"$f":"IF($H36=0,0,CHOOSE($H36,SUMPRODUCT(CHOOSE(V$39,$O$36:$O37,$P$36:$P37,$Q$36:$Q37,$R$36:$R37)*V$36:V37*($E$36:$E37=$D36)),IF(ISNUMBER(Data!M36),100*ABS($G36-(Data!M36-$K36)/$M36),0),IF(ISNUMBER(Data!M36),100*ABS($G36-(Data!M36-$K36)/$M36),0)))","v":100},{"$f":"IF($H36=0,0,CHOOSE($H36,SUMPRODUCT(CHOOSE(W$39,$O$36:$O37,$P$36:$P37,$Q$36:$Q37,$R$36:$R37)*W$36:W37*($E$36:$E37=$D36)),IF(ISNUMBER(Data!N36),100*ABS($G36-(Data!N36-$K36)/$M36),0),IF(ISNUMBER(Data!N36),100*ABS($G36-(Data!N36-$K36)/$M36),0)))","v":97.087607894693676},{"$f":"IF($H36=0,0,CHOOSE($H36,SUMPRODUCT(CHOOSE(X$39,$O$36:$O37,$P$36:$P37,$Q$36:$Q37,$R$36:$R37)*X$36:X37*($E$36:$E37=$D36)),IF(ISNUMBER(Data!O36),100*ABS($G36-(Data!O36-$K36)/$M36),0),IF(ISNUMBER(Data!O36),100*ABS($G36-(Data!O36-$K36)/$M36),0)))","v":70.458533930360673},{"$f":"IF($H36=0,0,CHOOSE($H36,SUMPRODUCT(CHOOSE(Y$39,$O$36:$O37,$P$36:$P37,$Q$36:$Q37,$R$36:$R37)*Y$36:Y37*($E$36:$E37=$D36)),IF(ISNUMBER(Data!P36),100*ABS($G36-(Data!P36-$K36)/$M36),0),IF(ISNUMBER(Data!P36),100*ABS($G36-(Data!P36-$K36)/$M36),0)))","v":34.29741972126039},{"$f":"IF($H36=0,0,CHOOSE($H36,SUMPRODUCT(CHOOSE(Z$39,$O$36:$O37,$P$36:$P37,$Q$36:$Q37,$R$36:$R37)*Z$36:Z37*($E$36:$E37=$D36)),IF(ISNUMBER(Data!Q36),100*ABS($G36-(Data!Q36-$K36)/$M36),0),IF(ISNUMBER(Data!Q36),100*ABS($G36-(Data!Q36-$K36)/$M36),0)))","v":99.933956632508114},{"$f":"IF($H36=0,0,CHOOSE($H36,SUMPRODUCT(CHOOSE(AA$39,$O$36:$O37,$P$36:$P37,$Q$36:$Q37,$R$36:$R37)*AA$36:AA37*($E$36:$E37=$D36)),IF(ISNUMBER(Data!R36),100*ABS($G36-(Data!R36-$K36)/$M36),0),IF(ISNUMBER(Data!R36),100*ABS($G36-(Data!R36-$K36)/$M36),0)))","v":17.989531705148607},{"$f":"IF($H36=0,0,CHOOSE($H36,SUMPRODUCT(CHOOSE(AB$39,$O$36:$O37,$P$36:$P37,$Q$36:$Q37,$R$36:$R37)*AB$36:AB37*($E$36:$E37=$D36)),IF(ISNUMBER(Data!S36),100*ABS($G36-(Data!S36-$K36)/$M36),0),IF(ISNUMBER(Data!S36),100*ABS($G36-(Data!S36-$K36)/$M36),0)))","v":73.282758830991554},{"$f":"IF($H36=0,0,CHOOSE($H36,SUMPRODUCT(CHOOSE(AC$39,$O$36:$O37,$P$36:$P37,$Q$36:$Q37,$R$36:$R37)*AC$36:AC37*($E$36:$E37=$D36)),IF(ISNUMBER(Data!T36),100*ABS($G36-(Data!T36-$K36)/$M36),0),IF(ISNUMBER(Data!T36),100*ABS($G36-(Data!T36-$K36)/$M36),0)))","v":5.9647773692312889},{"$f":"IF($H36=0,0,CHOOSE($H36,SUMPRODUCT(CHOOSE(AD$39,$O$36:$O37,$P$36:$P37,$Q$36:$Q37,$R$36:$R37)*AD$36:AD37*($E$36:$E37=$D36)),IF(ISNUMBER(Data!U36),100*ABS($G36-(Data!U36-$K36)/$M36),0),IF(ISNUMBER(Data!U36),100*ABS($G36-(Data!U36-$K36)/$M36),0)))","v":82.595694925464855},{"$f":"IF($H36=0,0,CHOOSE($H36,SUMPRODUCT(CHOOSE(AE$39,$O$36:$O37,$P$36:$P37,$Q$36:$Q37,$R$36:$R37)*AE$36:AE37*($E$36:$E37=$D36)),IF(ISNUMBER(Data!V36),100*ABS($G36-(Data!V36-$K36)/$M36),0),IF(ISNUMBER(Data!V36),100*ABS($G36-(Data!V36-$K36)/$M36),0)))","v":87.796161380592068},{"$f":"IF($H36=0,0,CHOOSE($H36,SUMPRODUCT(CHOOSE(AF$39,$O$36:$O37,$P$36:$P37,$Q$36:$Q37,$R$36:$R37)*AF$36:AF37*($E$36:$E37=$D36)),IF(ISNUMBER(Data!W36),100*ABS($G36-(Data!W36-$K36)/$M36),0),IF(ISNUMBER(Data!W36),100*ABS($G36-(Data!W36-$K36)/$M36),0)))","v":87.934108075703506},{"$f":"IF($H36=0,0,CHOOSE($H36,SUMPRODUCT(CHOOSE(AG$39,$O$36:$O37,$P$36:$P37,$Q$36:$Q37,$R$36:$R37)*AG$36:AG37*($E$36:$E37=$D36)),IF(ISNUMBER(Data!X36),100*ABS($G36-(Data!X36-$K36)/$M36),0),IF(ISNUMBER(Data!X36),100*ABS($G36-(Data!X36-$K36)/$M36),0)))","v":94.725291594153234},{"$f":"IF($H36=0,0,CHOOSE($H36,SUMPRODUCT(CHOOSE(AH$39,$O$36:$O37,$P$36:$P37,$Q$36:$Q37,$R$36:$R37)*AH$36:AH37*($E$36:$E37=$D36)),IF(ISNUMBER(Data!Y36),100*ABS($G36-(Data!Y36-$K36)/$M36),0),IF(ISNUMBER(Data!Y36),100*ABS($G36-(Data!Y36-$K36)/$M36),0)))","v":72.688429844032143},{"$f":"IF($H36=0,0,CHOOSE($H36,SUMPRODUCT(CHOOSE(AI$39,$O$36:$O37,$P$36:$P37,$Q$36:$Q37,$R$36:$R37)*AI$36:AI37*($E$36:$E37=$D36)),IF(ISNUMBER(Data!Z36),100*ABS($G36-(Data!Z36-$K36)/$M36),0),IF(ISNUMBER(Data!Z36),100*ABS($G36-(Data!Z36-$K36)/$M36),0)))","v":95.704382892411573},{"$f":"IF($H36=0,0,CHOOSE($H36,SUMPRODUCT(CHOOSE(AJ$39,$O$36:$O37,$P$36:$P37,$Q$36:$Q37,$R$36:$R37)*AJ$36:AJ37*($E$36:$E37=$D36)),IF(ISNUMBER(Data!AA36),100*ABS($G36-(Data!AA36-$K36)/$M36),0),IF(ISNUMBER(Data!AA36),100*ABS($G36-(Data!AA36-$K36)/$M36),0)))","v":77.353884644457892},{"$f":"IF($H36=0,0,CHOOSE($H36,SUMPRODUCT(CHOOSE(AK$39,$O$36:$O37,$P$36:$P37,$Q$36:$Q37,$R$36:$R37)*AK$36:AK37*($E$36:$E37=$D36)),IF(ISNUMBER(Data!AB36),100*ABS($G36-(Data!AB36-$K36)/$M36),0),IF(ISNUMBER(Data!AB36),100*ABS($G36-(Data!AB36-$K36)/$M36),0)))","v":62.766516514628215},{"$f":"IF($H36=0,0,CHOOSE($H36,SUMPRODUCT(CHOOSE(AL$39,$O$36:$O37,$P$36:$P37,$Q$36:$Q37,$R$36:$R37)*AL$36:AL37*($E$36:$E37=$D36)),IF(ISNUMBER(Data!AC36),100*ABS($G36-(Data!AC36-$K36)/$M36),0),IF(ISNUMBER(Data!AC36),100*ABS($G36-(Data!AC36-$K36)/$M36),0)))","v":86.074530014937437}]
[]
[]
[null,null,null,null,null,null,null,null,null,null,null,null,null,null,null,null,null,null,{"$f":"Scores!S39","v":4},{"$f":"Scores!T39","v":1},{"$f":"Scores!U39","v":4},{"$f":"Scores!V39","v":2},{"$f":"Scores!W39","v":1},{"$f":"Scores!X39","v":4},{"$f":"Scores!Y39","v":3},{"$f":"Scores!Z39","v":1},{"$f":"Scores!AA39","v":4},{"$f":"Scores!AB39","v":2},{"$f":"Scores!AC39","v":4},{"$f":"Scores!AD39","v":4},{"$f":"Scores!AE39","v":3},{"$f":"Scores!AF39","v":1},{"$f":"Scores!AG39","v":1},{"$f":"Scores!AH39","v":3},{"$f":"Scores!AI39","v":1},{"$f":"Scores!AJ39","v":2},{"$f":"Scores!AK39","v":3},{"$f":"Scores!AL39","v":1}]

{"sheet":"rScoresWS2","index":55,"n_rows":69,"n_cols":21,"rows_kept":69,"cut":false,"hidden":true,"merged":[]}
[1,{"$f":"Scores!S4","v":"Bangladesh"},{"$f":"Scores!T4","v":"Brunei"},{"$f":"Scores!U4","v":"Cambodia"},{"$f":"Scores!V4","v":"China"},{"$f":"Scores!W4","v":"Hong Kong"},{"$f":"Scores!X4","v":"India"},{"$f":"Scores!Y4","v":"Indonesia"},{"$f":"Scores!Z4","v":"Japan"},{"$f":"Scores!AA4","v":"Laos"},{"$f":"Scores!AB4","v":"Malaysia"},{"$f":"Scores!AC4","v":"Myanmar"},{"$f":"Scores!AD4","v":"Pakistan"},{"$f":"Scores!AE4","v":"Philippines"},{"$f":"Scores!AF4","v":"Singapore"},{"$f":"Scores!AG4","v":"South Korea"},{"$f":"Scores!AH4","v":"Sri Lanka"},{"$f":"Scores!AI4","v":"Taiwan"},{"$f":"Scores!AJ4","v":"Thailand"},{"$f":"Scores!AK4","v":"Vietnam"},{"$f":"Scores!AL4","v":"USA"}]
[{"$f":"Scores!N5","v":"OVERALL SCORE"},{"$f":"ROUND(iScoresWS2!S5,$A$1)","v":46.2},{"$f":"ROUND(iScoresWS2!T5,$A$1)","v":54.2},{"$f":"ROUND(iScoresWS2!U5,$A$1)","v":46},{"$f":"ROUND(iScoresWS2!V5,$A$1)","v":52.6},{"$f":"ROUND(iScoresWS2!W5,$A$1)","v":73.599999999999994},{"$f":"ROUND(iScoresWS2!X5,$A$1)","v":50.5},{"$f":"ROUND(iScoresWS2!Y5,$A$1)","v":53.2},{"$f":"ROUND(iScoresWS2!Z5,$A$1)","v":78.5},{"$f":"ROUND(iScoresWS2!AA5,$A$1)","v":46.5},{"$f":"ROUND(iScoresWS2!AB5,$A$1)","v":59.1},{"$f":"ROUND(iScoresWS2!AC5,$A$1)","v":34.5},{"$f":"ROUND(iScoresWS2!AD5,$A$1)","v":41.2},{"$f":"ROUND(iScoresWS2!AE5,$A$1)","v":55.4},{"$f":"ROUND(iScoresWS2!AF5,$A$1)","v":81},{"$f":"ROUND(iScoresWS2!AG5,$A$1)","v":80},{"$f":"ROUND(iScoresWS2!AH5,$A$1)","v":58.2},{"$f":"ROUND(iScoresWS2!AI5,$A$1)","v":69.400000000000006},{"$f":"ROUND(iScoresWS2!AJ5,$A$1)","v":53.3},{"$f":"ROUND(iScoresWS2!AK5,$A$1)","v":57.6},{"$f":"ROUND(iScoresWS2!AL5,$A$1)","v":76.400000000000006}]
[{"$f":"Scores!N6","v":"1) ECONOMIC PILLAR"},{"$f":"ROUND(iScoresWS2!S6,$A$1)","v":50.4},{"$f":"ROUND(iScoresWS2!T6,$A$1)","v":38.5},{"$f":"ROUND(iScoresWS2!U6,$A$1)","v":48.2},{"$f":"ROUND(iScoresWS2!V6,$A$1)","v":64.2},{"$f":"ROUND(iScoresWS2!W6,$A$1)","v":70.900000000000006},{"$f":"ROUND(iScoresWS2!X6,$A$1)","v":56},{"$f":"ROUND(iScoresWS2!Y6,$A$1)","v":63.1},{"$f":"ROUND(iScoresWS2!Z6,$A$1)","v":64.8},{"$f":"ROUND(iScoresWS2!AA6,$A$1)","v":49.7},{"$f":"ROUND(iScoresWS2!AB6,$A$1)","v":64.8},{"$f":"ROUND(iScoresWS2!AC6,$A$1)","v":35.1},{"$f":"ROUND(iScoresWS2!AD6,$A$1)","v":42.4},{"$f":"ROUND(iScoresWS2!AE6,$A$1)","v":68.400000000000006},{"$f":"ROUND(iScoresWS2!AF6,$A$1)","v":76.5},{"$f":"ROUND(iScoresWS2!AG6,$A$1)","v":68.3},{"$f":"ROUND(iScoresWS2!AH6,$A$1)","v":65.400000000000006},{"$f":"ROUND(iScoresWS2!AI6,$A$1)","v":67.2},{"$f":"ROUND(iScoresWS2!AJ6,$A$1)","v":55},{"$f":"ROUND(iScoresWS2!AK6,$A$1)","v":64.099999999999994},{"$f":"ROUND(iScoresWS2!AL6,$A$1)","v":66.099999999999994}]
[{"$f":"Scores!N7","v":"1.10) Growth in per capita GDP"},{"$f":"ROUND(iScoresWS2!S7,$A$1)","v":67.7},{"$f":"ROUND(iScoresWS2!T7,$A$1)","v":0},{"$f":"ROUND(iScoresWS2!U7,$A$1)","v":70},{"$f":"ROUND(iScoresWS2!V7,$A$1)","v":100},{"$f":"ROUND(iScoresWS2!W7,$A$1)","v":48.5},{"$f":"ROUND(iScoresWS2!X7,$A$1)","v":70.400000000000006},{"$f":"ROUND(iScoresWS2!Y7,$A$1)","v":66},{"$f":"ROUND(iScoresWS2!Z7,$A$1)","v":33.4},{"$f":"ROUND(iScoresWS2!AA7,$A$1)","v":79.599999999999994},{"$f":"ROUND(iScoresWS2!AB7,$A$1)","v":58.9},{"$f":"ROUND(iScoresWS2!AC7,$A$1)","v":62.2},{"$f":"ROUND(iScoresWS2!AD7,$A$1)","v":34.1},{"$f":"ROUND(iScoresWS2!AE7,$A$1)","v":62.8},{"$f":"ROUND(iScoresWS2!AF7,$A$1)","v":63.7},{"$f":"ROUND(iScoresWS2!AG7,$A$1)","v":49.7},{"$f":"ROUND(iScoresWS2!AH7,$A$1)","v":77.5},{"$f":"ROUND(iScoresWS2!AI7,$A$1)","v":60.7},{"$f":"ROUND(iScoresWS2!AJ7,$A$1)","v":54.1},{"$f":"ROUND(iScoresWS2!AK7,$A$1)","v":65.7},{"$f":"ROUND(iScoresWS2!AL7,$A$1)","v":30.3}]
[{"$f":"Scores!N8","v":"1.11) Current account liberalisation"},{"$f":"ROUND(iScoresWS2!S8,$A$1)","v":75},{"$f":"ROUND(iScoresWS2!T8,$A$1)","v":100},{"$f":"ROUND(iScoresWS2!U8,$A$1)","v":100},{"$f":"ROUND(iScoresWS2!V8,$A$1)","v":85},{"$f":"ROUND(iScoresWS2!W8,$A$1)","v":100},{"$f":"ROUND(iScoresWS2!X8,$A$1)","v":75},{"$f":"ROUND(iScoresWS2!Y8,$A$1)","v":75},{"$f":"ROUND(iScoresWS2!Z8,$A$1)","v":100},{"$f":"ROUND(iScoresWS2!AA8,$A$1)","v":100},{"$f":"ROUND(iScoresWS2!AB8,$A$1)","v":100},{"$f":"ROUND(iScoresWS2!AC8,$A$1)","v":75},{"$f":"ROUND(iScoresWS2!AD8,$A$1)","v":50},{"$f":"ROUND(iScoresWS2!AE8,$A$1)","v":85},{"$f":"ROUND(iScoresWS2!AF8,$A$1)","v":100},{"$f":"ROUND(iScoresWS2!AG8,$A$1)","v":85},{"$f":"ROUND(iScoresWS2!AH8,$A$1)","v":100},{"$f":"ROUND(iScoresWS2!AI8,$A$1)","v":100},{"$f":"ROUND(iScoresWS2!AJ8,$A$1)","v":100},{"$f":"ROUND(iScoresWS2!AK8,$A$1)","v":100},{"$f":"ROUND(iScoresWS2!AL8,$A$1)","v":100}]
[{"$f":"Scores!N9","v":"1.12) Tariff & non-tariff barriers"},{"$f":"ROUND(iScoresWS2!S9,$A$1)","v":25},{"$f":"ROUND(iScoresWS2!T9,$A$1)","v":50},{"$f":"ROUND(iScoresWS2!U9,$A$1)","v":50},{"$f":"ROUND(iScoresWS2!V9,$A$1)","v":50},{"$f":"ROUND(iScoresWS2!W9,$A$1)","v":100},{"$f":"ROUND(iScoresWS2!X9,$A$1)","v":25},{"$f":"ROUND(iScoresWS2!Y9,$A$1)","v":75},{"$f":"ROUND(iScoresWS2!Z9,$A$1)","v":75},{"$f":"ROUND(iScoresWS2!AA9,$A$1)","v":75},{"$f":"ROUND(iScoresWS2!AB9,$A$1)","v":75},{"$f":"ROUND(iScoresWS2!AC9,$A$1)","v":75},{"$f":"ROUND(iScoresWS2!AD9,$A$1)","v":25},{"$f":"ROUND(iScoresWS2!AE9,$A$1)","v":75},{"$f":"ROUND(iScoresWS2!AF9,$A$1)","v":100},{"$f":"ROUND(iScoresWS2!AG9,$A$1)","v":75},{"$f":"ROUND(iScoresWS2!AH9,$A$1)","v":50},{"$f":"ROUND(iScoresWS2!AI9,$A$1)","v":75},{"$f":"ROUND(iScoresWS2!AJ9,$A$1)","v":60},{"$f":"ROUND(iScoresWS2!AK9,$A$1)","v":35},{"$f":"ROUND(iScoresWS2!AL9,$A$1)","v":75}]
[{"$f":"Scores!N10","v":"1.13) Exchange rate volatility"},{"$f":"ROUND(iScoresWS2!S10,$A$1)","v":95.9},{"$f":"ROUND(iScoresWS2!T10,$A$1)","v":97.3},{"$f":"ROUND(iScoresWS2!U10,$A$1)","v":98.6},{"$f":"ROUND(iScoresWS2!V10,$A$1)","v":96.6},{"$f":"ROUND(iScoresWS2!W10,$A$1)","v":100},{"$f":"ROUND(iScoresWS2!X10,$A$1)","v":91.8},{"$f":"ROUND(iScoresWS2!Y10,$A$1)","v":95.2},{"$f":"ROUND(iScoresWS2!Z10,$A$1)","v":93.2},{"$f":"ROUND(iScoresWS2!AA10,$A$1)","v":98.6},{"$f":"ROUND(iScoresWS2!AB10,$A$1)","v":96.6},{"$f":"ROUND(iScoresWS2!AC10,$A$1)","v":0},{"$f":"ROUND(iScoresWS2!AD10,$A$1)","v":98.6},{"$f":"ROUND(iScoresWS2!AE10,$A$1)","v":96.6},{"$f":"ROUND(iScoresWS2!AF10,$A$1)","v":97.3},{"$f":"ROUND(iScoresWS2!AG10,$A$1)","v":95.2},{"$f":"ROUND(iScoresWS2!AH10,$A$1)","v":96.6},{"$f":"ROUND(iScoresWS2!AI10,$A$1)","v":98.6},{"$f":"ROUND(iScoresWS2!AJ10,$A$1)","v":95.2},{"$f":"ROUND(iScoresWS2!AK10,$A$1)","v":97.9},{"$f":"ROUND(iScoresWS2!AL10,$A$1)","v":95.9}]
[{"$f":"Scores!N11","v":"1.14) Financial sector depth"},{"$f":"ROUND(iScoresWS2!S11,$A$1)","v":12.7},{"$f":"ROUND(iScoresWS2!T11,$A$1)","v":8.6},{"$f":"ROUND(iScoresWS2!U11,$A$1)","v":18.2},{"$f":"ROUND(iScoresWS2!V11,$A$1)","v":58.2},{"$f":"ROUND(iScoresWS2!W11,$A$1)","v":100},{"$f":"ROUND(iScoresWS2!X11,$A$1)","v":16.8},{"$f":"ROUND(iScoresWS2!Y11,$A$1)","v":11.8},{"$f":"ROUND(iScoresWS2!Z11,$A$1)","v":79.099999999999994},{"$f":"ROUND(iScoresWS2!AA11,$A$1)","v":3.2},{"$f":"ROUND(iScoresWS2!AB11,$A$1)","v":50.5},{"$f":"ROUND(iScoresWS2!AC11,$A$1)","v":0},{"$f":"ROUND(iScoresWS2!AD11,$A$1)","v":0.5},{"$f":"ROUND(iScoresWS2!AE11,$A$1)","v":11.4},{"$f":"ROUND(iScoresWS2!AF11,$A$1)","v":53.2},{"$f":"ROUND(iScoresWS2!AG11,$A$1)","v":56.4},{"$f":"ROUND(iScoresWS2!AH11,$A$1)","v":6.4},{"$f":"ROUND(iScoresWS2!AI11,$A$1)","v":66.2},{"$f":"ROUND(iScoresWS2!AJ11,$A$1)","v":65.900000000000006},{"$f":"ROUND(iScoresWS2!AK11,$A$1)","v":39.1},{"$f":"ROUND(iScoresWS2!AL11,$A$1)","v":82.7}]
[{"$f":"Scores!N12","v":"1.15) Foreign trade and payments risk"},{"$f":"ROUND(iScoresWS2!S12,$A$1)","v":43.4},{"$f":"ROUND(iScoresWS2!T12,$A$1)","v":79.8},{"$f":"ROUND(iScoresWS2!U12,$A$1)","v":58.6},{"$f":"ROUND(iScoresWS2!V12,$A$1)","v":67.7},{"$f":"ROUND(iScoresWS2!W12,$A$1)","v":93.9},{"$f":"ROUND(iScoresWS2!X12,$A$1)","v":50.5},{"$f":"ROUND(iScoresWS2!Y12,$A$1)","v":57.6},{"$f":"ROUND(iScoresWS2!Z12,$A$1)","v":75.8},{"$f":"ROUND(iScoresWS2!AA12,$A$1)","v":29.3},{"$f":"ROUND(iScoresWS2!AB12,$A$1)","v":79.8},{"$f":"ROUND(iScoresWS2!AC12,$A$1)","v":36.4},{"$f":"ROUND(iScoresWS2!AD12,$A$1)","v":25.3},{"$f":"ROUND(iScoresWS2!AE12,$A$1)","v":71.7},{"$f":"ROUND(iScoresWS2!AF12,$A$1)","v":97},{"$f":"ROUND(iScoresWS2!AG12,$A$1)","v":74.7},{"$f":"ROUND(iScoresWS2!AH12,$A$1)","v":64.599999999999994},{"$f":"ROUND(iScoresWS2!AI12,$A$1)","v":82.8},{"$f":"ROUND(iScoresWS2!AJ12,$A$1)","v":57.6},{"$f":"ROUND(iScoresWS2!AK12,$A$1)","v":51.5},{"$f":"ROUND(iScoresWS2!AL12,$A$1)","v":79.8}]
[{"$f":"Scores!N13","v":"1.16) Export market concentration"},{"$f":"ROUND(iScoresWS2!S13,$A$1)","v":96.3},{"$f":"ROUND(iScoresWS2!T13,$A$1)","v":0},{"$f":"ROUND(iScoresWS2!U13,$A$1)","v":94.1},{"$f":"ROUND(iScoresWS2!V13,$A$1)","v":95.3},{"$f":"ROUND(iScoresWS2!W13,$A$1)","v":85},{"$f":"ROUND(iScoresWS2!X13,$A$1)","v":100},{"$f":"ROUND(iScoresWS2!Y13,$A$1)","v":95.2},{"$f":"ROUND(iScoresWS2!Z13,$A$1)","v":93.2},{"$f":"ROUND(iScoresWS2!AA13,$A$1)","v":83.7},{"$f":"ROUND(iScoresWS2!AB13,$A$1)","v":94.5},{"$f":"ROUND(iScoresWS2!AC13,$A$1)","v":81.3},{"$f":"ROUND(iScoresWS2!AD13,$A$1)","v":96.4},{"$f":"ROUND(iScoresWS2!AE13,$A$1)","v":91.4},{"$f":"ROUND(iScoresWS2!AF13,$A$1)","v":96.8},{"$f":"ROUND(iScoresWS2!AG13,$A$1)","v":93.8},{"$f":"ROUND(iScoresWS2!AH13,$A$1)","v":96.6},{"$f":"ROUND(iScoresWS2!AI13,$A$1)","v":88.5},{"$f":"ROUND(iScoresWS2!AJ13,$A$1)","v":97.9},{"$f":"ROUND(iScoresWS2!AK13,$A$1)","v":94.5},{"$f":"ROUND(iScoresWS2!AL13,$A$1)","v":95}]
[{"$f":"Scores!N14","v":"1.17) Export product concentration"},{"$f":"ROUND(iScoresWS2!S14,$A$1)","v":88.3},{"$f":"ROUND(iScoresWS2!T14,$A$1)","v":0},{"$f":"ROUND(iScoresWS2!U14,$A$1)","v":81.7},{"$f":"ROUND(iScoresWS2!V14,$A$1)","v":97.4},{"$f":"ROUND(iScoresWS2!W14,$A$1)","v":82},{"$f":"ROUND(iScoresWS2!X14,$A$1)","v":90.6},{"$f":"ROUND(iScoresWS2!Y14,$A$1)","v":88.8},{"$f":"ROUND(iScoresWS2!Z14,$A$1)","v":83.2},{"$f":"ROUND(iScoresWS2!AA14,$A$1)","v":95.8},{"$f":"ROUND(iScoresWS2!AB14,$A$1)","v":88.4},{"$f":"ROUND(iScoresWS2!AC14,$A$1)","v":92.6},{"$f":"ROUND(iScoresWS2!AD14,$A$1)","v":99.1},{"$f":"ROUND(iScoresWS2!AE14,$A$1)","v":90.6},{"$f":"ROUND(iScoresWS2!AF14,$A$1)","v":90.2},{"$f":"ROUND(iScoresWS2!AG14,$A$1)","v":84.7},{"$f":"ROUND(iScoresWS2!AH14,$A$1)","v":91.4},{"$f":"ROUND(iScoresWS2!AI14,$A$1)","v":88.1},{"$f":"ROUND(iScoresWS2!AJ14,$A$1)","v":81.400000000000006},{"$f":"ROUND(iScoresWS2!AK14,$A$1)","v":100},{"$f":"ROUND(iScoresWS2!AL14,$A$1)","v":84.9}]
[{"$f":"Scores!N15","v":"1.18) Foreign Direct Investment"},{"$f":"ROUND(iScoresWS2!S15,$A$1)","v":2.7},{"$f":"ROUND(iScoresWS2!T15,$A$1)","v":0},{"$f":"ROUND(iScoresWS2!U15,$A$1)","v":22.5},{"$f":"ROUND(iScoresWS2!V15,$A$1)","v":11.5},{"$f":"ROUND(iScoresWS2!W15,$A$1)","v":100},{"$f":"ROUND(iScoresWS2!X15,$A$1)","v":4.7},{"$f":"ROUND(iScoresWS2!Y15,$A$1)","v":6.9},{"$f":"ROUND(iScoresWS2!Z15,$A$1)","v":0.3},{"$f":"ROUND(iScoresWS2!AA15,$A$1)","v":10.6},{"$f":"ROUND(iScoresWS2!AB15,$A$1)","v":11.3},{"$f":"ROUND(iScoresWS2!AC15,$A$1)","v":14.8},{"$f":"ROUND(iScoresWS2!AD15,$A$1)","v":2},{"$f":"ROUND(iScoresWS2!AE15,$A$1)","v":3.7},{"$f":"ROUND(iScoresWS2!AF15,$A$1)","v":60.5},{"$f":"ROUND(iScoresWS2!AG15,$A$1)","v":2.4},{"$f":"ROUND(iScoresWS2!AH15,$A$1)","v":4},{"$f":"ROUND(iScoresWS2!AI15,$A$1)","v":1.2},{"$f":"ROUND(iScoresWS2!AJ15,$A$1)","v":7.6},{"$f":"ROUND(iScoresWS2!AK15,$A$1)","v":16.5},{"$f":"ROUND(iScoresWS2!AL15,$A$1)","v":4.3}]
[{"$f":"Scores!N16","v":"1.19) Gross fixed capital formation"},{"$f":"ROUND(iScoresWS2!S16,$A$1)","v":46.4},{"$f":"ROUND(iScoresWS2!T16,$A$1)","v":70.400000000000006},{"$f":"ROUND(iScoresWS2!U16,$A$1)","v":12.3},{"$f":"ROUND(iScoresWS2!V16,$A$1)","v":100},{"$f":"ROUND(iScoresWS2!W16,$A$1)","v":33.200000000000003},{"$f":"ROUND(iScoresWS2!X16,$A$1)","v":56.9},{"$f":"ROUND(iScoresWS2!Y16,$A$1)","v":59.6},{"$f":"ROUND(iScoresWS2!Z16,$A$1)","v":24.9},{"$f":"ROUND(iScoresWS2!AA16,$A$1)","v":47.6},{"$f":"ROUND(iScoresWS2!AB16,$A$1)","v":35.700000000000003},{"$f":"ROUND(iScoresWS2!AC16,$A$1)","v":12.1},{"$f":"ROUND(iScoresWS2!AD16,$A$1)","v":0},{"$f":"ROUND(iScoresWS2!AE16,$A$1)","v":21.4},{"$f":"ROUND(iScoresWS2!AF16,$A$1)","v":40.700000000000003},{"$f":"ROUND(iScoresWS2!AG16,$A$1)","v":52.6},{"$f":"ROUND(iScoresWS2!AH16,$A$1)","v":46.6},{"$f":"ROUND(iScoresWS2!AI16,$A$1)","v":29.7},{"$f":"ROUND(iScoresWS2!AJ16,$A$1)","v":38.5},{"$f":"ROUND(iScoresWS2!AK16,$A$1)","v":41.2},{"$f":"ROUND(iScoresWS2!AL16,$A$1)","v":4.9000000000000004}]
[{"$f":"Scores!N17","v":"1.20) Trade costs"},{"$f":"ROUND(iScoresWS2!S17,$A$1)","v":29.5},{"$f":"ROUND(iScoresWS2!T17,$A$1)","v":19.5},{"$f":"ROUND(iScoresWS2!U17,$A$1)","v":20.7},{"$f":"ROUND(iScoresWS2!V17,$A$1)","v":34},{"$f":"ROUND(iScoresWS2!W17,$A$1)","v":74},{"$f":"ROUND(iScoresWS2!X17,$A$1)","v":40.1},{"$f":"ROUND(iScoresWS2!Y17,$A$1)","v":33},{"$f":"ROUND(iScoresWS2!Z17,$A$1)","v":71.900000000000006},{"$f":"ROUND(iScoresWS2!AA17,$A$1)","v":15.8},{"$f":"ROUND(iScoresWS2!AB17,$A$1)","v":59.9},{"$f":"ROUND(iScoresWS2!AC17,$A$1)","v":13.8},{"$f":"ROUND(iScoresWS2!AD17,$A$1)","v":30.9},{"$f":"ROUND(iScoresWS2!AE17,$A$1)","v":32.9},{"$f":"ROUND(iScoresWS2!AF17,$A$1)","v":86.3},{"$f":"ROUND(iScoresWS2!AG17,$A$1)","v":69},{"$f":"ROUND(iScoresWS2!AH17,$A$1)","v":44.8},{"$f":"ROUND(iScoresWS2!AI17,$A$1)","v":66.7},{"$f":"ROUND(iScoresWS2!AJ17,$A$1)","v":43.3},{"$f":"ROUND(iScoresWS2!AK17,$A$1)","v":33.1},{"$f":"ROUND(iScoresWS2!AL17,$A$1)","v":79.3}]
[{"$f":"Scores!N18","v":"1.20.1)    Infrastructure"},{"$f":"ROUND(iScoresWS2!S18,$A$1)","v":16.7},{"$f":"ROUND(iScoresWS2!T18,$A$1)","v":28.1},{"$f":"ROUND(iScoresWS2!U18,$A$1)","v":28.1},{"$f":"ROUND(iScoresWS2!V18,$A$1)","v":57.8},{"$f":"ROUND(iScoresWS2!W18,$A$1)","v":84.4},{"$f":"ROUND(iScoresWS2!X18,$A$1)","v":41.1},{"$f":"ROUND(iScoresWS2!Y18,$A$1)","v":45.6},{"$f":"ROUND(iScoresWS2!Z18,$A$1)","v":84.4},{"$f":"ROUND(iScoresWS2!AA18,$A$1)","v":15.6},{"$f":"ROUND(iScoresWS2!AB18,$A$1)","v":67.8},{"$f":"ROUND(iScoresWS2!AC18,$A$1)","v":10.4},{"$f":"ROUND(iScoresWS2!AD18,$A$1)","v":34.4},{"$f":"ROUND(iScoresWS2!AE18,$A$1)","v":46.7},{"$f":"ROUND(iScoresWS2!AF18,$A$1)","v":90},{"$f":"ROUND(iScoresWS2!AG18,$A$1)","v":77.8},{"$f":"ROUND(iScoresWS2!AH18,$A$1)","v":50},{"$f":"ROUND(iScoresWS2!AI18,$A$1)","v":82.2},{"$f":"ROUND(iScoresWS2!AJ18,$A$1)","v":54.4},{"$f":"ROUND(iScoresWS2!AK18,$A$1)","v":44.4},{"$f":"ROUND(iScoresWS2!AL18,$A$1)","v":88.9}]
[{"$f":"Scores!N19","v":"1.20.2)    Logistics performance"},{"$f":"ROUND(iScoresWS2!S19,$A$1)","v":51.2},{"$f":"ROUND(iScoresWS2!T19,$A$1)","v":0},{"$f":"ROUND(iScoresWS2!U19,$A$1)","v":54.8},{"$f":"ROUND(iScoresWS2!V19,$A$1)","v":70.599999999999994},{"$f":"ROUND(iScoresWS2!W19,$A$1)","v":76.599999999999994},{"$f":"ROUND(iScoresWS2!X19,$A$1)","v":61.6},{"$f":"ROUND(iScoresWS2!Y19,$A$1)","v":61.6},{"$f":"ROUND(iScoresWS2!Z19,$A$1)","v":78.2},{"$f":"ROUND(iScoresWS2!AA19,$A$1)","v":47.8},{"$f":"ROUND(iScoresWS2!AB19,$A$1)","v":71.8},{"$f":"ROUND(iScoresWS2!AC19,$A$1)","v":45},{"$f":"ROUND(iScoresWS2!AD19,$A$1)","v":56.6},{"$f":"ROUND(iScoresWS2!AE19,$A$1)","v":60},{"$f":"ROUND(iScoresWS2!AF19,$A$1)","v":80},{"$f":"ROUND(iScoresWS2!AG19,$A$1)","v":73.400000000000006},{"$f":"ROUND(iScoresWS2!AH19,$A$1)","v":54},{"$f":"ROUND(iScoresWS2!AI19,$A$1)","v":74.400000000000006},{"$f":"ROUND(iScoresWS2!AJ19,$A$1)","v":68.599999999999994},{"$f":"ROUND(iScoresWS2!AK19,$A$1)","v":63},{"$f":"ROUND(iScoresWS2!AL19,$A$1)","v":78.400000000000006}]
[{"$f":"Scores!N20","v":"1.20.3)    Corruption"},{"$f":"ROUND(iScoresWS2!S20,$A$1)","v":0},{"$f":"ROUND(iScoresWS2!T20,$A$1)","v":50},{"$f":"ROUND(iScoresWS2!U20,$A$1)","v":0},{"$f":"ROUND(iScoresWS2!V20,$A$1)","v":0},{"$f":"ROUND(iScoresWS2!W20,$A$1)","v":75},{"$f":"ROUND(iScoresWS2!X20,$A$1)","v":7.5},{"$f":"ROUND(iScoresWS2!Y20,$A$1)","v":0},{"$f":"ROUND(iScoresWS2!Z20,$A$1)","v":50},{"$f":"ROUND(iScoresWS2!AA20,$A$1)","v":0},{"$f":"ROUND(iScoresWS2!AB20,$A$1)","v":50},{"$f":"ROUND(iScoresWS2!AC20,$A$1)","v":0},{"$f":"ROUND(iScoresWS2!AD20,$A$1)","v":7.5},{"$f":"ROUND(iScoresWS2!AE20,$A$1)","v":0},{"$f":"ROUND(iScoresWS2!AF20,$A$1)","v":100},{"$f":"ROUND(iScoresWS2!AG20,$A$1)","v":75},{"$f":"ROUND(iScoresWS2!AH20,$A$1)","v":25},{"$f":"ROUND(iScoresWS2!AI20,$A$1)","v":50},{"$f":"ROUND(iScoresWS2!AJ20,$A$1)","v":25},{"$f":"ROUND(iScoresWS2!AK20,$A$1)","v":0},{"$f":"ROUND(iScoresWS2!AL20,$A$1)","v":75}]
[{"$f":"Scores!N21","v":"1.20.4)    Legal system"},{"$f":"ROUND(iScoresWS2!S21,$A$1)","v":50},{"$f":"ROUND(iScoresWS2!T21,$A$1)","v":0},{"$f":"ROUND(iScoresWS2!U21,$A$1)","v":0},{"$f":"ROUND(iScoresWS2!V21,$A$1)","v":7.5},{"$f":"ROUND(iScoresWS2!W21,$A$1)","v":60},{"$f":"ROUND(iScoresWS2!X21,$A$1)","v":50},{"$f":"ROUND(iScoresWS2!Y21,$A$1)","v":25},{"$f":"ROUND(iScoresWS2!Z21,$A$1)","v":75},{"$f":"ROUND(iScoresWS2!AA21,$A$1)","v":0},{"$f":"ROUND(iScoresWS2!AB21,$A$1)","v":50},{"$f":"ROUND(iScoresWS2!AC21,$A$1)","v":0},{"$f":"ROUND(iScoresWS2!AD21,$A$1)","v":25},{"$f":"ROUND(iScoresWS2!AE21,$A$1)","v":25},{"$f":"ROUND(iScoresWS2!AF21,$A$1)","v":75},{"$f":"ROUND(iScoresWS2!AG21,$A$1)","v":50},{"$f":"ROUND(iScoresWS2!AH21,$A$1)","v":50},{"$f":"ROUND(iScoresWS2!AI21,$A$1)","v":60},{"$f":"ROUND(iScoresWS2!AJ21,$A$1)","v":25},{"$f":"ROUND(iScoresWS2!AK21,$A$1)","v":25},{"$f":"ROUND(iScoresWS2!AL21,$A$1)","v":75}]
[{"$f":"Scores!N22","v":"1.21) Technological innovation"},{"$f":"ROUND(iScoresWS2!S22,$A$1)","v":8.5},{"$f":"ROUND(iScoresWS2!T22,$A$1)","v":0},{"$f":"ROUND(iScoresWS2!U22,$A$1)","v":0.5},{"$f":"ROUND(iScoresWS2!V22,$A$1)","v":45.1},{"$f":"ROUND(iScoresWS2!W22,$A$1)","v":17.600000000000001},{"$f":"ROUND(iScoresWS2!X22,$A$1)","v":17.600000000000001},{"$f":"ROUND(iScoresWS2!Y22,$A$1)","v":1.1000000000000001},{"$f":"ROUND(iScoresWS2!Z22,$A$1)","v":77.099999999999994},{"$f":"ROUND(iScoresWS2!AA22,$A$1)","v":0.2},{"$f":"ROUND(iScoresWS2!AB22,$A$1)","v":24.5},{"$f":"ROUND(iScoresWS2!AC22,$A$1)","v":3.9},{"$f":"ROUND(iScoresWS2!AD22,$A$1)","v":6.9},{"$f":"ROUND(iScoresWS2!AE22,$A$1)","v":1.8},{"$f":"ROUND(iScoresWS2!AF22,$A$1)","v":49.7},{"$f":"ROUND(iScoresWS2!AG22,$A$1)","v":100},{"$f":"ROUND(iScoresWS2!AH22,$A$1)","v":3.9},{"$f":"ROUND(iScoresWS2!AI22,$A$1)","v":72.5},{"$f":"ROUND(iScoresWS2!AJ22,$A$1)","v":6.2},{"$f":"ROUND(iScoresWS2!AK22,$A$1)","v":3.9},{"$f":"ROUND(iScoresWS2!AL22,$A$1)","v":63.4}]
[{"$f":"Scores!N23","v":"1.22) Technological infrastructure"},{"$f":"ROUND(iScoresWS2!S23,$A$1)","v":50},{"$f":"ROUND(iScoresWS2!T23,$A$1)","v":100},{"$f":"ROUND(iScoresWS2!U23,$A$1)","v":25},{"$f":"ROUND(iScoresWS2!V23,$A$1)","v":50},{"$f":"ROUND(iScoresWS2!W23,$A$1)","v":50},{"$f":"ROUND(iScoresWS2!X23,$A$1)","v":75},{"$f":"ROUND(iScoresWS2!Y23,$A$1)","v":25},{"$f":"ROUND(iScoresWS2!Z23,$A$1)","v":100},{"$f":"ROUND(iScoresWS2!AA23,$A$1)","v":25},{"$f":"ROUND(iScoresWS2!AB23,$A$1)","v":75},{"$f":"ROUND(iScoresWS2!AC23,$A$1)","v":0},{"$f":"ROUND(iScoresWS2!AD23,$A$1)","v":25},{"$f":"ROUND(iScoresWS2!AE23,$A$1)","v":75},{"$f":"ROUND(iScoresWS2!AF23,$A$1)","v":100},{"$f":"ROUND(iScoresWS2!AG23,$A$1)","v":100},{"$f":"ROUND(iScoresWS2!AH23,$A$1)","v":50},{"$f":"ROUND(iScoresWS2!AI23,$A$1)","v":100},{"$f":"ROUND(iScoresWS2!AJ23,$A$1)","v":50},{"$f":"ROUND(iScoresWS2!AK23,$A$1)","v":75},{"$f":"ROUND(iScoresWS2!AL23,$A$1)","v":100}]
[{"$f":"Scores!N24","v":"1.23) Growth in labour force"},{"$f":"ROUND(iScoresWS2!S24,$A$1)","v":64.8},{"$f":"ROUND(iScoresWS2!T24,$A$1)","v":13.5},{"$f":"ROUND(iScoresWS2!U24,$A$1)","v":22.9},{"$f":"ROUND(iScoresWS2!V24,$A$1)","v":8.6999999999999993},{"$f":"ROUND(iScoresWS2!W24,$A$1)","v":8},{"$f":"ROUND(iScoresWS2!X24,$A$1)","v":69.599999999999994},{"$f":"ROUND(iScoresWS2!Y24,$A$1)","v":61.1},{"$f":"ROUND(iScoresWS2!Z24,$A$1)","v":0},{"$f":"ROUND(iScoresWS2!AA24,$A$1)","v":30.9},{"$f":"ROUND(iScoresWS2!AB24,$A$1)","v":57.5},{"$f":"ROUND(iScoresWS2!AC24,$A$1)","v":24.7},{"$f":"ROUND(iScoresWS2!AD24,$A$1)","v":100},{"$f":"ROUND(iScoresWS2!AE24,$A$1)","v":80.3},{"$f":"ROUND(iScoresWS2!AF24,$A$1)","v":35.200000000000003},{"$f":"ROUND(iScoresWS2!AG24,$A$1)","v":17.100000000000001},{"$f":"ROUND(iScoresWS2!AH24,$A$1)","v":30.2},{"$f":"ROUND(iScoresWS2!AI24,$A$1)","v":11},{"$f":"ROUND(iScoresWS2!AJ24,$A$1)","v":12.8},{"$f":"ROUND(iScoresWS2!AK24,$A$1)","v":36.799999999999997},{"$f":"ROUND(iScoresWS2!AL24,$A$1)","v":29.5}]
[{"$f":"Scores!N25","v":"2) SOCIAL PILLAR"},{"$f":"ROUND(iScoresWS2!S25,$A$1)","v":33.5},{"$f":"ROUND(iScoresWS2!T25,$A$1)","v":68.2},{"$f":"ROUND(iScoresWS2!U25,$A$1)","v":35.5},{"$f":"ROUND(iScoresWS2!V25,$A$1)","v":41.1},{"$f":"ROUND(iScoresWS2!W25,$A$1)","v":56.4},{"$f":"ROUND(iScoresWS2!X25,$A$1)","v":39.799999999999997},{"$f":"ROUND(iScoresWS2!Y25,$A$1)","v":40},{"$f":"ROUND(iScoresWS2!Z25,$A$1)","v":85.7},{"$f":"ROUND(iScoresWS2!AA25,$A$1)","v":38.700000000000003},{"$f":"ROUND(iScoresWS2!AB25,$A$1)","v":52.2},{"$f":"ROUND(iScoresWS2!AC25,$A$1)","v":27.3},{"$f":"ROUND(iScoresWS2!AD25,$A$1)","v":35},{"$f":"ROUND(iScoresWS2!AE25,$A$1)","v":28},{"$f":"ROUND(iScoresWS2!AF25,$A$1)","v":74.2},{"$f":"ROUND(iScoresWS2!AG25,$A$1)","v":88.9},{"$f":"ROUND(iScoresWS2!AH25,$A$1)","v":44.9},{"$f":"ROUND(iScoresWS2!AI25,$A$1)","v":81.599999999999994},{"$f":"ROUND(iScoresWS2!AJ25,$A$1)","v":45.2},{"$f":"ROUND(iScoresWS2!AK25,$A$1)","v":48.1},{"$f":"ROUND(iScoresWS2!AL25,$A$1)","v":88.1}]
[{"$f":"Scores!N26","v":"2.1) Inequality (Gini coefficient)"},{"$f":"ROUND(iScoresWS2!S26,$A$1)","v":90},{"$f":"ROUND(iScoresWS2!T26,$A$1)","v":54.8},{"$f":"ROUND(iScoresWS2!U26,$A$1)","v":95.2},{"$f":"ROUND(iScoresWS2!V26,$A$1)","v":48.3},{"$f":"ROUND(iScoresWS2!W26,$A$1)","v":0},{"$f":"ROUND(iScoresWS2!X26,$A$1)","v":82.2},{"$f":"ROUND(iScoresWS2!Y26,$A$1)","v":75.099999999999994},{"$f":"ROUND(iScoresWS2!Z26,$A$1)","v":83.4},{"$f":"ROUND(iScoresWS2!AA26,$A$1)","v":65.599999999999994},{"$f":"ROUND(iScoresWS2!AB26,$A$1)","v":30.7},{"$f":"ROUND(iScoresWS2!AC26,$A$1)","v":65.099999999999994},{"$f":"ROUND(iScoresWS2!AD26,$A$1)","v":100},{"$f":"ROUND(iScoresWS2!AE26,$A$1)","v":44.4},{"$f":"ROUND(iScoresWS2!AF26,$A$1)","v":24.5},{"$f":"ROUND(iScoresWS2!AG26,$A$1)","v":95.4},{"$f":"ROUND(iScoresWS2!AH26,$A$1)","v":62.7},{"$f":"ROUND(iScoresWS2!AI26,$A$1)","v":80.900000000000006},{"$f":"ROUND(iScoresWS2!AJ26,$A$1)","v":59.8},{"$f":"ROUND(iScoresWS2!AK26,$A$1)","v":62.2},{"$f":"ROUND(iScoresWS2!AL26,$A$1)","v":61}]
[{"$f":"Scores!N27","v":"2.2) Educational attainment"},{"$f":"ROUND(iScoresWS2!S27,$A$1)","v":3.9},{"$f":"ROUND(iScoresWS2!T27,$A$1)","v":17.899999999999999},{"$f":"ROUND(iScoresWS2!U27,$A$1)","v":6.9},{"$f":"ROUND(iScoresWS2!V27,$A$1)","v":22.9},{"$f":"ROUND(iScoresWS2!W27,$A$1)","v":65.7},{"$f":"ROUND(iScoresWS2!X27,$A$1)","v":17.100000000000001},{"$f":"ROUND(iScoresWS2!Y27,$A$1)","v":25},{"$f":"ROUND(iScoresWS2!Z27,$A$1)","v":59.5},{"$f":"ROUND(iScoresWS2!AA27,$A$1)","v":9.1},{"$f":"ROUND(iScoresWS2!AB27,$A$1)","v":31.6},{"$f":"ROUND(iScoresWS2!AC27,$A$1)","v":4.0999999999999996},{"$f":"ROUND(iScoresWS2!AD27,$A$1)","v":0},{"$f":"ROUND(iScoresWS2!AE27,$A$1)","v":27.7},{"$f":"ROUND(iScoresWS2!AF27,$A$1)","v":92.4},{"$f":"ROUND(iScoresWS2!AG27,$A$1)","v":100},{"$f":"ROUND(iScoresWS2!AH27,$A$1)","v":10.3},{"$f":"ROUND(iScoresWS2!AI27,$A$1)","v":85.4},{"$f":"ROUND(iScoresWS2!AJ27,$A$1)","v":47.7},{"$f":"ROUND(iScoresWS2!AK27,$A$1)","v":17},{"$f":"ROUND(iScoresWS2!AL27,$A$1)","v":91.4}]
[{"$f":"Scores!N28","v":"2.3) Labour standards"},{"$f":"ROUND(iScoresWS2!S28,$A$1)","v":0},{"$f":"ROUND(iScoresWS2!T28,$A$1)","v":100},{"$f":"ROUND(iScoresWS2!U28,$A$1)","v":0},{"$f":"ROUND(iScoresWS2!V28,$A$1)","v":33.299999999999997},{"$f":"ROUND(iScoresWS2!W28,$A$1)","v":100},{"$f":"ROUND(iScoresWS2!X28,$A$1)","v":0},{"$f":"ROUND(iScoresWS2!Y28,$A$1)","v":0},{"$f":"ROUND(iScoresWS2!Z28,$A$1)","v":100},{"$f":"ROUND(iScoresWS2!AA28,$A$1)","v":0},{"$f":"ROUND(iScoresWS2!AB28,$A$1)","v":66.7},{"$f":"ROUND(iScoresWS2!AC28,$A$1)","v":0},{"$f":"ROUND(iScoresWS2!AD28,$A$1)","v":0},{"$f":"ROUND(iScoresWS2!AE28,$A$1)","v":0},{"$f":"ROUND(iScoresWS2!AF28,$A$1)","v":100},{"$f":"ROUND(iScoresWS2!AG28,$A$1)","v":100},{"$f":"ROUND(iScoresWS2!AH28,$A$1)","v":66.7},{"$f":"ROUND(iScoresWS2!AI28,$A$1)","v":100},{"$f":"ROUND(iScoresWS2!AJ28,$A$1)","v":33.299999999999997},{"$f":"ROUND(iScoresWS2!AK28,$A$1)","v":33.299999999999997},{"$f":"ROUND(iScoresWS2!AL28,$A$1)","v":100}]
[{"$f":"Scores!N29","v":"2.4) Political stability"},{"$f":"ROUND(iScoresWS2!S29,$A$1)","v":40},{"$f":"ROUND(iScoresWS2!T29,$A$1)","v":100},{"$f":"ROUND(iScoresWS2!U29,$A$1)","v":40},{"$f":"ROUND(iScoresWS2!V29,$A$1)","v":60},{"$f":"ROUND(iScoresWS2!W29,$A$1)","v":60},{"$f":"ROUND(iScoresWS2!X29,$A$1)","v":60},{"$f":"ROUND(iScoresWS2!Y29,$A$1)","v":60},{"$f":"ROUND(iScoresWS2!Z29,$A$1)","v":100},{"$f":"ROUND(iScoresWS2!AA29,$A$1)","v":80},{"$f":"ROUND(iScoresWS2!AB29,$A$1)","v":80},{"$f":"ROUND(iScoresWS2!AC29,$A$1)","v":40},{"$f":"ROUND(iScoresWS2!AD29,$A$1)","v":40},{"$f":"ROUND(iScoresWS2!AE29,$A$1)","v":40},{"$f":"ROUND(iScoresWS2!AF29,$A$1)","v":80},{"$f":"ROUND(iScoresWS2!AG29,$A$1)","v":60},{"$f":"ROUND(iScoresWS2!AH29,$A$1)","v":40},{"$f":"ROUND(iScoresWS2!AI29,$A$1)","v":60},{"$f":"ROUND(iScoresWS2!AJ29,$A$1)","v":40},{"$f":"ROUND(iScoresWS2!AK29,$A$1)","v":80},{"$f":"ROUND(iScoresWS2!AL29,$A$1)","v":100}]
[{"$f":"Scores!N30","v":"3) ENVIRONMENTAL PILLAR"},{"$f":"ROUND(iScoresWS2!S30,$A$1)","v":52.3},{"$f":"ROUND(iScoresWS2!T30,$A$1)","v":56.1},{"$f":"ROUND(iScoresWS2!U30,$A$1)","v":56.8},{"$f":"ROUND(iScoresWS2!V30,$A$1)","v":52},{"$f":"ROUND(iScoresWS2!W30,$A$1)","v":93.4},{"$f":"ROUND(iScoresWS2!X30,$A$1)","v":47.2},{"$f":"ROUND(iScoresWS2!Y30,$A$1)","v":50},{"$f":"ROUND(iScoresWS2!Z30,$A$1)","v":85},{"$f":"ROUND(iScoresWS2!AA30,$A$1)","v":48.2},{"$f":"ROUND(iScoresWS2!AB30,$A$1)","v":61.1},{"$f":"ROUND(iScoresWS2!AC30,$A$1)","v":45.9},{"$f":"ROUND(iScoresWS2!AD30,$A$1)","v":47.8},{"$f":"ROUND(iScoresWS2!AE30,$A$1)","v":71},{"$f":"ROUND(iScoresWS2!AF30,$A$1)","v":92.2},{"$f":"ROUND(iScoresWS2!AG30,$A$1)","v":83},{"$f":"ROUND(iScoresWS2!AH30,$A$1)","v":63.1},{"$f":"ROUND(iScoresWS2!AI30,$A$1)","v":59.3},{"$f":"ROUND(iScoresWS2!AJ30,$A$1)","v":66.2},{"$f":"ROUND(iScoresWS2!AK30,$A$1)","v":57},{"$f":"ROUND(iScoresWS2!AL30,$A$1)","v":74.900000000000006}]
[{"$f":"Scores!N31","v":"3.1) Air pollution"},{"$f":"ROUND(iScoresWS2!S31,$A$1)","v":42.9},{"$f":"ROUND(iScoresWS2!T31,$A$1)","v":90.6},{"$f":"ROUND(iScoresWS2!U31,$A$1)","v":89.7},{"$f":"ROUND(iScoresWS2!V31,$A$1)","v":0},{"$f":"ROUND(iScoresWS2!W31,$A$1)","v":76.2},{"$f":"ROUND(iScoresWS2!X31,$A$1)","v":37.4},{"$f":"ROUND(iScoresWS2!Y31,$A$1)","v":90.5},{"$f":"ROUND(iScoresWS2!Z31,$A$1)","v":84.8},{"$f":"ROUND(iScoresWS2!AA31,$A$1)","v":62.7},{"$f":"ROUND(iScoresWS2!AB31,$A$1)","v":87.2},{"$f":"ROUND(iScoresWS2!AC31,$A$1)","v":79.099999999999994},{"$f":"ROUND(iScoresWS2!AD31,$A$1)","v":43.5},{"$f":"ROUND(iScoresWS2!AE31,$A$1)","v":96.5},{"$f":"ROUND(iScoresWS2!AF31,$A$1)","v":100},{"$f":"ROUND(iScoresWS2!AG31,$A$1)","v":65.599999999999994},{"$f":"ROUND(iScoresWS2!AH31,$A$1)","v":90.6},{"$f":"ROUND(iScoresWS2!AI31,$A$1)","v":78},{"$f":"ROUND(iScoresWS2!AJ31,$A$1)","v":78},{"$f":"ROUND(iScoresWS2!AK31,$A$1)","v":70.3},{"$f":"ROUND(iScoresWS2!AL31,$A$1)","v":94.6}]
[{"$f":"Scores!N32","v":"3.2) Deforestation"},{"$f":"ROUND(iScoresWS2!S32,$A$1)","v":78.400000000000006},{"$f":"ROUND(iScoresWS2!T32,$A$1)","v":87.8},{"$f":"ROUND(iScoresWS2!U32,$A$1)","v":0},{"$f":"ROUND(iScoresWS2!V32,$A$1)","v":80.599999999999994},{"$f":"ROUND(iScoresWS2!W32,$A$1)","v":100},{"$f":"ROUND(iScoresWS2!X32,$A$1)","v":87.1},{"$f":"ROUND(iScoresWS2!Y32,$A$1)","v":59},{"$f":"ROUND(iScoresWS2!Z32,$A$1)","v":94.2},{"$f":"ROUND(iScoresWS2!AA32,$A$1)","v":67.599999999999994},{"$f":"ROUND(iScoresWS2!AB32,$A$1)","v":46.8},{"$f":"ROUND(iScoresWS2!AC32,$A$1)","v":79.900000000000006},{"$f":"ROUND(iScoresWS2!AD32,$A$1)","v":90.6},{"$f":"ROUND(iScoresWS2!AE32,$A$1)","v":84.9},{"$f":"ROUND(iScoresWS2!AF32,$A$1)","v":98.6},{"$f":"ROUND(iScoresWS2!AG32,$A$1)","v":86.3},{"$f":"ROUND(iScoresWS2!AH32,$A$1)","v":86.3},{"$f":"ROUND(iScoresWS2!AI32,$A$1)","v":92.8},{"$f":"ROUND(iScoresWS2!AJ32,$A$1)","v":80.599999999999994},{"$f":"ROUND(iScoresWS2!AK32,$A$1)","v":72.7},{"$f":"ROUND(iScoresWS2!AL32,$A$1)","v":69.099999999999994}]
[{"$f":"Scores!N33","v":"3.3) Water pollution"},{"$f":"ROUND(iScoresWS2!S33,$A$1)","v":0},{"$f":"ROUND(iScoresWS2!T33,$A$1)","v":38},{"$f":"ROUND(iScoresWS2!U33,$A$1)","v":0},{"$f":"ROUND(iScoresWS2!V33,$A$1)","v":18.2},{"$f":"ROUND(iScoresWS2!W33,$A$1)","v":88.1},{"$f":"ROUND(iScoresWS2!X33,$A$1)","v":10.5},{"$f":"ROUND(iScoresWS2!Y33,$A$1)","v":0},{"$f":"ROUND(iScoresWS2!Z33,$A$1)","v":71.5},{"$f":"ROUND(iScoresWS2!AA33,$A$1)","v":0},{"$f":"ROUND(iScoresWS2!AB33,$A$1)","v":8.6999999999999993},{"$f":"ROUND(iScoresWS2!AC33,$A$1)","v":0},{"$f":"ROUND(iScoresWS2!AD33,$A$1)","v":3.5},{"$f":"ROUND(iScoresWS2!AE33,$A$1)","v":0.5},{"$f":"ROUND(iScoresWS2!AF33,$A$1)","v":100},{"$f":"ROUND(iScoresWS2!AG33,$A$1)","v":84},{"$f":"ROUND(iScoresWS2!AH33,$A$1)","v":0},{"$f":"ROUND(iScoresWS2!AI33,$A$1)","v":4.5999999999999996},{"$f":"ROUND(iScoresWS2!AJ33,$A$1)","v":16.100000000000001},{"$f":"ROUND(iScoresWS2!AK33,$A$1)","v":0.1},{"$f":"ROUND(iScoresWS2!AL33,$A$1)","v":63.9}]
[{"$f":"Scores!N34","v":"3.4) Environmental standards in trade"},{"$f":"ROUND(iScoresWS2!S34,$A$1)","v":33.299999999999997},{"$f":"ROUND(iScoresWS2!T34,$A$1)","v":33.299999999999997},{"$f":"ROUND(iScoresWS2!U34,$A$1)","v":66.7},{"$f":"ROUND(iScoresWS2!V34,$A$1)","v":100},{"$f":"ROUND(iScoresWS2!W34,$A$1)","v":100},{"$f":"ROUND(iScoresWS2!X34,$A$1)","v":66.7},{"$f":"ROUND(iScoresWS2!Y34,$A$1)","v":66.7},{"$f":"ROUND(iScoresWS2!Z34,$A$1)","v":83.3},{"$f":"ROUND(iScoresWS2!AA34,$A$1)","v":50},{"$f":"ROUND(iScoresWS2!AB34,$A$1)","v":66.7},{"$f":"ROUND(iScoresWS2!AC34,$A$1)","v":33.299999999999997},{"$f":"ROUND(iScoresWS2!AD34,$A$1)","v":66.7},{"$f":"ROUND(iScoresWS2!AE34,$A$1)","v":83.3},{"$f":"ROUND(iScoresWS2!AF34,$A$1)","v":66.7},{"$f":"ROUND(iScoresWS2!AG34,$A$1)","v":83.3},{"$f":"ROUND(iScoresWS2!AH34,$A$1)","v":50},{"$f":"ROUND(iScoresWS2!AI34,$A$1)","v":0},{"$f":"ROUND(iScoresWS2!AJ34,$A$1)","v":66.7},{"$f":"ROUND(iScoresWS2!AK34,$A$1)","v":66.7},{"$f":"ROUND(iScoresWS2!AL34,$A$1)","v":83.3}]
[{"$f":"Scores!N35","v":"3.5) Carbon emissions in trade"},{"$f":"ROUND(iScoresWS2!S35,$A$1)","v":59.9},{"$f":"ROUND(iScoresWS2!T35,$A$1)","v":86.7},{"$f":"ROUND(iScoresWS2!U35,$A$1)","v":89.6},{"$f":"ROUND(iScoresWS2!V35,$A$1)","v":13.3},{"$f":"ROUND(iScoresWS2!W35,$A$1)","v":99.3},{"$f":"ROUND(iScoresWS2!X35,$A$1)","v":11},{"$f":"ROUND(iScoresWS2!Y35,$A$1)","v":49.6},{"$f":"ROUND(iScoresWS2!Z35,$A$1)","v":76.099999999999994},{"$f":"ROUND(iScoresWS2!AA35,$A$1)","v":91.1},{"$f":"ROUND(iScoresWS2!AB35,$A$1)","v":84.3},{"$f":"ROUND(iScoresWS2!AC35,$A$1)","v":76.900000000000006},{"$f":"ROUND(iScoresWS2!AD35,$A$1)","v":0},{"$f":"ROUND(iScoresWS2!AE35,$A$1)","v":73.099999999999994},{"$f":"ROUND(iScoresWS2!AF35,$A$1)","v":100},{"$f":"ROUND(iScoresWS2!AG35,$A$1)","v":84},{"$f":"ROUND(iScoresWS2!AH35,$A$1)","v":79.2},{"$f":"ROUND(iScoresWS2!AI35,$A$1)","v":84.7},{"$f":"ROUND(iScoresWS2!AJ35,$A$1)","v":78.3},{"$f":"ROUND(iScoresWS2!AK35,$A$1)","v":69.2},{"$f":"ROUND(iScoresWS2!AL35,$A$1)","v":52.6}]
[{"$f":"Scores!N36","v":"3.6) Share of natural resources in trade"},{"$f":"ROUND(iScoresWS2!S36,$A$1)","v":99},{"$f":"ROUND(iScoresWS2!T36,$A$1)","v":0},{"$f":"ROUND(iScoresWS2!U36,$A$1)","v":94.8},{"$f":"ROUND(iScoresWS2!V36,$A$1)","v":100},{"$f":"ROUND(iScoresWS2!W36,$A$1)","v":97.1},{"$f":"ROUND(iScoresWS2!X36,$A$1)","v":70.5},{"$f":"ROUND(iScoresWS2!Y36,$A$1)","v":34.299999999999997},{"$f":"ROUND(iScoresWS2!Z36,$A$1)","v":99.9},{"$f":"ROUND(iScoresWS2!AA36,$A$1)","v":18},{"$f":"ROUND(iScoresWS2!AB36,$A$1)","v":73.3},{"$f":"ROUND(iScoresWS2!AC36,$A$1)","v":6},{"$f":"ROUND(iScoresWS2!AD36,$A$1)","v":82.6},{"$f":"ROUND(iScoresWS2!AE36,$A$1)","v":87.8},{"$f":"ROUND(iScoresWS2!AF36,$A$1)","v":87.9},{"$f":"ROUND(iScoresWS2!AG36,$A$1)","v":94.7},{"$f":"ROUND(iScoresWS2!AH36,$A$1)","v":72.7},{"$f":"ROUND(iScoresWS2!AI36,$A$1)","v":95.7},{"$f":"ROUND(iScoresWS2!AJ36,$A$1)","v":77.400000000000006},{"$f":"ROUND(iScoresWS2!AK36,$A$1)","v":62.8},{"$f":"ROUND(iScoresWS2!AL36,$A$1)","v":86.1}]
[]
[]
["RANK"]
[]
[{"$f":"A2","v":"OVERALL SCORE"},{"$f":"RANK(B2,$B2:$U2,0)","v":17},11,18,14,5,15,13,3,16,7,20,19,10,1,2,8,6,12,9,4]
["1) ECONOMIC PILLAR",{"$f":"RANK(B3,$B3:$U3,0)","v":15},19,17,10,2,13,12,8,16,8,20,18,3,1,4,7,5,14,11,6]
["1.10) Growth in per capita GDP",{"$f":"RANK(B4,$B4:$U4,0)","v":6},20,5,1,16,4,7,18,2,13,11,17,10,9,15,3,12,14,8,19]
["1.11) Current account liberalisation",{"$f":"RANK(B5,$B5:$U5,0)","v":16},1,1,13,1,16,16,1,1,1,16,20,13,1,13,1,1,1,1,1]
["1.12) Tariff & non-tariff barriers",{"$f":"RANK(B6,$B6:$U6,0)","v":18},13,13,13,1,18,3,3,3,3,3,18,3,1,3,13,3,12,17,3]
["1.13) Exchange rate volatility",{"$f":"RANK(B7,$B7:$U7,0)","v":13},7,2,9,1,19,15,18,2,9,20,2,9,7,15,9,2,15,6,13]
["1.14) Financial sector depth",{"$f":"RANK(B8,$B8:$U8,0)","v":13},16,11,6,1,12,14,3,18,9,20,19,15,8,7,17,4,5,10,2]
["1.15) Foreign trade and payments risk",{"$f":"RANK(B9,$B9:$U9,0)","v":17},4,12,10,2,16,13,7,19,4,18,20,9,1,8,11,3,13,15,4]
["1.16) Export market concentration",{"$f":"RANK(B10,$B10:$U10,0)","v":6},20,12,7,17,1,8,14,18,10,19,5,15,3,13,4,16,2,10,9]
["1.17) Export product concentration",{"$f":"RANK(B11,$B11:$U11,0)","v":12},20,18,3,17,7,10,16,4,11,5,2,7,9,15,6,13,19,1,14]
["1.18) Foreign Direct Investment",{"$f":"RANK(B12,$B12:$U12,0)","v":15},20,3,6,1,11,10,19,8,7,5,17,14,2,16,13,18,9,4,12]
["1.19) Gross fixed capital formation",{"$f":"RANK(B13,$B13:$U13,0)","v":8},2,17,1,13,4,3,15,6,12,18,20,16,10,5,7,14,11,9,19]
["1.20) Trade costs",{"$f":"RANK(B14,$B14:$U14,0)","v":16},18,17,11,3,10,13,4,19,7,20,15,14,1,5,8,6,9,12,2]
["1.20.1)    Infrastructure",{"$f":"RANK(B15,$B15:$U15,0)","v":18},16,16,8,3,14,12,3,19,7,20,15,11,1,6,10,5,9,13,2]
["1.20.2)    Logistics performance",{"$f":"RANK(B16,$B16:$U16,0)","v":17},20,15,8,4,11,11,3,18,7,19,14,13,1,6,16,5,9,10,2]
["1.20.3)    Corruption",{"$f":"RANK(B17,$B17:$U17,0)","v":13},5,13,13,2,11,13,5,13,5,13,11,13,1,2,9,5,9,13,2]
["1.20.4)    Legal system",{"$f":"RANK(B18,$B18:$U18,0)","v":6},17,17,16,4,6,11,1,17,6,17,11,11,1,6,6,4,11,11,1]
["1.21) Technological innovation",{"$f":"RANK(B19,$B19:$U19,0)","v":10},20,18,6,8,8,17,2,19,7,13,11,16,5,1,13,3,12,13,4]
["1.22) Technological infrastructure",{"$f":"RANK(B20,$B20:$U20,0)","v":11},1,16,11,11,7,16,1,16,7,20,16,7,1,1,11,1,11,7,1]
["1.23) Growth in labour force",{"$f":"RANK(B21,$B21:$U21,0)","v":4},15,13,18,19,3,5,20,9,6,12,1,2,8,14,10,17,16,7,11]
["2) SOCIAL PILLAR",{"$f":"RANK(B22,$B22:$U22,0)","v":18},6,16,12,7,14,13,3,15,8,20,17,19,5,1,11,4,10,9,2]
["2.1) Inequality (Gini coefficient)",{"$f":"RANK(B23,$B23:$U23,0)","v":4},15,3,16,20,6,8,5,9,18,10,1,17,19,2,11,7,14,12,13]
["2.2) Educational attainment",{"$f":"RANK(B24,$B24:$U24,0)","v":19},12,17,11,5,13,10,6,16,8,18,20,9,2,1,15,4,7,14,3]
["2.3) Labour standards",{"$f":"RANK(B25,$B25:$U25,0)","v":13},1,13,10,1,13,13,1,13,8,13,13,13,1,1,8,1,10,10,1]
["2.4) Political stability",{"$f":"RANK(B26,$B26:$U26,0)","v":14},1,14,8,8,8,8,1,4,4,14,14,14,4,8,14,8,14,4,1]
["3) ENVIRONMENTAL PILLAR",{"$f":"RANK(B27,$B27:$U27,0)","v":14},13,12,15,1,19,16,3,17,9,20,18,6,2,4,8,10,7,11,5]
["3.1) Air pollution",{"$f":"RANK(B28,$B28:$U28,0)","v":18},4,7,20,13,19,6,9,16,8,10,17,2,1,15,4,11,11,14,3]
["3.2) Deforestation",{"$f":"RANK(B29,$B29:$U29,0)","v":14},6,20,11,1,7,18,3,17,19,13,5,10,2,8,8,4,11,15,16]
["3.3) Water pollution",{"$f":"RANK(B30,$B30:$U30,0)","v":15},6,15,7,2,9,15,4,15,10,15,12,13,1,3,15,11,8,14,5]
["3.4) Environmental standards in trade",{"$f":"RANK(B31,$B31:$U31,0)","v":17},17,7,1,1,7,7,3,15,7,17,7,3,7,3,15,20,7,7,3]
["3.5) Carbon emissions in trade",{"$f":"RANK(B32,$B32:$U32,0)","v":15},5,4,18,2,19,17,12,3,7,11,20,13,1,8,9,6,10,14,16]
["3.6) Share of natural resources in trade",{"$f":"RANK(B33,$B33:$U33,0)","v":3},20,6,1,4,15,17,2,18,13,19,11,9,8,7,14,5,12,16,10]

{"sheet":"iWeightsComp","index":56,"n_rows":25,"n_cols":30,"rows_kept":25,"cut":false,"hidden":true,"merged":[]}
[{"$f":"uxb_works!A63","v":"Indicator"},{"$f":"uxb_works!C35","v":1},{"$f":"uxb_works!D35","v":"OVERALL SCORE"},null,"Weight Profile 1",{"$f":"uxb_works!B42","v":1},{"$f":"INDEX(lu_weights_all,F1)","v":"Neutral"},null,{"$f":"C1&\": Comparison Between the \"&G1&\" and \"&G2&\" Weight Profiles\"","v":"OVERALL SCORE: Comparison Between the Neutral and Chris #2 Weight Profiles"}]
[{"$f":"uxb_works!A64","v":"WEIGHT_COMP"},{"$f":"uxb_works!B64","v":1},{"$f":"INDEX(tblIndiSets!C113:C119,B2)","v":"Country Name"},null,"Weight Profile 2",{"$f":"uxb_works!B34","v":8},{"$f":"INDEX(lu_weights_all,F2)","v":"Chris #2"},null,{"$f":"\"Sorted by: \"&C2&\" in \"&C3&\" Order\"","v":"Sorted by: Country Name in Ascending Order"}]
[{"$f":"uxb_works!A65","v":"Order"},{"$f":"uxb_works!B65","v":true},{"$f":"IF(B3,\"Ascending\",\"Descending\")","v":"Ascending"},{"$f":"IF(B3,1,0)","v":1},null,null,4,null,null,null,null,null,null,null,null,null,null,null,null,1,2,3,null,4,null,5,6,null,7]
[null,null,null,1,2,3,4,9,10,7,8,9,10,null,null,null,null,null,null,{"$f":"IF($B$2=T3,1,0)","v":1},{"$f":"IF($B$2=U3,1,0)","v":0},0,{"$f":"X4","v":0},0,{"$f":"X4","v":0},0,0,{"$f":"AC4","v":0},0,{"$f":"AC4","v":0}]
[0,null,"Status","Country","Score-ws1","Score-ws2","Score Change","Rank-ws1=","Rank-ws2=","Rank Change",null,"Rank-ws1","Rank-ws2",null,"Sort By","Rank","LU",null,null,"Country","Score-ws1","Score-ws2",null,"Score Change",null,"Rank-ws1=","Rank-ws2=",null,"Rank Change"]
[{"$f":"1+A5","v":1},null,{"$f":"tblTerritories!G3","v":1},{"$f":"tblTerritories!C3","v":"Bangladesh"},{"$f":"INDEX(aScores,$B$1,$A6)","v":45.400771594576256},{"$f":"INDEX(rScoresWS2!$B$2:$U$33,$B$1,$A6)","v":46.2},{"$f":"ROUND(F6-E6,$G$3)","v":0.79920000000000002},{"$f":"INDEX(aRank,$B$1,$A6)","v":18},{"$f":"INDEX(rScoresWS2!$B$38:$U$69,$B$1,$A6)","v":17},{"$f":"H6-I6","v":1},null,{"$f":"IF(A6=\"\",\"\",IF(OR(H6=H5,H6=H7),CONCATENATE(\"=\",H6),H6))","v":18},{"$f":"IF(A6=\"\",\"\",IF(OR(I6=I5,I6=I7),CONCATENATE(\"=\",I6),I6))","v":17},null,{"$f":"IF(C6=0,\"\",IF($B$2=1,A6,INDEX($D$6:$J$25,A6,$B$2)))","v":1},{"$f":"IF(C6=0,\"\",RANK(O6,O$6:O$25,$D$3)+COUNTIF(O$6:O6,O6)-1)","v":1},{"$f":"IF(ISERROR(MATCH($A6,P$6:P$25,0)),\"\",MATCH($A6,P$6:P$25,0))","v":1},null,{"$f":"IF($Q6=\"\",0,INDEX($C$6:$C$25,$Q6,D$4))","v":1},{"$f":"IF($Q6=\"\",\"\",INDEX($D$6:$M$25,$Q6,D$4))","v":"Bangladesh"},{"$f":"IF($Q6=\"\",\"\",INDEX($D$6:$M$25,$Q6,E$4))","v":45.400771594576256},{"$f":"IF($Q6=\"\",\"\",INDEX($D$6:$M$25,$Q6,F$4))","v":46.2},{"$f":"IF(X6<0,X6*100,0)","v":0},{"$f":"IF($Q6=\"\",\"\",INDEX($D$6:$M$25,$Q6,G$4))","v":0.79920000000000002},{"$f":"IF(X6>0,X6*100,0)","v":79.92},{"$f":"IF($Q6=\"\",\"\",INDEX($D$6:$M$25,$Q6,H$4))","v":18},{"$f":"IF($Q6=\"\",\"\",INDEX($D$6:$M$25,$Q6,I$4))","v":17},{"$f":"IF(AC6<0,AC6*10,0)","v":0},{"$f":"IF($Q6=\"\",\"\",INDEX($D$6:$M$25,$Q6,J$4))","v":1},{"$f":"IF(AC6>0,AC6*10,0)","v":10}]
[{"$f":"1+A6","v":2},null,{"$f":"tblTerritories!G4","v":1},{"$f":"tblTerritories!C4","v":"Brunei"},54.246322414278559,{"$f":"INDEX(rScoresWS2!$B$2:$U$33,$B$1,$A7)","v":54.2},{"$f":"ROUND(F7-E7,$G$3)","v":-4.6300000000000001E-2},9,{"$f":"INDEX(rScoresWS2!$B$38:$U$69,$B$1,$A7)","v":11},{"$f":"H7-I7","v":-2},null,{"$f":"IF(A7=\"\",\"\",IF(OR(H7=H6,H7=H8),CONCATENATE(\"=\",H7),H7))","v":9},{"$f":"IF(A7=\"\",\"\",IF(OR(I7=I6,I7=I8),CONCATENATE(\"=\",I7),I7))","v":11},null,{"$f":"IF(C7=0,\"\",IF($B$2=1,A7,INDEX($D$6:$J$25,A7,$B$2)))","v":2},{"$f":"IF(C7=0,\"\",RANK(O7,O$6:O$25,$D$3)+COUNTIF(O$6:O7,O7)-1)","v":2},{"$f":"IF(ISERROR(MATCH($A7,P$6:P$25,0)),\"\",MATCH($A7,P$6:P$25,0))","v":2},null,{"$f":"IF($Q7=\"\",0,INDEX($C$6:$C$25,$Q7,D$4))","v":1},{"$f":"IF($Q7=\"\",\"\",INDEX($D$6:$M$25,$Q7,D$4))","v":"Brunei"},{"$f":"IF($Q7=\"\",\"\",INDEX($D$6:$M$25,$Q7,E$4))","v":54.246322414278559},{"$f":"IF($Q7=\"\",\"\",INDEX($D$6:$M$25,$Q7,F$4))","v":54.2},{"$f":"IF(X7<0,X7*100,0)","v":-4.63},{"$f":"IF($Q7=\"\",\"\",INDEX($D$6:$M$25,$Q7,G$4))","v":-4.6300000000000001E-2},{"$f":"IF(X7>0,X7*100,0)","v":0},{"$f":"IF($Q7=\"\",\"\",INDEX($D$6:$M$25,$Q7,H$4))","v":9},{"$f":"IF($Q7=\"\",\"\",INDEX($D$6:$M$25,$Q7,I$4))","v":11},{"$f":"IF(AC7<0,AC7*10,0)","v":-20},{"$f":"IF($Q7=\"\",\"\",INDEX($D$6:$M$25,$Q7,J$4))","v":-2},{"$f":"IF(AC7>0,AC7*10,0)","v":0}]
[3,null,{"$f":"tblTerritories!G5","v":1},{"$f":"tblTerritories!C5","v":"Cambodia"},46.844233464040201,{"$f":"INDEX(rScoresWS2!$B$2:$U$33,$B$1,$A8)","v":46},-0.84419999999999995,16,{"$f":"INDEX(rScoresWS2!$B$38:$U$69,$B$1,$A8)","v":18},-2,null,16,18,null,3,{"$f":"IF(C8=0,\"\",RANK(O8,O$6:O$25,$D$3)+COUNTIF(O$6:O8,O8)-1)","v":3},3,null,1,"Cambodia",46.844233464040201,46,-84.42,-0.84419999999999995,0,16,18,-20,-2,0]
[4,null,{"$f":"tblTerritories!G6","v":1},{"$f":"tblTerritories!C6","v":"China"},52.464737159200332,{"$f":"INDEX(rScoresWS2!$B$2:$U$33,$B$1,$A9)","v":52.6},0.1353,12,{"$f":"INDEX(rScoresWS2!$B$38:$U$69,$B$1,$A9)","v":14},-2,null,12,14,null,4,{"$f":"IF(C9=0,\"\",RANK(O9,O$6:O$25,$D$3)+COUNTIF(O$6:O9,O9)-1)","v":4},4,null,1,"China",52.464737159200332,52.6,0,0.1353,13.530000000000001,12,14,-20,-2,0]
[5,null,{"$f":"tblTerritories!G7","v":1},{"$f":"tblTerritories!C7","v":"Hong Kong"},73.581391302193296,{"$f":"INDEX(rScoresWS2!$B$2:$U$33,$B$1,$A10)","v":73.599999999999994},1.8599999999999998E-2,5,{"$f":"INDEX(rScoresWS2!$B$38:$U$69,$B$1,$A10)","v":5},0,null,5,5,null,5,{"$f":"IF(C10=0,\"\",RANK(O10,O$6:O$25,$D$3)+COUNTIF(O$6:O10,O10)-1)","v":5},5,null,1,"Hong Kong",73.581391302193296,73.599999999999994,0,1.8599999999999998E-2,1.8599999999999999,5,5,0,0,0]
[6,null,{"$f":"tblTerritories!G8","v":1},{"$f":"tblTerritories!C8","v":"India"},47.670755021075209,{"$f":"INDEX(rScoresWS2!$B$2:$U$33,$B$1,$A11)","v":50.5},2.8292000000000002,15,{"$f":"INDEX(rScoresWS2!$B$38:$U$69,$B$1,$A11)","v":15},0,null,15,15,null,6,{"$f":"IF(C11=0,\"\",RANK(O11,O$6:O$25,$D$3)+COUNTIF(O$6:O11,O11)-1)","v":6},6,null,1,"India",47.670755021075209,50.5,0,2.8292000000000002,282.92,15,15,0,0,0]
[7,null,{"$f":"tblTerritories!G9","v":1},{"$f":"tblTerritories!C9","v":"Indonesia"},47.90837560102819,{"$f":"INDEX(rScoresWS2!$B$2:$U$33,$B$1,$A12)","v":53.2},5.2915999999999999,14,{"$f":"INDEX(rScoresWS2!$B$38:$U$69,$B$1,$A12)","v":13},1,null,14,13,null,7,{"$f":"IF(C12=0,\"\",RANK(O12,O$6:O$25,$D$3)+COUNTIF(O$6:O12,O12)-1)","v":7},7,null,1,"Indonesia",47.90837560102819,53.2,0,5.2915999999999999,529.16,14,13,0,1,10]
[8,null,{"$f":"tblTerritories!G10","v":1},{"$f":"tblTerritories!C10","v":"Japan"},78.50410607235375,{"$f":"INDEX(rScoresWS2!$B$2:$U$33,$B$1,$A13)","v":78.5},-4.1000000000000003E-3,3,{"$f":"INDEX(rScoresWS2!$B$38:$U$69,$B$1,$A13)","v":3},0,null,3,3,null,8,{"$f":"IF(C13=0,\"\",RANK(O13,O$6:O$25,$D$3)+COUNTIF(O$6:O13,O13)-1)","v":8},8,null,1,"Japan",78.50410607235375,78.5,-0.41000000000000003,-4.1000000000000003E-3,0,3,3,0,0,0]
[9,null,{"$f":"tblTerritories!G11","v":1},{"$f":"tblTerritories!C11","v":"Laos"},45.525621157443105,{"$f":"INDEX(rScoresWS2!$B$2:$U$33,$B$1,$A14)","v":46.5},0.97440000000000004,17,{"$f":"INDEX(rScoresWS2!$B$38:$U$69,$B$1,$A14)","v":16},1,null,17,16,null,9,{"$f":"IF(C14=0,\"\",RANK(O14,O$6:O$25,$D$3)+COUNTIF(O$6:O14,O14)-1)","v":9},9,null,1,"Laos",45.525621157443105,46.5,0,0.97440000000000004,97.44,17,16,0,1,10]
[10,null,{"$f":"tblTerritories!G12","v":1},{"$f":"tblTerritories!C12","v":"Malaysia"},59.401181758387139,{"$f":"INDEX(rScoresWS2!$B$2:$U$33,$B$1,$A15)","v":59.1},-0.30120000000000002,7,{"$f":"INDEX(rScoresWS2!$B$38:$U$69,$B$1,$A15)","v":7},0,null,7,7,null,10,{"$f":"IF(C15=0,\"\",RANK(O15,O$6:O$25,$D$3)+COUNTIF(O$6:O15,O15)-1)","v":10},10,null,1,"Malaysia",59.401181758387139,59.1,-30.12,-0.30120000000000002,0,7,7,0,0,0]
[11,null,{"$f":"tblTerritories!G13","v":1},{"$f":"tblTerritories!C13","v":"Myanmar"},36.102523605788384,{"$f":"INDEX(rScoresWS2!$B$2:$U$33,$B$1,$A16)","v":34.5},-1.6025,20,{"$f":"INDEX(rScoresWS2!$B$38:$U$69,$B$1,$A16)","v":20},0,null,20,20,null,11,{"$f":"IF(C16=0,\"\",RANK(O16,O$6:O$25,$D$3)+COUNTIF(O$6:O16,O16)-1)","v":11},11,null,1,"Myanmar",36.102523605788384,34.5,-160.25,-1.6025,0,20,20,0,0,0]
[12,null,{"$f":"tblTerritories!G14","v":1},{"$f":"tblTerritories!C14","v":"Pakistan"},41.742979007553359,{"$f":"INDEX(rScoresWS2!$B$2:$U$33,$B$1,$A17)","v":41.2},-0.54300000000000004,19,{"$f":"INDEX(rScoresWS2!$B$38:$U$69,$B$1,$A17)","v":19},0,null,19,19,null,12,{"$f":"IF(C17=0,\"\",RANK(O17,O$6:O$25,$D$3)+COUNTIF(O$6:O17,O17)-1)","v":12},12,null,1,"Pakistan",41.742979007553359,41.2,-54.300000000000004,-0.54300000000000004,0,19,19,0,0,0]
[13,null,{"$f":"tblTerritories!G15","v":1},{"$f":"tblTerritories!C15","v":"Philippines"},52.04664369117809,{"$f":"INDEX(rScoresWS2!$B$2:$U$33,$B$1,$A18)","v":55.4},3.3534000000000002,13,{"$f":"INDEX(rScoresWS2!$B$38:$U$69,$B$1,$A18)","v":10},3,null,13,10,null,13,{"$f":"IF(C18=0,\"\",RANK(O18,O$6:O$25,$D$3)+COUNTIF(O$6:O18,O18)-1)","v":13},13,null,1,"Philippines",52.04664369117809,55.4,0,3.3534000000000002,335.34000000000003,13,10,0,3,30]
[14,null,{"$f":"tblTerritories!G16","v":1},{"$f":"tblTerritories!C16","v":"Singapore"},80.957736329497934,{"$f":"INDEX(rScoresWS2!$B$2:$U$33,$B$1,$A19)","v":81},4.2299999999999997E-2,1,{"$f":"INDEX(rScoresWS2!$B$38:$U$69,$B$1,$A19)","v":1},0,null,1,1,null,14,{"$f":"IF(C19=0,\"\",RANK(O19,O$6:O$25,$D$3)+COUNTIF(O$6:O19,O19)-1)","v":14},14,null,1,"Singapore",80.957736329497934,81,0,4.2299999999999997E-2,4.2299999999999995,1,1,0,0,0]
[15,null,{"$f":"tblTerritories!G17","v":1},{"$f":"tblTerritories!C17","v":"South Korea"},80.037071378992863,{"$f":"INDEX(rScoresWS2!$B$2:$U$33,$B$1,$A20)","v":80},-3.7100000000000001E-2,2,{"$f":"INDEX(rScoresWS2!$B$38:$U$69,$B$1,$A20)","v":2},0,null,2,2,null,15,{"$f":"IF(C20=0,\"\",RANK(O20,O$6:O$25,$D$3)+COUNTIF(O$6:O20,O20)-1)","v":15},15,null,1,"South Korea",80.037071378992863,80,-3.71,-3.7100000000000001E-2,0,2,2,0,0,0]
[16,null,{"$f":"tblTerritories!G18","v":1},{"$f":"tblTerritories!C18","v":"Sri Lanka"},54.171997951483796,{"$f":"INDEX(rScoresWS2!$B$2:$U$33,$B$1,$A21)","v":58.2},4.0279999999999996,9,{"$f":"INDEX(rScoresWS2!$B$38:$U$69,$B$1,$A21)","v":8},1,null,9,8,null,16,{"$f":"IF(C21=0,\"\",RANK(O21,O$6:O$25,$D$3)+COUNTIF(O$6:O21,O21)-1)","v":16},16,null,1,"Sri Lanka",54.171997951483796,58.2,0,4.0279999999999996,402.79999999999995,9,8,0,1,10]
[17,null,{"$f":"tblTerritories!G19","v":1},{"$f":"tblTerritories!C19","v":"Taiwan"},69.366128353953144,{"$f":"INDEX(rScoresWS2!$B$2:$U$33,$B$1,$A22)","v":69.400000000000006},3.39E-2,6,{"$f":"INDEX(rScoresWS2!$B$38:$U$69,$B$1,$A22)","v":6},0,null,6,6,null,17,{"$f":"IF(C22=0,\"\",RANK(O22,O$6:O$25,$D$3)+COUNTIF(O$6:O22,O22)-1)","v":17},17,null,1,"Taiwan",69.366128353953144,69.400000000000006,0,3.39E-2,3.39,6,6,0,0,0]
[18,null,{"$f":"tblTerritories!G20","v":1},{"$f":"tblTerritories!C20","v":"Thailand"},55.464409320349823,{"$f":"INDEX(rScoresWS2!$B$2:$U$33,$B$1,$A23)","v":53.3},-2.1644000000000001,8,{"$f":"INDEX(rScoresWS2!$B$38:$U$69,$B$1,$A23)","v":12},-4,null,8,12,null,18,{"$f":"IF(C23=0,\"\",RANK(O23,O$6:O$25,$D$3)+COUNTIF(O$6:O23,O23)-1)","v":18},18,null,1,"Thailand",55.464409320349823,53.3,-216.44,-2.1644000000000001,0,8,12,-40,-4,0]
[19,null,{"$f":"tblTerritories!G21","v":1},{"$f":"tblTerritories!C21","v":"Vietnam"},53.848572496227035,{"$f":"INDEX(rScoresWS2!$B$2:$U$33,$B$1,$A24)","v":57.6},3.7513999999999998,11,{"$f":"INDEX(rScoresWS2!$B$38:$U$69,$B$1,$A24)","v":9},2,null,11,9,null,19,{"$f":"IF(C24=0,\"\",RANK(O24,O$6:O$25,$D$3)+COUNTIF(O$6:O24,O24)-1)","v":19},19,null,1,"Vietnam",53.848572496227035,57.6,0,3.7513999999999998,375.14,11,9,0,2,20]
[20,null,{"$f":"tblTerritories!G22","v":1},{"$f":"tblTerritories!C22","v":"USA"},76.36256529664476,{"$f":"INDEX(rScoresWS2!$B$2:$U$33,$B$1,$A25)","v":76.400000000000006},3.7400000000000003E-2,4,{"$f":"INDEX(rScoresWS2!$B$38:$U$69,$B$1,$A25)","v":4},0,null,4,4,null,20,{"$f":"IF(C25=0,\"\",RANK(O25,O$6:O$25,$D$3)+COUNTIF(O$6:O25,O25)-1)","v":20},20,null,1,"USA",76.36256529664476,76.400000000000006,0,3.7400000000000003E-2,3.74,4,4,0,0,0]

{"sheet":"Weight_Compare","index":57,"n_rows":67,"n_cols":15,"rows_kept":67,"cut":false,"hidden":true,"merged":[]}
[]
[]
[]
[null,{"$f":"iWeightsComp!I1","v":"OVERALL SCORE: Comparison Between the Neutral and Chris #2 Weight Profiles"}]
[null,{"$f":"iWeightsComp!I2","v":"Sorted by: Country Name in Ascending Order"}]
[]
[]
[]
[null,null,null,null,{"$f":"iWeightsComp!T4","v":1},{"$f":"iWeightsComp!U4","v":0},{"$f":"iWeightsComp!V4","v":0},{"$f":"iWeightsComp!W4","v":0},{"$f":"iWeightsComp!X4","v":0},{"$f":"iWeightsComp!Y4","v":0},{"$f":"iWeightsComp!Z4","v":0},{"$f":"iWeightsComp!AA4","v":0},{"$f":"iWeightsComp!AB4","v":0},{"$f":"iWeightsComp!AC4","v":0},{"$f":"iWeightsComp!AD4","v":0}]
[null,null,null,{"$f":"IF(iWeightsComp!B3,1,0)","v":1},{"$f":"IF(E9=1,IF($D$10=0,100,-100),\"\")","v":-100},{"$f":"IF(F9=1,IF($D$10=0,100,-100),\"\")","v":""},"",null,"",null,"","",null,""]
[null,null,null,null,"Country",{"$f":"\"Score: \"&iWeightsComp!G1&\" Weight Profile\"","v":"Score: Neutral Weight Profile"},{"$f":"\"Score: \"&iWeightsComp!G2&\" Weight Profile\"","v":"Score: Chris #2 Weight Profile"},null,"Change in Score",null,{"$f":"\"Rank: \"&iWeightsComp!G1&\" Weight Profile\"","v":"Rank: Neutral Weight Profile"},{"$f":"\"Rank: \"&iWeightsComp!G2&\" Weight Profile\"","v":"Rank: Chris #2 Weight Profile"},null,"Change in Rank"]
[null,null,null,{"$f":"iWeightsComp!S6","v":1},{"$f":"iWeightsComp!T6","v":"Bangladesh"},{"$f":"iWeightsComp!U6","v":45.400771594576256},{"$f":"iWeightsComp!V6","v":46.2},{"$f":"IF(ISNUMBER(iWeightsComp!W6),REPT(\"|\",ABS(iWeightsComp!W6)/30),\"\")","v":""},{"$f":"iWeightsComp!X6","v":0.79920000000000002},{"$f":"IF(ISNUMBER(iWeightsComp!Y6),REPT(\"|\",iWeightsComp!Y6/30),\"\")","v":"||"},{"$f":"iWeightsComp!Z6","v":18},{"$f":"iWeightsComp!AA6","v":17},{"$f":"IF(ISNUMBER(iWeightsComp!AB6),REPT(\"|\",ABS(iWeightsComp!AB6)/3),\"\")","v":""},{"$f":"iWeightsComp!AC6","v":1},{"$f":"IF(ISNUMBER(iWeightsComp!AD6),REPT(\"|\",iWeightsComp!AD6/3),\"\")","v":"|||"}]
[null,null,null,{"$f":"iWeightsComp!S7","v":1},{"$f":"iWeightsComp!T7","v":"Brunei"},{"$f":"iWeightsComp!U7","v":54.246322414278559},{"$f":"iWeightsComp!V7","v":54.2},{"$f":"IF(ISNUMBER(iWeightsComp!W7),REPT(\"|\",ABS(iWeightsComp!W7)/30),\"\")","v":""},{"$f":"iWeightsComp!X7","v":-4.6300000000000001E-2},{"$f":"IF(ISNUMBER(iWeightsComp!Y7),REPT(\"|\",iWeightsComp!Y7/30),\"\")","v":""},{"$f":"iWeightsComp!Z7","v":9},{"$f":"iWeightsComp!AA7","v":11},{"$f":"IF(ISNUMBER(iWeightsComp!AB7),REPT(\"|\",ABS(iWeightsComp!AB7)/3),\"\")","v":"||||||"},{"$f":"iWeightsComp!AC7","v":-2},{"$f":"IF(ISNUMBER(iWeightsComp!AD7),REPT(\"|\",iWeightsComp!AD7/3),\"\")","v":""}]
[null,null,null,{"$f":"iWeightsComp!S8","v":1},{"$f":"iWeightsComp!T8","v":"Cambodia"},{"$f":"iWeightsComp!U8","v":46.844233464040201},{"$f":"iWeightsComp!V8","v":46},{"$f":"IF(ISNUMBER(iWeightsComp!W8),REPT(\"|\",ABS(iWeightsComp!W8)/30),\"\")","v":"||"},{"$f":"iWeightsComp!X8","v":-0.84419999999999995},{"$f":"IF(ISNUMBER(iWeightsComp!Y8),REPT(\"|\",iWeightsComp!Y8/30),\"\")","v":""},{"$f":"iWeightsComp!Z8","v":16},{"$f":"iWeightsComp!AA8","v":18},{"$f":"IF(ISNUMBER(iWeightsComp!AB8),REPT(\"|\",ABS(iWeightsComp!AB8)/3),\"\")","v":"||||||"},{"$f":"iWeightsComp!AC8","v":-2},{"$f":"IF(ISNUMBER(iWeightsComp!AD8),REPT(\"|\",iWeightsComp!AD8/3),\"\")","v":""}]
[null,null,null,{"$f":"iWeightsComp!S9","v":1},{"$f":"iWeightsComp!T9","v":"China"},{"$f":"iWeightsComp!U9","v":52.464737159200332},{"$f":"iWeightsComp!V9","v":52.6},{"$f":"IF(ISNUMBER(iWeightsComp!W9),REPT(\"|\",ABS(iWeightsComp!W9)/30),\"\")","v":""},{"$f":"iWeightsComp!X9","v":0.1353},{"$f":"IF(ISNUMBER(iWeightsComp!Y9),REPT(\"|\",iWeightsComp!Y9/30),\"\")","v":""},{"$f":"iWeightsComp!Z9","v":12},{"$f":"iWeightsComp!AA9","v":14},{"$f":"IF(ISNUMBER(iWeightsComp!AB9),REPT(\"|\",ABS(iWeightsComp!AB9)/3),\"\")","v":"||||||"},{"$f":"iWeightsComp!AC9","v":-2},{"$f":"IF(ISNUMBER(iWeightsComp!AD9),REPT(\"|\",iWeightsComp!AD9/3),\"\")","v":""}]
[null,null,null,{"$f":"iWeightsComp!S10","v":1},{"$f":"iWeightsComp!T10","v":"Hong Kong"},{"$f":"iWeightsComp!U10","v":73.581391302193296},{"$f":"iWeightsComp!V10","v":73.599999999999994},{"$f":"IF(ISNUMBER(iWeightsComp!W10),REPT(\"|\",ABS(iWeightsComp!W10)/30),\"\")","v":""},{"$f":"iWeightsComp!X10","v":1.8599999999999998E-2},{"$f":"IF(ISNUMBER(iWeightsComp!Y10),REPT(\"|\",iWeightsComp!Y10/30),\"\")","v":""},{"$f":"iWeightsComp!Z10","v":5},{"$f":"iWeightsComp!AA10","v":5},{"$f":"IF(ISNUMBER(iWeightsComp!AB10),REPT(\"|\",ABS(iWeightsComp!AB10)/3),\"\")","v":""},{"$f":"iWeightsComp!AC10","v":0},{"$f":"IF(ISNUMBER(iWeightsComp!AD10),REPT(\"|\",iWeightsComp!AD10/3),\"\")","v":""}]
[null,null,null,{"$f":"iWeightsComp!S11","v":1},{"$f":"iWeightsComp!T11","v":"India"},{"$f":"iWeightsComp!U11","v":47.670755021075209},{"$f":"iWeightsComp!V11","v":50.5},{"$f":"IF(ISNUMBER(iWeightsComp!W11),REPT(\"|\",ABS(iWeightsComp!W11)/30),\"\")","v":""},{"$f":"iWeightsComp!X11","v":2.8292000000000002},{"$f":"IF(ISNUMBER(iWeightsComp!Y11),REPT(\"|\",iWeightsComp!Y11/30),\"\")","v":"|||||||||"},{"$f":"iWeightsComp!Z11","v":15},{"$f":"iWeightsComp!AA11","v":15},{"$f":"IF(ISNUMBER(iWeightsComp!AB11),REPT(\"|\",ABS(iWeightsComp!AB11)/3),\"\")","v":""},{"$f":"iWeightsComp!AC11","v":0},{"$f":"IF(ISNUMBER(iWeightsComp!AD11),REPT(\"|\",iWeightsComp!AD11/3),\"\")","v":""}]
[null,null,null,{"$f":"iWeightsComp!S12","v":1},{"$f":"iWeightsComp!T12","v":"Indonesia"},{"$f":"iWeightsComp!U12","v":47.90837560102819},{"$f":"iWeightsComp!V12","v":53.2},{"$f":"IF(ISNUMBER(iWeightsComp!W12),REPT(\"|\",ABS(iWeightsComp!W12)/30),\"\")","v":""},{"$f":"iWeightsComp!X12","v":5.2915999999999999},{"$f":"IF(ISNUMBER(iWeightsComp!Y12),REPT(\"|\",iWeightsComp!Y12/30),\"\")","v":"|||||||||||||||||"},{"$f":"iWeightsComp!Z12","v":14},{"$f":"iWeightsComp!AA12","v":13},{"$f":"IF(ISNUMBER(iWeightsComp!AB12),REPT(\"|\",ABS(iWeightsComp!AB12)/3),\"\")","v":""},{"$f":"iWeightsComp!AC12","v":1},{"$f":"IF(ISNUMBER(iWeightsComp!AD12),REPT(\"|\",iWeightsComp!AD12/3),\"\")","v":"|||"}]
[null,null,null,{"$f":"iWeightsComp!S13","v":1},{"$f":"iWeightsComp!T13","v":"Japan"},{"$f":"iWeightsComp!U13","v":78.50410607235375},{"$f":"iWeightsComp!V13","v":78.5},{"$f":"IF(ISNUMBER(iWeightsComp!W13),REPT(\"|\",ABS(iWeightsComp!W13)/30),\"\")","v":""},{"$f":"iWeightsComp!X13","v":-4.1000000000000003E-3},{"$f":"IF(ISNUMBER(iWeightsComp!Y13),REPT(\"|\",iWeightsComp!Y13/30),\"\")","v":""},{"$f":"iWeightsComp!Z13","v":3},{"$f":"iWeightsComp!AA13","v":3},{"$f":"IF(ISNUMBER(iWeightsComp!AB13),REPT(\"|\",ABS(iWeightsComp!AB13)/3),\"\")","v":""},{"$f":"iWeightsComp!AC13","v":0},{"$f":"IF(ISNUMBER(iWeightsComp!AD13),REPT(\"|\",iWeightsComp!AD13/3),\"\")","v":""}]
[null,null,null,{"$f":"iWeightsComp!S14","v":1},{"$f":"iWeightsComp!T14","v":"Laos"},{"$f":"iWeightsComp!U14","v":45.525621157443105},{"$f":"iWeightsComp!V14","v":46.5},{"$f":"IF(ISNUMBER(iWeightsComp!W14),REPT(\"|\",ABS(iWeightsComp!W14)/30),\"\")","v":""},{"$f":"iWeightsComp!X14","v":0.97440000000000004},{"$f":"IF(ISNUMBER(iWeightsComp!Y14),REPT(\"|\",iWeightsComp!Y14/30),\"\")","v":"|||"},{"$f":"iWeightsComp!Z14","v":17},{"$f":"iWeightsComp!AA14","v":16},{"$f":"IF(ISNUMBER(iWeightsComp!AB14),REPT(\"|\",ABS(iWeightsComp!AB14)/3),\"\")","v":""},{"$f":"iWeightsComp!AC14","v":1},{"$f":"IF(ISNUMBER(iWeightsComp!AD14),REPT(\"|\",iWeightsComp!AD14/3),\"\")","v":"|||"}]
[null,null,null,{"$f":"iWeightsComp!S15","v":1},{"$f":"iWeightsComp!T15","v":"Malaysia"},{"$f":"iWeightsComp!U15","v":59.401181758387139},{"$f":"iWeightsComp!V15","v":59.1},{"$f":"IF(ISNUMBER(iWeightsComp!W15),REPT(\"|\",ABS(iWeightsComp!W15)/30),\"\")","v":"|"},{"$f":"iWeightsComp!X15","v":-0.30120000000000002},{"$f":"IF(ISNUMBER(iWeightsComp!Y15),REPT(\"|\",iWeightsComp!Y15/30),\"\")","v":""},{"$f":"iWeightsComp!Z15","v":7},{"$f":"iWeightsComp!AA15","v":7},{"$f":"IF(ISNUMBER(iWeightsComp!AB15),REPT(\"|\",ABS(iWeightsComp!AB15)/3),\"\")","v":""},{"$f":"iWeightsComp!AC15","v":0},{"$f":"IF(ISNUMBER(iWeightsComp!AD15),REPT(\"|\",iWeightsComp!AD15/3),\"\")","v":""}]
[null,null,null,{"$f":"iWeightsComp!S16","v":1},{"$f":"iWeightsComp!T16","v":"Myanmar"},{"$f":"iWeightsComp!U16","v":36.102523605788384},{"$f":"iWeightsComp!V16","v":34.5},{"$f":"IF(ISNUMBER(iWeightsComp!W16),REPT(\"|\",ABS(iWeightsComp!W16)/30),\"\")","v":"|||||"},{"$f":"iWeightsComp!X16","v":-1.6025},{"$f":"IF(ISNUMBER(iWeightsComp!Y16),REPT(\"|\",iWeightsComp!Y16/30),\"\")","v":""},{"$f":"iWeightsComp!Z16","v":20},{"$f":"iWeightsComp!AA16","v":20},{"$f":"IF(ISNUMBER(iWeightsComp!AB16),REPT(\"|\",ABS(iWeightsComp!AB16)/3),\"\")","v":""},{"$f":"iWeightsComp!AC16","v":0},{"$f":"IF(ISNUMBER(iWeightsComp!AD16),REPT(\"|\",iWeightsComp!AD16/3),\"\")","v":""}]
[null,null,null,{"$f":"iWeightsComp!S17","v":1},{"$f":"iWeightsComp!T17","v":"Pakistan"},{"$f":"iWeightsComp!U17","v":41.742979007553359},{"$f":"iWeightsComp!V17","v":41.2},{"$f":"IF(ISNUMBER(iWeightsComp!W17),REPT(\"|\",ABS(iWeightsComp!W17)/30),\"\")","v":"|"},{"$f":"iWeightsComp!X17","v":-0.54300000000000004},{"$f":"IF(ISNUMBER(iWeightsComp!Y17),REPT(\"|\",iWeightsComp!Y17/30),\"\")","v":""},{"$f":"iWeightsComp!Z17","v":19},{"$f":"iWeightsComp!AA17","v":19},{"$f":"IF(ISNUMBER(iWeightsComp!AB17),REPT(\"|\",ABS(iWeightsComp!AB17)/3),\"\")","v":""},{"$f":"iWeightsComp!AC17","v":0},{"$f":"IF(ISNUMBER(iWeightsComp!AD17),REPT(\"|\",iWeightsComp!AD17/3),\"\")","v":""}]
[null,null,null,{"$f":"iWeightsComp!S18","v":1},{"$f":"iWeightsComp!T18","v":"Philippines"},{"$f":"iWeightsComp!U18","v":52.04664369117809},{"$f":"iWeightsComp!V18","v":55.4},{"$f":"IF(ISNUMBER(iWeightsComp!W18),REPT(\"|\",ABS(iWeightsComp!W18)/30),\"\")","v":""},{"$f":"iWeightsComp!X18","v":3.3534000000000002},{"$f":"IF(ISNUMBER(iWeightsComp!Y18),REPT(\"|\",iWeightsComp!Y18/30),\"\")","v":"|||||||||||"},{"$f":"iWeightsComp!Z18","v":13},{"$f":"iWeightsComp!AA18","v":10},{"$f":"IF(ISNUMBER(iWeightsComp!AB18),REPT(\"|\",ABS(iWeightsComp!AB18)/3),\"\")","v":""},{"$f":"iWeightsComp!AC18","v":3},{"$f":"IF(ISNUMBER(iWeightsComp!AD18),REPT(\"|\",iWeightsComp!AD18/3),\"\")","v":"||||||||||"}]
[null,null,null,{"$f":"iWeightsComp!S19","v":1},{"$f":"iWeightsComp!T19","v":"Singapore"},{"$f":"iWeightsComp!U19","v":80.957736329497934},{"$f":"iWeightsComp!V19","v":81},{"$f":"IF(ISNUMBER(iWeightsComp!W19),REPT(\"|\",ABS(iWeightsComp!W19)/30),\"\")","v":""},{"$f":"iWeightsComp!X19","v":4.2299999999999997E-2},{"$f":"IF(ISNUMBER(iWeightsComp!Y19),REPT(\"|\",iWeightsComp!Y19/30),\"\")","v":""},{"$f":"iWeightsComp!Z19","v":1},{"$f":"iWeightsComp!AA19","v":1},{"$f":"IF(ISNUMBER(iWeightsComp!AB19),REPT(\"|\",ABS(iWeightsComp!AB19)/3),\"\")","v":""},{"$f":"iWeightsComp!AC19","v":0},{"$f":"IF(ISNUMBER(iWeightsComp!AD19),REPT(\"|\",iWeightsComp!AD19/3),\"\")","v":""}]
[null,null,null,{"$f":"iWeightsComp!S20","v":1},{"$f":"iWeightsComp!T20","v":"South Korea"},{"$f":"iWeightsComp!U20","v":80.037071378992863},{"$f":"iWeightsComp!V20","v":80},{"$f":"IF(ISNUMBER(iWeightsComp!W20),REPT(\"|\",ABS(iWeightsComp!W20)/30),\"\")","v":""},{"$f":"iWeightsComp!X20","v":-3.7100000000000001E-2},{"$f":"IF(ISNUMBER(iWeightsComp!Y20),REPT(\"|\",iWeightsComp!Y20/30),\"\")","v":""},{"$f":"iWeightsComp!Z20","v":2},{"$f":"iWeightsComp!AA20","v":2},{"$f":"IF(ISNUMBER(iWeightsComp!AB20),REPT(\"|\",ABS(iWeightsComp!AB20)/3),\"\")","v":""},{"$f":"iWeightsComp!AC20","v":0},{"$f":"IF(ISNUMBER(iWeightsComp!AD20),REPT(\"|\",iWeightsComp!AD20/3),\"\")","v":""}]
[null,null,null,{"$f":"iWeightsComp!S21","v":1},{"$f":"iWeightsComp!T21","v":"Sri Lanka"},{"$f":"iWeightsComp!U21","v":54.171997951483796},{"$f":"iWeightsComp!V21","v":58.2},{"$f":"IF(ISNUMBER(iWeightsComp!W21),REPT(\"|\",ABS(iWeightsComp!W21)/30),\"\")","v":""},{"$f":"iWeightsComp!X21","v":4.0279999999999996},{"$f":"IF(ISNUMBER(iWeightsComp!Y21),REPT(\"|\",iWeightsComp!Y21/30),\"\")","v":"|||||||||||||"},{"$f":"iWeightsComp!Z21","v":9},{"$f":"iWeightsComp!AA21","v":8},{"$f":"IF(ISNUMBER(iWeightsComp!AB21),REPT(\"|\",ABS(iWeightsComp!AB21)/3),\"\")","v":""},{"$f":"iWeightsComp!AC21","v":1},{"$f":"IF(ISNUMBER(iWeightsComp!AD21),REPT(\"|\",iWeightsComp!AD21/3),\"\")","v":"|||"}]
[null,null,null,{"$f":"iWeightsComp!S22","v":1},{"$f":"iWeightsComp!T22","v":"Taiwan"},{"$f":"iWeightsComp!U22","v":69.366128353953144},{"$f":"iWeightsComp!V22","v":69.400000000000006},{"$f":"IF(ISNUMBER(iWeightsComp!W22),REPT(\"|\",ABS(iWeightsComp!W22)/30),\"\")","v":""},{"$f":"iWeightsComp!X22","v":3.39E-2},{"$f":"IF(ISNUMBER(iWeightsComp!Y22),REPT(\"|\",iWeightsComp!Y22/30),\"\")","v":""},{"$f":"iWeightsComp!Z22","v":6},{"$f":"iWeightsComp!AA22","v":6},{"$f":"IF(ISNUMBER(iWeightsComp!AB22),REPT(\"|\",ABS(iWeightsComp!AB22)/3),\"\")","v":""},{"$f":"iWeightsComp!AC22","v":0},{"$f":"IF(ISNUMBER(iWeightsComp!AD22),REPT(\"|\",iWeightsComp!AD22/3),\"\")","v":""}]
[null,null,null,{"$f":"iWeightsComp!S23","v":1},{"$f":"iWeightsComp!T23","v":"Thailand"},{"$f":"iWeightsComp!U23","v":55.464409320349823},{"$f":"iWeightsComp!V23","v":53.3},{"$f":"IF(ISNUMBER(iWeightsComp!W23),REPT(\"|\",ABS(iWeightsComp!W23)/30),\"\")","v":"|||||||"},{"$f":"iWeightsComp!X23","v":-2.1644000000000001},{"$f":"IF(ISNUMBER(iWeightsComp!Y23),REPT(\"|\",iWeightsComp!Y23/30),\"\")","v":""},{"$f":"iWeightsComp!Z23","v":8},{"$f":"iWeightsComp!AA23","v":12},{"$f":"IF(ISNUMBER(iWeightsComp!AB23),REPT(\"|\",ABS(iWeightsComp!AB23)/3),\"\")","v":"|||||||||||||"},{"$f":"iWeightsComp!AC23","v":-4},{"$f":"IF(ISNUMBER(iWeightsComp!AD23),REPT(\"|\",iWeightsComp!AD23/3),\"\")","v":""}]
[null,null,null,{"$f":"iWeightsComp!S24","v":1},{"$f":"iWeightsComp!T24","v":"Vietnam"},{"$f":"iWeightsComp!U24","v":53.848572496227035},{"$f":"iWeightsComp!V24","v":57.6},{"$f":"IF(ISNUMBER(iWeightsComp!W24),REPT(\"|\",ABS(iWeightsComp!W24)/30),\"\")","v":""},{"$f":"iWeightsComp!X24","v":3.7513999999999998},{"$f":"IF(ISNUMBER(iWeightsComp!Y24),REPT(\"|\",iWeightsComp!Y24/30),\"\")","v":"||||||||||||"},{"$f":"iWeightsComp!Z24","v":11},{"$f":"iWeightsComp!AA24","v":9},{"$f":"IF(ISNUMBER(iWeightsComp!AB24),REPT(\"|\",ABS(iWeightsComp!AB24)/3),\"\")","v":""},{"$f":"iWeightsComp!AC24","v":2},{"$f":"IF(ISNUMBER(iWeightsComp!AD24),REPT(\"|\",iWeightsComp!AD24/3),\"\")","v":"||||||"}]
[null,null,null,{"$f":"iWeightsComp!S25","v":1},{"$f":"iWeightsComp!T25","v":"USA"},{"$f":"iWeightsComp!U25","v":76.36256529664476},{"$f":"iWeightsComp!V25","v":76.400000000000006},{"$f":"IF(ISNUMBER(iWeightsComp!W25),REPT(\"|\",ABS(iWeightsComp!W25)/30),\"\")","v":""},{"$f":"iWeightsComp!X25","v":3.7400000000000003E-2},{"$f":"IF(ISNUMBER(iWeightsComp!Y25),REPT(\"|\",iWeightsComp!Y25/30),\"\")","v":""},{"$f":"iWeightsComp!Z25","v":4},{"$f":"iWeightsComp!AA25","v":4},{"$f":"IF(ISNUMBER(iWeightsComp!AB25),REPT(\"|\",ABS(iWeightsComp!AB25)/3),\"\")","v":""},{"$f":"iWeightsComp!AC25","v":0},{"$f":"IF(ISNUMBER(iWeightsComp!AD25),REPT(\"|\",iWeightsComp!AD25/3),\"\")","v":""}]
[null,null,null,{"$f":"iWeightsComp!S26","v":0},{"$f":"iWeightsComp!T26","v":0},{"$f":"iWeightsComp!U26","v":0},{"$f":"iWeightsComp!V26","v":0},{"$f":"IF(ISNUMBER(iWeightsComp!W26),REPT(\"|\",ABS(iWeightsComp!W26)/20),\"\")","v":""},{"$f":"iWeightsComp!X26","v":0},{"$f":"IF(ISNUMBER(iWeightsComp!Y26),REPT(\"|\",iWeightsComp!Y26/20),\"\")","v":""},{"$f":"iWeightsComp!Z26","v":0},{"$f":"iWeightsComp!AA26","v":0},{"$f":"IF(ISNUMBER(iWeightsComp!AB26),REPT(\"|\",ABS(iWeightsComp!AB26)/10),\"\")","v":""},{"$f":"iWeightsComp!AC26","v":0},{"$f":"IF(ISNUMBER(iWeightsComp!AD26),REPT(\"|\",iWeightsComp!AD26/10),\"\")","v":""}]
[null,null,null,{"$f":"iWeightsComp!S27","v":0},{"$f":"iWeightsComp!T27","v":0},{"$f":"iWeightsComp!U27","v":0},{"$f":"iWeightsComp!V27","v":0},{"$f":"IF(ISNUMBER(iWeightsComp!W27),REPT(\"|\",ABS(iWeightsComp!W27)/20),\"\")","v":""},{"$f":"iWeightsComp!X27","v":0},{"$f":"IF(ISNUMBER(iWeightsComp!Y27),REPT(\"|\",iWeightsComp!Y27/20),\"\")","v":""},{"$f":"iWeightsComp!Z27","v":0},{"$f":"iWeightsComp!AA27","v":0},{"$f":"IF(ISNUMBER(iWeightsComp!AB27),REPT(\"|\",ABS(iWeightsComp!AB27)/10),\"\")","v":""},{"$f":"iWeightsComp!AC27","v":0},{"$f":"IF(ISNUMBER(iWeightsComp!AD27),REPT(\"|\",iWeightsComp!AD27/10),\"\")","v":""}]
[null,null,null,{"$f":"iWeightsComp!S28","v":0},{"$f":"iWeightsComp!T28","v":0},{"$f":"iWeightsComp!U28","v":0},{"$f":"iWeightsComp!V28","v":0},{"$f":"IF(ISNUMBER(iWeightsComp!W28),REPT(\"|\",ABS(iWeightsComp!W28)/20),\"\")","v":""},{"$f":"iWeightsComp!X28","v":0},{"$f":"IF(ISNUMBER(iWeightsComp!Y28),REPT(\"|\",iWeightsComp!Y28/20),\"\")","v":""},{"$f":"iWeightsComp!Z28","v":0},{"$f":"iWeightsComp!AA28","v":0},{"$f":"IF(ISNUMBER(iWeightsComp!AB28),REPT(\"|\",ABS(iWeightsComp!AB28)/10),\"\")","v":""},{"$f":"iWeightsComp!AC28","v":0},{"$f":"IF(ISNUMBER(iWeightsComp!AD28),REPT(\"|\",iWeightsComp!AD28/10),\"\")","v":""}]
[null,null,null,{"$f":"iWeightsComp!S29","v":0},{"$f":"iWeightsComp!T29","v":0},{"$f":"iWeightsComp!U29","v":0},{"$f":"iWeightsComp!V29","v":0},{"$f":"IF(ISNUMBER(iWeightsComp!W29),REPT(\"|\",ABS(iWeightsComp!W29)/20),\"\")","v":""},{"$f":"iWeightsComp!X29","v":0},{"$f":"IF(ISNUMBER(iWeightsComp!Y29),REPT(\"|\",iWeightsComp!Y29/20),\"\")","v":""},{"$f":"iWeightsComp!Z29","v":0},{"$f":"iWeightsComp!AA29","v":0},{"$f":"IF(ISNUMBER(iWeightsComp!AB29),REPT(\"|\",ABS(iWeightsComp!AB29)/10),\"\")","v":""},{"$f":"iWeightsComp!AC29","v":0},{"$f":"IF(ISNUMBER(iWeightsComp!AD29),REPT(\"|\",iWeightsComp!AD29/10),\"\")","v":""}]
[null,null,null,{"$f":"iWeightsComp!S30","v":0},{"$f":"iWeightsComp!T30","v":0},{"$f":"iWeightsComp!U30","v":0},{"$f":"iWeightsComp!V30","v":0},{"$f":"IF(ISNUMBER(iWeightsComp!W30),REPT(\"|\",ABS(iWeightsComp!W30)/20),\"\")","v":""},{"$f":"iWeightsComp!X30","v":0},{"$f":"IF(ISNUMBER(iWeightsComp!Y30),REPT(\"|\",iWeightsComp!Y30/20),\"\")","v":""},{"$f":"iWeightsComp!Z30","v":0},{"$f":"iWeightsComp!AA30","v":0},{"$f":"IF(ISNUMBER(iWeightsComp!AB30),REPT(\"|\",ABS(iWeightsComp!AB30)/10),\"\")","v":""},{"$f":"iWeightsComp!AC30","v":0},{"$f":"IF(ISNUMBER(iWeightsComp!AD30),REPT(\"|\",iWeightsComp!AD30/10),\"\")","v":""}]
[null,null,null,{"$f":"iWeightsComp!S31","v":0},{"$f":"iWeightsComp!T31","v":0},{"$f":"iWeightsComp!U31","v":0},{"$f":"iWeightsComp!V31","v":0},{"$f":"IF(ISNUMBER(iWeightsComp!W31),REPT(\"|\",ABS(iWeightsComp!W31)/20),\"\")","v":""},{"$f":"iWeightsComp!X31","v":0},{"$f":"IF(ISNUMBER(iWeightsComp!Y31),REPT(\"|\",iWeightsComp!Y31/20),\"\")","v":""},{"$f":"iWeightsComp!Z31","v":0},{"$f":"iWeightsComp!AA31","v":0},{"$f":"IF(ISNUMBER(iWeightsComp!AB31),REPT(\"|\",ABS(iWeightsComp!AB31)/10),\"\")","v":""},{"$f":"iWeightsComp!AC31","v":0},{"$f":"IF(ISNUMBER(iWeightsComp!AD31),REPT(\"|\",iWeightsComp!AD31/10),\"\")","v":""}]
[null,null,null,{"$f":"iWeightsComp!S32","v":0},{"$f":"iWeightsComp!T32","v":0},{"$f":"iWeightsComp!U32","v":0},{"$f":"iWeightsComp!V32","v":0},{"$f":"IF(ISNUMBER(iWeightsComp!W32),REPT(\"|\",ABS(iWeightsComp!W32)/20),\"\")","v":""},{"$f":"iWeightsComp!X32","v":0},{"$f":"IF(ISNUMBER(iWeightsComp!Y32),REPT(\"|\",iWeightsComp!Y32/20),\"\")","v":""},{"$f":"iWeightsComp!Z32","v":0},{"$f":"iWeightsComp!AA32","v":0},{"$f":"IF(ISNUMBER(iWeightsComp!AB32),REPT(\"|\",ABS(iWeightsComp!AB32)/10),\"\")","v":""},{"$f":"iWeightsComp!AC32","v":0},{"$f":"IF(ISNUMBER(iWeightsComp!AD32),REPT(\"|\",iWeightsComp!AD32/10),\"\")","v":""}]
[null,null,null,{"$f":"iWeightsComp!S33","v":0},{"$f":"iWeightsComp!T33","v":0},{"$f":"iWeightsComp!U33","v":0},{"$f":"iWeightsComp!V33","v":0},{"$f":"IF(ISNUMBER(iWeightsComp!W33),REPT(\"|\",ABS(iWeightsComp!W33)/20),\"\")","v":""},{"$f":"iWeightsComp!X33","v":0},{"$f":"IF(ISNUMBER(iWeightsComp!Y33),REPT(\"|\",iWeightsComp!Y33/20),\"\")","v":""},{"$f":"iWeightsComp!Z33","v":0},{"$f":"iWeightsComp!AA33","v":0},{"$f":"IF(ISNUMBER(iWeightsComp!AB33),REPT(\"|\",ABS(iWeightsComp!AB33)/10),\"\")","v":""},{"$f":"iWeightsComp!AC33","v":0},{"$f":"IF(ISNUMBER(iWeightsComp!AD33),REPT(\"|\",iWeightsComp!AD33/10),\"\")","v":""}]
[null,null,null,{"$f":"iWeightsComp!S34","v":0},{"$f":"iWeightsComp!T34","v":0},{"$f":"iWeightsComp!U34","v":0},{"$f":"iWeightsComp!V34","v":0},{"$f":"IF(ISNUMBER(iWeightsComp!W34),REPT(\"|\",ABS(iWeightsComp!W34)/20),\"\")","v":""},{"$f":"iWeightsComp!X34","v":0},{"$f":"IF(ISNUMBER(iWeightsComp!Y34),REPT(\"|\",iWeightsComp!Y34/20),\"\")","v":""},{"$f":"iWeightsComp!Z34","v":0},{"$f":"iWeightsComp!AA34","v":0},{"$f":"IF(ISNUMBER(iWeightsComp!AB34),REPT(\"|\",ABS(iWeightsComp!AB34)/10),\"\")","v":""},{"$f":"iWeightsComp!AC34","v":0},{"$f":"IF(ISNUMBER(iWeightsComp!AD34),REPT(\"|\",iWeightsComp!AD34/10),\"\")","v":""}]
[null,null,null,{"$f":"iWeightsComp!S35","v":0},{"$f":"iWeightsComp!T35","v":0},{"$f":"iWeightsComp!U35","v":0},{"$f":"iWeightsComp!V35","v":0},{"$f":"IF(ISNUMBER(iWeightsComp!W35),REPT(\"|\",ABS(iWeightsComp!W35)/20),\"\")","v":""},{"$f":"iWeightsComp!X35","v":0},{"$f":"IF(ISNUMBER(iWeightsComp!Y35),REPT(\"|\",iWeightsComp!Y35/20),\"\")","v":""},{"$f":"iWeightsComp!Z35","v":0},{"$f":"iWeightsComp!AA35","v":0},{"$f":"IF(ISNUMBER(iWeightsComp!AB35),REPT(\"|\",ABS(iWeightsComp!AB35)/10),\"\")","v":""},{"$f":"iWeightsComp!AC35","v":0},{"$f":"IF(ISNUMBER(iWeightsComp!AD35),REPT(\"|\",iWeightsComp!AD35/10),\"\")","v":""}]
[null,null,null,{"$f":"iWeightsComp!S36","v":0},{"$f":"iWeightsComp!T36","v":0},{"$f":"iWeightsComp!U36","v":0},{"$f":"iWeightsComp!V36","v":0},{"$f":"IF(ISNUMBER(iWeightsComp!W36),REPT(\"|\",ABS(iWeightsComp!W36)/20),\"\")","v":""},{"$f":"iWeightsComp!X36","v":0},{"$f":"IF(ISNUMBER(iWeightsComp!Y36),REPT(\"|\",iWeightsComp!Y36/20),\"\")","v":""},{"$f":"iWeightsComp!Z36","v":0},{"$f":"iWeightsComp!AA36","v":0},{"$f":"IF(ISNUMBER(iWeightsComp!AB36),REPT(\"|\",ABS(iWeightsComp!AB36)/10),\"\")","v":""},{"$f":"iWeightsComp!AC36","v":0},{"$f":"IF(ISNUMBER(iWeightsComp!AD36),REPT(\"|\",iWeightsComp!AD36/10),\"\")","v":""}]
[null,null,null,{"$f":"iWeightsComp!S37","v":0},{"$f":"iWeightsComp!T37","v":0},{"$f":"iWeightsComp!U37","v":0},{"$f":"iWeightsComp!V37","v":0},{"$f":"IF(ISNUMBER(iWeightsComp!W37),REPT(\"|\",ABS(iWeightsComp!W37)/20),\"\")","v":""},{"$f":"iWeightsComp!X37","v":0},{"$f":"IF(ISNUMBER(iWeightsComp!Y37),REPT(\"|\",iWeightsComp!Y37/20),\"\")","v":""},{"$f":"iWeightsComp!Z37","v":0},{"$f":"iWeightsComp!AA37","v":0},{"$f":"IF(ISNUMBER(iWeightsComp!AB37),REPT(\"|\",ABS(iWeightsComp!AB37)/10),\"\")","v":""},{"$f":"iWeightsComp!AC37","v":0},{"$f":"IF(ISNUMBER(iWeightsComp!AD37),REPT(\"|\",iWeightsComp!AD37/10),\"\")","v":""}]
[null,null,null,{"$f":"iWeightsComp!S38","v":0},{"$f":"iWeightsComp!T38","v":0},{"$f":"iWeightsComp!U38","v":0},{"$f":"iWeightsComp!V38","v":0},{"$f":"IF(ISNUMBER(iWeightsComp!W38),REPT(\"|\",ABS(iWeightsComp!W38)/20),\"\")","v":""},{"$f":"iWeightsComp!X38","v":0},{"$f":"IF(ISNUMBER(iWeightsComp!Y38),REPT(\"|\",iWeightsComp!Y38/20),\"\")","v":""},{"$f":"iWeightsComp!Z38","v":0},{"$f":"iWeightsComp!AA38","v":0},{"$f":"IF(ISNUMBER(iWeightsComp!AB38),REPT(\"|\",ABS(iWeightsComp!AB38)/10),\"\")","v":""},{"$f":"iWeightsComp!AC38","v":0},{"$f":"IF(ISNUMBER(iWeightsComp!AD38),REPT(\"|\",iWeightsComp!AD38/10),\"\")","v":""}]
[null,null,null,{"$f":"iWeightsComp!S39","v":0},{"$f":"iWeightsComp!T39","v":0},{"$f":"iWeightsComp!U39","v":0},{"$f":"iWeightsComp!V39","v":0},{"$f":"IF(ISNUMBER(iWeightsComp!W39),REPT(\"|\",ABS(iWeightsComp!W39)/20),\"\")","v":""},{"$f":"iWeightsComp!X39","v":0},{"$f":"IF(ISNUMBER(iWeightsComp!Y39),REPT(\"|\",iWeightsComp!Y39/20),\"\")","v":""},{"$f":"iWeightsComp!Z39","v":0},{"$f":"iWeightsComp!AA39","v":0},{"$f":"IF(ISNUMBER(iWeightsComp!AB39),REPT(\"|\",ABS(iWeightsComp!AB39)/10),\"\")","v":""},{"$f":"iWeightsComp!AC39","v":0},{"$f":"IF(ISNUMBER(iWeightsComp!AD39),REPT(\"|\",iWeightsComp!AD39/10),\"\")","v":""}]
[null,null,null,{"$f":"iWeightsComp!S40","v":0},{"$f":"iWeightsComp!T40","v":0},{"$f":"iWeightsComp!U40","v":0},{"$f":"iWeightsComp!V40","v":0},{"$f":"IF(ISNUMBER(iWeightsComp!W40),REPT(\"|\",ABS(iWeightsComp!W40)/20),\"\")","v":""},{"$f":"iWeightsComp!X40","v":0},{"$f":"IF(ISNUMBER(iWeightsComp!Y40),REPT(\"|\",iWeightsComp!Y40/20),\"\")","v":""},{"$f":"iWeightsComp!Z40","v":0},{"$f":"iWeightsComp!AA40","v":0},{"$f":"IF(ISNUMBER(iWeightsComp!AB40),REPT(\"|\",ABS(iWeightsComp!AB40)/10),\"\")","v":""},{"$f":"iWeightsComp!AC40","v":0},{"$f":"IF(ISNUMBER(iWeightsComp!AD40),REPT(\"|\",iWeightsComp!AD40/10),\"\")","v":""}]
[null,null,null,{"$f":"iWeightsComp!S41","v":0},{"$f":"iWeightsComp!T41","v":0},{"$f":"iWeightsComp!U41","v":0},{"$f":"iWeightsComp!V41","v":0},{"$f":"IF(ISNUMBER(iWeightsComp!W41),REPT(\"|\",ABS(iWeightsComp!W41)/20),\"\")","v":""},{"$f":"iWeightsComp!X41","v":0},{"$f":"IF(ISNUMBER(iWeightsComp!Y41),REPT(\"|\",iWeightsComp!Y41/20),\"\")","v":""},{"$f":"iWeightsComp!Z41","v":0},{"$f":"iWeightsComp!AA41","v":0},{"$f":"IF(ISNUMBER(iWeightsComp!AB41),REPT(\"|\",ABS(iWeightsComp!AB41)/10),\"\")","v":""},{"$f":"iWeightsComp!AC41","v":0},{"$f":"IF(ISNUMBER(iWeightsComp!AD41),REPT(\"|\",iWeightsComp!AD41/10),\"\")","v":""}]
[null,null,null,{"$f":"iWeightsComp!S42","v":0},{"$f":"iWeightsComp!T42","v":0},{"$f":"iWeightsComp!U42","v":0},{"$f":"iWeightsComp!V42","v":0},{"$f":"IF(ISNUMBER(iWeightsComp!W42),REPT(\"|\",ABS(iWeightsComp!W42)/20),\"\")","v":""},{"$f":"iWeightsComp!X42","v":0},{"$f":"IF(ISNUMBER(iWeightsComp!Y42),REPT(\"|\",iWeightsComp!Y42/20),\"\")","v":""},{"$f":"iWeightsComp!Z42","v":0},{"$f":"iWeightsComp!AA42","v":0},{"$f":"IF(ISNUMBER(iWeightsComp!AB42),REPT(\"|\",ABS(iWeightsComp!AB42)/10),\"\")","v":""},{"$f":"iWeightsComp!AC42","v":0},{"$f":"IF(ISNUMBER(iWeightsComp!AD42),REPT(\"|\",iWeightsComp!AD42/10),\"\")","v":""}]
[null,null,null,{"$f":"iWeightsComp!S43","v":0},{"$f":"iWeightsComp!T43","v":0},{"$f":"iWeightsComp!U43","v":0},{"$f":"iWeightsComp!V43","v":0},{"$f":"IF(ISNUMBER(iWeightsComp!W43),REPT(\"|\",ABS(iWeightsComp!W43)/20),\"\")","v":""},{"$f":"iWeightsComp!X43","v":0},{"$f":"IF(ISNUMBER(iWeightsComp!Y43),REPT(\"|\",iWeightsComp!Y43/20),\"\")","v":""},{"$f":"iWeightsComp!Z43","v":0},{"$f":"iWeightsComp!AA43","v":0},{"$f":"IF(ISNUMBER(iWeightsComp!AB43),REPT(\"|\",ABS(iWeightsComp!AB43)/10),\"\")","v":""},{"$f":"iWeightsComp!AC43","v":0},{"$f":"IF(ISNUMBER(iWeightsComp!AD43),REPT(\"|\",iWeightsComp!AD43/10),\"\")","v":""}]
[null,null,null,{"$f":"iWeightsComp!S44","v":0},{"$f":"iWeightsComp!T44","v":0},{"$f":"iWeightsComp!U44","v":0},{"$f":"iWeightsComp!V44","v":0},{"$f":"IF(ISNUMBER(iWeightsComp!W44),REPT(\"|\",ABS(iWeightsComp!W44)/20),\"\")","v":""},{"$f":"iWeightsComp!X44","v":0},{"$f":"IF(ISNUMBER(iWeightsComp!Y44),REPT(\"|\",iWeightsComp!Y44/20),\"\")","v":""},{"$f":"iWeightsComp!Z44","v":0},{"$f":"iWeightsComp!AA44","v":0},{"$f":"IF(ISNUMBER(iWeightsComp!AB44),REPT(\"|\",ABS(iWeightsComp!AB44)/10),\"\")","v":""},{"$f":"iWeightsComp!AC44","v":0},{"$f":"IF(ISNUMBER(iWeightsComp!AD44),REPT(\"|\",iWeightsComp!AD44/10),\"\")","v":""}]
[null,null,null,{"$f":"iWeightsComp!S45","v":0},{"$f":"iWeightsComp!T45","v":0},{"$f":"iWeightsComp!U45","v":0},{"$f":"iWeightsComp!V45","v":0},{"$f":"IF(ISNUMBER(iWeightsComp!W45),REPT(\"|\",ABS(iWeightsComp!W45)/20),\"\")","v":""},{"$f":"iWeightsComp!X45","v":0},{"$f":"IF(ISNUMBER(iWeightsComp!Y45),REPT(\"|\",iWeightsComp!Y45/20),\"\")","v":""},{"$f":"iWeightsComp!Z45","v":0},{"$f":"iWeightsComp!AA45","v":0},{"$f":"IF(ISNUMBER(iWeightsComp!AB45),REPT(\"|\",ABS(iWeightsComp!AB45)/10),\"\")","v":""},{"$f":"iWeightsComp!AC45","v":0},{"$f":"IF(ISNUMBER(iWeightsComp!AD45),REPT(\"|\",iWeightsComp!AD45/10),\"\")","v":""}]
[null,null,null,{"$f":"iWeightsComp!S46","v":0},{"$f":"iWeightsComp!T46","v":0},{"$f":"iWeightsComp!U46","v":0},{"$f":"iWeightsComp!V46","v":0},{"$f":"IF(ISNUMBER(iWeightsComp!W46),REPT(\"|\",ABS(iWeightsComp!W46)/20),\"\")","v":""},{"$f":"iWeightsComp!X46","v":0},{"$f":"IF(ISNUMBER(iWeightsComp!Y46),REPT(\"|\",iWeightsComp!Y46/20),\"\")","v":""},{"$f":"iWeightsComp!Z46","v":0},{"$f":"iWeightsComp!AA46","v":0},{"$f":"IF(ISNUMBER(iWeightsComp!AB46),REPT(\"|\",ABS(iWeightsComp!AB46)/10),\"\")","v":""},{"$f":"iWeightsComp!AC46","v":0},{"$f":"IF(ISNUMBER(iWeightsComp!AD46),REPT(\"|\",iWeightsComp!AD46/10),\"\")","v":""}]
[null,null,null,{"$f":"iWeightsComp!S47","v":0},{"$f":"iWeightsComp!T47","v":0},{"$f":"iWeightsComp!U47","v":0},{"$f":"iWeightsComp!V47","v":0},{"$f":"IF(ISNUMBER(iWeightsComp!W47),REPT(\"|\",ABS(iWeightsComp!W47)/20),\"\")","v":""},{"$f":"iWeightsComp!X47","v":0},{"$f":"IF(ISNUMBER(iWeightsComp!Y47),REPT(\"|\",iWeightsComp!Y47/20),\"\")","v":""},{"$f":"iWeightsComp!Z47","v":0},{"$f":"iWeightsComp!AA47","v":0},{"$f":"IF(ISNUMBER(iWeightsComp!AB47),REPT(\"|\",ABS(iWeightsComp!AB47)/10),\"\")","v":""},{"$f":"iWeightsComp!AC47","v":0},{"$f":"IF(ISNUMBER(iWeightsComp!AD47),REPT(\"|\",iWeightsComp!AD47/10),\"\")","v":""}]
[null,null,null,{"$f":"iWeightsComp!S48","v":0},{"$f":"iWeightsComp!T48","v":0},{"$f":"iWeightsComp!U48","v":0},{"$f":"iWeightsComp!V48","v":0},{"$f":"IF(ISNUMBER(iWeightsComp!W48),REPT(\"|\",ABS(iWeightsComp!W48)/20),\"\")","v":""},{"$f":"iWeightsComp!X48","v":0},{"$f":"IF(ISNUMBER(iWeightsComp!Y48),REPT(\"|\",iWeightsComp!Y48/20),\"\")","v":""},{"$f":"iWeightsComp!Z48","v":0},{"$f":"iWeightsComp!AA48","v":0},{"$f":"IF(ISNUMBER(iWeightsComp!AB48),REPT(\"|\",ABS(iWeightsComp!AB48)/10),\"\")","v":""},{"$f":"iWeightsComp!AC48","v":0},{"$f":"IF(ISNUMBER(iWeightsComp!AD48),REPT(\"|\",iWeightsComp!AD48/10),\"\")","v":""}]
[null,null,null,{"$f":"iWeightsComp!S49","v":0},{"$f":"iWeightsComp!T49","v":0},{"$f":"iWeightsComp!U49","v":0},{"$f":"iWeightsComp!V49","v":0},{"$f":"IF(ISNUMBER(iWeightsComp!W49),REPT(\"|\",ABS(iWeightsComp!W49)/20),\"\")","v":""},{"$f":"iWeightsComp!X49","v":0},{"$f":"IF(ISNUMBER(iWeightsComp!Y49),REPT(\"|\",iWeightsComp!Y49/20),\"\")","v":""},{"$f":"iWeightsComp!Z49","v":0},{"$f":"iWeightsComp!AA49","v":0},{"$f":"IF(ISNUMBER(iWeightsComp!AB49),REPT(\"|\",ABS(iWeightsComp!AB49)/10),\"\")","v":""},{"$f":"iWeightsComp!AC49","v":0},{"$f":"IF(ISNUMBER(iWeightsComp!AD49),REPT(\"|\",iWeightsComp!AD49/10),\"\")","v":""}]
[null,null,null,{"$f":"iWeightsComp!S50","v":0},{"$f":"iWeightsComp!T50","v":0},{"$f":"iWeightsComp!U50","v":0},{"$f":"iWeightsComp!V50","v":0},{"$f":"IF(ISNUMBER(iWeightsComp!W50),REPT(\"|\",ABS(iWeightsComp!W50)/20),\"\")","v":""},{"$f":"iWeightsComp!X50","v":0},{"$f":"IF(ISNUMBER(iWeightsComp!Y50),REPT(\"|\",iWeightsComp!Y50/20),\"\")","v":""},{"$f":"iWeightsComp!Z50","v":0},{"$f":"iWeightsComp!AA50","v":0},{"$f":"IF(ISNUMBER(iWeightsComp!AB50),REPT(\"|\",ABS(iWeightsComp!AB50)/10),\"\")","v":""},{"$f":"iWeightsComp!AC50","v":0},{"$f":"IF(ISNUMBER(iWeightsComp!AD50),REPT(\"|\",iWeightsComp!AD50/10),\"\")","v":""}]
[null,null,null,{"$f":"iWeightsComp!S51","v":0},{"$f":"iWeightsComp!T51","v":0},{"$f":"iWeightsComp!U51","v":0},{"$f":"iWeightsComp!V51","v":0},{"$f":"IF(ISNUMBER(iWeightsComp!W51),REPT(\"|\",ABS(iWeightsComp!W51)/20),\"\")","v":""},{"$f":"iWeightsComp!X51","v":0},{"$f":"IF(ISNUMBER(iWeightsComp!Y51),REPT(\"|\",iWeightsComp!Y51/20),\"\")","v":""},{"$f":"iWeightsComp!Z51","v":0},{"$f":"iWeightsComp!AA51","v":0},{"$f":"IF(ISNUMBER(iWeightsComp!AB51),REPT(\"|\",ABS(iWeightsComp!AB51)/10),\"\")","v":""},{"$f":"iWeightsComp!AC51","v":0},{"$f":"IF(ISNUMBER(iWeightsComp!AD51),REPT(\"|\",iWeightsComp!AD51/10),\"\")","v":""}]
[null,null,null,{"$f":"iWeightsComp!S52","v":0},{"$f":"iWeightsComp!T52","v":0},{"$f":"iWeightsComp!U52","v":0},{"$f":"iWeightsComp!V52","v":0},{"$f":"IF(ISNUMBER(iWeightsComp!W52),REPT(\"|\",ABS(iWeightsComp!W52)/20),\"\")","v":""},{"$f":"iWeightsComp!X52","v":0},{"$f":"IF(ISNUMBER(iWeightsComp!Y52),REPT(\"|\",iWeightsComp!Y52/20),\"\")","v":""},{"$f":"iWeightsComp!Z52","v":0},{"$f":"iWeightsComp!AA52","v":0},{"$f":"IF(ISNUMBER(iWeightsComp!AB52),REPT(\"|\",ABS(iWeightsComp!AB52)/10),\"\")","v":""},{"$f":"iWeightsComp!AC52","v":0},{"$f":"IF(ISNUMBER(iWeightsComp!AD52),REPT(\"|\",iWeightsComp!AD52/10),\"\")","v":""}]
[null,null,null,{"$f":"iWeightsComp!S53","v":0},{"$f":"iWeightsComp!T53","v":0},{"$f":"iWeightsComp!U53","v":0},{"$f":"iWeightsComp!V53","v":0},{"$f":"IF(ISNUMBER(iWeightsComp!W53),REPT(\"|\",ABS(iWeightsComp!W53)/20),\"\")","v":""},{"$f":"iWeightsComp!X53","v":0},{"$f":"IF(ISNUMBER(iWeightsComp!Y53),REPT(\"|\",iWeightsComp!Y53/20),\"\")","v":""},{"$f":"iWeightsComp!Z53","v":0},{"$f":"iWeightsComp!AA53","v":0},{"$f":"IF(ISNUMBER(iWeightsComp!AB53),REPT(\"|\",ABS(iWeightsComp!AB53)/10),\"\")","v":""},{"$f":"iWeightsComp!AC53","v":0},{"$f":"IF(ISNUMBER(iWeightsComp!AD53),REPT(\"|\",iWeightsComp!AD53/10),\"\")","v":""}]
[null,null,null,{"$f":"iWeightsComp!S54","v":0},{"$f":"iWeightsComp!T54","v":0},{"$f":"iWeightsComp!U54","v":0},{"$f":"iWeightsComp!V54","v":0},{"$f":"IF(ISNUMBER(iWeightsComp!W54),REPT(\"|\",ABS(iWeightsComp!W54)/20),\"\")","v":""},{"$f":"iWeightsComp!X54","v":0},{"$f":"IF(ISNUMBER(iWeightsComp!Y54),REPT(\"|\",iWeightsComp!Y54/20),\"\")","v":""},{"$f":"iWeightsComp!Z54","v":0},{"$f":"iWeightsComp!AA54","v":0},{"$f":"IF(ISNUMBER(iWeightsComp!AB54),REPT(\"|\",ABS(iWeightsComp!AB54)/10),\"\")","v":""},{"$f":"iWeightsComp!AC54","v":0},{"$f":"IF(ISNUMBER(iWeightsComp!AD54),REPT(\"|\",iWeightsComp!AD54/10),\"\")","v":""}]
[null,null,null,{"$f":"iWeightsComp!S55","v":0},{"$f":"iWeightsComp!T55","v":0},{"$f":"iWeightsComp!U55","v":0},{"$f":"iWeightsComp!V55","v":0},{"$f":"IF(ISNUMBER(iWeightsComp!W55),REPT(\"|\",ABS(iWeightsComp!W55)/20),\"\")","v":""},{"$f":"iWeightsComp!X55","v":0},{"$f":"IF(ISNUMBER(iWeightsComp!Y55),REPT(\"|\",iWeightsComp!Y55/20),\"\")","v":""},{"$f":"iWeightsComp!Z55","v":0},{"$f":"iWeightsComp!AA55","v":0},{"$f":"IF(ISNUMBER(iWeightsComp!AB55),REPT(\"|\",ABS(iWeightsComp!AB55)/10),\"\")","v":""},{"$f":"iWeightsComp!AC55","v":0},{"$f":"IF(ISNUMBER(iWeightsComp!AD55),REPT(\"|\",iWeightsComp!AD55/10),\"\")","v":""}]
[null,null,null,{"$f":"iWeightsComp!S56","v":0},{"$f":"iWeightsComp!T56","v":0},{"$f":"iWeightsComp!U56","v":0},{"$f":"iWeightsComp!V56","v":0},{"$f":"IF(ISNUMBER(iWeightsComp!W56),REPT(\"|\",ABS(iWeightsComp!W56)/20),\"\")","v":""},{"$f":"iWeightsComp!X56","v":0},{"$f":"IF(ISNUMBER(iWeightsComp!Y56),REPT(\"|\",iWeightsComp!Y56/20),\"\")","v":""},{"$f":"iWeightsComp!Z56","v":0},{"$f":"iWeightsComp!AA56","v":0},{"$f":"IF(ISNUMBER(iWeightsComp!AB56),REPT(\"|\",ABS(iWeightsComp!AB56)/10),\"\")","v":""},{"$f":"iWeightsComp!AC56","v":0},{"$f":"IF(ISNUMBER(iWeightsComp!AD56),REPT(\"|\",iWeightsComp!AD56/10),\"\")","v":""}]
[null,null,null,{"$f":"iWeightsComp!S57","v":0},{"$f":"iWeightsComp!T57","v":0},{"$f":"iWeightsComp!U57","v":0},{"$f":"iWeightsComp!V57","v":0},{"$f":"IF(ISNUMBER(iWeightsComp!W57),REPT(\"|\",ABS(iWeightsComp!W57)/20),\"\")","v":""},{"$f":"iWeightsComp!X57","v":0},{"$f":"IF(ISNUMBER(iWeightsComp!Y57),REPT(\"|\",iWeightsComp!Y57/20),\"\")","v":""},{"$f":"iWeightsComp!Z57","v":0},{"$f":"iWeightsComp!AA57","v":0},{"$f":"IF(ISNUMBER(iWeightsComp!AB57),REPT(\"|\",ABS(iWeightsComp!AB57)/10),\"\")","v":""},{"$f":"iWeightsComp!AC57","v":0},{"$f":"IF(ISNUMBER(iWeightsComp!AD57),REPT(\"|\",iWeightsComp!AD57/10),\"\")","v":""}]
[null,null,null,{"$f":"iWeightsComp!S58","v":0},{"$f":"iWeightsComp!T58","v":0},{"$f":"iWeightsComp!U58","v":0},{"$f":"iWeightsComp!V58","v":0},{"$f":"IF(ISNUMBER(iWeightsComp!W58),REPT(\"|\",ABS(iWeightsComp!W58)/20),\"\")","v":""},{"$f":"iWeightsComp!X58","v":0},{"$f":"IF(ISNUMBER(iWeightsComp!Y58),REPT(\"|\",iWeightsComp!Y58/20),\"\")","v":""},{"$f":"iWeightsComp!Z58","v":0},{"$f":"iWeightsComp!AA58","v":0},{"$f":"IF(ISNUMBER(iWeightsComp!AB58),REPT(\"|\",ABS(iWeightsComp!AB58)/10),\"\")","v":""},{"$f":"iWeightsComp!AC58","v":0},{"$f":"IF(ISNUMBER(iWeightsComp!AD58),REPT(\"|\",iWeightsComp!AD58/10),\"\")","v":""}]
[null,null,null,{"$f":"iWeightsComp!S59","v":0},{"$f":"iWeightsComp!T59","v":0},{"$f":"iWeightsComp!U59","v":0},{"$f":"iWeightsComp!V59","v":0},{"$f":"IF(ISNUMBER(iWeightsComp!W59),REPT(\"|\",ABS(iWeightsComp!W59)/20),\"\")","v":""},{"$f":"iWeightsComp!X59","v":0},{"$f":"IF(ISNUMBER(iWeightsComp!Y59),REPT(\"|\",iWeightsComp!Y59/20),\"\")","v":""},{"$f":"iWeightsComp!Z59","v":0},{"$f":"iWeightsComp!AA59","v":0},{"$f":"IF(ISNUMBER(iWeightsComp!AB59),REPT(\"|\",ABS(iWeightsComp!AB59)/10),\"\")","v":""},{"$f":"iWeightsComp!AC59","v":0},{"$f":"IF(ISNUMBER(iWeightsComp!AD59),REPT(\"|\",iWeightsComp!AD59/10),\"\")","v":""}]
[null,null,null,{"$f":"iWeightsComp!S60","v":0},{"$f":"iWeightsComp!T60","v":0},{"$f":"iWeightsComp!U60","v":0},{"$f":"iWeightsComp!V60","v":0},{"$f":"IF(ISNUMBER(iWeightsComp!W60),REPT(\"|\",ABS(iWeightsComp!W60)/20),\"\")","v":""},{"$f":"iWeightsComp!X60","v":0},{"$f":"IF(ISNUMBER(iWeightsComp!Y60),REPT(\"|\",iWeightsComp!Y60/20),\"\")","v":""},{"$f":"iWeightsComp!Z60","v":0},{"$f":"iWeightsComp!AA60","v":0},{"$f":"IF(ISNUMBER(iWeightsComp!AB60),REPT(\"|\",ABS(iWeightsComp!AB60)/10),\"\")","v":""},{"$f":"iWeightsComp!AC60","v":0},{"$f":"IF(ISNUMBER(iWeightsComp!AD60),REPT(\"|\",iWeightsComp!AD60/10),\"\")","v":""}]
[null,null,null,{"$f":"iWeightsComp!S61","v":0},{"$f":"iWeightsComp!T61","v":0},{"$f":"iWeightsComp!U61","v":0},{"$f":"iWeightsComp!V61","v":0},{"$f":"IF(ISNUMBER(iWeightsComp!W61),REPT(\"|\",ABS(iWeightsComp!W61)/20),\"\")","v":""},{"$f":"iWeightsComp!X61","v":0},{"$f":"IF(ISNUMBER(iWeightsComp!Y61),REPT(\"|\",iWeightsComp!Y61/20),\"\")","v":""},{"$f":"iWeightsComp!Z61","v":0},{"$f":"iWeightsComp!AA61","v":0},{"$f":"IF(ISNUMBER(iWeightsComp!AB61),REPT(\"|\",ABS(iWeightsComp!AB61)/10),\"\")","v":""},{"$f":"iWeightsComp!AC61","v":0},{"$f":"IF(ISNUMBER(iWeightsComp!AD61),REPT(\"|\",iWeightsComp!AD61/10),\"\")","v":""}]

{"sheet":"Methodology","index":58,"n_rows":4,"n_cols":2,"rows_kept":4,"cut":false,"hidden":true,"merged":[]}
[]
[]
[]
[null,"Methodology"]

{"sheet":"Weights2","index":59,"n_rows":45,"n_cols":22,"rows_kept":45,"cut":false,"hidden":true,"merged":[[5,6,5,9],[5,10,5,13],[5,14,5,17],[5,18,5,21]]}
[]
[]
[null,null,null,null,null,"SELECT WEIGHT PROFILE"]
[]
[]
[null,null,null,null,null,"MAIN CATEGORIES",{"$f":"tblTerritories!AA4","v":"Weight Profile: Upper income"},null,null,null,{"$f":"tblTerritories!AA5","v":"Weight Profile: Lower middle income"},null,null,null,{"$f":"tblTerritories!AA6","v":"Weight Profile: low income"},null,null,null,{"$f":"tblTerritories!AA7","v":"Weight Profile: Least developed"}]
[null,null,{"$f":"iWeights!C5","v":"EP"},{"$f":"iWeights!D5","v":2},{"$f":"iWeights!E5","v":1},{"$f":"iWeights!F5","v":"1) ECONOMIC PILLAR"},1,{"$f":"INDEX(tblIndicators!X$2:X$33,D7)","v":0.33333333333333331},null,{"$f":"REPT(\"|\",H7*50)","v":"||||||||||||||||"},1,{"$f":"INDEX(tblIndicators!AF$2:AF$33,D7)","v":0.33333333333333331},null,{"$f":"REPT(\"|\",L7*50)","v":"||||||||||||||||"},1,{"$f":"INDEX(tblIndicators!AI$2:AI$33,D7)","v":0.33333333333333331},null,{"$f":"REPT(\"|\",P7*50)","v":"||||||||||||||||"},1,{"$f":"INDEX(tblIndicators!AL$2:AL$33,D7)","v":0.33333333333333331},null,{"$f":"REPT(\"|\",T7*50)","v":"||||||||||||||||"}]
[null,null,{"$f":"iWeights!C6","v":"SP"},{"$f":"iWeights!D6","v":21},{"$f":"iWeights!E6","v":1},{"$f":"iWeights!F6","v":"2) SOCIAL PILLAR"},1,{"$f":"INDEX(tblIndicators!X$2:X$33,D8)","v":0.33333333333333331},null,{"$f":"REPT(\"|\",H8*50)","v":"||||||||||||||||"},1,{"$f":"INDEX(tblIndicators!AF$2:AF$33,D8)","v":0.33333333333333331},null,{"$f":"REPT(\"|\",L8*50)","v":"||||||||||||||||"},1,{"$f":"INDEX(tblIndicators!AI$2:AI$33,D8)","v":0.33333333333333331},null,{"$f":"REPT(\"|\",P8*50)","v":"||||||||||||||||"},1,{"$f":"INDEX(tblIndicators!AL$2:AL$33,D8)","v":0.33333333333333331},null,{"$f":"REPT(\"|\",T8*50)","v":"||||||||||||||||"}]
[null,null,{"$f":"iWeights!C7","v":"ENP"},{"$f":"iWeights!D7","v":26},{"$f":"iWeights!E7","v":1},{"$f":"iWeights!F7","v":"3) ENVIRONMENTAL PILLAR"},1,{"$f":"INDEX(tblIndicators!X$2:X$33,D9)","v":0.33333333333333331},null,{"$f":"REPT(\"|\",H9*50)","v":"||||||||||||||||"},1,{"$f":"INDEX(tblIndicators!AF$2:AF$33,D9)","v":0.33333333333333331},null,{"$f":"REPT(\"|\",L9*50)","v":"||||||||||||||||"},1,{"$f":"INDEX(tblIndicators!AI$2:AI$33,D9)","v":0.33333333333333331},null,{"$f":"REPT(\"|\",P9*50)","v":"||||||||||||||||"},1,{"$f":"INDEX(tblIndicators!AL$2:AL$33,D9)","v":0.33333333333333331},null,{"$f":"REPT(\"|\",T9*50)","v":"||||||||||||||||"}]
[]
[null,null,null,null,null,"INDICATORS",null,"Weight %",null,null,null,"Weight %",null,null,null,"Weight %",null,null,null,"Weight %"]
[null,null,{"$f":"iWeights!C10","v":"EP"},{"$f":"iWeights!D10","v":2},{"$f":"iWeights!E10","v":1},{"$f":"iWeights!F10","v":"1) ECONOMIC PILLAR"}]
[null,null,{"$f":"iWeights!C11","v":"EP_10"},{"$f":"iWeights!D11","v":3},{"$f":"iWeights!E11","v":2},{"$f":"iWeights!F11","v":"1.10) Growth in per capita GDP"},1,{"$f":"INDEX(tblIndicators!X$2:X$33,D13)","v":7.1428571428571452E-2},null,{"$f":"REPT(\"|\",H13*50)","v":"|||"},1,{"$f":"INDEX(tblIndicators!AF$2:AF$33,D13)","v":7.1428571428571425E-2},null,{"$f":"REPT(\"|\",L13*50)","v":"|||"},1,{"$f":"INDEX(tblIndicators!AI$2:AI$33,D13)","v":7.1428571428571425E-2},null,{"$f":"REPT(\"|\",P13*50)","v":"|||"},1,{"$f":"INDEX(tblIndicators!AL$2:AL$33,D13)","v":7.1428571428571425E-2},null,{"$f":"REPT(\"|\",T13*50)","v":"|||"}]
[null,null,{"$f":"iWeights!C12","v":"EP_11"},{"$f":"iWeights!D12","v":4},{"$f":"iWeights!E12","v":2},{"$f":"iWeights!F12","v":"1.11) Current account liberalisation"},1,{"$f":"INDEX(tblIndicators!X$2:X$33,D14)","v":7.1428571428571452E-2},null,{"$f":"REPT(\"|\",H14*50)","v":"|||"},1,{"$f":"INDEX(tblIndicators!AF$2:AF$33,D14)","v":7.1428571428571425E-2},null,{"$f":"REPT(\"|\",L14*50)","v":"|||"},1,{"$f":"INDEX(tblIndicators!AI$2:AI$33,D14)","v":7.1428571428571425E-2},null,{"$f":"REPT(\"|\",P14*50)","v":"|||"},1,{"$f":"INDEX(tblIndicators!AL$2:AL$33,D14)","v":7.1428571428571425E-2},null,{"$f":"REPT(\"|\",T14*50)","v":"|||"}]
[null,null,{"$f":"iWeights!C13","v":"EP_12"},{"$f":"iWeights!D13","v":5},{"$f":"iWeights!E13","v":2},{"$f":"iWeights!F13","v":"1.12) Tariff & non-tariff barriers"},1,{"$f":"INDEX(tblIndicators!X$2:X$33,D15)","v":7.1428571428571452E-2},null,"|||",1,{"$f":"INDEX(tblIndicators!AF$2:AF$33,D15)","v":7.1428571428571425E-2},null,"|||",1,{"$f":"INDEX(tblIndicators!AI$2:AI$33,D15)","v":7.1428571428571425E-2},null,"|||",1,{"$f":"INDEX(tblIndicators!AL$2:AL$33,D15)","v":7.1428571428571425E-2},null,"|||"]
[null,null,{"$f":"iWeights!C14","v":"EP_13"},{"$f":"iWeights!D14","v":6},{"$f":"iWeights!E14","v":2},{"$f":"iWeights!F14","v":"1.13) Exchange rate volatility"},1,{"$f":"INDEX(tblIndicators!X$2:X$33,D16)","v":7.1428571428571452E-2},null,"|||",1,{"$f":"INDEX(tblIndicators!AF$2:AF$33,D16)","v":7.1428571428571425E-2},null,"|||",1,{"$f":"INDEX(tblIndicators!AI$2:AI$33,D16)","v":7.1428571428571425E-2},null,"|||",1,{"$f":"INDEX(tblIndicators!AL$2:AL$33,D16)","v":7.1428571428571425E-2},null,"|||"]
[null,null,{"$f":"iWeights!C15","v":"EP_14"},{"$f":"iWeights!D15","v":7},{"$f":"iWeights!E15","v":2},{"$f":"iWeights!F15","v":"1.14) Financial sector depth"},1,{"$f":"INDEX(tblIndicators!X$2:X$33,D17)","v":7.1428571428571452E-2},null,"|||",1,{"$f":"INDEX(tblIndicators!AF$2:AF$33,D17)","v":7.1428571428571425E-2},null,"|||",1,{"$f":"INDEX(tblIndicators!AI$2:AI$33,D17)","v":7.1428571428571425E-2},null,"|||",1,{"$f":"INDEX(tblIndicators!AL$2:AL$33,D17)","v":7.1428571428571425E-2},null,"|||"]
[null,null,{"$f":"iWeights!C16","v":"EP_15"},{"$f":"iWeights!D16","v":8},{"$f":"iWeights!E16","v":2},{"$f":"iWeights!F16","v":"1.15) Foreign trade and payments risk"},1,{"$f":"INDEX(tblIndicators!X$2:X$33,D18)","v":7.1428571428571452E-2},null,"|||",1,{"$f":"INDEX(tblIndicators!AF$2:AF$33,D18)","v":7.1428571428571425E-2},null,"|||",1,{"$f":"INDEX(tblIndicators!AI$2:AI$33,D18)","v":7.1428571428571425E-2},null,"|||",1,{"$f":"INDEX(tblIndicators!AL$2:AL$33,D18)","v":7.1428571428571425E-2},null,"|||"]
[null,null,{"$f":"iWeights!C17","v":"EP_16"},{"$f":"iWeights!D17","v":9},{"$f":"iWeights!E17","v":2},{"$f":"iWeights!F17","v":"1.16) Export market concentration"},1,{"$f":"INDEX(tblIndicators!X$2:X$33,D19)","v":7.1428571428571452E-2},null,"|||",1,{"$f":"INDEX(tblIndicators!AF$2:AF$33,D19)","v":7.1428571428571425E-2},null,"|||",1,{"$f":"INDEX(tblIndicators!AI$2:AI$33,D19)","v":7.1428571428571425E-2},null,"|||",1,{"$f":"INDEX(tblIndicators!AL$2:AL$33,D19)","v":7.1428571428571425E-2},null,"|||"]
[null,null,{"$f":"iWeights!C18","v":"EP_17"},{"$f":"iWeights!D18","v":10},{"$f":"iWeights!E18","v":2},{"$f":"iWeights!F18","v":"1.17) Export product concentration"},1,{"$f":"INDEX(tblIndicators!X$2:X$33,D20)","v":7.1428571428571452E-2},null,"|||",1,{"$f":"INDEX(tblIndicators!AF$2:AF$33,D20)","v":7.1428571428571425E-2},null,"|||",1,{"$f":"INDEX(tblIndicators!AI$2:AI$33,D20)","v":7.1428571428571425E-2},null,"|||",1,{"$f":"INDEX(tblIndicators!AL$2:AL$33,D20)","v":7.1428571428571425E-2},null,"|||"]
[null,null,{"$f":"iWeights!C19","v":"EP_18"},{"$f":"iWeights!D19","v":11},{"$f":"iWeights!E19","v":2},{"$f":"iWeights!F19","v":"1.18) Foreign Direct Investment"},1,{"$f":"INDEX(tblIndicators!X$2:X$33,D21)","v":7.1428571428571452E-2},null,"|||",1,{"$f":"INDEX(tblIndicators!AF$2:AF$33,D21)","v":7.1428571428571425E-2},null,"|||",1,{"$f":"INDEX(tblIndicators!AI$2:AI$33,D21)","v":7.1428571428571425E-2},null,"|||",1,{"$f":"INDEX(tblIndicators!AL$2:AL$33,D21)","v":7.1428571428571425E-2},null,"|||"]
[null,null,{"$f":"iWeights!C20","v":"EP_19"},{"$f":"iWeights!D20","v":12},{"$f":"iWeights!E20","v":2},{"$f":"iWeights!F20","v":"1.19) Gross fixed capital formation"},1,{"$f":"INDEX(tblIndicators!X$2:X$33,D22)","v":7.1428571428571452E-2},null,"|||",1,{"$f":"INDEX(tblIndicators!AF$2:AF$33,D22)","v":7.1428571428571425E-2},null,"|||",1,{"$f":"INDEX(tblIndicators!AI$2:AI$33,D22)","v":7.1428571428571425E-2},null,"|||",1,{"$f":"INDEX(tblIndicators!AL$2:AL$33,D22)","v":7.1428571428571425E-2},null,"|||"]
[null,null,{"$f":"iWeights!C21","v":"EP_20"},{"$f":"iWeights!D21","v":13},{"$f":"iWeights!E21","v":2},{"$f":"iWeights!F21","v":"1.20) Trade costs"},1,{"$f":"INDEX(tblIndicators!X$2:X$33,D23)","v":7.1428571428571452E-2},null,"|||",1,{"$f":"INDEX(tblIndicators!AF$2:AF$33,D23)","v":7.1428571428571425E-2},null,"|||",1,{"$f":"INDEX(tblIndicators!AI$2:AI$33,D23)","v":7.1428571428571425E-2},null,"|||",1,{"$f":"INDEX(tblIndicators!AL$2:AL$33,D23)","v":7.1428571428571425E-2},null,"|||"]
[null,null,{"$f":"iWeights!C22","v":"EP_21"},{"$f":"iWeights!D22","v":18},{"$f":"iWeights!E22","v":2},{"$f":"iWeights!F22","v":"1.21) Technological innovation"},1,{"$f":"INDEX(tblIndicators!X$2:X$33,D24)","v":7.1428571428571452E-2},null,"|||",1,{"$f":"INDEX(tblIndicators!AF$2:AF$33,D24)","v":7.1428571428571425E-2},null,"|||",1,{"$f":"INDEX(tblIndicators!AI$2:AI$33,D24)","v":7.1428571428571425E-2},null,"|||",1,{"$f":"INDEX(tblIndicators!AL$2:AL$33,D24)","v":7.1428571428571425E-2},null,"|||"]
[null,null,{"$f":"iWeights!C23","v":"EP_22"},{"$f":"iWeights!D23","v":19},{"$f":"iWeights!E23","v":2},{"$f":"iWeights!F23","v":"1.22) Technological infrastructure"},1,{"$f":"INDEX(tblIndicators!X$2:X$33,D25)","v":7.1428571428571452E-2},null,"|||",1,{"$f":"INDEX(tblIndicators!AF$2:AF$33,D25)","v":7.1428571428571425E-2},null,"|||",1,{"$f":"INDEX(tblIndicators!AI$2:AI$33,D25)","v":7.1428571428571425E-2},null,"|||",1,{"$f":"INDEX(tblIndicators!AL$2:AL$33,D25)","v":7.1428571428571425E-2},null,"|||"]
[null,null,{"$f":"iWeights!C24","v":"EP_23"},{"$f":"iWeights!D24","v":20},{"$f":"iWeights!E24","v":2},{"$f":"iWeights!F24","v":"1.23) Growth in labour force"},1,{"$f":"INDEX(tblIndicators!X$2:X$33,D26)","v":7.1428571428571452E-2},null,"|||",1,{"$f":"INDEX(tblIndicators!AF$2:AF$33,D26)","v":7.1428571428571425E-2},null,"|||",1,{"$f":"INDEX(tblIndicators!AI$2:AI$33,D26)","v":7.1428571428571425E-2},null,"|||",1,{"$f":"INDEX(tblIndicators!AL$2:AL$33,D26)","v":7.1428571428571425E-2},null,"|||"]
[null,null,{"$f":"iWeights!C25","v":"SP"},{"$f":"iWeights!D25","v":21},{"$f":"iWeights!E25","v":1},{"$f":"iWeights!F25","v":"2) SOCIAL PILLAR"}]
[null,null,{"$f":"iWeights!C26","v":"SP_10"},{"$f":"iWeights!D26","v":22},{"$f":"iWeights!E26","v":2},{"$f":"iWeights!F26","v":"2.1) Inequality (Gini coefficient)"},1,{"$f":"INDEX(tblIndicators!X$2:X$33,D28)","v":0.25},null,"||||||||||||",1,{"$f":"INDEX(tblIndicators!AF$2:AF$33,D28)","v":0.25},null,{"$f":"REPT(\"|\",L28*50)","v":"||||||||||||"},1,{"$f":"INDEX(tblIndicators!AI$2:AI$33,D28)","v":0.25},null,{"$f":"REPT(\"|\",P28*50)","v":"||||||||||||"},1,{"$f":"INDEX(tblIndicators!AL$2:AL$33,D28)","v":0.25},null,{"$f":"REPT(\"|\",T28*50)","v":"||||||||||||"}]
[null,null,{"$f":"iWeights!C27","v":"SP_11"},{"$f":"iWeights!D27","v":23},{"$f":"iWeights!E27","v":2},{"$f":"iWeights!F27","v":"2.2) Educational attainment"},1,{"$f":"INDEX(tblIndicators!X$2:X$33,D29)","v":0.25},null,"||||||||||||",1,{"$f":"INDEX(tblIndicators!AF$2:AF$33,D29)","v":0.25},null,"||||||||||||",1,{"$f":"INDEX(tblIndicators!AI$2:AI$33,D29)","v":0.25},null,"||||||||||||",1,{"$f":"INDEX(tblIndicators!AL$2:AL$33,D29)","v":0.25},null,"||||||||||||"]
[null,null,{"$f":"iWeights!C28","v":"SP_12"},{"$f":"iWeights!D28","v":24},{"$f":"iWeights!E28","v":2},{"$f":"iWeights!F28","v":"2.3) Labour standards"},1,{"$f":"INDEX(tblIndicators!X$2:X$33,D30)","v":0.25},null,"||||||||||||",1,{"$f":"INDEX(tblIndicators!AF$2:AF$33,D30)","v":0.25},null,"||||||||||||",1,{"$f":"INDEX(tblIndicators!AI$2:AI$33,D30)","v":0.25},null,"||||||||||||",1,{"$f":"INDEX(tblIndicators!AL$2:AL$33,D30)","v":0.25},null,"||||||||||||"]
[null,null,{"$f":"iWeights!C29","v":"SP_13"},{"$f":"iWeights!D29","v":25},{"$f":"iWeights!E29","v":2},{"$f":"iWeights!F29","v":"2.4) Political stability"},1,{"$f":"INDEX(tblIndicators!X$2:X$33,D31)","v":0.25},null,"||||||||||||",1,{"$f":"INDEX(tblIndicators!AF$2:AF$33,D31)","v":0.25},null,"||||||||||||",1,{"$f":"INDEX(tblIndicators!AI$2:AI$33,D31)","v":0.25},null,"||||||||||||",1,{"$f":"INDEX(tblIndicators!AL$2:AL$33,D31)","v":0.25},null,"||||||||||||"]
[null,null,{"$f":"iWeights!C30","v":"ENP"},{"$f":"iWeights!D30","v":26},{"$f":"iWeights!E30","v":1},{"$f":"iWeights!F30","v":"3) ENVIRONMENTAL PILLAR"}]
[null,null,{"$f":"iWeights!C31","v":"ENP_10"},{"$f":"iWeights!D31","v":27},{"$f":"iWeights!E31","v":2},{"$f":"iWeights!F31","v":"3.1) Air pollution"},1,{"$f":"INDEX(tblIndicators!X$2:X$33,D33)","v":0.16666666666666669},null,"||||||||",1,{"$f":"INDEX(tblIndicators!AF$2:AF$33,D33)","v":0.16666666666666666},null,{"$f":"REPT(\"|\",L33*50)","v":"||||||||"},1,{"$f":"INDEX(tblIndicators!AI$2:AI$33,D33)","v":0.16666666666666666},null,{"$f":"REPT(\"|\",P33*50)","v":"||||||||"},1,{"$f":"INDEX(tblIndicators!AL$2:AL$33,D33)","v":0.16666666666666666},null,{"$f":"REPT(\"|\",T33*50)","v":"||||||||"}]
[null,null,{"$f":"iWeights!C32","v":"ENP_11"},{"$f":"iWeights!D32","v":28},{"$f":"iWeights!E32","v":2},{"$f":"iWeights!F32","v":"3.2) Deforestation"},1,{"$f":"INDEX(tblIndicators!X$2:X$33,D34)","v":0.16666666666666669},null,"||||||||",1,{"$f":"INDEX(tblIndicators!AF$2:AF$33,D34)","v":0.16666666666666666},null,"||||||||",1,{"$f":"INDEX(tblIndicators!AI$2:AI$33,D34)","v":0.16666666666666666},null,"||||||||",1,{"$f":"INDEX(tblIndicators!AL$2:AL$33,D34)","v":0.16666666666666666},null,"||||||||"]
[null,null,{"$f":"iWeights!C33","v":"ENP_12"},{"$f":"iWeights!D33","v":29},{"$f":"iWeights!E33","v":2},{"$f":"iWeights!F33","v":"3.3) Water pollution"},1,{"$f":"INDEX(tblIndicators!X$2:X$33,D35)","v":0.16666666666666669},null,"||||||||",1,{"$f":"INDEX(tblIndicators!AF$2:AF$33,D35)","v":0.16666666666666666},null,"||||||||",1,{"$f":"INDEX(tblIndicators!AI$2:AI$33,D35)","v":0.16666666666666666},null,"||||||||",1,{"$f":"INDEX(tblIndicators!AL$2:AL$33,D35)","v":0.16666666666666666},null,"||||||||"]
[null,null,{"$f":"iWeights!C34","v":"ENP_13"},{"$f":"iWeights!D34","v":30},{"$f":"iWeights!E34","v":2},{"$f":"iWeights!F34","v":"3.4) Environmental standards in trade"},1,{"$f":"INDEX(tblIndicators!X$2:X$33,D36)","v":0.16666666666666669},null,"||||||||",1,{"$f":"INDEX(tblIndicators!AF$2:AF$33,D36)","v":0.16666666666666666},null,"||||||||",1,{"$f":"INDEX(tblIndicators!AI$2:AI$33,D36)","v":0.16666666666666666},null,"||||||||",1,{"$f":"INDEX(tblIndicators!AL$2:AL$33,D36)","v":0.16666666666666666},null,"||||||||"]
[null,null,{"$f":"iWeights!C35","v":"ENP_14"},{"$f":"iWeights!D35","v":31},{"$f":"iWeights!E35","v":2},{"$f":"iWeights!F35","v":"3.5) Carbon emissions in trade"},1,{"$f":"INDEX(tblIndicators!X$2:X$33,D37)","v":0.16666666666666669},null,"||||||||",1,{"$f":"INDEX(tblIndicators!AF$2:AF$33,D37)","v":0.16666666666666666},null,"||||||||",1,{"$f":"INDEX(tblIndicators!AI$2:AI$33,D37)","v":0.16666666666666666},null,"||||||||",1,{"$f":"INDEX(tblIndicators!AL$2:AL$33,D37)","v":0.16666666666666666},null,"||||||||"]
[null,null,{"$f":"iWeights!C36","v":"ENP_15"},{"$f":"iWeights!D36","v":32},{"$f":"iWeights!E36","v":2},{"$f":"iWeights!F36","v":"3.6) Share of natural resources in trade"},1,{"$f":"INDEX(tblIndicators!X$2:X$33,D38)","v":0.16666666666666669},null,"||||||||",1,{"$f":"INDEX(tblIndicators!AF$2:AF$33,D38)","v":0.16666666666666666},null,"||||||||",1,{"$f":"INDEX(tblIndicators!AI$2:AI$33,D38)","v":0.16666666666666666},null,"||||||||",1,{"$f":"INDEX(tblIndicators!AL$2:AL$33,D38)","v":0.16666666666666666},null,"||||||||"]
[]
[null,null,null,null,null,"SUB-INDICATORS",null,"Weight %",null,null,null,"Weight %",null,null,null,"Weight %",null,null,null,"Weight %"]
[null,null,{"$f":"tblIndiSets!A56","v":"EP_20"},{"$f":"iWeights!D39","v":13},{"$f":"iWeights!E39","v":2},{"$f":"iWeights!F39","v":"    1.20) Trade costs"}]
[null,null,{"$f":"tblIndiSets!A57","v":"EP_20_1"},{"$f":"iWeights!D40","v":14},{"$f":"iWeights!E40","v":3},{"$f":"iWeights!F40","v":"      1.20.1)    Infrastructure"},1,{"$f":"INDEX(tblIndicators!X$2:X$33,D42)","v":0.25},null,{"$f":"REPT(\"|\",H42*50)","v":"||||||||||||"},1,{"$f":"INDEX(tblIndicators!AF$2:AF$33,D42)","v":0.25},null,{"$f":"REPT(\"|\",L42*50)","v":"||||||||||||"},1,{"$f":"INDEX(tblIndicators!AI$2:AI$33,D42)","v":0.25},null,{"$f":"REPT(\"|\",P42*50)","v":"||||||||||||"},1,{"$f":"INDEX(tblIndicators!AL$2:AL$33,D42)","v":0.25},null,{"$f":"REPT(\"|\",T42*50)","v":"||||||||||||"}]
[null,null,{"$f":"tblIndiSets!A58","v":"EP_20_2"},{"$f":"iWeights!D41","v":15},{"$f":"iWeights!E41","v":3},{"$f":"iWeights!F41","v":"      1.20.2)    Logistics performance"},1,{"$f":"INDEX(tblIndicators!X$2:X$33,D43)","v":0.25},null,"||||||||||||",1,{"$f":"INDEX(tblIndicators!AF$2:AF$33,D43)","v":0.25},null,"||||||||||||",1,{"$f":"INDEX(tblIndicators!AI$2:AI$33,D43)","v":0.25},null,"||||||||||||",1,{"$f":"INDEX(tblIndicators!AL$2:AL$33,D43)","v":0.25},null,"||||||||||||"]
[null,null,{"$f":"tblIndiSets!A59","v":"EP_20_3"},{"$f":"iWeights!D42","v":16},{"$f":"iWeights!E42","v":3},{"$f":"iWeights!F42","v":"      1.20.3)    Corruption"},1,{"$f":"INDEX(tblIndicators!X$2:X$33,D44)","v":0.25},null,"||||||||||||",1,{"$f":"INDEX(tblIndicators!AF$2:AF$33,D44)","v":0.25},null,"||||||||||||",1,{"$f":"INDEX(tblIndicators!AI$2:AI$33,D44)","v":0.25},null,"||||||||||||",1,{"$f":"INDEX(tblIndicators!AL$2:AL$33,D44)","v":0.25},null,"||||||||||||"]
[null,null,{"$f":"tblIndiSets!A60","v":"EP_20_4"},{"$f":"iWeights!D43","v":17},{"$f":"iWeights!E43","v":3},{"$f":"iWeights!F43","v":"      1.20.4)    Legal system"},1,{"$f":"INDEX(tblIndicators!X$2:X$33,D45)","v":0.25},null,"||||||||||||",1,{"$f":"INDEX(tblIndicators!AF$2:AF$33,D45)","v":0.25},null,"||||||||||||",1,{"$f":"INDEX(tblIndicators!AI$2:AI$33,D45)","v":0.25},null,"||||||||||||",1,{"$f":"INDEX(tblIndicators!AL$2:AL$33,D45)","v":0.25},null,"||||||||||||"]

{"sheet":"iWeightsSet","index":60,"n_rows":45,"n_cols":6,"rows_kept":45,"cut":false,"hidden":true,"merged":[]}
[]
[]
[]
[]
[]
[]
[null,{"$f":"Weights2!F7","v":"1) ECONOMIC PILLAR"},{"$f":"Weights2!G7","v":1},{"$f":"Weights2!K7","v":1},{"$f":"Weights2!O7","v":1},{"$f":"Weights2!S7","v":1}]
[null,{"$f":"Weights2!F8","v":"2) SOCIAL PILLAR"},{"$f":"Weights2!G8","v":1},{"$f":"Weights2!K8","v":1},{"$f":"Weights2!O8","v":1},{"$f":"Weights2!S8","v":1}]
[null,{"$f":"Weights2!F9","v":"3) ENVIRONMENTAL PILLAR"},{"$f":"Weights2!G9","v":1},{"$f":"Weights2!K9","v":1},{"$f":"Weights2!O9","v":1},{"$f":"Weights2!S9","v":1}]
[]
[null,{"$f":"Weights2!F11","v":"INDICATORS"}]
[null,{"$f":"Weights2!F12","v":"1) ECONOMIC PILLAR"}]
[null,{"$f":"Weights2!F13","v":"1.10) Growth in per capita GDP"},{"$f":"Weights2!G13","v":1},{"$f":"Weights2!K13","v":1},{"$f":"Weights2!O13","v":1},{"$f":"Weights2!S13","v":1}]
[null,{"$f":"Weights2!F14","v":"1.11) Current account liberalisation"},{"$f":"Weights2!G14","v":1},{"$f":"Weights2!K14","v":1},{"$f":"Weights2!O14","v":1},{"$f":"Weights2!S14","v":1}]
[null,{"$f":"Weights2!F15","v":"1.12) Tariff & non-tariff barriers"},{"$f":"Weights2!G15","v":1},{"$f":"Weights2!K15","v":1},{"$f":"Weights2!O15","v":1},{"$f":"Weights2!S15","v":1}]
[null,{"$f":"Weights2!F16","v":"1.13) Exchange rate volatility"},{"$f":"Weights2!G16","v":1},{"$f":"Weights2!K16","v":1},{"$f":"Weights2!O16","v":1},{"$f":"Weights2!S16","v":1}]
[null,{"$f":"Weights2!F17","v":"1.14) Financial sector depth"},{"$f":"Weights2!G17","v":1},{"$f":"Weights2!K17","v":1},{"$f":"Weights2!O17","v":1},{"$f":"Weights2!S17","v":1}]
[null,{"$f":"Weights2!F18","v":"1.15) Foreign trade and payments risk"},{"$f":"Weights2!G18","v":1},{"$f":"Weights2!K18","v":1},{"$f":"Weights2!O18","v":1},{"$f":"Weights2!S18","v":1}]
[null,{"$f":"Weights2!F19","v":"1.16) Export market concentration"},{"$f":"Weights2!G19","v":1},{"$f":"Weights2!K19","v":1},{"$f":"Weights2!O19","v":1},{"$f":"Weights2!S19","v":1}]
[null,{"$f":"Weights2!F20","v":"1.17) Export product concentration"},{"$f":"Weights2!G20","v":1},{"$f":"Weights2!K20","v":1},{"$f":"Weights2!O20","v":1},{"$f":"Weights2!S20","v":1}]
[null,{"$f":"Weights2!F21","v":"1.18) Foreign Direct Investment"},{"$f":"Weights2!G21","v":1},{"$f":"Weights2!K21","v":1},{"$f":"Weights2!O21","v":1},{"$f":"Weights2!S21","v":1}]
[null,{"$f":"Weights2!F22","v":"1.19) Gross fixed capital formation"},{"$f":"Weights2!G22","v":1},{"$f":"Weights2!K22","v":1},{"$f":"Weights2!O22","v":1},{"$f":"Weights2!S22","v":1}]
[null,{"$f":"Weights2!F23","v":"1.20) Trade costs"},{"$f":"Weights2!G23","v":1},{"$f":"Weights2!K23","v":1},{"$f":"Weights2!O23","v":1},{"$f":"Weights2!S23","v":1}]
[null,{"$f":"Weights2!F24","v":"1.21) Technological innovation"},{"$f":"Weights2!G24","v":1},{"$f":"Weights2!K24","v":1},{"$f":"Weights2!O24","v":1},{"$f":"Weights2!S24","v":1}]
[null,{"$f":"Weights2!F25","v":"1.22) Technological infrastructure"},{"$f":"Weights2!G25","v":1},{"$f":"Weights2!K25","v":1},{"$f":"Weights2!O25","v":1},{"$f":"Weights2!S25","v":1}]
[null,{"$f":"Weights2!F26","v":"1.23) Growth in labour force"},{"$f":"Weights2!G26","v":1},{"$f":"Weights2!K26","v":1},{"$f":"Weights2!O26","v":1},{"$f":"Weights2!S26","v":1}]
[null,{"$f":"Weights2!F27","v":"2) SOCIAL PILLAR"}]
[null,{"$f":"Weights2!F28","v":"2.1) Inequality (Gini coefficient)"},{"$f":"Weights2!G28","v":1},{"$f":"Weights2!K28","v":1},{"$f":"Weights2!O28","v":1},{"$f":"Weights2!S28","v":1}]
[null,{"$f":"Weights2!F29","v":"2.2) Educational attainment"},{"$f":"Weights2!G29","v":1},{"$f":"Weights2!K29","v":1},{"$f":"Weights2!O29","v":1},{"$f":"Weights2!S29","v":1}]
[null,{"$f":"Weights2!F30","v":"2.3) Labour standards"},{"$f":"Weights2!G30","v":1},{"$f":"Weights2!K30","v":1},{"$f":"Weights2!O30","v":1},{"$f":"Weights2!S30","v":1}]
[null,{"$f":"Weights2!F31","v":"2.4) Political stability"},{"$f":"Weights2!G31","v":1},{"$f":"Weights2!K31","v":1},{"$f":"Weights2!O31","v":1},{"$f":"Weights2!S31","v":1}]
[null,{"$f":"Weights2!F32","v":"3) ENVIRONMENTAL PILLAR"}]
[null,{"$f":"Weights2!F33","v":"3.1) Air pollution"},{"$f":"Weights2!G33","v":1},{"$f":"Weights2!K33","v":1},{"$f":"Weights2!O33","v":1},{"$f":"Weights2!S33","v":1}]
[null,{"$f":"Weights2!F34","v":"3.2) Deforestation"},{"$f":"Weights2!G34","v":1},{"$f":"Weights2!K34","v":1},{"$f":"Weights2!O34","v":1},{"$f":"Weights2!S34","v":1}]
[null,{"$f":"Weights2!F35","v":"3.3) Water pollution"},{"$f":"Weights2!G35","v":1},{"$f":"Weights2!K35","v":1},{"$f":"Weights2!O35","v":1},{"$f":"Weights2!S35","v":1}]
[null,{"$f":"Weights2!F36","v":"3.4) Environmental standards in trade"},{"$f":"Weights2!G36","v":1},{"$f":"Weights2!K36","v":1},{"$f":"Weights2!O36","v":1},{"$f":"Weights2!S36","v":1}]
[null,{"$f":"Weights2!F37","v":"3.5) Carbon emissions in trade"},{"$f":"Weights2!G37","v":1},{"$f":"Weights2!K37","v":1},{"$f":"Weights2!O37","v":1},{"$f":"Weights2!S37","v":1}]
[null,{"$f":"Weights2!F38","v":"3.6) Share of natural resources in trade"},{"$f":"Weights2!G38","v":1},{"$f":"Weights2!K38","v":1},{"$f":"Weights2!O38","v":1},{"$f":"Weights2!S38","v":1}]
[]
[null,{"$f":"Weights2!F40","v":"SUB-INDICATORS"}]
[null,{"$f":"Weights2!F41","v":"    1.20) Trade costs"}]
[null,{"$f":"Weights2!F42","v":"      1.20.1)    Infrastructure"},{"$f":"Weights2!G42","v":1},{"$f":"Weights2!K42","v":1},{"$f":"Weights2!O42","v":1},{"$f":"Weights2!S42","v":1}]
[null,{"$f":"Weights2!F43","v":"      1.20.2)    Logistics performance"},{"$f":"Weights2!G43","v":1},{"$f":"Weights2!K43","v":1},{"$f":"Weights2!O43","v":1},{"$f":"Weights2!S43","v":1}]
[null,{"$f":"Weights2!F44","v":"      1.20.3)    Corruption"},{"$f":"Weights2!G44","v":1},{"$f":"Weights2!K44","v":1},{"$f":"Weights2!O44","v":1},{"$f":"Weights2!S44","v":1}]
[null,{"$f":"Weights2!F45","v":"      1.20.4)    Legal system"},{"$f":"Weights2!G45","v":1},{"$f":"Weights2!K45","v":1},{"$f":"Weights2!O45","v":1},{"$f":"Weights2!S45","v":1}]